{"text_format":"1","workbook":"xlsx","n_sheets":12,"sheets":["README","Photonic","CM","Database","EXP_Tool","Work","Plot1","CCT","CRI","CCT_CM","CRI_CM","References"],"not_rendered":{"charts":32,"images":8,"macros":1,"external_links":0,"defined_names":0,"comments":2,"pivot_tables":0},"unopened":[],"bounds":{"document_bytes":16777216,"sheet_cells":100000,"rows_first":2000,"rows_last":500,"rows_between":2000,"halvings":0,"cell_chars":16384,"cell_head_chars":4096},"cells_cut":0,"cells_raw":0,"read":"whole","date_system":"1900"}

{"sheet":"README","index":0,"n_rows":47,"n_cols":9,"rows_kept":47,"cut":false,"hidden":false,"merged":[]}
["README ",null,"for Luminous Tool V3"]
[]
[null,null,null,null,null,null,null,"README FOR NORMAL USERS"]
[null,null,null,null,null,null,null,"For the ones who want to have the tools. Basic operations. "]
[]
[null,null,null,null,null,null,null,"Photonic Sheet"]
[null,null,null,null,null,null,null,null,"Function: Based on given SPD, compute CCT, CRI and plot the points onto CIE coordinates. "]
[]
[]
[]
["VERSION HISTORY"]
[null,"1.0","Function trials"]
[null,"2.0","New optimization subroutine"]
[null,"3.0 ","Based on V2.0, add README files"]
[]
[]
[]
[]
[]
[]
[]
["HOW TO USE README?"]
["--For the first time user, please read \"README FOR NORMAL USERS\""]
["--For the programmers, please read \"README FOR ADVANCED USERS\""]
[null,null,null,null,null,null,null,null,"If the SPD was not in 1nm, the EXP tool can be use:"]
[]
[]
[]
[]
[]
[]
[]
[]
[]
[]
[]
[]
[]
[]
[]
[]
[]
[]
[]
[null,null,null,null,null,null,null,"CM Sheet (Color mixing): 2 independent functions"]
[null,null,null,null,null,null,null,null,"-Provide mixing of the spectrums (in intensity, not current ratio)"]
[null,null,null,null,null,null,null,null,"-Optimize the mixing ratio for given CCT"]

{"sheet":"Photonic","index":1,"n_rows":452,"n_cols":74,"rows_kept":452,"cut":false,"hidden":false,"merged":[]}
[null,"Luminous Tool from Spectrum"]
[]
[null,null,null,null,null,null,null,"Luminous Efficacy",null,"Lum/W",null,null,null,null,null,null,null,null,"CRI"]
[null,null,null,null,null,null,null,null,{"$f":"AU11","v":"CIE1924"},{"$f":"SUMPRODUCT($D$32:$D$412,$AU$32:$AU$412)*683.002","v":199.10026421957167},null,null,null,null,null,null,null,null,"R1","R2","R3","R4","R5","R6","R7"]
[null,null,null,null,null,null,null,null,{"$f":"AV11","v":"CIE 1951, Judd"},{"$f":"SUMPRODUCT($D$32:$D$412,$AV$32:$AV$412)*683.002","v":199.84006401270815},null,null,null,null,null,null,null,null,{"$f":"CRI!BD35","v":0},{"$f":"CRI!BE35","v":42.467869787553063},{"$f":"CRI!BF35","v":31.05968880726526},{"$f":"CRI!BG35","v":0},{"$f":"CRI!BH35","v":0},{"$f":"CRI!BI35","v":17.018047948666648},{"$f":"CRI!BJ35","v":30.092942714855567}]
[null,null,null,null,null,null,null,null,{"$f":"AW11","v":"CIE Judd & Vos"},{"$f":"SUMPRODUCT($D$32:$D$412,$AW$32:$AW$412)*683.002","v":199.08286237791467},null,null,null,null,null,null,null,null,"R8","R9","R10","R11","R12","R13","R14"]
[null,null,null,null,null,null,null,null,{"$f":"AX11","v":"CIE1951(Scotopic)"},{"$f":"SUMPRODUCT($D$32:$D$412,$AX$32:$AX$412)*683.002","v":5.9658981209078599},null,null,null,"K=",null,null,null,null,{"$f":"CRI!BK35","v":0},{"$f":"CRI!BL35","v":0},{"$f":"CRI!BM35","v":19.79996621714939},{"$f":"CRI!BN35","v":0},{"$f":"CRI!BO35","v":0},{"$f":"CRI!BP35","v":0},{"$f":"CRI!BQ35","v":48.563257260106177},null,null,null,null,null,null,null,null,null,null,null,null,null,null,null,null,null,null,null,null,null,null,null,null,null,null,null,null,"CIE (1931) 2-deg color matching functions"]
[null,null,null,null,null,null,null,null,{"$f":"AY11","v":"2 degree"},{"$f":"SUMPRODUCT($D$32:$D$412,$AY$32:$AY$412)*683.002","v":221.67649181041324},null,null,null,null,null,null,null,null,null,null,null,null,null,null,null,null,null,null,null,null,null,null,null,null,null,null,null,null,null,null,null,null,null,null,null,null,"Luminosity function"]
[null,null,null,null,null,null,null,null,{"$f":"AZ11","v":"10 degree"},{"$f":"SUMPRODUCT($D$32:$D$412,$AZ$32:$AZ$412)*683.002","v":206.45003485706133},null,null,null,null,null,null,null,null,"CRI=",{"$f":"AVERAGE(S5:Y5,S7:Y7)","v":13.50012662397115},null,null,null,null,null,null,null,null,null,null,null,null,null,null,null,null,null,null,null,null,null,null,null,null,null,null,"(http://www.cvrl.org/lumindex.htm)",null,null,null,"Photopic (V(lamda))",null,null,"CIE1931",null,null,null,"CIE1964",null,null,null,"CIE bar",null,null,null,null,null,null,"CIE2006",null,null,"RGB"]
[null,"wd","Target SPD","nomalized SPD",null,"Power",null,null,null,null,null,null,null,null,null,null,null,null,"R8=",{"$f":"AVERAGE(S5:Y5,S7)","v":15.079818657292567},null,null,null,null,null,null,null,null,null,null,null,null,null,null,null,null,null,null,null,null,null,null,null,null,null,null,null,null,null,null,2005,2005,null,{"$f":"SUM(BB12:BB505)","v":106.86336579999997},{"$f":"SUM(BC12:BC505)","v":106.85519715999996},{"$f":"SUM(BD12:BD505)","v":106.86803329999998},null,{"$f":"SUM(BF12:BF505)","v":116.64554167875006},{"$f":"SUM(BG12:BG505)","v":116.65964808154597},{"$f":"SUM(BH12:BH505)","v":116.67434641005401},null,null,null,null,null,null,null,null,"2-deg XYZ CMFs transformed from the CIE (2006) 2-deg LMS cone fundamentals",null,null,"Stiles & Burch (1955) 2-deg, RGB CMFs"]
[null,null,{"$f":"SUM(C12:C412)","v":24.175777000000007},null,null,"V",null,"CIE1931(2-deg)",null,null,null,null,null,null,null,null,null,null,null,null,null,null,null,null,null,null,null,null,null,null,null,null,null,null,null,null,null,null,null,null,null,null,null,null,null,"WD","CIE1924","CIE 1951, Judd","CIE Judd & Vos","CIE1951(Scotopic)","2 degree","10 degree",null,"x-bar(2-deg)","y-bar(2-deg)","z-bar(2-deg)",null,"x-bar(10-deg)","y-bar(10-deg)","z-bar(10-deg)",null,"x","y","z",null,null,null,null,"x","y","z","R","G","B"]
[null,360,1.2600000000000001E-3,{"$f":"C12/$C$11","v":5.2118283519905054E-5},null,"I(A)",0.128,null,"x=",{"$f":"L14/(SUM(L14:L16))","v":0.69163716430524202},null,null,null,null,null,null,null,null,null,null,null,null,null,null,null,null,null,null,null,null,null,null,null,null,null,null,null,null,null,null,null,null,null,null,null,360,0,0,0,0,0,0,null,1.2999999999999999E-4,3.9199999999999997E-6,6.0610000000000004E-4,null,0,0,0,null,0,0,0]
[null,361,1.5679999999999999E-3,{"$f":"C13/$C$11","v":6.4858308380326288E-5},null,71.099999999999994,"mW",null,"y=",{"$f":"L15/(SUM(L14:L16))","v":0.30398775511803083},null,null,null,null,null,null,null,null,null,null,null,null,null,null,null,null,null,null,null,null,null,null,null,null,null,null,null,null,null,null,null,null,null,null,null,361,0,0,0,0,0,0,null,1.5034E-4,4.5299999999999998E-6,7.0208E-4,null,2.81614E-7,3.0848400000000001E-8,1.2336815999999999E-6,null,1.5034E-4,4.5299999999999998E-6,7.0208E-4,null,null,null,null,0,0,0,0,0,0]
[null,362,1.877E-3,7.7639696957826812E-5,null,null,null,null,null,{"$f":"I17","v":1937.8731546334159},"X",{"$f":"SUMPRODUCT($D$32:$D$412,$BB$32:$BB$412)*100/SUMPRODUCT($D$32:$D$412,$BC$32:$BC$412)","v":227.52138948382861},null,"K=",{"$f":"100/+SUMPRODUCT($D$32:$D$412,$BC$32:$BC$412)","v":343.05410145733464},null,null,null,null,null,null,null,null,null,null,null,null,null,null,null,null,null,null,null,null,null,null,null,null,null,null,null,null,null,null,362,0,0,0,0,0,0,null,1.7078000000000001E-4,5.1399999999999999E-6,7.9805999999999996E-4,null,4.4102800000000002E-7,4.8298800000000004E-8,1.9323362000000001E-6,null,1.7078000000000001E-4,5.1399999999999999E-6,7.9805999999999996E-4,null,null,null,null,0,0,0,0,0,0]
[null,363,9.4799999999999995E-4,3.9212803791166659E-5,null,",",null,"CCT Calculation",null,null,"Y",{"$f":"SUMPRODUCT($D$32:$D$412,$BC$32:$BC$412)*(100/+SUMPRODUCT($D$32:$D$412,$BC$32:$BC$412))","v":100},null,null,null,null,null,null,null,null,null,null,null,null,null,null,null,null,null,null,null,null,null,null,null,null,null,null,null,null,null,null,null,null,null,363,0,0,0,0,0,0,null,1.9122E-4,5.75E-6,8.9404000000000003E-4,null,6.00442E-7,6.57492E-8,2.6309908E-6,null,1.9122E-4,5.75E-6,8.9404000000000003E-4,null,null,null,null,0,0,0,0,0,0]
[null,364,1.2409999999999999E-3,5.1332372895398542E-5,null,null,null,"CCT test",{"$f":"-449*L19^3+3525*L19^2-6823.3*L19+5520.33","v":4746.0501360828403},null,"Z",{"$f":"SUMPRODUCT($D$32:$D$412,$BD$32:$BD$412)*(100/+SUMPRODUCT($D$32:$D$412,$BC$32:$BC$412))","v":1.4392292133702655},null,null,null,null,null,null,null,null,null,null,null,null,null,null,null,null,null,null,null,null,null,null,null,null,null,null,null,null,null,null,null,null,null,364,0,0,0,0,0,0,null,2.1166000000000002E-4,6.3600000000000001E-6,9.9001999999999988E-4,null,7.5985600000000008E-7,8.3199600000000009E-8,3.3296454000000002E-6,null,2.1166000000000002E-4,6.3600000000000001E-6,9.9001999999999988E-4,null,null,null,null,0,0,0,0,0,0]
[null,365,1.5349999999999999E-3,6.349330571670973E-5,null,null,null,"CCT",{"$f":"IF(ISERROR(J17),IF(ERROR.TYPE(J17)<=3,I16,0),J17)","v":1937.8731546334159},{"$f":"CCT!J23","v":1937.8731546334159},null,null,null,null,null,null,null,null,null,null,null,null,null,null,null,null,null,null,null,null,null,null,null,null,null,null,null,null,null,null,null,null,null,null,null,365,0,0,0,0,0,0,null,2.321E-4,6.9700000000000002E-6,1.0859999999999999E-3,null,9.1927000000000005E-7,1.0065E-7,4.0283E-6,null,2.321E-4,6.9700000000000002E-6,1.0859999999999999E-3,null,null,null,null,0,0,0,0,0,0]
[null,366,1.7309999999999999E-3,7.1600594264250512E-5,null,null,null,"duv",{"$f":"IF(ISERROR(J18),IF(ERROR.TYPE(J18)<=3,\"error\",0),J18)","v":0.18814404304593618},{"$f":"CCT!J15","v":0.18814404304593618},null,null,null,null,null,null,null,null,null,null,null,null,null,null,null,null,null,null,null,null,null,null,null,null,null,null,null,null,null,null,null,null,null,null,null,366,0,0,0,0,0,0,null,2.6865999999999999E-4,8.0539999999999995E-6,1.258E-3,null,1.9271359999999999E-6,2.1073999999999999E-7,8.4513800000000004E-6,null,2.6865999999999999E-4,8.0539999999999995E-6,1.258E-3,null,null,null,null,0,0,0,0,0,0]
[null,367,1.34E-3,5.5427380886248231E-5,null,null,null,null,null,null,"n=",{"$f":"(J12-0.332)/(J13-0.1858)","v":3.0429308344682773},null,null,null,null,null,null,null,null,null,null,null,null,null,null,null,null,null,null,null,null,null,null,null,null,null,null,null,null,null,null,null,null,null,367,0,0,0,0,0,0,null,3.0521999999999998E-4,9.1379999999999996E-6,1.4300000000000001E-3,null,2.9350019999999999E-6,3.2082999999999999E-7,1.2874459999999999E-5,null,3.0521999999999998E-4,9.1379999999999996E-6,1.4300000000000001E-3,null,null,null,null,0,0,0,0,0,0]
[null,368,1.356E-3,5.6089200359516865E-5,null,null,null,null,null,null,null,null,null,null,null,null,null,null,null,null,null,null,null,null,null,null,null,null,null,null,null,null,null,null,null,null,null,null,null,null,null,null,null,null,null,368,0,0,0,0,0,0,null,3.4178000000000002E-4,1.0222E-5,1.6019999999999999E-3,null,3.9428679999999999E-6,4.3092E-7,1.7297539999999998E-5,null,3.4178000000000002E-4,1.0222E-5,1.6019999999999999E-3,null,null,null,null,0,0,0,0,0,0]
[null,369,1.372E-3,5.6751019832785499E-5,null,null,null,null,null,null,null,null,null,null,null,null,null,null,null,null,null,null,null,null,null,null,null,null,null,null,null,null,null,null,null,null,null,null,null,null,null,null,null,null,null,369,0,0,0,0,0,0,null,3.7834000000000001E-4,1.1306E-5,1.774E-3,null,4.9507340000000004E-6,5.4101000000000005E-7,2.1720619999999998E-5,null,3.7834000000000001E-4,1.1306E-5,1.774E-3,null,null,null,null,0,0,0,0,0,0]
[null,370,1.41E-3,5.8322841081798509E-5,null,null,null,null,null,null,null,null,0.41847000000000001,-0.15866,-8.8349999999999998E-2,null,null,null,null,null,null,null,null,null,null,null,null,null,null,null,null,null,null,null,null,null,null,null,null,null,null,null,null,null,null,370,0,0,0,0,0,0,null,4.149E-4,1.239E-5,1.946E-3,null,5.9586E-6,6.511E-7,2.6143699999999998E-5,null,4.149E-4,1.239E-5,1.946E-3,null,null,null,null,0,0,0,0,0,0]
[null,371,1.4480000000000001E-3,5.9894662330811527E-5,null,null,null,null,null,null,null,null,-9.1169E-2,0.25242999999999999,1.5708E-2,null,null,null,null,null,null,null,null,null,null,null,null,null,null,null,null,null,null,null,null,null,null,null,null,null,null,null,null,null,null,371,0,1.3000000000000002E-4,0,0,0,0,null,4.8024E-4,1.4316E-5,2.2539999999999999E-3,null,1.1420080000000001E-5,1.2458800000000001E-6,5.0158959999999996E-5,null,4.8024E-4,1.4316E-5,2.2539999999999999E-3,null,null,null,null,0,0,0,0,0,0]
[null,372,1.421E-3,5.8777841969670698E-5,null,null,null,null,null,null,null,null,9.209E-4,-2.5498000000000001E-3,0.17860000000000001,null,null,null,null,null,null,null,null,null,null,null,null,null,null,null,null,null,null,null,null,null,null,null,null,null,null,null,null,null,null,372,0,1.6000000000000001E-4,0,0,0,0,null,5.4558000000000004E-4,1.6241999999999998E-5,2.562E-3,null,1.6881560000000002E-5,1.84066E-6,7.417422E-5,null,5.4558000000000004E-4,1.6241999999999998E-5,2.562E-3,null,null,null,null,0,0,0,0,0,0]
[null,373,1.3929999999999999E-3,5.7619657891450585E-5,null,null,null,null,null,null,null,null,null,null,null,null,null,null,null,null,null,null,null,null,null,null,null,null,null,null,null,null,null,null,null,null,null,null,null,null,null,null,null,null,null,373,0,1.9000000000000001E-4,0,0,0,0,null,6.1092000000000004E-4,1.8168E-5,2.8700000000000002E-3,null,2.2343040000000002E-5,2.4354399999999998E-6,9.8189479999999998E-5,null,6.1092000000000004E-4,1.8168E-5,2.8700000000000002E-3,null,null,null,null,0,0,0,0,0,0]
[null,374,1.457E-3,6.0266935784525127E-5,null,null,null,null,null,null,null,null,null,null,null,null,null,null,null,null,null,null,null,null,null,null,null,null,null,null,null,null,null,null,null,null,null,null,null,null,null,null,null,null,null,374,0,2.2000000000000001E-4,0,0,0,0,null,6.7626000000000003E-4,2.0094000000000001E-5,3.1779999999999998E-3,null,2.7804520000000003E-5,3.0302199999999999E-6,1.2220474E-4,null,6.7626000000000003E-4,2.0094000000000001E-5,3.1779999999999998E-3,null,null,null,null,0,0,0,0,0,0]
[null,375,1.521E-3,6.2914213677599677E-5,null,null,null,null,null,null,null,null,null,null,null,"[XYZ]","[RGB]",null,null,null,null,null,null,null,null,null,null,null,null,null,null,null,null,null,null,null,null,null,null,null,null,null,null,null,null,375,0,2.5000000000000001E-4,0,0,0,0,null,7.4160000000000003E-4,2.2019999999999999E-5,3.4859999999999999E-3,null,3.3266000000000003E-5,3.625E-6,1.4621999999999999E-4,null,7.4160000000000003E-4,2.2019999999999999E-5,3.4859999999999999E-3,null,null,null,null,0,0,0,0,0,0]
[null,376,1.5610000000000001E-3,6.4568762360771268E-5,null,null,null,null,null,null,null,null,2.3646099999999999,-0.89654,-0.46806999999999999,{"$f":"+L14","v":227.52138948382861},{"$f":"M28*P28+N28*P29+O28*P30","v":447.67169276945378},null,null,null,null,null,null,null,null,null,null,null,null,null,null,null,null,null,null,null,null,null,null,null,null,null,null,null,null,376,0,2.8000000000000003E-4,0,0,0,0,null,8.6687999999999999E-4,2.5616E-5,2.9177999999999999E-3,null,5.8603200000000002E-5,6.3727999999999994E-6,2.5793119999999999E-4,null,8.6687999999999999E-4,2.5616E-5,2.9177999999999999E-3,null,null,null,null,0,0,0,0,0,0]
[null,377,1.601E-3,6.6223311043942846E-5,null,null,null,null,null,null,null,null,-0.51517000000000002,1.42641,8.8760000000000006E-2,{"$f":"+L15","v":100},{"$f":"+M29*P28+N29*P29+O29*P30","v":25.556551764594744},null,null,null,null,null,null,null,null,null,null,null,null,null,null,null,null,null,null,null,null,null,null,null,null,null,null,null,null,377,0,3.1E-4,0,0,0,0,null,9.9215999999999996E-4,2.9212000000000001E-5,2.3495999999999999E-3,null,8.39404E-5,9.1205999999999987E-6,3.6964239999999997E-4,null,9.9215999999999996E-4,2.9212000000000001E-5,2.3495999999999999E-3,null,null,null,null,0,0,0,0,0,0]
[null,378,1.8190000000000001E-3,7.5240601367228019E-5,null,null,null,null,null,null,null,null,5.1999999999999998E-3,-1.4409999999999999E-2,1.0092000000000001,{"$f":"+L16","v":1.4392292133702655},{"$f":"+M30*P28+N30*P29+O30*P30","v":1.1945813474491811},null,null,null,null,null,null,null,null,null,null,null,null,null,null,null,null,null,null,null,null,null,null,null,null,null,null,null,null,378,0,3.4000000000000002E-4,0,0,0,0,null,1.1174400000000001E-3,3.2808000000000002E-5,1.7814E-3,null,1.0927759999999999E-4,1.18684E-5,4.8135359999999994E-4,null,1.1174400000000001E-3,3.2808000000000002E-5,1.7814E-3,null,null,null,null,0,0,0,0,0,0]
[null,379,1.5740000000000001E-3,6.5106490682802031E-5,null,null,null,null,null,null,null,null,null,null,null,null,null,null,null,null,null,null,null,null,null,null,null,null,null,null,null,null,null,null,null,null,null,null,null,null,null,null,null,null,null,379,0,3.6999999999999999E-4,0,0,0,0,null,1.2427200000000001E-3,3.6403999999999999E-5,1.2132E-3,null,1.346148E-4,1.4616199999999999E-5,5.9306479999999997E-4,null,1.2427200000000001E-3,3.6403999999999999E-5,1.2132E-3,null,null,null,null,0,0,0,0,0,0]
[null,380,1.3290000000000001E-3,5.4972379998376049E-5,null,null,null,null,null,null,null,null,null,null,"r",{"$f":"Q28/(SUM(Q$28:Q$30))","v":0.94361330936735777},null,null,null,null,null,null,null,null,null,null,null,null,null,null,null,null,null,null,null,null,null,null,null,null,null,null,null,null,null,380,0,4.0000000000000002E-4,0,0,0,0,null,1.3680000000000001E-3,4.0000000000000003E-5,6.4499999999999996E-4,null,1.5995199999999999E-4,1.7363999999999998E-5,7.0477599999999995E-4,null,1.3680000000000001E-3,4.0000000000000003E-5,6.4499999999999996E-4,null,null,null,null,0,0,0,0,0,0]
[null,381,1.449E-3,5.993602604789081E-5,null,null,null,null,null,null,null,null,null,null,"g",{"$f":"Q29/(SUM(Q$28:Q$30))","v":5.3868722941628255E-2},null,null,null,null,null,null,null,null,null,null,null,null,null,null,null,null,null,null,null,null,null,null,null,null,null,null,null,null,null,381,4.3999999999999999E-5,5.1000000000000004E-4,2.3911200000000001E-4,6.9280000000000003E-4,0,0,null,1.5416000000000002E-3,4.4000000000000006E-5,2.6259999999999999E-3,null,2.6044959999999999E-4,2.8203199999999998E-5,1.1493808E-3,null,1.5416000000000002E-3,4.4000000000000006E-5,2.6259999999999999E-3,null,null,null,null,0,0,0,0,0,0]
[null,382,1.5679999999999999E-3,6.4858308380326288E-5,null,null,null,null,null,null,null,null,null,null,"b",{"$f":"Q30/(SUM(Q$28:Q$30))","v":2.5179676910140197E-3},null,null,null,null,null,null,null,null,null,null,null,null,null,null,null,null,null,null,null,null,null,null,null,null,null,null,null,null,null,382,4.8999999999999998E-5,6.2E-4,2.7822399999999998E-4,7.9660000000000006E-4,0,0,null,1.7152000000000001E-3,4.8000000000000001E-5,4.607E-3,null,3.6094719999999999E-4,3.9042399999999997E-5,1.5939856E-3,null,1.7152000000000001E-3,4.8000000000000001E-5,4.607E-3,null,null,null,null,0,0,0,0,0,0]
[null,383,1.469E-3,6.0763300389476606E-5,null,null,null,null,null,null,null,null,null,null,null,null,null,null,null,null,null,null,null,null,null,null,null,null,null,null,null,null,null,null,null,null,null,null,null,null,null,null,null,null,null,383,5.3999999999999998E-5,7.3000000000000007E-4,3.1733599999999999E-4,9.0039999999999999E-4,0,0,null,1.8888000000000002E-3,5.2000000000000004E-5,6.5880000000000001E-3,null,4.6144480000000004E-4,4.98816E-5,2.0385904E-3,null,1.8888000000000002E-3,5.2000000000000004E-5,6.5880000000000001E-3,null,null,null,null,0,0,0,0,0,0]
[null,384,1.3699999999999999E-3,5.6668292398626918E-5,null,null,null,null,null,null,null,null,null,null,null,null,null,null,null,null,null,null,null,null,null,null,null,null,null,null,null,null,null,null,null,null,null,null,null,null,null,null,null,null,null,384,5.8999999999999998E-5,8.4000000000000003E-4,3.5644799999999999E-4,1.0042E-3,0,0,null,2.0624000000000003E-3,5.5999999999999999E-5,8.5690000000000002E-3,null,5.6194239999999998E-4,6.0720799999999996E-5,2.4831951999999997E-3,null,2.0624000000000003E-3,5.5999999999999999E-5,8.5690000000000002E-3,null,null,null,null,0,0,0,0,0,0]
[null,385,1.4E-3,5.7909203911005611E-5,null,null,null,null,null,null,null,null,null,null,null,null,null,null,null,null,null,null,null,null,null,null,null,null,null,null,null,null,null,null,null,null,null,null,null,null,null,null,null,null,null,385,6.3999999999999997E-5,9.5E-4,3.9555999999999999E-4,1.108E-3,0,0,null,2.2360000000000001E-3,6.0000000000000002E-5,1.055E-2,null,6.6244000000000003E-4,7.1559999999999999E-5,2.9277999999999999E-3,null,2.2360000000000001E-3,6.0000000000000002E-5,1.055E-2,null,null,null,null,0,0,0,0,0,0]
[null,386,1.4300000000000001E-3,5.9150115423384312E-5,null,null,null,null,null,null,null,null,null,null,null,null,null,null,null,null,null,null,null,null,null,null,null,null,null,null,null,null,null,null,null,null,null,null,null,null,null,null,null,null,null,386,7.5199999999999998E-5,1.06E-3,4.7644799999999998E-4,1.3282000000000001E-3,0,0,null,2.6374000000000002E-3,7.2000000000000002E-5,1.2449999999999999E-2,null,1.002272E-3,1.07928E-4,4.4386800000000004E-3,null,2.6374000000000002E-3,7.2000000000000002E-5,1.2449999999999999E-2,null,null,null,null,0,0,0,0,0,0]
[null,387,1.4530000000000001E-3,6.0101480916207972E-5,null,null,null,null,null,null,null,null,null,null,null,null,null,null,null,null,null,null,null,null,null,null,null,null,null,null,null,null,null,null,null,null,null,null,null,null,null,null,null,null,null,387,8.6399999999999999E-5,1.17E-3,5.5733599999999996E-4,1.5484000000000001E-3,0,0,null,3.0388000000000004E-3,8.4000000000000009E-5,1.435E-2,null,1.342104E-3,1.44296E-4,5.9495600000000004E-3,null,3.0388000000000004E-3,8.4000000000000009E-5,1.435E-2,null,null,null,null,0,0,0,0,0,0]
[null,388,1.4059999999999999E-3,5.8157386213481347E-5,null,null,null,null,null,null,null,null,null,null,null,null,null,null,null,null,null,null,null,null,null,null,null,null,null,null,null,null,null,null,null,null,null,null,null,null,null,null,null,null,null,388,9.7600000000000001E-5,1.2800000000000001E-3,6.3822400000000006E-4,1.7685999999999999E-3,0,0,null,3.4402E-3,9.6000000000000002E-5,1.6250000000000001E-2,null,1.6819360000000002E-3,1.8066399999999998E-4,7.4604400000000005E-3,null,3.4402E-3,9.6000000000000002E-5,1.6250000000000001E-2,null,null,null,null,0,0,0,0,0,0]
[null,389,1.5610000000000001E-3,6.4568762360771268E-5,null,null,null,null,null,null,null,null,null,null,null,null,null,null,null,null,null,null,null,null,null,null,null,null,null,null,null,null,null,null,null,null,null,null,null,null,null,null,null,null,null,389,1.088E-4,1.39E-3,7.1911200000000005E-4,1.9888000000000002E-3,0,0,null,3.8416000000000001E-3,1.08E-4,1.8149999999999999E-2,null,2.0217680000000002E-3,2.1703199999999998E-4,8.9713199999999996E-3,null,3.8416000000000001E-3,1.08E-4,1.8149999999999999E-2,null,null,null,null,0,0,0,0,0,0]
[null,390,1.7160000000000001E-3,7.0980138508061169E-5,null,null,null,null,null,null,null,null,null,null,null,null,null,null,null,null,null,null,null,null,null,null,null,null,null,null,null,null,null,null,null,null,null,null,null,null,null,null,null,null,null,390,1.2E-4,1.5E-3,8.0000000000000004E-4,2.209E-3,4.1461599999999998E-4,4.0767800000000002E-4,null,4.2430000000000002E-3,1.2E-4,2.0049999999999998E-2,null,2.3616000000000002E-3,2.5339999999999998E-4,1.0482200000000001E-2,null,4.2430000000000002E-3,1.2E-4,2.0049999999999998E-2,null,null,null,null,3.7696470000000001E-3,4.1461610000000001E-4,1.8472599999999999E-2,1.5E-3,-4.0000000000000002E-4,6.1999999999999998E-3]
[null,391,1.3550000000000001E-3,5.6047836642437581E-5,null,null,null,null,null,null,null,null,null,null,null,null,null,null,null,null,null,null,null,null,null,null,null,null,null,null,null,null,null,null,null,null,null,null,null,null,null,null,null,null,null,391,1.394E-4,1.8E-3,9.4914000000000001E-4,2.6732000000000001E-3,5.0283299999999995E-4,4.9777700000000003E-4,null,4.9243999999999998E-3,1.394E-4,2.3281999999999997E-2,null,3.3377400000000001E-3,3.5641999999999998E-4,1.4854559999999999E-2,null,4.9243999999999998E-3,1.394E-4,2.3281999999999997E-2,null,null,null,null,4.532416E-3,5.0283330000000005E-4,2.221101E-2,1.9599999999999999E-3,-5.2000000000000006E-4,8.1799999999999998E-3]
[null,392,1.2830000000000001E-3,5.3069649012728721E-5,null,null,null,null,null,null,null,null,null,null,null,null,null,null,null,null,null,null,null,null,null,null,null,null,null,null,null,null,null,null,null,null,null,null,null,null,null,null,null,null,null,392,1.5880000000000001E-4,2.0999999999999999E-3,1.0982800000000001E-3,3.1374000000000003E-3,6.0849899999999998E-4,6.0647499999999998E-4,null,5.6058000000000002E-3,1.5880000000000001E-4,2.6513999999999999E-2,null,4.31388E-3,4.5943999999999998E-4,1.9226919999999998E-2,null,5.6058000000000002E-3,1.5880000000000001E-4,2.6513999999999999E-2,null,null,null,null,5.4465529999999998E-3,6.0849910000000001E-4,2.669819E-2,2.4200000000000003E-3,-6.4000000000000005E-4,1.0159999999999999E-2]
[null,393,1.2110000000000001E-3,5.0091461383019862E-5,null,null,null,null,null,null,null,null,null,null,null,null,null,null,null,null,null,null,null,null,null,null,null,null,null,null,null,null,null,null,null,null,null,null,null,null,null,null,null,null,null,393,1.7819999999999999E-4,2.3999999999999998E-3,1.24742E-3,3.6015999999999999E-3,7.34444E-4,7.3700399999999998E-4,null,6.2871999999999997E-3,1.7819999999999999E-4,2.9745999999999998E-2,null,5.2900200000000003E-3,5.6245999999999998E-4,2.359928E-2,null,6.2871999999999997E-3,1.7819999999999999E-4,2.9745999999999998E-2,null,null,null,null,6.5388679999999998E-3,7.3444359999999998E-4,3.206937E-2,2.8800000000000002E-3,-7.6000000000000004E-4,1.214E-2]
[null,394,1.323E-3,5.4724197695900306E-5,null,null,null,null,null,null,null,null,null,null,null,null,null,null,null,null,null,null,null,null,null,null,null,null,null,null,null,null,null,null,null,null,null,null,null,null,null,null,null,null,null,394,1.9759999999999998E-4,2.6999999999999997E-3,1.3965599999999998E-3,4.0658000000000005E-3,8.8373900000000003E-4,8.9293900000000004E-4,null,6.9686000000000001E-3,1.9759999999999998E-4,3.2978E-2,null,6.2661599999999998E-3,6.6547999999999998E-4,2.7971639999999999E-2,null,6.9686000000000001E-3,1.9759999999999998E-4,3.2978E-2,null,null,null,null,7.8396990000000003E-3,8.837389E-4,3.8478320000000003E-2,3.3400000000000001E-3,-8.8000000000000014E-4,1.4120000000000001E-2]
[null,395,1.4350000000000001E-3,5.9356934008780757E-5,null,null,null,null,null,null,null,null,null,null,null,null,null,null,null,null,null,null,null,null,null,null,null,null,null,null,null,null,null,null,null,null,null,null,null,null,null,null,null,null,null,395,2.1699999999999999E-4,3.0000000000000001E-3,1.5456999999999999E-3,4.5300000000000002E-3,1.0596500000000001E-3,1.07817E-3,null,7.6499999999999997E-3,2.1699999999999999E-4,3.6209999999999999E-2,null,7.2423000000000001E-3,7.6849999999999998E-4,3.2343999999999998E-2,null,7.6499999999999997E-3,2.1699999999999999E-4,3.6209999999999999E-2,null,null,null,null,9.3829670000000007E-3,1.059646E-3,4.6097840000000001E-2,3.8E-3,-1E-3,1.61E-2]
[null,396,1.1689999999999999E-3,4.8354185265689683E-5,null,null,null,null,null,null,null,null,null,null,null,null,null,null,null,null,null,null,null,null,null,null,null,null,null,null,null,null,null,null,null,null,null,null,null,null,null,null,null,null,null,396,2.5279999999999996E-4,3.3E-3,1.79656E-3,5.4819999999999999E-3,1.26553E-3,1.29682E-3,null,8.9820000000000004E-3,2.5359999999999998E-4,4.2537999999999999E-2,null,9.6157800000000009E-3,1.0156799999999999E-3,4.3077379999999998E-2,null,8.9820000000000004E-3,2.5359999999999998E-4,4.2537999999999999E-2,null,null,null,null,1.120608E-2,1.265532E-3,5.511953E-2,4.8199999999999996E-3,4.8199999999999996E-3,4.8199999999999996E-3]
[null,397,9.0300000000000005E-4,3.7351436522598622E-5,null,null,null,null,null,null,null,null,null,null,null,null,null,null,null,null,null,null,null,null,null,null,null,null,null,null,null,null,null,null,null,null,null,null,null,null,null,null,null,null,null,397,2.8859999999999997E-4,3.5999999999999999E-3,2.0474199999999999E-3,6.4339999999999996E-3,1.50475E-3,1.55316E-3,null,1.0314E-2,2.9020000000000001E-4,4.8866E-2,null,1.198926E-2,1.26286E-3,5.3810759999999999E-2,null,1.0314E-2,2.9020000000000001E-4,4.8866E-2,null,null,null,null,1.3349649999999999E-2,1.5047529999999999E-3,6.5752569999999996E-2,5.8399999999999997E-3,-1.6000000000000001E-3,2.5660000000000002E-2]
[null,398,1.083E-3,4.479690559687077E-5,null,null,null,null,null,null,null,null,null,null,null,null,null,null,null,null,null,null,null,null,null,null,null,null,null,null,null,null,null,null,null,null,null,null,null,null,null,null,null,null,null,398,3.2439999999999997E-4,3.8999999999999998E-3,2.2982799999999998E-3,7.3860000000000002E-3,1.78049E-3,1.8514600000000001E-3,null,1.1646E-2,3.2680000000000003E-4,5.5193999999999993E-2,null,1.4362740000000001E-2,1.51004E-3,6.454414E-2,null,1.1646E-2,3.2680000000000003E-4,5.5193999999999993E-2,null,null,null,null,1.58569E-2,1.780493E-3,7.822113E-2,6.8599999999999998E-3,-1.9000000000000002E-3,3.0440000000000002E-2]
[null,399,1.263E-3,5.2242374671142926E-5,null,null,null,null,null,null,null,null,null,null,null,null,null,null,null,null,null,null,null,null,null,null,null,null,null,null,null,null,null,null,null,null,null,null,null,null,null,null,null,null,null,399,3.6019999999999997E-4,4.1999999999999997E-3,2.5491400000000001E-3,8.3379999999999999E-3,2.0955700000000002E-3,2.19579E-3,null,1.2978E-2,3.634E-4,6.1521999999999993E-2,null,1.673622E-2,1.7572199999999999E-3,7.5277520000000001E-2,null,1.2978E-2,3.634E-4,6.1521999999999993E-2,null,null,null,null,1.8772859999999999E-2,2.095572E-3,9.2760129999999996E-2,7.8799999999999999E-3,-2.2000000000000001E-3,3.5220000000000001E-2]
[null,400,1.3600000000000001E-3,5.6254655227834027E-5,null,null,null,null,null,null,null,null,null,null,null,null,null,null,null,null,null,null,null,null,null,null,null,null,null,null,null,null,null,null,null,null,null,null,null,null,null,null,null,null,null,400,3.9599999999999998E-4,4.4999999999999997E-3,2.8E-3,9.2899999999999996E-3,2.4521899999999999E-3,2.5897699999999999E-3,null,1.431E-2,4.0000000000000002E-4,6.7849999999999994E-2,null,1.91097E-2,2.0043999999999999E-3,8.6010900000000001E-2,null,1.431E-2,4.0000000000000002E-4,6.7849999999999994E-2,null,null,null,null,2.2143019999999999E-2,2.452194E-3,0.109609,8.8999999999999999E-3,-2.5000000000000001E-3,0.04]
[null,401,1.456E-3,6.0225572067445844E-5,null,null,null,null,null,null,null,null,null,null,null,null,null,null,null,null,null,null,null,null,null,null,null,null,null,null,null,null,null,null,null,null,null,null,null,null,null,null,null,null,null,401,4.4479999999999997E-4,4.9800000000000001E-3,3.1712400000000001E-3,1.1136E-2,2.8522199999999999E-3,3.0368000000000001E-3,null,1.6086E-2,4.4800000000000005E-4,7.6319999999999999E-2,null,2.3967760000000001E-2,2.5053200000000001E-3,0.10823272,null,1.6086E-2,4.4800000000000005E-4,7.6319999999999999E-2,null,null,null,null,2.6012850000000001E-2,2.8522159999999999E-3,0.1290077,1.0880000000000001E-2,-3.1800000000000001E-3,5.0119999999999998E-2]
[null,402,1.485E-3,6.1425119862745247E-5,null,null,null,null,null,null,null,null,null,null,null,null,null,null,null,null,null,null,null,null,null,null,null,null,null,null,null,null,null,null,null,null,null,null,null,null,null,null,null,null,null,402,4.9359999999999996E-4,5.4599999999999996E-3,3.5424800000000002E-3,1.2981999999999999E-2,3.29912E-3,3.54193E-3,null,1.7861999999999999E-2,4.9600000000000002E-4,8.4790000000000004E-2,null,2.8825820000000002E-2,3.0062399999999999E-3,0.13045454000000001,null,1.7861999999999999E-2,4.9600000000000002E-4,8.4790000000000004E-2,null,null,null,null,3.043036E-2,3.299115E-3,0.1512047,1.286E-2,-3.8599999999999997E-3,6.0240000000000002E-2]
[null,403,1.5139999999999999E-3,6.2624667658044643E-5,null,null,null,null,null,null,null,null,null,null,null,null,null,null,null,null,null,null,null,null,null,null,null,null,null,null,null,null,null,null,null,null,null,null,null,null,null,null,null,null,null,403,5.4240000000000007E-4,5.9399999999999991E-3,3.9137199999999999E-3,1.4827999999999999E-2,3.7974699999999998E-3,4.1114200000000002E-3,null,1.9637999999999999E-2,5.44E-4,9.3259999999999996E-2,null,3.3683879999999999E-2,3.5071600000000001E-3,0.15267635999999998,null,1.9637999999999999E-2,5.44E-4,9.3259999999999996E-2,null,null,null,null,3.5443250000000003E-2,3.7974660000000002E-3,0.17644409999999999,1.4839999999999999E-2,-4.5399999999999998E-3,7.0360000000000006E-2]
[null,404,9.9299999999999996E-4,4.1074171059734696E-5,null,null,null,null,null,null,null,null,null,null,null,null,null,null,null,null,null,null,null,null,null,null,null,null,null,null,null,null,null,null,null,null,null,null,null,null,null,null,null,null,null,404,5.9120000000000006E-4,6.4199999999999995E-3,4.28496E-3,1.6673999999999998E-2,4.3527699999999997E-3,4.7526199999999999E-3,null,2.1413999999999999E-2,5.9200000000000008E-4,0.10173,null,3.8541940000000004E-2,4.0080799999999998E-3,0.17489817999999999,null,2.1413999999999999E-2,5.9200000000000008E-4,0.10173,null,null,null,null,4.1096399999999998E-2,4.3527679999999999E-3,0.20495169999999999,1.6820000000000002E-2,-5.2199999999999998E-3,8.0479999999999996E-2]
[null,405,1.1460000000000001E-3,4.7402819772866029E-5,null,null,null,null,null,null,null,null,null,null,null,null,null,null,null,null,null,null,null,null,null,null,null,null,null,null,null,null,null,null,null,null,null,null,null,null,null,null,null,null,null,405,6.4000000000000005E-4,6.8999999999999999E-3,4.6562000000000001E-3,1.8519999999999998E-2,4.9717199999999998E-3,5.4742100000000002E-3,null,2.3189999999999999E-2,6.4000000000000005E-4,0.11020000000000001,null,4.3400000000000001E-2,4.509E-3,0.19711999999999999,null,2.3189999999999999E-2,6.4000000000000005E-4,0.11020000000000001,null,null,null,null,4.7429859999999997E-2,4.9717169999999996E-3,0.23692460000000001,1.8800000000000001E-2,-5.8999999999999999E-3,9.06E-2]
[null,406,1.2999999999999999E-3,5.3772832203076639E-5,null,null,null,null,null,null,null,null,null,null,null,null,null,null,null,null,null,null,null,null,null,null,null,null,null,null,null,null,null,null,null,null,null,null,null,null,null,null,null,null,null,406,7.54E-4,7.3799999999999994E-3,5.2049599999999998E-3,2.1783999999999998E-2,5.6610100000000002E-3,6.2850299999999996E-3,null,2.7254E-2,7.54E-4,0.12964000000000001,null,5.1667200000000003E-2,5.3584000000000001E-3,0.23556919999999998,null,2.7254E-2,7.54E-4,0.12964000000000001,null,null,null,null,5.4473939999999998E-2,5.6610139999999998E-3,0.27251229999999999,2.2040000000000001E-2,-7.1000000000000004E-3,0.10852000000000001]
[null,407,1.2019999999999999E-3,4.9719187929306248E-5,null,null,null,null,null,null,null,null,null,null,null,null,null,null,null,null,null,null,null,null,null,null,null,null,null,null,null,null,null,null,null,null,null,null,null,null,null,null,null,null,null,407,8.6799999999999996E-4,7.8599999999999989E-3,5.7537200000000004E-3,2.5048000000000001E-2,6.4216100000000003E-3,7.1880700000000004E-3,null,3.1317999999999999E-2,8.6799999999999996E-4,0.14907999999999999,null,5.9934400000000006E-2,6.2078000000000003E-3,0.2740184,null,3.1317999999999999E-2,8.6799999999999996E-4,0.14907999999999999,null,null,null,null,6.2236119999999999E-2,6.4216150000000003E-3,0.311782,2.5280000000000004E-2,-8.3000000000000001E-3,0.12644]
[null,408,1.1039999999999999E-3,4.5665543655535857E-5,null,null,null,null,null,null,null,null,null,null,null,null,null,null,null,null,null,null,null,null,null,null,null,null,null,null,null,null,null,null,null,null,null,null,null,null,null,null,null,null,null,408,9.8200000000000002E-4,8.3400000000000002E-3,6.3024800000000001E-3,2.8312E-2,7.2503100000000003E-3,8.1817899999999995E-3,null,3.5381999999999997E-2,9.8200000000000002E-4,0.16852,null,6.8201600000000001E-2,7.0571999999999996E-3,0.31246760000000001,null,3.5381999999999997E-2,9.8200000000000002E-4,0.16852,null,null,null,null,7.0700479999999996E-2,7.2503120000000001E-3,0.35470639999999998,2.8520000000000004E-2,-9.4999999999999998E-3,0.14435999999999999]
[null,409,1.2359999999999999E-3,5.1125554310002097E-5,null,null,null,null,null,null,null,null,null,null,null,null,null,null,null,null,null,null,null,null,null,null,null,null,null,null,null,null,null,null,null,null,null,null,null,null,null,null,null,null,null,409,1.096E-3,8.8199999999999997E-3,6.8512400000000006E-3,3.1576E-2,8.1401700000000004E-3,9.2604200000000001E-3,null,3.9446000000000002E-2,1.096E-3,0.18796000000000002,null,7.6468800000000003E-2,7.9065999999999997E-3,0.35091679999999997,null,3.9446000000000002E-2,1.096E-3,0.18796000000000002,null,null,null,null,7.9825129999999994E-2,8.1401730000000005E-3,0.40114729999999998,3.1760000000000004E-2,-1.0700000000000001E-2,0.16227999999999998]
[null,410,1.3669999999999999E-3,5.6544201247389053E-5,null,null,null,null,null,null,null,null,null,null,null,null,null,null,null,null,null,null,null,null,null,null,null,null,null,null,null,null,null,null,null,null,null,null,null,null,null,null,null,null,null,410,1.2099999999999999E-3,9.2999999999999992E-3,7.4000000000000003E-3,3.4840000000000003E-2,9.0798600000000004E-3,1.0413E-2,null,4.351E-2,1.2099999999999999E-3,0.2074,null,8.4736000000000006E-2,8.7559999999999999E-3,0.38936599999999999,null,4.351E-2,1.2099999999999999E-3,0.2074,null,null,null,null,8.9538030000000005E-2,9.0798600000000004E-3,0.45083689999999998,3.5000000000000003E-2,-1.1900000000000001E-2,0.1802]
[null,411,1.485E-3,6.1425119862745247E-5,null,null,null,null,null,null,null,null,null,null,null,null,null,null,null,null,null,null,null,null,null,null,null,null,null,null,null,null,null,null,null,null,null,null,null,null,null,null,null,null,null,411,1.4039999999999999E-3,1.0119999999999999E-2,8.2757999999999998E-3,3.9952000000000001E-2,1.00561E-2,1.16264E-2,null,5.0334000000000004E-2,1.4039999999999999E-3,0.24018,null,9.5916400000000013E-2,9.8960000000000003E-3,0.44284479999999998,null,5.0334000000000004E-2,1.4039999999999999E-3,0.24018,null,null,null,null,9.974848E-2,1.005608E-2,0.50341639999999999,3.8620000000000002E-2,-1.354E-2,0.20591999999999999]
[null,412,1.25E-3,5.1704646349112156E-5,null,null,null,null,null,null,null,null,null,null,null,null,null,null,null,null,null,null,null,null,null,null,null,null,null,null,null,null,null,null,null,null,null,null,null,null,null,null,null,null,null,412,1.598E-3,1.094E-2,9.1515999999999993E-3,4.5064E-2,1.1064600000000001E-2,1.28988E-2,null,5.7158E-2,1.598E-3,0.27295999999999998,null,0.10709680000000001,1.1036000000000001E-2,0.49632359999999998,null,5.7158E-2,1.598E-3,0.27295999999999998,null,null,null,null,0.1104019,1.1064559999999999E-2,0.55863609999999997,4.224E-2,-1.5180000000000001E-2,0.23164000000000001]
[null,413,1.1720000000000001E-3,4.8478276416927561E-5,null,null,null,null,null,null,null,null,null,null,null,null,null,null,null,null,null,null,null,null,null,null,null,null,null,null,null,null,null,null,null,null,null,null,null,null,null,null,null,null,null,413,1.792E-3,1.176E-2,1.0027400000000001E-2,5.0176000000000005E-2,1.21052E-2,1.4234399999999999E-2,null,6.3981999999999997E-2,1.792E-3,0.30574000000000001,null,0.11827720000000001,1.2175999999999999E-2,0.54980240000000002,null,6.3981999999999997E-2,1.792E-3,0.30574000000000001,null,null,null,null,0.1214566,1.210522E-2,0.61627339999999997,4.5859999999999998E-2,-1.6820000000000002E-2,0.25736000000000003]
[null,414,1.0950000000000001E-3,4.5293270201822249E-5,null,null,null,null,null,null,null,null,null,null,null,null,null,null,null,null,null,null,null,null,null,null,null,null,null,null,null,null,null,null,null,null,null,null,null,null,null,null,null,null,null,414,1.9859999999999999E-3,1.2580000000000001E-2,1.09032E-2,5.5288000000000004E-2,1.31801E-2,1.56408E-2,null,7.0806000000000008E-2,1.9859999999999999E-3,0.33852000000000004,null,0.12945760000000001,1.3316E-2,0.60328119999999996,null,7.0806000000000008E-2,1.9859999999999999E-3,0.33852000000000004,null,null,null,null,0.13287409999999999,1.318014E-2,0.67609819999999998,4.9480000000000003E-2,-1.8460000000000001E-2,0.28308]
[null,415,1.243E-3,5.1415100329557123E-5,null,null,null,null,null,null,null,null,null,null,null,null,null,null,null,null,null,null,null,null,null,null,null,null,null,null,null,null,null,null,null,null,null,null,null,null,null,null,null,null,null,415,2.1800000000000001E-3,1.34E-2,1.1779E-2,6.0400000000000002E-2,1.4293800000000001E-2,1.7129700000000001E-2,null,7.7630000000000005E-2,2.1800000000000001E-3,0.37130000000000002,null,0.14063800000000001,1.4456E-2,0.65676000000000001,null,7.7630000000000005E-2,2.1800000000000001E-3,0.37130000000000002,null,null,null,null,0.14462140000000001,1.4293770000000001E-2,0.73788220000000004,5.3100000000000001E-2,-2.01E-2,0.30880000000000002]
[null,416,1.3910000000000001E-3,5.7536930457292011E-5,null,null,null,null,null,null,null,null,null,null,null,null,null,null,null,null,null,null,null,null,null,null,null,null,null,null,null,null,null,null,null,null,null,null,null,null,null,null,null,null,null,416,2.5440000000000003E-3,1.422E-2,1.2923199999999999E-2,6.7640000000000006E-2,1.545E-2,1.8712699999999999E-2,null,8.8980000000000004E-2,2.5440000000000003E-3,0.42615999999999998,null,0.15340880000000001,1.5842999999999999E-2,0.71991640000000001,null,8.8980000000000004E-2,2.5440000000000003E-3,0.42615999999999998,null,null,null,null,0.1566468,1.545004E-2,0.80130190000000001,5.6520000000000001E-2,-2.1860000000000001E-2,0.34044000000000002]
[null,417,9.8700000000000003E-4,4.082598875725896E-5,null,null,null,null,null,null,null,null,null,null,null,null,null,null,null,null,null,null,null,null,null,null,null,null,null,null,null,null,null,null,null,null,null,null,null,null,null,null,null,null,null,417,2.908E-3,1.5040000000000001E-2,1.4067400000000001E-2,7.4880000000000002E-2,1.66409E-2,2.03839E-2,null,0.10033,2.908E-3,0.48102,null,0.16617960000000001,1.7229999999999999E-2,0.78307280000000001,null,0.10033,2.908E-3,0.48102,null,null,null,null,0.1687901,1.6640930000000002E-2,0.86555729999999997,5.994E-2,-2.3619999999999999E-2,0.37208000000000002]
[null,418,8.61E-4,3.5614160405268456E-5,null,null,null,null,null,null,null,null,null,null,null,null,null,null,null,null,null,null,null,null,null,null,null,null,null,null,null,null,null,null,null,null,null,null,null,null,null,null,null,null,null,418,3.2720000000000002E-3,1.5860000000000003E-2,1.52116E-2,8.2119999999999999E-2,1.7853000000000001E-2,2.21294E-2,null,0.11168,3.2720000000000002E-3,0.53588000000000002,null,0.17895040000000001,1.8617000000000002E-2,0.84622920000000001,null,0.11168,3.2720000000000002E-3,0.53588000000000002,null,null,null,null,0.18083279999999999,1.7853020000000001E-2,0.92957909999999999,6.336E-2,-2.538E-2,0.40372000000000002]
[null,419,7.3499999999999998E-4,3.0402332053277948E-5,null,null,null,null,null,null,null,null,null,null,null,null,null,null,null,null,null,null,null,null,null,null,null,null,null,null,null,null,null,null,null,null,null,null,null,null,null,null,null,null,null,419,3.6359999999999999E-3,1.668E-2,1.63558E-2,8.9360000000000009E-2,1.9070199999999999E-2,2.39299E-2,null,0.12303,3.6359999999999999E-3,0.59073999999999993,null,0.19172120000000001,2.0004000000000001E-2,0.90938560000000002,null,0.12303,3.6359999999999999E-3,0.59073999999999993,null,null,null,null,0.19252159999999999,1.9070179999999999E-2,0.99212929999999999,6.6780000000000006E-2,-2.7139999999999997E-2,0.43536000000000002]
[null,420,8.7200000000000005E-4,3.6069161293140644E-5,null,null,null,null,null,null,null,null,null,null,null,null,null,null,null,null,null,null,null,null,null,null,null,null,null,null,null,null,null,null,null,null,null,null,null,null,null,null,null,null,null,420,4.0000000000000001E-3,1.7500000000000002E-2,1.7500000000000002E-2,9.6600000000000005E-2,2.0273699999999999E-2,2.5761300000000001E-2,null,0.13438,4.0000000000000001E-3,0.64559999999999995,null,0.20449200000000001,2.1391E-2,0.97254200000000002,null,0.13438,4.0000000000000001E-3,0.64559999999999995,null,null,null,null,0.2035729,2.027369E-2,1.0518209999999999,7.0199999999999999E-2,-2.8899999999999999E-2,0.46700000000000003]
[null,421,1.0089999999999999E-3,4.173599053300333E-5,null,null,null,null,null,null,null,null,null,null,null,null,null,null,null,null,null,null,null,null,null,null,null,null,null,null,null,null,null,null,null,null,null,null,null,null,null,null,null,null,null,421,4.6600000000000001E-3,1.8480000000000003E-2,1.8535600000000003E-2,0.10600000000000001,2.1448100000000001E-2,2.76016E-2,null,0.15045800000000001,4.6600000000000001E-3,0.72428999999999999,null,0.21654100000000001,2.30122E-2,1.0345336000000001,null,0.15045800000000001,4.6600000000000001E-3,0.72428999999999999,null,null,null,null,0.2137531,2.144805E-2,1.1075090000000001,7.1419999999999997E-2,-2.9879999999999997E-2,0.49664000000000003]
[null,422,1.026E-3,4.2439173723351261E-5,null,null,null,null,null,null,null,null,null,null,null,null,null,null,null,null,null,null,null,null,null,null,null,null,null,null,null,null,null,null,null,null,null,null,null,null,null,null,null,null,null,422,5.3200000000000001E-3,1.9460000000000002E-2,1.95712E-2,0.1154,2.26004E-2,2.9455100000000001E-2,null,0.16653599999999999,5.3200000000000001E-3,0.80298000000000003,null,0.22859000000000002,2.46334E-2,1.0965252000000001,null,0.16653599999999999,5.3200000000000001E-3,0.80298000000000003,null,null,null,null,0.22313479999999999,2.2600410000000001E-2,1.159527,7.2639999999999996E-2,-3.0859999999999999E-2,0.52627999999999997]
[null,423,1.044E-3,4.3183720630778476E-5,null,null,null,null,null,null,null,null,null,null,null,null,null,null,null,null,null,null,null,null,null,null,null,null,null,null,null,null,null,null,null,null,null,null,null,null,null,null,null,null,null,423,5.9800000000000001E-3,2.044E-2,2.0606800000000002E-2,0.12480000000000001,2.3747899999999999E-2,3.13388E-2,null,0.182614,5.9800000000000001E-3,0.88166999999999995,null,0.24063899999999999,2.6254599999999999E-2,1.1585167999999999,null,0.182614,5.9800000000000001E-3,0.88166999999999995,null,null,null,null,0.23192450000000001,2.3747890000000001E-2,1.208869,7.3860000000000009E-2,-3.184E-2,0.55591999999999997]
[null,424,1.059E-3,4.3804176386967819E-5,null,null,null,null,null,null,null,null,null,null,null,null,null,null,null,null,null,null,null,null,null,null,null,null,null,null,null,null,null,null,null,null,null,null,null,null,null,null,null,null,null,424,6.6400000000000001E-3,2.1420000000000002E-2,2.1642399999999999E-2,0.13420000000000001,2.4912500000000001E-2,3.3275800000000001E-2,null,0.19869199999999998,6.6400000000000001E-3,0.96035999999999999,null,0.25268800000000002,2.7875799999999999E-2,1.2205083999999999,null,0.19869199999999998,6.6400000000000001E-3,0.96035999999999999,null,null,null,null,0.2403892,2.4912469999999999E-2,1.256834,7.5080000000000008E-2,-3.2819999999999995E-2,0.58555999999999997]
[null,425,1.075E-3,{"$f":"C77/$C$11","v":4.4465995860236453E-5},null,null,null,null,null,null,null,null,null,null,null,null,null,null,null,null,null,null,null,null,null,null,null,null,null,null,null,null,null,null,null,null,null,null,null,null,null,null,null,null,null,425,7.3000000000000001E-3,2.2400000000000003E-2,2.2678E-2,0.14360000000000001,2.6121100000000001E-2,3.52955E-2,null,0.21476999999999999,7.3000000000000001E-3,1.03905,null,0.264737,2.9496999999999999E-2,1.2825,null,0.21476999999999999,7.3000000000000001E-3,1.03905,null,null,null,null,0.2488523,2.6121060000000001E-2,1.3050079999999999,7.6300000000000007E-2,-3.3799999999999997E-2,0.61519999999999997]
[null,426,9.4700000000000003E-4,3.9171440074087368E-5,null,null,null,null,null,null,null,null,null,null,null,null,null,null,null,null,null,null,null,null,null,null,null,null,null,null,null,null,null,null,null,null,null,null,null,null,null,null,null,null,null,426,8.1600000000000006E-3,2.3380000000000001E-2,2.3602399999999999E-2,0.15484000000000001,2.7399199999999999E-2,3.7427099999999998E-2,null,0.22859599999999999,8.1600000000000006E-3,1.10836,null,0.27472540000000001,3.1332800000000001E-2,1.3366959999999999,null,0.22859599999999999,8.1600000000000006E-3,1.10836,null,null,null,null,0.25758959999999997,2.739923E-2,1.3547579999999999,7.5940000000000007E-2,-3.4019999999999995E-2,0.64491999999999994]
[null,427,8.1899999999999996E-4,3.3876884287938283E-5,null,null,null,null,null,null,null,null,null,null,null,null,null,null,null,null,null,null,null,null,null,null,null,null,null,null,null,null,null,null,null,null,null,null,null,null,null,null,null,null,null,427,9.0200000000000002E-3,2.436E-2,2.4526800000000001E-2,0.16608000000000001,2.8749899999999998E-2,3.9671400000000002E-2,null,0.242422,9.0200000000000002E-3,1.17767,null,0.28471380000000002,3.3168599999999999E-2,1.390892,null,0.242422,9.0200000000000002E-3,1.17767,null,null,null,null,0.26649909999999999,2.874993E-2,1.405594,7.5580000000000008E-2,-3.424E-2,0.67464000000000002]
[null,428,9.8499999999999998E-4,4.0743261323100379E-5,null,null,null,null,null,null,null,null,null,null,null,null,null,null,null,null,null,null,null,null,null,null,null,null,null,null,null,null,null,null,null,null,null,null,null,null,null,null,null,null,null,428,9.8799999999999999E-3,2.5340000000000001E-2,2.54512E-2,0.17732000000000001,3.0169100000000001E-2,4.2020000000000002E-2,null,0.25624799999999998,9.8799999999999999E-3,1.24698,null,0.29470219999999997,3.5004399999999998E-2,1.4450879999999999,null,0.25624799999999998,9.8799999999999999E-3,1.24698,null,null,null,null,0.27535320000000002,3.0169089999999999E-2,1.4564140000000001,7.5219999999999995E-2,-3.4459999999999998E-2,0.70435999999999999]
[null,429,1.1509999999999999E-3,4.7609638358262468E-5,null,null,null,null,null,null,null,null,null,null,null,null,null,null,null,null,null,null,null,null,null,null,null,null,null,null,null,null,null,null,null,null,null,null,null,null,null,null,null,null,null,429,1.074E-2,2.6320000000000003E-2,2.6375600000000003E-2,0.18856000000000001,3.1651400000000003E-2,4.44617E-2,null,0.27007399999999998,1.074E-2,1.31629,null,0.30469059999999998,3.6840200000000003E-2,1.4992840000000001,null,0.27007399999999998,1.074E-2,1.31629,null,null,null,null,0.28389209999999998,3.1651449999999998E-2,1.50596,7.4859999999999996E-2,-3.4680000000000002E-2,0.73408000000000007]
[null,430,8.1599999999999999E-4,3.3752793136700412E-5,null,null,null,null,null,null,null,null,null,null,null,null,null,null,null,null,null,null,null,null,null,null,null,null,null,null,null,null,null,null,null,null,null,null,null,null,null,null,null,null,null,430,1.1599999999999999E-2,2.7300000000000001E-2,2.7300000000000001E-2,0.19980000000000001,3.3190400000000002E-2,4.6982299999999998E-2,null,0.28389999999999999,1.1599999999999999E-2,1.3855999999999999,null,0.31467899999999999,3.8676000000000002E-2,1.55348,null,0.28389999999999999,1.1599999999999999E-2,1.3855999999999999,null,null,null,null,0.29182459999999999,3.3190379999999998E-2,1.552826,7.4499999999999997E-2,-3.49E-2,0.76380000000000003]
[null,431,7.1400000000000001E-4,2.9533693994612865E-5,null,null,null,null,null,null,null,null,null,null,null,null,null,null,null,null,null,null,null,null,null,null,null,null,null,null,null,null,null,null,null,null,null,null,null,null,null,null,null,null,null,431,1.2648E-2,2.8360000000000003E-2,2.8356800000000001E-2,0.21234,3.47791E-2,4.9567399999999998E-2,null,0.29281999999999997,1.2648E-2,1.4330719999999999,null,0.32328699999999999,4.08612E-2,1.602484,null,0.29281999999999997,1.2648E-2,1.4330719999999999,null,null,null,null,0.29892000000000002,3.4779119999999997E-2,1.5959019999999999,7.0819999999999994E-2,-3.3439999999999998E-2,0.78660000000000008]
[null,432,6.1200000000000002E-4,2.5314594852525312E-5,null,null,null,null,null,null,null,null,null,null,null,null,null,null,null,null,null,null,null,null,null,null,null,null,null,null,null,null,null,null,null,null,null,null,null,null,null,null,null,null,null,432,1.3696E-2,2.9420000000000002E-2,2.9413600000000002E-2,0.22488,3.64149E-2,5.22122E-2,null,0.30174000000000001,1.3696E-2,1.4805439999999999,null,0.331895,4.3046399999999999E-2,1.6514880000000001,null,0.30174000000000001,1.3696E-2,1.4805439999999999,null,null,null,null,0.3052993,3.6414950000000001E-2,1.6357680000000001,6.7139999999999991E-2,-3.1980000000000001E-2,0.80940000000000001]
[null,433,8.1700000000000002E-4,3.3794156853779709E-5,null,null,null,null,null,null,null,null,null,null,null,null,null,null,null,null,null,null,null,null,null,null,null,null,null,null,null,null,null,null,null,null,null,null,null,null,null,null,null,null,null,433,1.4744E-2,3.048E-2,3.0470400000000002E-2,0.23742000000000002,3.8095700000000003E-2,5.4913900000000002E-2,null,0.31065999999999999,1.4744E-2,1.528016,null,0.340503,4.5231600000000004E-2,1.7004919999999999,null,0.31065999999999999,1.4744E-2,1.528016,null,null,null,null,0.31120310000000001,3.8095690000000001E-2,1.673573,6.3459999999999989E-2,-3.0519999999999999E-2,0.83220000000000005]
[null,434,1.0219999999999999E-3,4.2273718855034092E-5,null,null,null,null,null,null,null,null,null,null,null,null,null,null,null,null,null,null,null,null,null,null,null,null,null,null,null,null,null,null,null,null,null,null,null,null,null,null,null,null,null,434,1.5792E-2,3.1539999999999999E-2,3.1527200000000005E-2,0.24996000000000002,3.9818399999999997E-2,5.7669199999999997E-2,null,0.31958000000000003,1.5792E-2,1.575488,null,0.349111,4.7416800000000002E-2,1.7494959999999999,null,0.31958000000000003,1.5792E-2,1.575488,null,null,null,null,0.31690469999999998,3.9818430000000002E-2,1.710604,5.978E-2,-2.9059999999999999E-2,0.85499999999999998]
[null,435,1.085E-3,4.4879633031029351E-5,null,null,null,null,null,null,null,null,null,null,null,null,null,null,null,null,null,null,null,null,null,null,null,null,null,null,null,null,null,null,null,null,null,null,null,null,null,null,null,null,null,435,1.6840000000000001E-2,3.2600000000000004E-2,3.2584000000000002E-2,0.26250000000000001,4.1579400000000002E-2,6.0474300000000002E-2,null,0.32850000000000001,1.6840000000000001E-2,1.62296,null,0.35771900000000001,4.9602E-2,1.7985,null,0.32850000000000001,1.6840000000000001E-2,1.62296,null,null,null,null,0.32270870000000001,4.1579400000000002E-2,1.7482800000000001,5.6099999999999997E-2,-2.76E-2,0.87780000000000002]
[null,436,1.147E-3,4.7444183489945313E-5,null,null,null,null,null,null,null,null,null,null,null,null,null,null,null,null,null,null,null,null,null,null,null,null,null,null,null,null,null,null,null,null,null,null,null,null,null,null,null,null,null,436,1.8072000000000001E-2,3.3660000000000002E-2,3.3647200000000002E-2,0.27562000000000003,4.3371E-2,6.3322000000000003E-2,null,0.33245600000000003,1.8072000000000001E-2,1.64778,null,0.36292200000000002,5.2096999999999997E-2,1.8322559999999999,null,0.33245600000000003,1.8072000000000001E-2,1.64778,null,null,null,null,0.32881939999999998,4.3370980000000003E-2,1.787504,5.1339999999999997E-2,-2.546E-2,0.89734000000000003]
[null,437,1.026E-3,4.2439173723351261E-5,null,null,null,null,null,null,null,null,null,null,null,null,null,null,null,null,null,null,null,null,null,null,null,null,null,null,null,null,null,null,null,null,null,null,null,null,null,null,null,null,null,437,1.9304000000000002E-2,3.4720000000000001E-2,3.4710400000000002E-2,0.28874,4.5171799999999998E-2,6.6192699999999993E-2,null,0.33641199999999999,1.9304000000000002E-2,1.6726000000000001,null,0.36812500000000004,5.4592000000000002E-2,1.866012,null,0.33641199999999999,1.9304000000000002E-2,1.6726000000000001,null,null,null,null,0.33492420000000001,4.5171799999999998E-2,1.8266089999999999,4.6579999999999996E-2,-2.332E-2,0.91688000000000003]
[null,438,9.0499999999999999E-4,3.7434163956757202E-5,null,null,null,null,null,null,null,null,null,null,null,null,null,null,null,null,null,null,null,null,null,null,null,null,null,null,null,null,null,null,null,null,null,null,null,null,null,null,null,null,null,438,2.0535999999999999E-2,3.5780000000000006E-2,3.5773600000000003E-2,0.30186000000000002,4.6954200000000001E-2,6.9061899999999996E-2,null,0.340368,2.0535999999999999E-2,1.6974199999999999,null,0.37332799999999999,5.7086999999999999E-2,1.8997679999999999,null,0.340368,2.0535999999999999E-2,1.6974199999999999,null,null,null,null,0.34054519999999999,4.6954200000000001E-2,1.863108,4.1820000000000003E-2,-2.1179999999999997E-2,0.93642000000000003]
[null,439,9.6299999999999999E-4,3.9833259547356002E-5,null,null,null,null,null,null,null,null,null,null,null,null,null,null,null,null,null,null,null,null,null,null,null,null,null,null,null,null,null,null,null,null,null,null,null,null,null,null,null,null,null,439,2.1767999999999999E-2,3.6840000000000005E-2,3.6836800000000003E-2,0.31497999999999998,4.86872E-2,7.1901900000000005E-2,null,0.34432399999999996,2.1767999999999999E-2,1.72224,null,0.37853100000000001,5.9582000000000003E-2,1.933524,null,0.34432399999999996,2.1767999999999999E-2,1.72224,null,null,null,null,0.3451688,4.8687179999999997E-2,1.8943319999999999,3.7060000000000003E-2,-1.9039999999999998E-2,0.95596000000000003]
[null,440,1.0200000000000001E-3,4.2190991420875525E-5,null,null,null,null,null,null,null,null,null,null,null,null,null,null,null,null,null,null,null,null,null,null,null,null,null,null,null,null,null,null,null,null,null,null,null,null,null,null,null,null,null,440,2.3E-2,3.7900000000000003E-2,3.7900000000000003E-2,0.3281,5.0336600000000002E-2,7.4682899999999997E-2,null,0.34827999999999998,2.3E-2,1.7470600000000001,null,0.38373400000000002,6.2077E-2,1.9672799999999999,null,0.34827999999999998,2.3E-2,1.7470600000000001,null,null,null,null,0.34825539999999999,5.0336569999999997E-2,1.9174789999999999,3.2300000000000002E-2,-1.6899999999999998E-2,0.97550000000000003]
[null,441,7.27E-4,3.0071422316643631E-5,null,null,null,null,null,null,null,null,null,null,null,null,null,null,null,null,null,null,null,null,null,null,null,null,null,null,null,null,null,null,null,null,null,null,null,null,null,null,null,null,null,441,2.436E-2,3.8790000000000005E-2,3.8798200000000005E-2,0.34110000000000001,5.1876100000000001E-2,7.7384499999999995E-2,null,0.34823599999999999,2.436E-2,1.7541679999999999,null,0.38433240000000002,6.4602400000000004E-2,1.9792839999999998,null,0.34823599999999999,2.436E-2,1.7541679999999999,null,null,null,null,0.34941529999999998,5.1876110000000003E-2,1.9305289999999999,2.4960000000000003E-2,-1.304E-2,0.98077999999999999]
[null,442,7.8799999999999996E-4,3.2594609058480299E-5,null,null,null,null,null,null,null,null,null,null,null,null,null,null,null,null,null,null,null,null,null,null,null,null,null,null,null,null,null,null,null,null,null,null,null,null,null,null,null,null,null,442,2.572E-2,3.968E-2,3.96964E-2,0.35410000000000003,5.33222E-2,8.0035999999999996E-2,null,0.348192,2.572E-2,1.7612760000000001,null,0.38493080000000002,6.7127800000000001E-2,1.9912879999999999,null,0.348192,2.572E-2,1.7612760000000001,null,null,null,null,0.34890749999999998,5.3322179999999997E-2,1.9348190000000001,1.762E-2,-9.1799999999999989E-3,0.98606000000000005]
[null,443,8.4900000000000004E-4,3.5117795800316977E-5,null,null,null,null,null,null,null,null,null,null,null,null,null,null,null,null,null,null,null,null,null,null,null,null,null,null,null,null,null,null,null,null,null,null,null,null,null,null,null,null,null,443,2.708E-2,4.0570000000000002E-2,4.0594600000000002E-2,0.36709999999999998,5.4705999999999998E-2,8.26852E-2,null,0.34814799999999996,2.708E-2,1.768384,null,0.38552920000000002,6.9653199999999998E-2,2.0032920000000001,null,0.34814799999999996,2.708E-2,1.768384,null,null,null,null,0.3471746,5.4706030000000003E-2,1.93265,1.0279999999999997E-2,-5.3199999999999983E-3,0.99134]
[null,444,8.52E-4,3.5241886951554848E-5,null,null,null,null,null,null,null,null,null,null,null,null,null,null,null,null,null,null,null,null,null,null,null,null,null,null,null,null,null,null,null,null,null,null,null,null,null,null,null,null,null,444,2.844E-2,4.1460000000000004E-2,4.1492799999999996E-2,0.38009999999999999,5.6063399999999999E-2,8.5387500000000005E-2,null,0.34810399999999997,2.844E-2,1.7754920000000001,null,0.38612760000000002,7.2178600000000009E-2,2.0152959999999998,null,0.34810399999999997,2.844E-2,1.7754920000000001,null,null,null,null,0.34467049999999999,5.6063349999999998E-2,1.9263950000000001,2.9399999999999982E-3,-1.4599999999999995E-3,0.99662000000000006]
[null,445,8.5499999999999997E-4,3.5365978102792713E-5,null,null,null,null,null,null,null,null,null,null,null,null,null,null,null,null,null,null,null,null,null,null,null,null,null,null,null,null,null,null,null,null,null,null,null,null,null,null,null,null,null,445,2.98E-2,4.2349999999999999E-2,4.2390999999999998E-2,0.3931,5.7433900000000003E-2,8.8205400000000003E-2,null,0.34805999999999998,2.98E-2,1.7826,null,0.38672600000000001,7.4704000000000007E-2,2.0272999999999999,null,0.34805999999999998,2.98E-2,1.7826,null,null,null,null,0.34184829999999999,5.7433930000000001E-2,1.9184369999999999,-4.4000000000000003E-3,2.3999999999999998E-3,1.0019]
[null,446,9.0899999999999998E-4,3.7599618825074358E-5,null,null,null,null,null,null,null,null,null,null,null,null,null,null,null,null,null,null,null,null,null,null,null,null,null,null,null,null,null,null,null,null,null,null,null,null,null,null,null,null,null,446,3.1440000000000003E-2,4.3240000000000001E-2,4.32728E-2,0.40548000000000001,5.8851100000000003E-2,9.1189300000000001E-2,null,0.345688,3.1440000000000003E-2,1.780502,null,0.38352120000000001,7.7654399999999998E-2,2.0207999999999999,null,0.345688,3.1440000000000003E-2,1.780502,null,null,null,null,0.33902399999999999,5.8851069999999998E-2,1.9104300000000001,-1.3080000000000001E-2,7.5799999999999999E-3,1.0014400000000001]
[null,447,9.6299999999999999E-4,3.9833259547356002E-5,null,null,null,null,null,null,null,null,null,null,null,null,null,null,null,null,null,null,null,null,null,null,null,null,null,null,null,null,null,null,null,null,null,null,null,null,null,null,null,null,null,447,3.3079999999999998E-2,4.4130000000000003E-2,4.4154600000000002E-2,0.41786000000000001,6.0308100000000003E-2,9.4310400000000003E-2,null,0.34331600000000001,3.3079999999999998E-2,1.7784040000000001,null,0.3803164,8.0604800000000004E-2,2.0143,null,0.34331600000000001,3.3079999999999998E-2,1.7784040000000001,null,null,null,null,0.33599259999999997,6.0308090000000002E-2,1.901224,-2.1760000000000002E-2,1.2759999999999999E-2,1.00098]
[null,448,9.9200000000000004E-4,4.1032807342655405E-5,null,null,null,null,null,null,null,null,null,null,null,null,null,null,null,null,null,null,null,null,null,null,null,null,null,null,null,null,null,null,null,null,null,null,null,null,null,null,null,null,null,448,3.4720000000000001E-2,4.5020000000000004E-2,4.5036399999999997E-2,0.43024000000000001,6.1786399999999998E-2,9.7513500000000003E-2,null,0.34094399999999997,3.4720000000000001E-2,1.7763059999999999,null,0.37711159999999999,8.3555199999999996E-2,2.0078,null,0.34094399999999997,3.4720000000000001E-2,1.7763059999999999,null,null,null,null,0.33242759999999999,6.1786439999999998E-2,1.889,-3.0440000000000002E-2,1.7939999999999998E-2,1.0005200000000001]
[null,449,1.021E-3,4.2232355137954809E-5,null,null,null,null,null,null,null,null,null,null,null,null,null,null,null,null,null,null,null,null,null,null,null,null,null,null,null,null,null,null,null,null,null,null,null,null,null,null,null,null,null,449,3.6359999999999996E-2,4.5909999999999999E-2,4.5918199999999999E-2,0.44262000000000001,6.3265699999999994E-2,0.10073500000000001,null,0.33857199999999998,3.6359999999999996E-2,1.774208,null,0.37390679999999998,8.6505600000000002E-2,2.0013000000000001,null,0.33857199999999998,3.6359999999999996E-2,1.774208,null,null,null,null,0.32801570000000002,6.3265699999999994E-2,1.871996,-3.9120000000000002E-2,2.3119999999999998E-2,1.0000599999999999]
[null,450,9.9099999999999991E-4,4.0991443625576115E-5,null,null,null,null,null,null,null,null,null,null,null,null,null,null,null,null,null,null,null,null,null,null,null,null,null,null,null,null,null,null,null,null,null,null,null,null,null,null,null,null,null,450,3.7999999999999999E-2,4.6800000000000001E-2,4.6800000000000001E-2,0.45500000000000002,6.4723500000000003E-2,0.103903,null,0.3362,3.7999999999999999E-2,1.7721100000000001,null,0.37070199999999998,8.9455999999999994E-2,1.9947999999999999,null,0.3362,3.7999999999999999E-2,1.7721100000000001,null,null,null,null,0.32246370000000002,6.4723520000000007E-2,1.8485450000000001,-4.7800000000000002E-2,2.8299999999999999E-2,0.99960000000000004]
[null,451,9.6100000000000005E-4,3.9750532113197428E-5,null,null,null,null,null,null,null,null,null,null,null,null,null,null,null,null,null,null,null,null,null,null,null,null,null,null,null,null,null,null,null,null,null,null,null,null,null,null,null,null,null,451,0.04,4.8120000000000003E-2,4.7864400000000001E-2,0.46660000000000001,6.6147499999999998E-2,0.106964,null,0.3327,0.04,1.766508,null,0.36515300000000001,9.2815999999999996E-2,1.9759799999999998,null,0.3327,0.04,1.766508,null,null,null,null,0.31562249999999997,6.6147490000000003E-2,1.8177920000000001,-5.7640000000000004E-2,3.5360000000000003E-2,0.98246]
[null,452,7.6999999999999996E-4,3.1850062151053084E-5,null,null,null,null,null,null,null,null,null,null,null,null,null,null,null,null,null,null,null,null,null,null,null,null,null,null,null,null,null,null,null,null,null,null,null,null,null,null,null,null,null,452,4.2000000000000003E-2,4.9439999999999998E-2,4.8928800000000001E-2,0.47820000000000001,6.7572599999999997E-2,0.109968,null,0.32919999999999999,4.2000000000000003E-2,1.7609060000000001,null,0.35960399999999998,9.6175999999999998E-2,1.95716,null,0.32919999999999999,4.2000000000000003E-2,1.7609060000000001,null,null,null,null,0.30782009999999999,6.7572560000000004E-2,1.7816270000000001,-6.7479999999999998E-2,4.2419999999999999E-2,0.96532000000000007]
[null,453,5.8E-4,2.3990955905988041E-5,null,null,null,null,null,null,null,null,null,null,null,null,null,null,null,null,null,null,null,null,null,null,null,null,null,null,null,null,null,null,null,null,null,null,null,null,null,null,null,null,null,453,4.3999999999999997E-2,5.076E-2,4.9993200000000002E-2,0.48980000000000001,6.9049299999999994E-2,0.112999,null,0.32569999999999999,4.3999999999999997E-2,1.755304,null,0.35405500000000001,9.9535999999999999E-2,1.93834,null,0.32569999999999999,4.3999999999999997E-2,1.755304,null,null,null,null,0.2994771,6.9049280000000005E-2,1.7425139999999999,-7.732E-2,4.9480000000000003E-2,0.94818000000000002]
[null,454,9.2100000000000005E-4,3.8095983430025836E-5,null,null,null,null,null,null,null,null,null,null,null,null,null,null,null,null,null,null,null,null,null,null,null,null,null,null,null,null,null,null,null,null,null,null,null,null,null,null,null,null,null,454,4.5999999999999999E-2,5.2080000000000001E-2,5.1057600000000002E-2,0.50140000000000007,7.0632799999999996E-2,0.11615399999999999,null,0.32219999999999999,4.5999999999999999E-2,1.7497020000000001,null,0.34850599999999998,0.102896,1.9195200000000001,null,0.32219999999999999,4.5999999999999999E-2,1.7497020000000001,null,null,null,null,0.2909776,7.0632799999999996E-2,1.7027490000000001,-8.7160000000000001E-2,5.6540000000000007E-2,0.93104000000000009]
[null,455,1.193E-3,4.934691447559264E-5,null,null,null,null,null,null,null,null,null,null,null,null,null,null,null,null,null,null,null,null,null,null,null,null,null,null,null,null,null,null,null,null,null,null,null,null,null,null,null,null,null,455,4.8000000000000001E-2,5.3400000000000003E-2,5.2122000000000002E-2,0.51300000000000001,7.2383400000000001E-2,0.11953900000000001,null,0.31869999999999998,4.8000000000000001E-2,1.7441,null,0.34295700000000001,0.106256,1.9007000000000001,null,0.31869999999999998,4.8000000000000001E-2,1.7441,null,null,null,null,0.28266459999999999,7.2383390000000006E-2,1.664439,-9.7000000000000003E-2,6.3600000000000004E-2,0.91390000000000005]
[null,456,6.4999999999999997E-4,2.688641610153832E-5,null,null,null,null,null,null,null,null,null,null,null,null,null,null,null,null,null,null,null,null,null,null,null,null,null,null,null,null,null,null,null,null,null,null,null,null,null,null,null,null,null,456,5.04E-2,5.4719999999999998E-2,5.3697599999999998E-2,0.52380000000000004,7.4359599999999998E-2,0.12325,null,0.31312000000000001,5.04E-2,1.72912,null,0.33482020000000001,0.11064500000000001,1.869634,null,0.31312000000000001,5.04E-2,1.72912,null,null,null,null,0.27479619999999999,7.4359599999999998E-2,1.6292070000000001,-0.10932,7.2520000000000001E-2,0.89706000000000008]
[null,457,7.9000000000000001E-4,3.267733649263888E-5,null,null,null,null,null,null,null,null,null,null,null,null,null,null,null,null,null,null,null,null,null,null,null,null,null,null,null,null,null,null,null,null,null,null,null,null,null,null,null,null,null,457,5.28E-2,5.604E-2,5.5273200000000001E-2,0.53459999999999996,7.6593800000000004E-2,0.127305,null,0.30753999999999998,5.28E-2,1.71414,null,0.32668340000000001,0.11503400000000001,1.838568,null,0.30753999999999998,5.28E-2,1.71414,null,null,null,null,0.26743119999999998,7.6593830000000002E-2,1.5973599999999999,-0.12164,8.1440000000000012E-2,0.88022]
[null,458,9.3099999999999997E-4,3.8509620600818734E-5,null,null,null,null,null,null,null,null,null,null,null,null,null,null,null,null,null,null,null,null,null,null,null,null,null,null,null,null,null,null,null,null,null,null,null,null,null,null,null,null,null,458,5.5199999999999999E-2,5.7360000000000001E-2,5.6848799999999998E-2,0.5454,7.9114400000000001E-2,0.13169600000000001,null,0.30196000000000001,5.5199999999999999E-2,1.69916,null,0.31854660000000001,0.119423,1.8075020000000002,null,0.30196000000000001,5.5199999999999999E-2,1.69916,null,null,null,null,0.2605847,7.9114359999999995E-2,1.5688960000000001,-0.13396,9.036000000000001E-2,0.86338000000000004]
[null,459,9.4499999999999998E-4,3.9088712639928787E-5,null,null,null,null,null,null,null,null,null,null,null,null,null,null,null,null,null,null,null,null,null,null,null,null,null,null,null,null,null,null,null,null,null,null,null,null,null,null,null,null,null,459,5.7599999999999998E-2,5.8679999999999996E-2,5.8424400000000001E-2,0.55619999999999992,8.1953499999999999E-2,0.13641800000000001,null,0.29637999999999998,5.7599999999999998E-2,1.68418,null,0.31040980000000001,0.12381200000000001,1.7764360000000001,null,0.29637999999999998,5.7599999999999998E-2,1.68418,null,null,null,null,0.25427490000000003,8.1953449999999997E-2,1.5438229999999999,-0.14627999999999999,9.9280000000000007E-2,0.84653999999999996]
[null,460,9.59E-4,3.9667804679038847E-5,null,null,null,null,null,null,null,null,null,null,null,null,null,null,null,null,null,null,null,null,null,null,null,null,null,null,null,null,null,null,null,null,null,null,null,null,null,null,null,null,null,460,0.06,0.06,0.06,0.56699999999999995,8.5148199999999993E-2,0.141459,null,0.2908,0.06,1.6692,null,0.30227300000000001,0.12820100000000001,1.7453700000000001,null,0.2908,0.06,1.6692,null,null,null,null,0.24852540000000001,8.5148160000000001E-2,1.522157,-0.15859999999999999,0.1082,0.82969999999999999]
[null,461,9.2400000000000002E-4,3.8220074581263708E-5,null,null,null,null,null,null,null,null,null,null,null,null,null,null,null,null,null,null,null,null,null,null,null,null,null,null,null,null,null,null,null,null,null,null,null,null,null,null,null,null,null,461,6.2780000000000002E-2,6.3100000000000003E-2,6.2588400000000002E-2,0.5776,8.8726600000000003E-2,0.14680000000000001,null,0.28286,6.2780000000000002E-2,1.6409800000000001,null,0.29263539999999999,0.13311300000000001,1.707276,null,0.28286,6.2780000000000002E-2,1.6409800000000001,null,null,null,null,0.24330389999999999,8.8726570000000005E-2,1.503611,-0.17157999999999998,0.11890000000000001,0.81210000000000004]
[null,462,8.8800000000000001E-4,3.6730980766409278E-5,null,null,null,null,null,null,null,null,null,null,null,null,null,null,null,null,null,null,null,null,null,null,null,null,null,null,null,null,null,null,null,null,null,null,null,null,null,null,null,null,null,462,6.5559999999999993E-2,6.6199999999999995E-2,6.5176800000000007E-2,0.58819999999999995,9.2660099999999995E-2,0.15240000000000001,null,0.27492,6.5559999999999993E-2,1.61276,null,0.28299780000000002,0.13802500000000001,1.6691819999999999,null,0.27492,6.5559999999999993E-2,1.61276,null,null,null,null,0.23834140000000001,9.2660080000000006E-2,1.4866729999999999,-0.18456,0.12959999999999999,0.79449999999999998]
[null,463,9.4899999999999997E-4,3.9254167508245949E-5,null,null,null,null,null,null,null,null,null,null,null,null,null,null,null,null,null,null,null,null,null,null,null,null,null,null,null,null,null,null,null,null,null,null,null,null,null,null,null,null,null,463,6.8339999999999998E-2,6.93E-2,6.7765199999999998E-2,0.5988,9.6897200000000003E-2,0.15820200000000001,null,0.26698,6.8339999999999998E-2,1.5845400000000001,null,0.2733602,0.14293700000000001,1.6310880000000001,null,0.26698,6.8339999999999998E-2,1.5845400000000001,null,null,null,null,0.23332530000000001,9.6897230000000001E-2,1.469595,-0.19753999999999999,0.14030000000000001,0.77690000000000003]
[null,464,1.0089999999999999E-3,4.173599053300333E-5,null,null,null,null,null,null,null,null,null,null,null,null,null,null,null,null,null,null,null,null,null,null,null,null,null,null,null,null,null,null,null,null,null,null,null,null,null,null,null,null,null,464,7.1119999999999989E-2,7.2399999999999992E-2,7.0353600000000002E-2,0.60939999999999994,0.10137500000000001,0.16414000000000001,null,0.25903999999999999,7.1119999999999989E-2,1.5563199999999999,null,0.26372260000000003,0.14784900000000001,1.592994,null,0.25903999999999999,7.1119999999999989E-2,1.5563199999999999,null,null,null,null,0.2279619,0.1013746,1.450709,-0.21051999999999998,0.15100000000000002,0.75929999999999997]
[null,465,7.6099999999999996E-4,3.1477788697339477E-5,null,null,null,null,null,null,null,null,null,null,null,null,null,null,null,null,null,null,null,null,null,null,null,null,null,null,null,null,null,null,null,null,null,null,null,null,null,null,null,null,null,465,7.3899999999999993E-2,7.5499999999999998E-2,7.2942000000000007E-2,0.62,0.106014,0.17013700000000001,null,0.25109999999999999,7.3899999999999993E-2,1.5281,null,0.25408500000000001,0.15276100000000001,1.5548999999999999,null,0.25109999999999999,7.3899999999999993E-2,1.5281,null,null,null,null,0.22197810000000001,0.1060145,1.4284399999999999,-0.2235,0.16170000000000001,0.74170000000000003]
[null,466,8.1300000000000003E-4,3.3628701985462547E-5,null,null,null,null,null,null,null,null,null,null,null,null,null,null,null,null,null,null,null,null,null,null,null,null,null,null,null,null,null,null,null,null,null,null,null,null,null,null,null,null,null,466,7.7315999999999996E-2,7.8600000000000003E-2,7.6549600000000009E-2,0.63119999999999998,0.110738,0.176123,null,0.239952,7.7315999999999996E-2,1.480008,null,0.24239160000000001,0.15924679999999999,1.5074319999999999,null,0.239952,7.7315999999999996E-2,1.480008,null,null,null,null,0.21517349999999999,0.11073769999999999,1.4015869999999999,-0.23576,0.17338000000000001,0.71604000000000001]
[null,467,8.6499999999999999E-4,3.5779615273585611E-5,null,null,null,null,null,null,null,null,null,null,null,null,null,null,null,null,null,null,null,null,null,null,null,null,null,null,null,null,null,null,null,null,null,null,null,null,null,null,null,null,null,467,8.0731999999999998E-2,8.1699999999999995E-2,8.0157200000000012E-2,0.64239999999999997,0.115511,0.18209,null,0.22880400000000001,8.0731999999999998E-2,1.431916,null,0.23069819999999999,0.16573260000000001,1.459964,null,0.22880400000000001,8.0731999999999998E-2,1.431916,null,null,null,null,0.20756189999999999,0.11551110000000001,1.3700939999999999,-0.24801999999999999,0.18506,0.69037999999999999]
[null,468,8.1300000000000003E-4,3.3628701985462547E-5,null,null,null,null,null,null,null,null,null,null,null,null,null,null,null,null,null,null,null,null,null,null,null,null,null,null,null,null,null,null,null,null,null,null,null,null,null,null,null,null,null,468,8.4148000000000001E-2,8.48E-2,8.37648E-2,0.65360000000000007,0.120312,0.18804599999999999,null,0.21765599999999999,8.4148000000000001E-2,1.3838239999999999,null,0.2190048,0.17221839999999999,1.412496,null,0.21765599999999999,8.4148000000000001E-2,1.3838239999999999,null,null,null,null,0.19921829999999999,0.12031219999999999,1.33422,-0.26028000000000001,0.19674,0.66471999999999998]
[null,469,7.6199999999999998E-4,3.1519152414418767E-5,null,null,null,null,null,null,null,null,null,null,null,null,null,null,null,null,null,null,null,null,null,null,null,null,null,null,null,null,null,null,null,null,null,null,null,null,null,null,null,null,null,469,8.7564000000000003E-2,8.7899999999999992E-2,8.7372400000000003E-2,0.66480000000000006,0.125116,0.19400600000000001,null,0.206508,8.7564000000000003E-2,1.3357319999999999,null,0.20731139999999998,0.17870420000000001,1.3650280000000001,null,0.206508,8.7564000000000003E-2,1.3357319999999999,null,null,null,null,0.19022900000000001,0.12511610000000001,1.2942750000000001,-0.27254,0.20841999999999999,0.63905999999999996]
[null,470,8.5800000000000004E-4,3.5490069254030584E-5,null,null,null,null,null,null,null,null,null,null,null,null,null,null,null,null,null,null,null,null,null,null,null,null,null,null,null,null,null,null,null,null,null,null,null,null,null,null,null,null,null,470,9.0980000000000005E-2,9.0999999999999998E-2,9.0980000000000005E-2,0.67600000000000005,0.12989600000000001,0.199986,null,0.19536000000000001,9.0980000000000005E-2,1.2876399999999999,null,0.19561799999999999,0.18518999999999999,1.3175600000000001,null,0.19536000000000001,9.0980000000000005E-2,1.2876399999999999,null,null,null,null,0.1806905,0.1298957,1.25061,-0.2848,0.22009999999999999,0.61339999999999995]
[null,471,9.5299999999999996E-4,3.9419622376563104E-5,null,null,null,null,null,null,null,null,null,null,null,null,null,null,null,null,null,null,null,null,null,null,null,null,null,null,null,null,null,null,null,null,null,null,null,null,null,null,null,null,null,471,9.5304E-2,9.5799999999999996E-2,9.5352000000000006E-2,0.68759999999999999,0.13463,0.20600499999999999,null,0.18470800000000001,9.5304E-2,1.2384919999999999,null,0.18296419999999999,0.19214000000000001,1.2600880000000001,null,0.18470800000000001,9.5304E-2,1.2384919999999999,null,null,null,null,0.17071539999999999,0.1346299,1.2036960000000001,-0.29476000000000002,0.23199999999999998,0.58511999999999997]
[null,472,1.0300000000000001E-3,4.2604628591668423E-5,null,null,null,null,null,null,null,null,null,null,null,null,null,null,null,null,null,null,null,null,null,null,null,null,null,null,null,null,null,null,null,null,null,null,null,null,null,null,null,null,null,472,9.9628000000000008E-2,0.10059999999999999,9.9724000000000007E-2,0.69920000000000004,0.13933100000000001,0.21209800000000001,null,0.17405600000000002,9.9628000000000008E-2,1.189344,null,0.1703104,0.19908999999999999,1.2026160000000001,null,0.17405600000000002,9.9628000000000008E-2,1.189344,null,null,null,null,0.16044710000000001,0.13933090000000001,1.1543159999999999,-0.30471999999999999,0.24390000000000001,0.55684]
[null,473,1.106E-3,4.5748271089694437E-5,null,null,null,null,null,null,null,null,null,null,null,null,null,null,null,null,null,null,null,null,null,null,null,null,null,null,null,null,null,null,null,null,null,null,null,null,null,null,null,null,null,473,0.103952,0.10540000000000001,0.10409599999999999,0.71079999999999999,0.14402300000000001,0.218304,null,0.16340399999999999,0.103952,1.140196,null,0.15765659999999998,0.20604,1.1451439999999999,null,0.16340399999999999,0.103952,1.140196,null,null,null,null,0.1500244,0.1440235,1.1032839999999999,-0.31468000000000002,0.25580000000000003,0.52855999999999992]
[null,474,6.4899999999999995E-4,2.6845052384459029E-5,null,null,null,null,null,null,null,null,null,null,null,null,null,null,null,null,null,null,null,null,null,null,null,null,null,null,null,null,null,null,null,null,null,null,null,null,null,null,null,null,null,474,0.10827600000000001,0.11020000000000001,0.10846799999999999,0.72240000000000004,0.14873700000000001,0.22466900000000001,null,0.152752,0.10827600000000001,1.091048,null,0.14500279999999999,0.21298999999999998,1.087672,null,0.152752,0.10827600000000001,1.091048,null,null,null,null,0.13957049999999999,0.14873720000000001,1.051347,-0.32463999999999998,0.26769999999999999,0.50027999999999995]
[null,475,5.44E-4,2.2501862091133611E-5,null,null,null,null,null,null,null,null,null,null,null,null,null,null,null,null,null,null,null,null,null,null,null,null,null,null,null,null,null,null,null,null,null,null,null,null,null,null,null,null,null,475,0.11260000000000001,0.115,0.11284,0.73399999999999999,0.153507,0.231243,null,0.1421,0.11260000000000001,1.0419,null,0.13234899999999999,0.21994,1.0302,null,0.1421,0.11260000000000001,1.0419,null,null,null,null,0.129192,0.15350659999999999,0.99917889999999998,-0.33460000000000001,0.27960000000000002,0.47199999999999998]
[null,476,4.4000000000000002E-4,1.8200035514887481E-5,null,null,null,null,null,null,null,null,null,null,null,null,null,null,null,null,null,null,null,null,null,null,null,null,null,null,null,null,null,null,null,null,null,null,null,null,null,null,null,null,null,476,0.117884,0.1198,0.118076,0.74580000000000002,0.158364,0.23807400000000001,null,0.13280800000000001,0.117884,0.99611000000000005,null,0.12198059999999999,0.2266698,0.97858500000000004,null,0.13280800000000001,0.117884,0.99611000000000005,null,null,null,null,0.11898590000000001,0.15836439999999999,0.94739580000000001,-0.34320000000000001,0.29224,0.44749999999999995]
[null,477,6.6100000000000002E-4,2.7341416989410508E-5,null,null,null,null,null,null,null,null,null,null,null,null,null,null,null,null,null,null,null,null,null,null,null,null,null,null,null,null,null,null,null,null,null,null,null,null,null,null,null,null,null,477,0.123168,0.1246,0.123312,0.75760000000000005,0.16331999999999999,0.24518000000000001,null,0.123516,0.123168,0.95032000000000005,null,0.11161219999999999,0.23339960000000001,0.92696999999999996,null,0.123516,0.123168,0.95032000000000005,null,null,null,null,0.10906150000000001,0.16331989999999999,0.89662220000000004,-0.3518,0.30487999999999998,0.42299999999999999]
[null,478,8.8099999999999995E-4,3.6441434746854245E-5,null,null,null,null,null,null,null,null,null,null,null,null,null,null,null,null,null,null,null,null,null,null,null,null,null,null,null,null,null,null,null,null,null,null,null,null,null,null,null,null,null,478,0.12845200000000001,0.12940000000000002,0.128548,0.76939999999999997,0.168376,0.25256800000000001,null,0.11422400000000001,0.12845200000000001,0.90452999999999995,null,0.10124379999999999,0.24012939999999999,0.87535499999999999,null,0.11422400000000001,0.12845200000000001,0.90452999999999995,null,null,null,null,9.9514240000000004E-2,0.1683761,0.84739810000000004,-0.3604,0.31752000000000002,0.39849999999999997]
[null,479,9.3300000000000002E-4,3.8592348034977315E-5,null,null,null,null,null,null,null,null,null,null,null,null,null,null,null,null,null,null,null,null,null,null,null,null,null,null,null,null,null,null,null,null,null,null,null,null,null,null,null,null,null,479,0.13373599999999999,0.13420000000000001,0.13378400000000001,0.78120000000000001,0.173537,0.26024799999999998,null,0.104932,0.13373599999999999,0.85873999999999995,null,9.0875399999999995E-2,0.2468592,0.82373999999999992,null,0.104932,0.13373599999999999,0.85873999999999995,null,null,null,null,9.0418499999999999E-2,0.17353650000000001,0.80015760000000002,-0.36899999999999999,0.33016000000000001,0.374]
[null,480,9.8400000000000007E-4,4.0701897606021088E-5,null,null,null,null,null,null,null,null,null,null,null,null,null,null,null,null,null,null,null,null,null,null,null,null,null,null,null,null,null,null,null,null,null,null,null,null,null,null,null,null,null,480,0.13902,0.13900000000000001,0.13902,0.79300000000000004,0.17880499999999999,0.26822699999999999,null,9.5640000000000003E-2,0.13902,0.81294999999999995,null,8.0506999999999995E-2,0.25358900000000001,0.77212499999999995,null,9.5640000000000003E-2,0.13902,0.81294999999999995,null,null,null,null,8.1828949999999998E-2,0.17880480000000001,0.75523790000000002,-0.37759999999999999,0.34279999999999999,0.34949999999999998]
[null,481,9.9599999999999992E-4,4.1198262210972561E-5,null,null,null,null,null,null,null,null,null,null,null,null,null,null,null,null,null,null,null,null,null,null,null,null,null,null,null,null,null,null,null,null,null,null,null,null,null,null,null,null,null,481,0.14507600000000001,0.1459,0.14519000000000001,0.80459999999999998,0.18418200000000001,0.276501,null,8.8102E-2,0.14507600000000001,0.77359999999999995,null,7.261999999999999E-2,0.26240420000000003,0.73181999999999992,null,8.8102E-2,0.14507600000000001,0.77359999999999995,null,null,null,null,7.3768169999999994E-2,0.18418190000000001,0.71278790000000003,-0.38479999999999998,0.35596,0.33088000000000001]
[null,482,1.008E-3,4.1694626815924039E-5,null,null,null,null,null,null,null,null,null,null,null,null,null,null,null,null,null,null,null,null,null,null,null,null,null,null,null,null,null,null,null,null,null,null,null,null,null,null,null,null,null,482,0.15113200000000002,0.15280000000000002,0.15135999999999999,0.81620000000000004,0.18965599999999999,0.28500399999999998,null,8.0563999999999997E-2,0.15113200000000002,0.73424999999999996,null,6.4732999999999999E-2,0.2712194,0.69151499999999999,null,8.0563999999999997E-2,0.15113200000000002,0.73424999999999996,null,null,null,null,6.619477E-2,0.18965589999999999,0.6725198,-0.39200000000000002,0.36912,0.31225999999999998]
[null,483,8.4900000000000004E-4,3.5117795800316977E-5,null,null,null,null,null,null,null,null,null,null,null,null,null,null,null,null,null,null,null,null,null,null,null,null,null,null,null,null,null,null,null,null,null,null,null,null,null,null,null,null,null,483,0.15718799999999999,0.15970000000000001,0.15753,0.82779999999999998,0.19520999999999999,0.29364699999999999,null,7.3026000000000008E-2,0.15718799999999999,0.69489999999999996,null,5.6845999999999994E-2,0.28003460000000002,0.65120999999999996,null,7.3026000000000008E-2,0.15718799999999999,0.69489999999999996,null,null,null,null,5.90638E-2,0.1952101,0.63409760000000004,-0.3992,0.38228000000000001,0.29364000000000001]
[null,484,6.8999999999999997E-4,2.8540964784709908E-5,null,null,null,null,null,null,null,null,null,null,null,null,null,null,null,null,null,null,null,null,null,null,null,null,null,null,null,null,null,null,null,null,null,null,null,null,null,null,null,null,null,484,0.163244,0.1666,0.16369999999999998,0.83940000000000003,0.200826,0.30233199999999999,null,6.5488000000000005E-2,0.163244,0.65554999999999997,null,4.8958999999999996E-2,0.28884979999999999,0.61090500000000003,null,6.5488000000000005E-2,0.163244,0.65554999999999997,null,null,null,null,5.2342420000000001E-2,0.2008259,0.59724330000000003,-0.40640000000000004,0.39544000000000001,0.27502000000000004]
[null,485,6.5300000000000004E-4,2.7010507252776191E-5,null,null,null,null,null,null,null,null,null,null,null,null,null,null,null,null,null,null,null,null,null,null,null,null,null,null,null,null,null,null,null,null,null,null,null,null,null,null,null,null,null,485,0.16930000000000001,0.17349999999999999,0.16986999999999999,0.85099999999999998,0.206483,0.310944,null,5.7950000000000002E-2,0.16930000000000001,0.61619999999999997,null,4.1071999999999997E-2,0.29766500000000001,0.5706,null,5.7950000000000002E-2,0.16930000000000001,0.61619999999999997,null,null,null,null,4.6008649999999998E-2,0.20648279999999999,0.56173130000000004,-0.41360000000000002,0.40860000000000002,0.25640000000000002]
[null,486,5.6700000000000001E-4,2.3453227583957275E-5,null,null,null,null,null,null,null,null,null,null,null,null,null,null,null,null,null,null,null,null,null,null,null,null,null,null,null,null,null,null,null,null,null,null,null,null,null,null,null,null,null,486,0.17704400000000001,0.1804,0.17749999999999999,0.86160000000000003,0.21218300000000001,0.31941000000000003,null,5.2762000000000003E-2,0.17704400000000001,0.58599599999999996,null,3.6091999999999999E-2,0.30595860000000002,0.53953079999999998,null,5.2762000000000003E-2,0.17704400000000001,0.58599599999999996,null,null,null,null,4.006154E-2,0.2121826,0.52749210000000002,-0.41722000000000004,0.42120000000000002,0.24150000000000002]
[null,487,4.8099999999999998E-4,1.9895947915138356E-5,null,null,null,null,null,null,null,null,null,null,null,null,null,null,null,null,null,null,null,null,null,null,null,null,null,null,null,null,null,null,null,null,null,null,null,null,null,null,null,null,null,487,0.18478800000000001,0.18729999999999999,0.18512999999999999,0.87219999999999998,0.218028,0.32786799999999999,null,4.7573999999999998E-2,0.18478800000000001,0.55579199999999995,null,3.1111999999999997E-2,0.31425220000000004,0.50846159999999996,null,4.7573999999999998E-2,0.18478800000000001,0.55579199999999995,null,null,null,null,3.4543730000000002E-2,0.2180279,0.49488090000000001,-0.42083999999999999,0.43380000000000002,0.22660000000000002]
[null,488,5.5500000000000005E-4,2.29568629790058E-5,null,null,null,null,null,null,null,null,null,null,null,null,null,null,null,null,null,null,null,null,null,null,null,null,null,null,null,null,null,null,null,null,null,null,null,null,null,null,null,null,null,488,0.19253200000000001,0.19419999999999998,0.19276000000000001,0.88280000000000003,0.224159,0.33652599999999999,null,4.2386E-2,0.19253200000000001,0.52558799999999994,null,2.6131999999999999E-2,0.32254579999999999,0.47739239999999999,null,4.2386E-2,0.19253200000000001,0.52558799999999994,null,null,null,null,2.9490909999999999E-2,0.22415860000000001,0.46425860000000002,-0.42446,0.44640000000000002,0.2117]
[null,489,6.2799999999999998E-4,{"$f":"C141/$C$11","v":2.5976414325793946E-5},null,null,null,null,null,null,null,null,null,null,null,null,null,null,null,null,null,null,null,null,null,null,null,null,null,null,null,null,null,null,null,null,null,null,null,null,null,null,null,null,null,489,0.20027600000000001,0.2011,0.20039000000000001,0.89339999999999997,0.23072999999999999,0.34561799999999998,null,3.7197999999999995E-2,0.20027600000000001,0.49538399999999999,null,2.1151999999999997E-2,0.33083940000000001,0.44632320000000003,null,3.7197999999999995E-2,0.20027600000000001,0.49538399999999999,null,null,null,null,2.49214E-2,0.2307302,0.4358841,-0.42807999999999996,0.45900000000000002,0.1968]
[null,490,5.8100000000000003E-4,2.4032319623067331E-5,null,null,null,null,null,null,null,null,null,null,null,null,null,null,null,null,null,null,null,null,null,null,null,null,null,null,null,null,null,null,null,null,null,null,null,null,null,null,null,null,null,490,0.20802000000000001,0.20799999999999999,0.20802000000000001,0.90400000000000003,0.23791599999999999,0.355402,null,3.2009999999999997E-2,0.20802000000000001,0.46517999999999998,null,1.6171999999999999E-2,0.33913300000000002,0.41525400000000001,null,3.2009999999999997E-2,0.20802000000000001,0.46517999999999998,null,null,null,null,2.083981E-2,0.23791599999999999,0.4099313,-0.43169999999999997,0.47160000000000002,0.18190000000000001]
[null,491,5.3300000000000005E-4,2.2046861203261426E-5,null,null,null,null,null,null,null,null,null,null,null,null,null,null,null,null,null,null,null,null,null,null,null,null,null,null,null,null,null,null,null,null,null,null,null,null,null,null,null,null,null,491,0.218136,0.2195,0.218032,0.91300000000000003,0.24587100000000001,0.366089,null,2.8547999999999997E-2,0.218136,0.44280399999999998,null,1.3963999999999999E-2,0.35038220000000003,0.39267440000000003,null,2.8547999999999997E-2,0.218136,0.44280399999999998,null,null,null,null,1.723591E-2,0.24587059999999999,0.38642609999999999,-0.43439999999999995,0.48710000000000003,0.17166000000000001]
[null,492,6.7599999999999995E-4,2.7961872745599851E-5,null,null,null,null,null,null,null,null,null,null,null,null,null,null,null,null,null,null,null,null,null,null,null,null,null,null,null,null,null,null,null,null,null,null,null,null,null,null,null,null,null,492,0.22825200000000001,0.23099999999999998,0.228044,0.92200000000000004,0.25460199999999999,0.37758599999999998,null,2.5085999999999997E-2,0.22825200000000001,0.42042799999999997,null,1.1755999999999999E-2,0.36163139999999999,0.3700948,null,2.5085999999999997E-2,0.22825200000000001,0.42042799999999997,null,null,null,null,1.407924E-2,0.2546023,0.36505660000000001,-0.43709999999999999,0.50260000000000005,0.16142000000000001]
[null,493,8.1800000000000004E-4,3.3835520570859E-5,null,null,null,null,null,null,null,null,null,null,null,null,null,null,null,null,null,null,null,null,null,null,null,null,null,null,null,null,null,null,null,null,null,null,null,null,null,null,null,null,null,493,0.238368,0.24249999999999999,0.23805599999999999,0.93099999999999994,0.26407599999999998,0.38969599999999999,null,2.1623999999999997E-2,0.238368,0.39805200000000002,null,9.5479999999999992E-3,0.37288060000000001,0.34751520000000002,null,2.1623999999999997E-2,0.238368,0.39805200000000002,null,null,null,null,1.134516E-2,0.26407599999999998,0.34548119999999999,-0.43979999999999997,0.5181,0.15118000000000001]
[null,494,9.4300000000000004E-4,3.9005985205770213E-5,null,null,null,null,null,null,null,null,null,null,null,null,null,null,null,null,null,null,null,null,null,null,null,null,null,null,null,null,null,null,null,null,null,null,null,null,null,null,null,null,null,494,0.24848400000000001,0.254,0.24806799999999998,0.94,0.27424900000000002,0.40219500000000002,null,1.8161999999999998E-2,0.24848400000000001,0.37567600000000001,null,7.3400000000000002E-3,0.38412979999999997,0.32493559999999999,null,1.8161999999999998E-2,0.24848400000000001,0.37567600000000001,null,null,null,null,9.0196579999999998E-3,0.27424900000000002,0.32740950000000002,-0.4425,0.53360000000000007,0.14094000000000001]
[null,495,8.4999999999999995E-4,3.5159159517396267E-5,null,null,null,null,null,null,null,null,null,null,null,null,null,null,null,null,null,null,null,null,null,null,null,null,null,null,null,null,null,null,null,null,null,null,null,null,null,null,null,null,null,495,0.2586,0.26550000000000001,0.25807999999999998,0.94899999999999995,0.28506799999999999,0.414823,null,1.47E-2,0.2586,0.3533,null,5.1320000000000003E-3,0.39537899999999998,0.30235600000000001,null,1.47E-2,0.2586,0.3533,null,null,null,null,7.0977310000000004E-3,0.28506799999999999,0.31059389999999998,-0.44519999999999998,0.54910000000000003,0.13070000000000001]
[null,496,7.5799999999999999E-4,3.1353697546101612E-5,null,null,null,null,null,null,null,null,null,null,null,null,null,null,null,null,null,null,null,null,null,null,null,null,null,null,null,null,null,null,null,null,null,null,null,null,null,null,null,null,null,496,0.27148,0.27700000000000002,0.27106399999999997,0.9556,0.29648400000000003,0.42735400000000001,null,1.274E-2,0.27148,0.33704000000000001,null,4.8688000000000004E-3,0.40845860000000001,0.28558519999999998,null,1.274E-2,0.27148,0.33704000000000001,null,null,null,null,5.5711449999999996E-3,0.29648370000000002,0.29481020000000002,-0.44316,0.56447999999999998,0.12276000000000001]
[null,497,7.3200000000000001E-4,3.027824090204008E-5,null,null,null,null,null,null,null,null,null,null,null,null,null,null,null,null,null,null,null,null,null,null,null,null,null,null,null,null,null,null,null,null,null,null,null,null,null,null,null,null,null,497,0.28436,0.28849999999999998,0.28404799999999997,0.96219999999999994,0.30850100000000003,0.43982100000000002,null,1.078E-2,0.28436,0.32078000000000001,null,4.6056000000000005E-3,0.42153819999999997,0.26881440000000001,null,1.078E-2,0.28436,0.32078000000000001,null,null,null,null,4.3945659999999999E-3,0.30850100000000003,0.2798194,-0.44112000000000001,0.57986000000000004,0.11482000000000001]
[null,498,7.0600000000000003E-4,2.9202784257978548E-5,null,null,null,null,null,null,null,null,null,null,null,null,null,null,null,null,null,null,null,null,null,null,null,null,null,null,null,null,null,null,null,null,null,null,null,null,null,null,null,null,null,498,0.29724,0.3,0.29703200000000002,0.96879999999999999,0.32113900000000001,0.45233600000000002,null,8.8199999999999997E-3,0.29724,0.30452000000000001,null,4.3423999999999997E-3,0.4346178,0.25204360000000003,null,8.8199999999999997E-3,0.29724,0.30452000000000001,null,null,null,null,3.5163030000000001E-3,0.32113930000000002,0.26540999999999998,-0.43907999999999997,0.59523999999999999,0.10688]
[null,499,6.0499999999999996E-4,2.5025048832970282E-5,null,null,null,null,null,null,null,null,null,null,null,null,null,null,null,null,null,null,null,null,null,null,null,null,null,null,null,null,null,null,null,null,null,null,null,null,null,null,null,null,null,499,0.31012000000000001,0.3115,0.31001600000000001,0.97539999999999993,0.33441799999999999,0.46503,null,6.8599999999999998E-3,0.31012000000000001,0.28826000000000002,null,4.0791999999999998E-3,0.44769739999999997,0.2352728,null,6.8599999999999998E-3,0.31012000000000001,0.28826000000000002,null,null,null,null,2.8876380000000001E-3,0.33441749999999998,0.25140839999999998,-0.43703999999999998,0.61062000000000005,9.894E-2]
[null,500,5.0500000000000002E-4,2.0888677125041314E-5,null,null,null,null,null,null,null,null,null,null,null,null,null,null,null,null,null,null,null,null,null,null,null,null,null,null,null,null,null,null,null,null,null,null,null,null,null,null,null,null,null,500,0.32300000000000001,0.32300000000000001,0.32300000000000001,0.98199999999999998,0.348354,0.47804799999999997,null,4.8999999999999998E-3,0.32300000000000001,0.27200000000000002,null,3.8159999999999999E-3,0.46077699999999999,0.218502,null,4.8999999999999998E-3,0.32300000000000001,0.27200000000000002,null,null,null,null,2.4615879999999998E-3,0.34835359999999999,0.23767530000000001,-0.435,0.626,9.0999999999999998E-2]
[null,501,5.7200000000000003E-4,2.3660046169353724E-5,null,null,null,null,null,null,null,null,null,null,null,null,null,null,null,null,null,null,null,null,null,null,null,null,null,null,null,null,null,null,null,null,null,null,null,null,null,null,null,null,null,501,0.33986,0.34100000000000003,0.33948,0.98519999999999996,0.36296,0.49151699999999998,null,4.3999999999999994E-3,0.33986,0.26006000000000001,null,6.1415999999999997E-3,0.47489360000000003,0.20665140000000001,null,4.3999999999999994E-3,0.33986,0.26006000000000001,null,null,null,null,2.2063479999999999E-3,0.36296010000000001,0.22412109999999999,-0.43080000000000002,0.64273999999999998,8.4400000000000003E-2]
[null,502,6.3900000000000003E-4,2.6431415213666135E-5,null,null,null,null,null,null,null,null,null,null,null,null,null,null,null,null,null,null,null,null,null,null,null,null,null,null,null,null,null,null,null,null,null,null,null,null,null,null,null,null,null,502,0.35671999999999998,0.35899999999999999,0.35596,0.98839999999999995,0.37822800000000001,0.50542200000000004,null,3.8999999999999998E-3,0.35671999999999998,0.24812000000000001,null,8.4671999999999994E-3,0.48901020000000001,0.1948008,null,3.8999999999999998E-3,0.35671999999999998,0.24812000000000001,null,null,null,null,2.1495590000000001E-3,0.37822749999999999,0.2107484,-0.42659999999999998,0.65947999999999996,7.7799999999999994E-2]
[null,503,5.9699999999999998E-4,2.4694139096335965E-5,null,null,null,null,null,null,null,null,null,null,null,null,null,null,null,null,null,null,null,null,null,null,null,null,null,null,null,null,null,null,null,null,null,null,null,null,null,null,null,null,null,503,0.37358000000000002,0.377,0.37243999999999999,0.99160000000000004,0.39413599999999999,0.519706,null,3.3999999999999998E-3,0.37358000000000002,0.23618,null,1.07928E-2,0.50312679999999999,0.18295020000000001,null,3.3999999999999998E-3,0.37358000000000002,0.23618,null,null,null,null,2.3370909999999999E-3,0.39413589999999998,0.19758390000000001,-0.4224,0.67622000000000004,7.1199999999999999E-2]
[null,504,5.5500000000000005E-4,2.29568629790058E-5,null,null,null,null,null,null,null,null,null,null,null,null,null,null,null,null,null,null,null,null,null,null,null,null,null,null,null,null,null,null,null,null,null,null,null,null,null,null,null,null,null,504,0.39044000000000001,0.39500000000000002,0.38891999999999999,0.99480000000000002,0.41065800000000002,0.53430100000000003,null,2.8999999999999998E-3,0.39044000000000001,0.22423999999999999,null,1.3118399999999999E-2,0.51724340000000002,0.17109959999999999,null,2.8999999999999998E-3,0.39044000000000001,0.22423999999999999,null,null,null,null,2.8189310000000002E-3,0.41065819999999997,0.1846574,-0.41819999999999996,0.69296000000000002,6.4600000000000005E-2]
[null,505,1.1980000000000001E-3,4.9553733060989093E-5,null,null,null,null,null,null,null,null,null,null,null,null,null,null,null,null,null,null,null,null,null,null,null,null,null,null,null,null,null,null,null,null,null,null,null,null,null,null,null,null,null,505,0.4073,0.41300000000000003,0.40539999999999998,0.998,0.42775999999999997,0.54913400000000001,null,2.3999999999999998E-3,0.4073,0.21229999999999999,null,1.5443999999999999E-2,0.53136000000000005,0.159249,null,2.3999999999999998E-3,0.4073,0.21229999999999999,null,null,null,null,3.6491779999999999E-3,0.42775950000000001,0.17200180000000001,-0.41399999999999998,0.7097,5.8000000000000003E-2]
[null,506,1.74E-3,7.1972867717964126E-5,null,null,null,null,null,null,null,null,null,null,null,null,null,null,null,null,null,null,null,null,null,null,null,null,null,null,null,null,null,null,null,null,null,null,null,null,null,null,null,null,null,506,0.42643999999999999,0.43099999999999999,0.42491999999999996,0.99780000000000002,0.44539899999999999,0.56413000000000002,null,3.7799999999999995E-3,0.42643999999999999,0.20147999999999999,null,1.98482E-2,0.54643620000000004,0.149808,null,3.7799999999999995E-3,0.42643999999999999,0.20147999999999999,null,null,null,null,4.8913589999999996E-3,0.4453993,0.15969179999999999,-0.40465999999999996,0.72645999999999999,5.3540000000000004E-2]
[null,507,6.5600000000000001E-4,2.7134598404014059E-5,null,null,null,null,null,null,null,null,null,null,null,null,null,null,null,null,null,null,null,null,null,null,null,null,null,null,null,null,null,null,null,null,null,null,null,null,null,null,null,null,null,507,0.44557999999999998,0.44900000000000001,0.44444,0.99760000000000004,0.46354000000000001,0.57924200000000003,null,5.1599999999999997E-3,0.44557999999999998,0.19066,null,2.42524E-2,0.56151240000000002,0.14036699999999999,null,5.1599999999999997E-3,0.44557999999999998,0.19066,null,null,null,null,6.6293639999999996E-3,0.4635396,0.1479415,-0.39532,0.74321999999999999,4.9079999999999999E-2]
[null,508,7.4100000000000001E-4,3.0650514355753688E-5,null,null,null,null,null,null,null,null,null,null,null,null,null,null,null,null,null,null,null,null,null,null,null,null,null,null,null,null,null,null,null,null,null,null,null,null,null,null,null,null,null,508,0.46472000000000002,0.46700000000000003,0.46395999999999998,0.99739999999999995,0.48213800000000001,0.59442600000000001,null,6.5399999999999998E-3,0.46472000000000002,0.17984,null,2.8656599999999997E-2,0.57658860000000001,0.13092600000000001,null,6.5399999999999998E-3,0.46472000000000002,0.17984,null,null,null,null,8.9429020000000008E-3,0.4821376,0.1369428,-0.38597999999999999,0.75997999999999999,4.462E-2]
[null,509,8.2700000000000004E-4,3.4207794024572607E-5,null,null,null,null,null,null,null,null,null,null,null,null,null,null,null,null,null,null,null,null,null,null,null,null,null,null,null,null,null,null,null,null,null,null,null,null,null,null,null,null,null,509,0.48386000000000001,0.48499999999999999,0.48348000000000002,0.99719999999999998,0.50114300000000001,0.60963900000000004,null,7.92E-3,0.48386000000000001,0.16902,null,3.3060800000000001E-2,0.59166479999999999,0.12148500000000001,null,7.92E-3,0.48386000000000001,0.16902,null,null,null,null,1.190224E-2,0.50114300000000001,0.12682789999999999,-0.37664000000000003,0.77673999999999999,4.0160000000000001E-2]
[null,510,8.8400000000000002E-4,3.6565525898092116E-5,null,null,null,null,null,null,null,null,null,null,null,null,null,null,null,null,null,null,null,null,null,null,null,null,null,null,null,null,null,null,null,null,null,null,null,null,null,null,null,null,null,510,0.503,0.503,0.503,0.997,0.52049699999999999,0.62483,null,9.2999999999999992E-3,0.503,0.15820000000000001,null,3.7464999999999998E-2,0.60674099999999997,0.112044,null,9.2999999999999992E-3,0.503,0.15820000000000001,null,null,null,null,1.5569889999999999E-2,0.52049719999999999,0.1176796,-0.36730000000000002,0.79349999999999998,3.5700000000000003E-2]
[null,511,7.6999999999999996E-4,3.1850062151053084E-5,null,null,null,null,null,null,null,null,null,null,null,null,null,null,null,null,null,null,null,null,null,null,null,null,null,null,null,null,null,null,null,null,null,null,null,null,null,null,null,null,null,511,0.52403999999999995,0.52370000000000005,0.52402199999999999,0.99260000000000004,0.54013900000000004,0.63996600000000003,null,1.3259999999999999E-2,0.52403999999999995,0.1489,null,4.4243600000000001E-2,0.62252479999999999,0.10608480000000001,null,1.3259999999999999E-2,0.52403999999999995,0.1489,null,null,null,null,1.997668E-2,0.54013869999999997,0.109497,-0.35074,0.80910000000000004,3.2560000000000006E-2]
[null,512,6.7000000000000002E-4,2.7713690443124115E-5,null,null,null,null,null,null,null,null,null,null,null,null,null,null,null,null,null,null,null,null,null,null,null,null,null,null,null,null,null,null,null,null,null,null,null,null,null,null,null,null,null,512,0.54508000000000001,0.5444,0.54504399999999997,0.98819999999999997,0.56002099999999999,0.65509399999999995,null,1.7219999999999999E-2,0.54508000000000001,0.1396,null,5.1022200000000004E-2,0.6383086,0.10012560000000001,null,1.7219999999999999E-2,0.54508000000000001,0.1396,null,null,null,null,2.504698E-2,0.56002079999999999,0.1020943,-0.33417999999999998,0.82469999999999999,2.9420000000000002E-2]
[null,513,5.6999999999999998E-4,2.3577318735195143E-5,null,null,null,null,null,null,null,null,null,null,null,null,null,null,null,null,null,null,null,null,null,null,null,null,null,null,null,null,null,null,null,null,null,null,null,null,null,null,null,null,null,513,0.56611999999999996,0.56509999999999994,0.56606600000000007,0.98380000000000001,0.58009699999999997,0.67029000000000005,null,2.1180000000000001E-2,0.56611999999999996,0.1303,null,5.7800799999999999E-2,0.65409240000000002,9.4166399999999997E-2,null,2.1180000000000001E-2,0.56611999999999996,0.1303,null,null,null,null,3.0675299999999999E-2,0.58009719999999998,9.5279929999999999E-2,-0.31762000000000001,0.84030000000000005,2.6280000000000001E-2]
[null,514,7.4600000000000003E-4,3.0857332941150133E-5,null,null,null,null,null,null,null,null,null,null,null,null,null,null,null,null,null,null,null,null,null,null,null,null,null,null,null,null,null,null,null,null,null,null,null,null,null,null,null,null,null,514,0.58716000000000002,0.58579999999999999,0.58708800000000005,0.97939999999999994,0.60031699999999999,0.68563799999999997,null,2.5139999999999999E-2,0.58716000000000002,0.121,null,6.4579400000000009E-2,0.66987620000000003,8.8207199999999999E-2,null,2.5139999999999999E-2,0.58716000000000002,0.121,null,null,null,null,3.6749990000000003E-2,0.6003172,8.8900750000000001E-2,-0.30105999999999999,0.85589999999999999,2.3140000000000001E-2]
[null,515,7.7399999999999995E-4,3.2015517019370246E-5,null,null,null,null,null,null,null,null,null,null,null,null,null,null,null,null,null,null,null,null,null,null,null,null,null,null,null,null,null,null,null,null,null,null,null,null,null,null,null,null,null,515,0.60819999999999996,0.60650000000000004,0.60811000000000004,0.97499999999999998,0.62062600000000001,0.70122899999999999,null,2.9100000000000001E-2,0.60819999999999996,0.11169999999999999,null,7.1358000000000005E-2,0.68566000000000005,8.2248000000000002E-2,null,2.9100000000000001E-2,0.60819999999999996,0.11169999999999999,null,null,null,null,4.3151710000000003E-2,0.6206256,8.2835480000000003E-2,-0.28449999999999998,0.87150000000000005,0.02]
[null,516,7.1900000000000002E-4,2.9740512580009314E-5,null,null,null,null,null,null,null,null,null,null,null,null,null,null,null,null,null,null,null,null,null,null,null,null,null,null,null,null,null,null,null,null,null,null,null,null,null,null,null,null,null,516,0.62856000000000001,0.62719999999999998,0.62848800000000005,0.96699999999999997,0.64093999999999995,0.71711000000000003,null,3.5934000000000001E-2,0.62856000000000001,0.10500999999999999,null,8.0636200000000005E-2,0.70087940000000004,7.7940200000000001E-2,null,3.5934000000000001E-2,0.62856000000000001,0.10500999999999999,null,null,null,null,4.9785839999999998E-2,0.64093979999999995,7.7009820000000007E-2,-0.26469999999999999,0.88674000000000008,1.7899999999999999E-2]
[null,517,6.9399999999999996E-4,2.8706419653027066E-5,null,null,null,null,null,null,null,null,null,null,null,null,null,null,null,null,null,null,null,null,null,null,null,null,null,null,null,null,null,null,null,null,null,null,null,null,null,null,null,null,null,517,0.64891999999999994,0.64789999999999992,0.64886600000000005,0.95899999999999996,0.66107700000000003,0.73309199999999997,null,4.2768E-2,0.64891999999999994,9.8319999999999991E-2,null,8.9914400000000005E-2,0.71609880000000004,7.3632400000000001E-2,null,4.2768E-2,0.64891999999999994,9.8319999999999991E-2,null,null,null,null,5.668554E-2,0.66107720000000003,7.1440009999999998E-2,-0.24489999999999998,0.90198,1.5800000000000002E-2]
[null,518,6.6799999999999997E-4,2.7630963008965534E-5,null,null,null,null,null,null,null,null,null,null,null,null,null,null,null,null,null,null,null,null,null,null,null,null,null,null,null,null,null,null,null,null,null,null,null,null,null,null,null,null,null,518,0.66927999999999999,0.66859999999999997,0.66924399999999995,0.95100000000000007,0.680813,0.74890400000000001,null,4.9602000000000007E-2,0.66927999999999999,9.1630000000000003E-2,null,9.9192600000000006E-2,0.73131820000000003,6.93246E-2,null,4.9602000000000007E-2,0.66927999999999999,9.1630000000000003E-2,null,null,null,null,6.3916509999999996E-2,0.68081340000000001,6.6154359999999995E-2,-0.22509999999999999,0.91722000000000004,1.37E-2]
[null,519,7.6099999999999996E-4,3.1477788697339477E-5,null,null,null,null,null,null,null,null,null,null,null,null,null,null,null,null,null,null,null,null,null,null,null,null,null,null,null,null,null,null,null,null,null,null,null,null,null,null,null,null,null,519,0.68963999999999992,0.68930000000000002,0.68962199999999996,0.94300000000000006,0.69990399999999997,0.76425299999999996,null,5.6436000000000007E-2,0.68963999999999992,8.4940000000000002E-2,null,0.10847080000000001,0.74653760000000002,6.50168E-2,null,5.6436000000000007E-2,0.68963999999999992,8.4940000000000002E-2,null,null,null,null,7.1543519999999999E-2,0.69990439999999998,6.1171990000000002E-2,-0.20529999999999998,0.93245999999999996,1.1599999999999999E-2]
[null,520,8.5300000000000003E-4,3.5283250668634139E-5,null,null,null,null,null,null,null,null,null,null,null,null,null,null,null,null,null,null,null,null,null,null,null,null,null,null,null,null,null,null,null,null,null,null,null,null,null,null,null,null,null,520,0.71,0.71,0.71,0.93500000000000005,0.71808899999999998,0.77881999999999996,null,6.3270000000000007E-2,0.71,7.825E-2,null,0.11774900000000001,0.76175700000000002,6.0708999999999999E-2,null,6.3270000000000007E-2,0.71,7.825E-2,null,null,null,null,7.9629169999999999E-2,0.71808899999999998,5.6504070000000003E-2,-0.1855,0.94769999999999999,9.4999999999999998E-3]
[null,521,7.7399999999999995E-4,3.2015517019370246E-5,null,null,null,null,null,null,null,null,null,null,null,null,null,null,null,null,null,null,null,null,null,null,null,null,null,null,null,null,null,null,null,null,null,null,null,null,null,null,null,null,null,521,0.72663999999999995,0.72519999999999996,0.72702,0.92400000000000004,0.73515900000000001,0.79234099999999996,null,7.2536000000000003E-2,0.72663999999999995,7.4050000000000005E-2,null,0.12878980000000001,0.77407159999999997,5.7177199999999997E-2,null,7.2536000000000003E-2,0.72663999999999995,7.4050000000000005E-2,null,null,null,null,8.8214730000000005E-2,0.73515929999999996,5.2151210000000003E-2,-0.15709999999999999,0.95706000000000002,7.7399999999999995E-3]
[null,522,6.02E-4,2.4900957681732414E-5,null,null,null,null,null,null,null,null,null,null,null,null,null,null,null,null,null,null,null,null,null,null,null,null,null,null,null,null,null,null,null,null,null,null,null,null,null,null,null,null,null,522,0.74327999999999994,0.74039999999999995,0.74404000000000003,0.91300000000000003,0.75118200000000002,0.80485099999999998,null,8.1802E-2,0.74327999999999994,6.9849999999999995E-2,null,0.1398306,0.78638620000000004,5.3645399999999996E-2,null,8.1802E-2,0.74327999999999994,6.9849999999999995E-2,null,null,null,null,9.726978E-2,0.75118209999999996,4.8095659999999998E-2,-0.12869999999999998,0.96642000000000006,5.9799999999999992E-3]
[null,523,4.2900000000000002E-4,1.7745034627015292E-5,null,null,null,null,null,null,null,null,null,null,null,null,null,null,null,null,null,null,null,null,null,null,null,null,null,null,null,null,null,null,null,null,null,null,null,null,null,null,null,null,null,523,0.75992000000000004,0.75559999999999994,0.76105999999999996,0.90200000000000002,0.76631400000000005,0.81647499999999995,null,9.106800000000001E-2,0.75992000000000004,6.565E-2,null,0.15087139999999999,0.79870079999999999,5.0113600000000001E-2,null,9.106800000000001E-2,0.75992000000000004,6.565E-2,null,null,null,null,0.1067504,0.7663143,4.4317200000000001E-2,-0.1003,0.97577999999999998,4.2199999999999998E-3]
[null,524,5.2499999999999997E-4,2.1715951466627103E-5,null,null,null,null,null,null,null,null,null,null,null,null,null,null,null,null,null,null,null,null,null,null,null,null,null,null,null,null,null,null,null,null,null,null,null,null,null,null,null,null,null,524,0.77656000000000003,0.77079999999999993,0.77807999999999999,0.89100000000000001,0.78073499999999996,0.82735199999999998,null,0.10033400000000001,0.77656000000000003,6.1450000000000005E-2,null,0.16191220000000001,0.81101540000000005,4.65818E-2,null,0.10033400000000001,0.77656000000000003,6.1450000000000005E-2,null,null,null,null,0.11661920000000001,0.78073519999999996,4.0797340000000001E-2,-7.1899999999999992E-2,0.98514000000000002,2.4599999999999995E-3]
[null,525,6.2100000000000002E-4,2.568686830623892E-5,null,null,null,null,null,null,null,null,null,null,null,null,null,null,null,null,null,null,null,null,null,null,null,null,null,null,null,null,null,null,null,null,null,null,null,null,null,null,null,null,null,525,0.79320000000000002,0.78600000000000003,0.79510000000000003,0.88,0.79464500000000005,0.83763600000000005,null,0.1096,0.79320000000000002,5.7250000000000002E-2,null,0.172953,0.82333000000000001,4.3049999999999998E-2,null,0.1096,0.79320000000000002,5.7250000000000002E-2,null,null,null,null,0.12684680000000001,0.79464480000000004,3.7519120000000003E-2,-4.3499999999999997E-2,0.99450000000000005,6.9999999999999999E-4]
[null,526,6.5799999999999995E-4,2.7217325838172637E-5,null,null,null,null,null,null,null,null,null,null,null,null,null,null,null,null,null,null,null,null,null,null,null,null,null,null,null,null,null,null,null,null,null,null,null,null,null,null,null,null,null,526,0.80696000000000001,0.80120000000000002,0.80847999999999998,0.86619999999999997,0.80820700000000001,0.84746500000000002,null,0.12078,0.80696000000000001,5.4232000000000002E-2,null,0.18566060000000001,0.83370619999999995,4.0530199999999995E-2,null,0.12078,0.80696000000000001,5.4232000000000002E-2,null,null,null,null,0.137406,0.80820740000000002,3.4468459999999999E-2,-9.3999999999999986E-3,0.99965999999999999,-3.0000000000000003E-4]
[null,527,6.9499999999999998E-4,2.8747783370106357E-5,null,null,null,null,null,null,null,null,null,null,null,null,null,null,null,null,null,null,null,null,null,null,null,null,null,null,null,null,null,null,null,null,null,null,null,null,null,null,null,null,null,527,0.82072000000000001,0.81640000000000001,0.82186000000000003,0.85240000000000005,0.82138199999999995,0.85688699999999995,null,0.13195999999999999,0.82072000000000001,5.1214000000000003E-2,null,0.19836819999999999,0.84408240000000001,3.80104E-2,null,0.13195999999999999,0.82072000000000001,5.1214000000000003E-2,null,null,null,null,0.14824709999999999,0.82138169999999999,3.1637640000000002E-2,2.47E-2,1.00482,-1.2999999999999999E-3]
[null,528,9.0300000000000005E-4,3.7351436522598622E-5,null,null,null,null,null,null,null,null,null,null,null,null,null,null,null,null,null,null,null,null,null,null,null,null,null,null,null,null,null,null,null,null,null,null,null,null,null,null,null,null,null,528,0.83448,0.83160000000000001,0.83523999999999998,0.83860000000000001,0.83406999999999998,0.86592400000000003,null,0.14314000000000002,0.83448,4.8196000000000003E-2,null,0.21107580000000001,0.85445859999999996,3.5490599999999997E-2,null,0.14314000000000002,0.83448,4.8196000000000003E-2,null,null,null,null,0.15930759999999999,0.83407010000000004,2.9019010000000001E-2,5.8800000000000005E-2,1.0099800000000001,-2.3E-3]
[null,529,1.111E-3,4.5955089675090883E-5,null,null,null,null,null,null,null,null,null,null,null,null,null,null,null,null,null,null,null,null,null,null,null,null,null,null,null,null,null,null,null,null,null,null,null,null,null,null,null,null,null,529,0.84823999999999999,0.8468,0.84862000000000004,0.82480000000000009,0.84617100000000001,0.87460400000000005,null,0.15432000000000001,0.84823999999999999,4.5178000000000003E-2,null,0.22378339999999999,0.86483480000000001,3.2970800000000001E-2,null,0.15432000000000001,0.84823999999999999,4.5178000000000003E-2,null,null,null,null,0.17051810000000001,0.84617109999999995,2.6603640000000001E-2,9.2899999999999996E-2,1.0151399999999999,-3.3E-3]
[null,530,7.9699999999999997E-4,3.2966882512193907E-5,null,null,null,null,null,null,null,null,null,null,null,null,null,null,null,null,null,null,null,null,null,null,null,null,null,null,null,null,null,null,null,null,null,null,null,null,null,null,null,null,null,530,0.86199999999999999,0.86199999999999999,0.86199999999999999,0.81100000000000005,0.85758000000000001,0.88295500000000005,null,0.16550000000000001,0.86199999999999999,4.2160000000000003E-2,null,0.23649100000000001,0.87521099999999996,3.0450999999999999E-2,null,0.16550000000000001,0.86199999999999999,4.2160000000000003E-2,null,null,null,null,0.18180260000000001,0.85757989999999995,2.438164E-2,0.127,1.0203,-4.3E-3]
[null,531,8.7799999999999998E-4,3.631734359561638E-5,null,null,null,null,null,null,null,null,null,null,null,null,null,null,null,null,null,null,null,null,null,null,null,null,null,null,null,null,null,null,null,null,null,null,null,null,null,null,null,null,null,531,0.87256999999999996,0.87119999999999997,0.87261,0.7954,0.86824100000000004,0.89102700000000001,null,0.17755000000000001,0.87256999999999996,3.9696000000000002E-2,null,0.25003540000000002,0.88493080000000002,2.8477599999999999E-2,null,0.17755000000000001,0.87256999999999996,3.9696000000000002E-2,null,null,null,null,0.193109,0.86824080000000003,2.2340970000000002E-2,0.16417999999999999,1.0237400000000001,-4.7200000000000002E-3]
[null,532,9.59E-4,3.9667804679038847E-5,null,null,null,null,null,null,null,null,null,null,null,null,null,null,null,null,null,null,null,null,null,null,null,null,null,null,null,null,null,null,null,null,null,null,null,null,null,null,null,null,null,532,0.88314000000000004,0.88039999999999996,0.88322000000000001,0.77980000000000005,0.87830600000000003,0.898949,null,0.18960000000000002,0.88314000000000004,3.7232000000000001E-2,null,0.26357980000000003,0.89465059999999996,2.6504199999999999E-2,null,0.18960000000000002,0.88314000000000004,3.7232000000000001E-2,null,null,null,null,0.20450850000000001,0.87830609999999998,2.046415E-2,0.20136000000000001,1.02718,-5.1400000000000005E-3]
[null,533,7.2499999999999995E-4,2.9988694882485047E-5,null,null,null,null,null,null,null,null,null,null,null,null,null,null,null,null,null,null,null,null,null,null,null,null,null,null,null,null,null,null,null,null,null,null,null,null,null,null,null,null,null,533,0.89371,0.88959999999999995,0.89383000000000001,0.76419999999999999,0.88799099999999997,0.90687499999999999,null,0.20165,0.89371,3.4768E-2,null,0.27712419999999999,0.90437040000000002,2.4530800000000002E-2,null,0.20165,0.89371,3.4768E-2,null,null,null,null,0.21611659999999999,0.88799070000000002,1.8734560000000001E-2,0.23854000000000003,1.0306200000000001,-5.5600000000000007E-3]
[null,534,4.9200000000000003E-4,2.0350948803010544E-5,null,null,null,null,null,null,null,null,null,null,null,null,null,null,null,null,null,null,null,null,null,null,null,null,null,null,null,null,null,null,null,null,null,null,null,null,null,null,null,null,null,534,0.90428000000000008,0.89879999999999993,0.90444000000000002,0.74860000000000004,0.89752100000000001,0.91496500000000003,null,0.2137,0.90428000000000008,3.2303999999999999E-2,null,0.2906686,0.91409019999999996,2.2557400000000002E-2,null,0.2137,0.90428000000000008,3.2303999999999999E-2,null,null,null,null,0.22806499999999999,0.89752109999999996,1.7137880000000001E-2,0.27572000000000002,1.03406,-5.9800000000000001E-3]
[null,535,4.66E-4,1.9275492158949012E-5,null,null,null,null,null,null,null,null,null,null,null,null,null,null,null,null,null,null,null,null,null,null,null,null,null,null,null,null,null,null,null,null,null,null,null,null,null,null,null,null,null,535,0.91485000000000005,0.90799999999999992,0.91505000000000003,0.73299999999999998,0.90713500000000002,0.92338600000000004,null,0.22575000000000001,0.91485000000000005,2.9839999999999998E-2,null,0.30421300000000001,0.92381000000000002,2.0584000000000002E-2,null,0.22575000000000001,0.91485000000000005,2.9839999999999998E-2,null,null,null,null,0.24050150000000001,0.90713469999999996,1.566174E-2,0.31290000000000001,1.0375000000000001,-6.4000000000000003E-3]
[null,536,4.4000000000000002E-4,1.8200035514887481E-5,null,null,null,null,null,null,null,null,null,null,null,null,null,null,null,null,null,null,null,null,null,null,null,null,null,null,null,null,null,null,null,null,null,null,null,null,null,null,null,null,null,536,0.92268000000000006,0.91720000000000002,0.92283999999999999,0.71640000000000004,0.916995,0.93223199999999995,null,0.23868,0.92268000000000006,2.7931999999999998E-2,null,0.31872480000000003,0.93144559999999998,1.9202400000000001E-2,null,0.23868,0.92268000000000006,2.7931999999999998E-2,null,null,null,null,0.25354409999999999,0.91699470000000005,1.4296440000000001E-2,0.35755999999999999,1.04034,-6.7600000000000004E-3]
[null,537,6.5799999999999995E-4,2.7217325838172637E-5,null,null,null,null,null,null,null,null,null,null,null,null,null,null,null,null,null,null,null,null,null,null,null,null,null,null,null,null,null,null,null,null,null,null,null,null,null,null,null,null,null,537,0.93051000000000006,0.9264,0.93062999999999996,0.69979999999999998,0.926929,0.94128599999999996,null,0.25161,0.93051000000000006,2.6023999999999999E-2,null,0.33323659999999999,0.93908119999999995,1.7820800000000001E-2,null,0.25161,0.93051000000000006,2.6023999999999999E-2,null,null,null,null,0.26712999999999998,0.92692949999999996,1.303702E-2,0.40222000000000002,1.04318,-7.1200000000000005E-3]
[null,538,8.7600000000000004E-4,3.6234616161457799E-5,null,null,null,null,null,null,null,null,null,null,null,null,null,null,null,null,null,null,null,null,null,null,null,null,null,null,null,null,null,null,null,null,null,null,null,null,null,null,null,null,null,538,0.93833999999999995,0.93559999999999999,0.93842000000000003,0.68320000000000003,0.93667299999999998,0.95023800000000003,null,0.26454,0.93833999999999995,2.4115999999999999E-2,null,0.34774840000000001,0.94671680000000002,1.6439200000000001E-2,null,0.26454,0.93833999999999995,2.4115999999999999E-2,null,null,null,null,0.28113510000000003,0.93667310000000004,1.1878970000000001E-2,0.44688,1.0460200000000002,-7.4800000000000005E-3]
[null,539,1.083E-3,4.479690559687077E-5,null,null,null,null,null,null,null,null,null,null,null,null,null,null,null,null,null,null,null,null,null,null,null,null,null,null,null,null,null,null,null,null,null,null,null,null,null,null,null,null,null,539,0.94616999999999996,0.94479999999999997,0.94621,0.66659999999999997,0.94594800000000001,0.95876499999999998,null,0.27746999999999999,0.94616999999999996,2.2207999999999999E-2,null,0.36226019999999998,0.95435239999999999,1.5057600000000001E-2,null,0.27746999999999999,0.94616999999999996,2.2207999999999999E-2,null,null,null,null,0.29541640000000002,0.94594820000000002,1.081725E-2,0.49153999999999998,1.0488600000000001,-7.8399999999999997E-3]
[null,540,1.126E-3,4.6575545431280233E-5,null,null,null,null,null,null,null,null,null,null,null,null,null,null,null,null,null,null,null,null,null,null,null,null,null,null,null,null,null,null,null,null,null,null,null,null,null,null,null,null,null,540,0.95399999999999996,0.95399999999999996,0.95399999999999996,0.65,0.95446799999999998,0.96653199999999995,null,0.29039999999999999,0.95399999999999996,2.0299999999999999E-2,null,0.376772,0.96198799999999995,1.3676000000000001E-2,null,0.29039999999999999,0.95399999999999996,2.0299999999999999E-2,null,null,null,null,0.30981170000000002,0.95446750000000002,9.8464699999999995E-3,0.53620000000000001,1.0517000000000001,-8.2000000000000007E-3]
[null,541,1.0399999999999999E-3,4.3018265762461307E-5,null,null,null,null,null,null,null,null,null,null,null,null,null,null,null,null,null,null,null,null,null,null,null,null,null,null,null,null,null,null,null,null,null,null,null,null,null,null,null,null,null,541,0.95926,0.95809999999999995,0.95920799999999995,0.63280000000000003,0.96198300000000003,0.97324999999999995,null,0.30425999999999997,0.95926,1.8919999999999999E-2,null,0.39173439999999998,0.96603039999999996,1.25244E-2,null,0.30425999999999997,0.95926,1.8919999999999999E-2,null,null,null,null,0.32416780000000001,0.96198340000000004,8.9606870000000002E-3,0.58340000000000003,1.0491600000000001,-8.4400000000000013E-3]
[null,542,1.181E-3,4.8850549870641162E-5,null,null,null,null,null,null,null,null,null,null,null,null,null,null,null,null,null,null,null,null,null,null,null,null,null,null,null,null,null,null,null,null,null,null,null,null,null,null,null,null,null,542,0.96451999999999993,0.96219999999999994,0.96441599999999994,0.61560000000000004,0.96843900000000005,0.97884199999999999,null,0.31812000000000001,0.96451999999999993,1.754E-2,null,0.40669679999999997,0.97007279999999996,1.1372800000000001E-2,null,0.31812000000000001,0.96451999999999993,1.754E-2,null,null,null,null,0.33843190000000001,0.96843900000000005,8.1528109999999994E-3,0.63060000000000005,1.0466200000000001,-8.6800000000000002E-3]
[null,543,1.3209999999999999E-3,5.4641470261741725E-5,null,null,null,null,null,null,null,null,null,null,null,null,null,null,null,null,null,null,null,null,null,null,null,null,null,null,null,null,null,null,null,null,null,null,null,null,null,null,null,null,null,543,0.96977999999999998,0.96629999999999994,0.96962400000000004,0.59839999999999993,0.97382899999999994,0.98328700000000002,null,0.33198,0.96977999999999998,1.6160000000000001E-2,null,0.42165920000000001,0.97411519999999996,1.02212E-2,null,0.33198,0.96977999999999998,1.6160000000000001E-2,null,null,null,null,0.35257860000000002,0.9738289,7.4160249999999997E-3,0.67779999999999996,1.0440799999999999,-8.9200000000000008E-3]
[null,544,1.1969999999999999E-3,4.9512369343909795E-5,null,null,null,null,null,null,null,null,null,null,null,null,null,null,null,null,null,null,null,null,null,null,null,null,null,null,null,null,null,null,null,null,null,null,null,null,null,null,null,null,null,544,0.97503999999999991,0.97039999999999993,0.97483200000000003,0.58119999999999994,0.97815200000000002,0.986572,null,0.34584000000000004,0.97503999999999991,1.478E-2,null,0.4366216,0.97815759999999996,9.0696000000000006E-3,null,0.34584000000000004,0.97503999999999991,1.478E-2,null,null,null,null,0.36658390000000002,0.97815189999999996,6.7441150000000002E-3,0.72499999999999998,1.0415399999999999,-9.1599999999999997E-3]
[null,545,1.072E-3,4.4341904708998589E-5,null,null,null,null,null,null,null,null,null,null,null,null,null,null,null,null,null,null,null,null,null,null,null,null,null,null,null,null,null,null,null,null,null,null,null,null,null,null,null,null,null,545,0.98029999999999995,0.97449999999999992,0.98004000000000002,0.56399999999999995,0.98141100000000003,0.98868900000000004,null,0.35970000000000002,0.98029999999999995,1.34E-2,null,0.45158399999999999,0.98219999999999996,7.9179999999999997E-3,null,0.35970000000000002,0.98029999999999995,1.34E-2,null,null,null,null,0.3804244,0.98141060000000002,6.1314209999999997E-3,0.7722,1.0389999999999999,-9.4000000000000004E-3]
[null,546,8.9099999999999997E-4,3.6855071917647143E-5,null,null,null,null,null,null,null,null,null,null,null,null,null,null,null,null,null,null,null,null,null,null,null,null,null,null,null,null,null,null,null,null,null,null,null,null,null,null,null,null,null,546,0.98322999999999994,0.97860000000000003,0.98302200000000006,0.5474,0.98366699999999996,0.98970599999999997,null,0.37445000000000001,0.98322999999999994,1.247E-2,null,0.46723239999999999,0.98411219999999999,7.1319999999999995E-3,null,0.37445000000000001,0.98322999999999994,1.247E-2,null,null,null,null,0.39409880000000003,0.98366690000000001,5.5727779999999996E-3,0.81894,1.0317799999999999,-9.4599999999999997E-3]
[null,547,9.7300000000000002E-4,4.02468967181489E-5,null,null,null,null,null,null,null,null,null,null,null,null,null,null,null,null,null,null,null,null,null,null,null,null,null,null,null,null,null,null,null,null,null,null,null,null,null,null,null,null,null,547,0.98615999999999993,0.98270000000000002,0.98600399999999999,0.53079999999999994,0.98520799999999997,0.989985,null,0.38919999999999999,0.98615999999999993,1.154E-2,null,0.4828808,0.98602440000000002,6.3460000000000001E-3,null,0.38919999999999999,0.98615999999999993,1.154E-2,null,null,null,null,0.40769719999999998,0.98520810000000003,5.0634629999999998E-3,0.86568000000000001,1.0245599999999999,-9.5200000000000007E-3]
[null,548,1.0549999999999999E-3,4.3638721518650657E-5,null,null,null,null,null,null,null,null,null,null,null,null,null,null,null,null,null,null,null,null,null,null,null,null,null,null,null,null,null,null,null,null,null,null,null,null,null,null,null,null,null,548,0.98909000000000002,0.98680000000000001,0.98898600000000003,0.51419999999999999,0.98638099999999995,0.98996200000000001,null,0.40395000000000003,0.98909000000000002,1.0610000000000001E-2,null,0.49852920000000001,0.98793659999999994,5.5599999999999998E-3,null,0.40395000000000003,0.98909000000000002,1.0610000000000001E-2,null,null,null,null,0.42134840000000001,0.98638130000000002,4.5991690000000002E-3,0.91242000000000001,1.0173399999999999,-9.58E-3]
[null,549,1.0660000000000001E-3,4.4093722406522853E-5,null,null,null,null,null,null,null,null,null,null,null,null,null,null,null,null,null,null,null,null,null,null,null,null,null,null,null,null,null,null,null,null,null,null,null,null,null,null,null,null,null,549,0.99202000000000001,0.9909,0.99196799999999996,0.49759999999999999,0.98753599999999997,0.99007299999999998,null,0.41870000000000002,0.99202000000000001,9.6800000000000011E-3,null,0.51417760000000001,0.98984879999999997,4.7740000000000005E-3,null,0.41870000000000002,0.99202000000000001,9.6800000000000011E-3,null,null,null,null,0.43520029999999998,0.98753570000000002,4.1759709999999997E-3,0.95916000000000001,1.0101199999999999,-9.640000000000001E-3]
[null,550,1.078E-3,4.4590087011474325E-5,null,null,null,null,null,null,null,null,null,null,null,null,null,null,null,null,null,null,null,null,null,null,null,null,null,null,null,null,null,null,null,null,null,null,null,null,null,null,null,null,null,550,0.99495,0.995,0.99495,0.48099999999999998,0.98902299999999999,0.99075000000000002,null,0.43345,0.99495,8.7500000000000008E-3,null,0.52982600000000002,0.991761,3.9880000000000002E-3,null,0.43345,0.99495,8.7500000000000008E-3,null,null,null,null,0.4494206,0.98902279999999998,3.7902909999999999E-3,1.0059,1.0028999999999999,-9.7000000000000003E-3]
[null,551,9.9299999999999996E-4,4.1074171059734696E-5,null,null,null,null,null,null,null,null,null,null,null,null,null,null,null,null,null,null,null,null,null,null,null,null,null,null,null,null,null,null,null,null,null,null,null,null,null,null,null,null,null,551,0.99595999999999996,0.995,0.99597999999999998,0.4652,0.99108099999999999,0.99228300000000003,null,0.44917000000000001,0.99595999999999996,8.150000000000001E-3,null,0.54707139999999999,0.99323079999999997,3.4086000000000003E-3,null,0.44917000000000001,0.99595999999999996,8.150000000000001E-3,null,null,null,null,0.46416160000000001,0.99108110000000005,3.4389519999999999E-3,1.0589200000000001,0.99627999999999994,-9.7000000000000003E-3]
[null,552,9.0799999999999995E-4,3.7558255107995067E-5,null,null,null,null,null,null,null,null,null,null,null,null,null,null,null,null,null,null,null,null,null,null,null,null,null,null,null,null,null,null,null,null,null,null,null,null,null,null,null,null,null,552,0.99697000000000002,0.995,0.99700999999999995,0.44940000000000002,0.99349100000000001,0.99438400000000005,null,0.46489000000000003,0.99697000000000002,7.5500000000000003E-3,null,0.56431679999999995,0.99470060000000005,2.8292E-3,null,0.46489000000000003,0.99697000000000002,7.5500000000000003E-3,null,null,null,null,0.47943950000000002,0.99349129999999997,3.1193409999999999E-3,1.1119399999999999,0.98965999999999998,-9.7000000000000003E-3]
[null,553,1.1900000000000001E-3,{"$f":"C205/$C$11","v":4.9222823324354776E-5},null,null,null,null,null,null,null,null,null,null,null,null,null,null,null,null,null,null,null,null,null,null,null,null,null,null,null,null,null,null,null,null,null,null,null,null,null,null,null,null,null,553,0.99797999999999998,0.995,0.99804000000000004,0.43359999999999999,0.99591700000000005,0.99662200000000001,null,0.48060999999999998,0.99797999999999998,6.9500000000000004E-3,null,0.58156220000000003,0.99617040000000001,2.2498000000000002E-3,null,0.48060999999999998,0.99797999999999998,6.9500000000000004E-3,null,null,null,null,0.49521799999999999,0.99591719999999995,2.8290379999999999E-3,1.16496,0.98303999999999991,-9.7000000000000003E-3]
[null,554,1.31E-3,5.4186469373869537E-5,null,null,null,null,null,null,null,null,null,null,null,null,null,null,null,null,null,null,null,null,null,null,null,null,null,null,null,null,null,null,null,null,null,null,null,null,null,null,null,null,null,554,0.99899000000000004,0.995,0.99907000000000001,0.4178,0.99802100000000005,0.99856500000000004,null,0.49632999999999999,0.99899000000000004,6.3499999999999997E-3,null,0.5988076,0.99764020000000009,1.6704000000000001E-3,null,0.49632999999999999,0.99899000000000004,6.3499999999999997E-3,null,null,null,null,0.51143950000000005,0.99802049999999998,2.5657219999999999E-3,1.2179799999999998,0.97641999999999995,-9.7000000000000003E-3]
[null,555,1.07E-3,4.4259177274840008E-5,null,null,null,null,null,null,null,null,null,null,null,null,null,null,null,null,null,null,null,null,null,null,null,null,null,null,null,null,null,null,null,null,null,null,null,null,null,null,null,null,null,555,1,0.995,1.0001,0.40200000000000002,0.99946100000000004,0.99977800000000006,null,0.51205000000000001,1,5.7499999999999999E-3,null,0.61605299999999996,0.99911000000000005,1.091E-3,null,0.51205000000000001,1,5.7499999999999999E-3,null,null,null,null,0.52802329999999997,0.99946080000000004,2.3271860000000002E-3,1.2709999999999999,0.9698,-9.7000000000000003E-3]
[null,556,9.2599999999999996E-4,3.8302802015422282E-5,null,null,null,null,null,null,null,null,null,null,null,null,null,null,null,null,null,null,null,null,null,null,null,null,null,null,null,null,null,null,null,null,null,null,null,null,null,null,null,null,null,556,0.999,0.995,0.99907999999999997,0.38736000000000004,0.99999300000000002,0.99994400000000006,null,0.52854000000000001,0.999,5.3800000000000002E-3,null,0.63388719999999998,0.99875600000000009,8.7279999999999996E-4,null,0.52854000000000001,0.999,5.3800000000000002E-3,null,null,null,null,0.54486959999999995,0.99999300000000002,2.1112800000000001E-3,1.3282799999999999,0.95908000000000004,-9.6200000000000001E-3]
[null,557,7.8200000000000003E-4,3.2346426756004563E-5,null,null,null,null,null,null,null,null,null,null,null,null,null,null,null,null,null,null,null,null,null,null,null,null,null,null,null,null,null,null,null,null,null,null,null,null,null,null,null,null,null,557,0.998,0.995,0.99805999999999995,0.37272,0.99975599999999998,0.99922,null,0.54503000000000001,0.998,5.0099999999999997E-3,null,0.65172140000000001,0.99840200000000001,6.5459999999999997E-4,null,0.54503000000000001,0.998,5.0099999999999997E-3,null,null,null,null,0.56188979999999999,0.99975570000000002,1.915766E-3,1.3855599999999999,0.94835999999999998,-9.5399999999999999E-3]
[null,558,9.5299999999999996E-4,3.9419622376563104E-5,null,null,null,null,null,null,null,null,null,null,null,null,null,null,null,null,null,null,null,null,null,null,null,null,null,null,null,null,null,null,null,null,null,null,null,null,null,null,null,null,null,558,0.997,0.995,0.99704000000000004,0.35808000000000001,0.99898399999999998,0.99787899999999996,null,0.56152000000000002,0.997,4.64E-3,null,0.66955559999999992,0.99804800000000005,4.3639999999999998E-4,null,0.56152000000000002,0.997,4.64E-3,null,null,null,null,0.57901369999999996,0.99898390000000004,1.738589E-3,1.4428399999999999,0.93764000000000003,-9.4599999999999997E-3]
[null,559,1.124E-3,4.6492817997121652E-5,null,null,null,null,null,null,null,null,null,null,null,null,null,null,null,null,null,null,null,null,null,null,null,null,null,null,null,null,null,null,null,null,null,null,null,null,null,null,null,null,null,559,0.996,0.995,0.99602000000000002,0.34343999999999997,0.99791200000000002,0.996193,null,0.57801000000000002,0.996,4.2699999999999995E-3,null,0.68738979999999994,0.99769399999999997,2.1819999999999999E-4,null,0.57801000000000002,0.996,4.2699999999999995E-3,null,null,null,null,0.59618819999999995,0.99791229999999997,1.57792E-3,1.5001199999999999,0.92691999999999997,-9.3799999999999994E-3]
[null,560,1.256E-3,5.1952828651587892E-5,null,null,null,null,null,null,null,null,null,null,null,null,null,null,null,null,null,null,null,null,null,null,null,null,null,null,null,null,null,null,null,null,null,null,null,null,null,null,null,null,null,560,0.995,0.995,0.995,0.32879999999999998,0.99677400000000005,0.99443000000000004,null,0.59450000000000003,0.995,3.8999999999999998E-3,null,0.70522399999999996,0.99734,0,null,0.59450000000000003,0.995,3.8999999999999998E-3,null,null,null,null,0.61337839999999999,0.99677369999999998,1.432128E-3,1.5573999999999999,0.91620000000000001,-9.2999999999999992E-3]
[null,561,1.3860000000000001E-3,5.7330111871895558E-5,null,null,null,null,null,null,null,null,null,null,null,null,null,null,null,null,null,null,null,null,null,null,null,null,null,null,null,null,null,null,null,null,null,null,null,null,null,null,null,null,null,561,0.99172000000000005,0.99070000000000003,0.99175000000000002,0.31581999999999999,0.99573599999999995,0.99278299999999997,null,0.61128000000000005,0.99172000000000005,3.6699999999999997E-3,null,0.72294559999999997,0.99434800000000001,0,null,0.61128000000000005,0.99172000000000005,3.6699999999999997E-3,null,null,null,null,0.63058970000000003,0.99573560000000005,1.2997810000000001E-3,1.6152199999999999,0.90437999999999996,-9.1799999999999989E-3]
[null,562,1.126E-3,4.6575545431280233E-5,null,null,null,null,null,null,null,null,null,null,null,null,null,null,null,null,null,null,null,null,null,null,null,null,null,null,null,null,null,null,null,null,null,null,null,null,null,null,null,null,null,562,0.98843999999999999,0.98639999999999994,0.98850000000000005,0.30284,0.99471100000000001,0.99115799999999998,null,0.62806000000000006,0.98843999999999999,3.4399999999999999E-3,null,0.74066719999999997,0.99135600000000001,0,null,0.62806000000000006,0.98843999999999999,3.4399999999999999E-3,null,null,null,null,0.64792229999999995,0.99471149999999997,1.1796669999999999E-3,1.6730399999999999,0.89256000000000002,-9.0599999999999986E-3]
[null,563,9.6599999999999995E-4,3.9957350698593874E-5,null,null,null,null,null,null,null,null,null,null,null,null,null,null,null,null,null,null,null,null,null,null,null,null,null,null,null,null,null,null,null,null,null,null,null,null,null,null,null,null,null,563,0.98516000000000004,0.98209999999999997,0.98524999999999996,0.28986000000000001,0.99355300000000002,0.98939200000000005,null,0.64483999999999997,0.98516000000000004,3.2099999999999997E-3,null,0.75838879999999997,0.98836400000000002,0,null,0.64483999999999997,0.98516000000000004,3.2099999999999997E-3,null,null,null,null,0.66548660000000004,0.99355340000000003,1.0706940000000001E-3,1.7308599999999998,0.88073999999999997,-8.94E-3]
[null,564,8.0599999999999997E-4,3.3339155965907514E-5,null,null,null,null,null,null,null,null,null,null,null,null,null,null,null,null,null,null,null,null,null,null,null,null,null,null,null,null,null,null,null,null,null,null,null,null,null,null,null,null,null,564,0.98187999999999998,0.9778,0.98199999999999998,0.27688000000000001,0.992116,0.98732900000000001,null,0.66161999999999999,0.98187999999999998,2.98E-3,null,0.77611039999999998,0.98537200000000003,0,null,0.66161999999999999,0.98187999999999998,2.98E-3,null,null,null,null,0.68337820000000005,0.99211559999999999,9.7186229999999998E-4,1.78868,0.86892000000000003,-8.8199999999999997E-3]
[null,565,8.7299999999999997E-4,3.6110525010219928E-5,null,null,null,null,null,null,null,null,null,null,null,null,null,null,null,null,null,null,null,null,null,null,null,null,null,null,null,null,null,null,null,null,null,null,null,null,null,null,null,null,null,565,0.97860000000000003,0.97350000000000003,0.97875000000000001,0.26390000000000002,0.990255,0.98481300000000005,null,0.6784,0.97860000000000003,2.7499999999999998E-3,null,0.79383199999999998,0.98238000000000003,0,null,0.6784,0.97860000000000003,2.7499999999999998E-3,null,null,null,null,0.70167740000000001,0.99025490000000005,8.8225309999999998E-4,1.8465,0.85709999999999997,-8.6999999999999994E-3]
[null,566,9.3999999999999997E-4,3.8881894054532342E-5,null,null,null,null,null,null,null,null,null,null,null,null,null,null,null,null,null,null,null,null,null,null,null,null,null,null,null,null,null,null,null,null,null,null,null,null,null,null,null,null,null,566,0.97328000000000003,0.96919999999999995,0.97340000000000004,0.25264000000000003,0.98785999999999996,0.98172499999999996,null,0.69513999999999998,0.97328000000000003,2.6199999999999999E-3,null,0.81079659999999998,0.97701440000000006,0,null,0.69513999999999998,0.97328000000000003,2.6199999999999999E-3,null,null,null,null,0.72041100000000002,0.98785959999999995,8.0102310000000003E-4,1.9074200000000001,0.84214,-8.5599999999999999E-3]
[null,567,9.4399999999999996E-4,3.9047348922849497E-5,null,null,null,null,null,null,null,null,null,null,null,null,null,null,null,null,null,null,null,null,null,null,null,null,null,null,null,null,null,null,null,null,null,null,null,null,null,null,null,null,null,567,0.96796000000000004,0.96489999999999998,0.96804999999999997,0.24138000000000001,0.98493200000000003,0.97807100000000002,null,0.71187999999999996,0.96796000000000004,2.49E-3,null,0.82776119999999997,0.97164879999999998,0,null,0.71187999999999996,0.96796000000000004,2.49E-3,null,null,null,null,0.73944949999999998,0.98493240000000004,7.2738839999999996E-4,1.96834,0.82718000000000003,-8.4200000000000004E-3]
[null,568,1.0529999999999999E-3,4.3555994084492077E-5,null,null,null,null,null,null,null,null,null,null,null,null,null,null,null,null,null,null,null,null,null,null,null,null,null,null,null,null,null,null,null,null,null,null,null,null,null,null,null,null,null,568,0.96263999999999994,0.96060000000000001,0.9627,0.23012000000000002,0.98150400000000004,0.97388600000000003,null,0.72862000000000005,0.96263999999999994,2.3599999999999997E-3,null,0.84472579999999997,0.96628320000000001,0,null,0.72862000000000005,0.96263999999999994,2.3599999999999997E-3,null,null,null,null,0.75862850000000004,0.98150360000000003,6.6063470000000003E-4,2.0292599999999998,0.81221999999999994,-8.2799999999999992E-3]
[null,569,1.1620000000000001E-3,4.8064639246134663E-5,null,null,null,null,null,null,null,null,null,null,null,null,null,null,null,null,null,null,null,null,null,null,null,null,null,null,null,null,null,null,null,null,null,null,null,null,null,null,null,null,null,569,0.95731999999999995,0.95629999999999993,0.95734999999999992,0.21886,0.977603,0.96920300000000004,null,0.74536000000000002,0.95731999999999995,2.2299999999999998E-3,null,0.86169039999999997,0.96091759999999993,0,null,0.74536000000000002,0.95731999999999995,2.2299999999999998E-3,null,null,null,null,0.77778849999999999,0.97760349999999996,6.001146E-4,2.0901800000000001,0.79725999999999997,-8.1399999999999997E-3]
[null,570,1.2359999999999999E-3,5.1125554310002097E-5,null,null,null,null,null,null,null,null,null,null,null,null,null,null,null,null,null,null,null,null,null,null,null,null,null,null,null,null,null,null,null,null,null,null,null,null,null,null,null,null,null,570,0.95199999999999996,0.95199999999999996,0.95199999999999996,0.20760000000000001,0.97326100000000004,0.964055,null,0.7621,0.95199999999999996,2.0999999999999999E-3,null,0.87865499999999996,0.95555199999999996,0,null,0.7621,0.95199999999999996,2.0999999999999999E-3,null,null,null,null,0.79677500000000001,0.97326109999999999,5.4524160000000001E-4,2.1511,0.7823,-8.0000000000000002E-3]
[null,571,1.31E-3,5.4186469373869537E-5,null,null,null,null,null,null,null,null,null,null,null,null,null,null,null,null,null,null,null,null,null,null,null,null,null,null,null,null,null,null,null,null,null,null,null,null,null,null,null,null,null,571,0.94467999999999996,0.94379999999999997,0.944716,0.19812000000000002,0.968476,0.95844099999999999,null,0.77817999999999998,0.94467999999999996,2.0399999999999997E-3,null,0.89315639999999996,0.9474766,0,null,0.77817999999999998,0.94467999999999996,2.0399999999999997E-3,null,null,null,null,0.81545299999999998,0.96847640000000002,4.9548470000000005E-4,2.2058800000000001,0.76490000000000002,-7.8600000000000007E-3]
[null,572,1.4580000000000001E-3,6.0308299501604425E-5,null,null,null,null,null,null,null,null,null,null,null,null,null,null,null,null,null,null,null,null,null,null,null,null,null,null,null,null,null,null,null,null,null,null,null,null,null,null,null,null,null,572,0.93735999999999997,0.93559999999999999,0.93743199999999993,0.18864,0.96313700000000002,0.95223800000000003,null,0.79425999999999997,0.93735999999999997,1.98E-3,null,0.90765779999999996,0.93940119999999994,0,null,0.79425999999999997,0.93735999999999997,1.98E-3,null,null,null,null,0.83373889999999995,0.96313689999999996,4.5036419999999999E-4,2.2606600000000001,0.74750000000000005,-7.7200000000000003E-3]
[null,573,1.6069999999999999E-3,6.6471493346418589E-5,null,null,null,null,null,null,null,null,null,null,null,null,null,null,null,null,null,null,null,null,null,null,null,null,null,null,null,null,null,null,null,null,null,null,null,null,null,null,null,null,null,573,0.93003999999999998,0.9274,0.93014799999999997,0.17916000000000001,0.95710600000000001,0.94529700000000005,null,0.81034000000000006,0.93003999999999998,1.9199999999999998E-3,null,0.92215919999999996,0.93132579999999998,0,null,0.81034000000000006,0.93003999999999998,1.9199999999999998E-3,null,null,null,null,0.85154929999999995,0.95710620000000002,4.0944549999999999E-4,2.3154399999999997,0.73009999999999997,-7.5799999999999999E-3]
[null,574,1.3569999999999999E-3,5.6130564076596155E-5,null,null,null,null,null,null,null,null,null,null,null,null,null,null,null,null,null,null,null,null,null,null,null,null,null,null,null,null,null,null,null,null,null,null,null,null,null,null,null,null,null,574,0.92271999999999998,0.91920000000000002,0.92286399999999991,0.16968,0.95025400000000004,0.937477,null,0.82642000000000004,0.92271999999999998,1.8599999999999999E-3,null,0.93666059999999995,0.92325039999999992,0,null,0.82642000000000004,0.92271999999999998,1.8599999999999999E-3,null,null,null,null,0.86878619999999995,0.95025400000000004,3.723345E-4,2.3702199999999998,0.7127,-7.4400000000000004E-3]
[null,575,1.3990000000000001E-3,5.7867840193926328E-5,null,null,null,null,null,null,null,null,null,null,null,null,null,null,null,null,null,null,null,null,null,null,null,null,null,null,null,null,null,null,null,null,null,null,null,null,null,null,null,null,null,575,0.91539999999999999,0.91100000000000003,0.91557999999999995,0.16020000000000001,0.94245699999999999,0.92864899999999995,null,0.84250000000000003,0.91539999999999999,1.8E-3,null,0.95116199999999995,0.91517499999999996,0,null,0.84250000000000003,0.91539999999999999,1.8E-3,null,null,null,null,0.88533759999999995,0.94245690000000004,3.3867389999999998E-4,2.4249999999999998,0.69530000000000003,-7.3000000000000001E-3]
[null,576,1.4400000000000001E-3,5.956375259417721E-5,null,null,null,null,null,null,null,null,null,null,null,null,null,null,null,null,null,null,null,null,null,null,null,null,null,null,null,null,null,null,null,null,null,null,null,null,null,null,null,null,null,576,0.90632000000000001,0.90279999999999994,0.90646399999999994,0.15240000000000001,0.93369000000000002,0.91879500000000003,null,0.85726000000000002,0.90632000000000001,1.7699999999999999E-3,null,0.9637616,0.90592679999999992,0,null,0.85726000000000002,0.90632000000000001,1.7699999999999999E-3,null,null,null,null,0.90115880000000004,0.93368969999999996,3.0813960000000001E-4,2.4714799999999997,0.67556000000000005,-7.1000000000000004E-3]
[null,577,1.24E-3,5.1291009178319258E-5,null,null,null,null,null,null,null,null,null,null,null,null,null,null,null,null,null,null,null,null,null,null,null,null,null,null,null,null,null,null,null,null,null,null,null,null,null,null,null,null,null,577,0.89724000000000004,0.89459999999999995,0.89734799999999992,0.14460000000000001,0.92428900000000003,0.90830100000000003,null,0.87202000000000002,0.89724000000000004,1.74E-3,null,0.97636119999999993,0.89667859999999999,0,null,0.87202000000000002,0.89724000000000004,1.74E-3,null,null,null,null,0.9165278,0.92428929999999998,2.8043700000000003E-4,2.51796,0.65582000000000007,-6.8999999999999999E-3]
[null,578,1.0399999999999999E-3,4.3018265762461307E-5,null,null,null,null,null,null,null,null,null,null,null,null,null,null,null,null,null,null,null,null,null,null,null,null,null,null,null,null,null,null,null,null,null,null,null,null,null,null,null,null,null,578,0.88815999999999995,0.88639999999999997,0.88823200000000002,0.1368,0.91467100000000001,0.89763499999999996,null,0.88678000000000001,0.88815999999999995,1.7099999999999999E-3,null,0.98896079999999997,0.88743039999999995,0,null,0.88678000000000001,0.88815999999999995,1.7099999999999999E-3,null,null,null,null,0.93182450000000006,0.91467069999999995,2.552996E-4,2.5644399999999998,0.63607999999999998,-6.7000000000000002E-3]
[null,579,9.2100000000000005E-4,3.8095983430025836E-5,null,null,null,null,null,null,null,null,null,null,null,null,null,null,null,null,null,null,null,null,null,null,null,null,null,null,null,null,null,null,null,null,null,null,null,null,null,null,null,null,null,579,0.87907999999999997,0.87819999999999998,0.87911600000000001,0.129,0.90523299999999995,0.88724000000000003,null,0.90154000000000001,0.87907999999999997,1.6800000000000001E-3,null,1.0015604,0.87818220000000002,0,null,0.90154000000000001,0.87907999999999997,1.6800000000000001E-3,null,null,null,null,0.94745239999999997,0.90523330000000002,2.324859E-4,2.6109200000000001,0.61634,-6.4999999999999997E-3]
[null,580,8.0099999999999995E-4,3.3132337380511068E-5,null,null,null,null,null,null,null,null,null,null,null,null,null,null,null,null,null,null,null,null,null,null,null,null,null,null,null,null,null,null,null,null,null,null,null,null,null,null,null,null,null,580,0.87,0.87,0.87,0.1212,0.89636099999999996,0.87753599999999998,null,0.9163,0.87,1.65E-3,null,1.01416,0.86893399999999998,0,null,0.9163,0.87,1.65E-3,null,null,null,null,0.9638388,0.89636130000000003,2.117772E-4,2.6574,0.59660000000000002,-6.3E-3]
[null,581,1.371E-3,5.6709656115706215E-5,null,null,null,null,null,null,null,null,null,null,null,null,null,null,null,null,null,null,null,null,null,null,null,null,null,null,null,null,null,null,null,null,null,null,null,null,null,null,null,null,null,581,0.85926000000000002,0.85870000000000002,0.85924599999999995,0.11494,0.88830699999999996,0.86879200000000001,null,0.92876000000000003,0.85926000000000002,1.6000000000000001E-3,null,1.0261879999999999,0.86027180000000003,0,null,0.92876000000000003,0.85926000000000002,1.6000000000000001E-3,null,null,null,null,0.98125960000000001,0.88830690000000001,1.9297579999999999E-4,2.7089400000000001,0.57854000000000005,-6.1139999999999996E-3]
[null,582,1.511E-3,6.2500576506806772E-5,null,null,null,null,null,null,null,null,null,null,null,null,null,null,null,null,null,null,null,null,null,null,null,null,null,null,null,null,null,null,null,null,null,null,null,null,null,null,null,null,null,582,0.84852000000000005,0.84740000000000004,0.84849200000000002,0.10868,0.88084600000000002,0.86074700000000004,null,0.94122000000000006,0.84852000000000005,1.5499999999999999E-3,null,1.038216,0.85160959999999997,0,null,0.94122000000000006,0.84852000000000005,1.5499999999999999E-3,null,null,null,null,0.9992953,0.88084620000000002,1.759024E-4,2.7604799999999998,0.56047999999999998,-5.9280000000000001E-3]
[null,583,1.65E-3,6.8250133180828052E-5,null,null,null,null,null,null,null,null,null,null,null,null,null,null,null,null,null,null,null,null,null,null,null,null,null,null,null,null,null,null,null,null,null,null,null,null,null,null,null,null,null,583,0.83777999999999997,0.83609999999999995,0.83773799999999998,0.10242,0.873645,0.85302299999999998,null,0.95367999999999997,0.83777999999999997,1.5E-3,null,1.050244,0.84294740000000001,0,null,0.95367999999999997,0.83777999999999997,1.5E-3,null,null,null,null,1.0173430000000001,0.87364450000000005,1.603947E-4,2.81202,0.54242000000000001,-5.7419999999999997E-3]
[null,584,1.8159999999999999E-3,7.5116510215990134E-5,null,null,null,null,null,null,null,null,null,null,null,null,null,null,null,null,null,null,null,null,null,null,null,null,null,null,null,null,null,null,null,null,null,null,null,null,null,null,null,null,null,584,0.82704,0.82479999999999998,0.82698400000000005,9.6159999999999995E-2,0.86637600000000003,0.84525300000000003,null,0.96614,0.82704,1.4499999999999999E-3,null,1.0622720000000001,0.83428519999999995,0,null,0.96614,0.82704,1.4499999999999999E-3,null,null,null,null,1.0347900000000001,0.86637549999999997,1.4630590000000001E-4,2.8635599999999997,0.52435999999999994,-5.5560000000000002E-3]
[null,585,1.9819999999999998E-3,8.198288725115223E-5,null,null,null,null,null,null,null,null,null,null,null,null,null,null,null,null,null,null,null,null,null,null,null,null,null,null,null,null,null,null,null,null,null,null,null,null,null,null,null,null,null,585,0.81630000000000003,0.8135,0.81623000000000001,8.9899999999999994E-2,0.85872000000000004,0.83708400000000005,null,0.97860000000000003,0.81630000000000003,1.4E-3,null,1.0743,0.825623,0,null,0.97860000000000003,0.81630000000000003,1.4E-3,null,null,null,null,1.0510109999999999,0.85872029999999999,1.3350309999999999E-4,2.9150999999999998,0.50629999999999997,-5.3699999999999998E-3]
[null,586,2.2330000000000002E-3,9.2365180238053961E-5,null,null,null,null,null,null,null,null,null,null,null,null,null,null,null,null,null,null,null,null,null,null,null,null,null,null,null,null,null,null,null,null,null,null,null,null,null,null,null,null,null,586,0.80444000000000004,0.80220000000000002,0.80438399999999999,8.5019999999999998E-2,0.85043000000000002,0.828241,null,0.98814000000000002,0.80444000000000004,1.34E-3,null,1.0831440000000001,0.81597940000000002,0,null,0.98814000000000002,0.80444000000000004,1.34E-3,null,null,null,null,1.0655220000000001,0.85042949999999995,1.21866E-4,2.9476599999999999,0.48909999999999998,-5.1859999999999996E-3]
[null,587,2.5279999999999999E-3,1.0456747677644442E-4,null,null,null,null,null,null,null,null,null,null,null,null,null,null,null,null,null,null,null,null,null,null,null,null,null,null,null,null,null,null,null,null,null,null,null,null,null,null,null,null,null,587,0.79258000000000006,0.79090000000000005,0.79253799999999996,8.0140000000000003E-2,0.84150499999999995,0.81873200000000002,null,0.99768000000000001,0.79258000000000006,1.2800000000000001E-3,null,1.091988,0.80633580000000005,0,null,0.99768000000000001,0.79258000000000006,1.2800000000000001E-3,null,null,null,null,1.0784210000000001,0.84150469999999999,1.112857E-4,2.9802200000000001,0.47189999999999999,-5.0019999999999995E-3]
[null,588,2.8240000000000001E-3,1.1681113703191419E-4,null,null,null,null,null,null,null,null,null,null,null,null,null,null,null,null,null,null,null,null,null,null,null,null,null,null,null,null,null,null,null,null,null,null,null,null,null,null,null,null,null,588,0.78071999999999997,0.77959999999999996,0.78069200000000005,7.5259999999999994E-2,0.83201099999999995,0.80863499999999999,null,1.00722,0.78071999999999997,1.2199999999999999E-3,null,1.100832,0.79669219999999996,0,null,1.00722,0.78071999999999997,1.2199999999999999E-3,null,null,null,null,1.089944,0.8320109,1.0166340000000001E-4,3.0127799999999998,0.45469999999999999,-4.8179999999999994E-3]
[null,589,3.4190000000000002E-3,1.4142254869409159E-4,null,null,null,null,null,null,null,null,null,null,null,null,null,null,null,null,null,null,null,null,null,null,null,null,null,null,null,null,null,null,null,null,null,null,null,null,null,null,null,null,null,589,0.76885999999999999,0.76829999999999998,0.76884600000000003,7.0379999999999998E-2,0.82201500000000005,0.79803000000000002,null,1.0167600000000001,0.76885999999999999,1.16E-3,null,1.1096759999999999,0.78704859999999999,0,null,1.0167600000000001,0.76885999999999999,1.16E-3,null,null,null,null,1.10032,0.82201539999999995,9.2910030000000005E-5,3.0453399999999999,0.4375,-4.6340000000000001E-3]
[null,590,4.0140000000000002E-3,1.6603396035626896E-4,null,null,null,null,null,null,null,null,null,null,null,null,null,null,null,null,null,null,null,null,null,null,null,null,null,null,null,null,null,null,null,null,null,null,null,null,null,null,null,null,null,590,0.75700000000000001,0.75700000000000001,0.75700000000000001,6.5500000000000003E-2,0.81158699999999995,0.786995,null,1.0263,0.75700000000000001,1.1000000000000001E-3,null,1.11852,0.77740500000000001,0,null,1.0263,0.75700000000000001,1.1000000000000001E-3,null,null,null,null,1.1097669999999999,0.81158680000000005,8.4944679999999999E-5,3.0779000000000001,0.42030000000000001,-4.45E-3]
[null,591,5.228E-3,2.1624951289052669E-4,null,null,null,null,null,null,null,null,null,null,null,null,null,null,null,null,null,null,null,null,null,null,null,null,null,null,null,null,null,null,null,null,null,null,null,null,null,null,null,null,null,591,0.74458000000000002,0.74439999999999995,0.74456599999999995,6.1780000000000002E-2,0.80078700000000003,0.77560399999999996,null,1.0323800000000001,0.74458000000000002,1.08E-3,null,1.1216759999999999,0.76599459999999997,0,null,1.0323800000000001,0.74458000000000002,1.08E-3,null,null,null,null,1.118438,0.80078740000000004,7.7694249999999996E-5,3.0945800000000001,0.40344000000000002,-4.274E-3]
[null,592,6.4429999999999999E-3,2.6650642914186371E-4,null,null,null,null,null,null,null,null,null,null,null,null,null,null,null,null,null,null,null,null,null,null,null,null,null,null,null,null,null,null,null,null,null,null,null,null,null,null,null,null,null,592,0.73216000000000003,0.73180000000000001,0.73213200000000001,5.806E-2,0.78965200000000002,0.76390000000000002,null,1.0384599999999999,0.73216000000000003,1.06E-3,null,1.1248320000000001,0.75458420000000004,0,null,1.0384599999999999,0.73216000000000003,1.06E-3,null,null,null,null,1.126266,0.78965149999999995,7.1092469999999995E-5,3.1112600000000001,0.38658000000000003,-4.0980000000000001E-3]
[null,593,9.9559999999999996E-3,4.1181716724140847E-4,null,null,null,null,null,null,null,null,null,null,null,null,null,null,null,null,null,null,null,null,null,null,null,null,null,null,null,null,null,null,null,null,null,null,null,null,null,null,null,null,null,593,0.71973999999999994,0.71920000000000006,0.71969799999999995,5.4339999999999999E-2,0.77820500000000004,0.75191600000000003,null,1.04454,0.71973999999999994,1.0400000000000001E-3,null,1.127988,0.7431738,0,null,1.04454,0.71973999999999994,1.0400000000000001E-3,null,null,null,null,1.133138,0.77820529999999999,6.5079360000000003E-5,3.1279400000000002,0.36972000000000005,-3.9220000000000001E-3]
[null,594,1.2682000000000001E-2,5.2457465999955228E-4,null,null,null,null,null,null,null,null,null,null,null,null,null,null,null,null,null,null,null,null,null,null,null,null,null,null,null,null,null,null,null,null,null,null,null,null,null,null,null,null,null,594,0.70731999999999995,0.70660000000000001,0.707264,5.0619999999999998E-2,0.76647299999999996,0.73968299999999998,null,1.0506199999999999,0.70731999999999995,1.0200000000000001E-3,null,1.1311440000000001,0.73176340000000006,0,null,1.0506199999999999,0.70731999999999995,1.0200000000000001E-3,null,null,null,null,1.138952,0.76647330000000002,5.9600610000000001E-5,3.1446200000000002,0.35286000000000001,-3.7459999999999998E-3]
[null,595,1.5407000000000001E-2,6.372907890406168E-4,null,null,null,null,null,null,null,null,null,null,null,null,null,null,null,null,null,null,null,null,null,null,null,null,null,null,null,null,null,null,null,null,null,null,null,null,null,null,null,null,null,595,0.69489999999999996,0.69399999999999995,0.69482999999999995,4.6899999999999997E-2,0.75447900000000001,0.72723099999999996,null,1.0567,0.69489999999999996,1E-3,null,1.1343000000000001,0.72035300000000002,0,null,1.0567,0.69489999999999996,1E-3,null,null,null,null,1.1436200000000001,0.75447850000000005,5.4607059999999998E-5,3.1613000000000002,0.33600000000000002,-3.5699999999999998E-3]
[null,596,1.8898999999999999E-2,7.8173288908149651E-4,null,null,null,null,null,null,null,null,null,null,null,null,null,null,null,null,null,null,null,null,null,null,null,null,null,null,null,null,null,null,null,null,null,null,null,null,null,null,null,null,null,596,0.68211999999999995,0.68140000000000001,0.682064,4.4149999999999995E-2,0.74224699999999999,0.714588,null,1.0578000000000001,0.68211999999999995,9.6000000000000002E-4,null,1.1322380000000001,0.70795059999999999,0,null,1.0578000000000001,0.68211999999999995,9.6000000000000002E-4,null,null,null,null,1.147095,0.74224730000000005,5.0054169999999997E-5,3.1625000000000001,0.32062000000000002,-3.4099999999999998E-3]
[null,597,2.2391999999999999E-2,9.2621635283945546E-4,null,null,null,null,null,null,null,null,null,null,null,null,null,null,null,null,null,null,null,null,null,null,null,null,null,null,null,null,null,null,null,null,null,null,null,null,null,null,null,null,null,597,0.66933999999999994,0.66880000000000006,0.66929799999999995,4.1399999999999999E-2,0.729823,0.701793,null,1.0589,0.66933999999999994,9.2000000000000003E-4,null,1.1301760000000001,0.69554819999999995,0,null,1.0589,0.66933999999999994,9.2000000000000003E-4,null,null,null,null,1.149464,0.72982290000000005,4.5901569999999999E-5,3.1637,0.30524000000000001,-3.2499999999999999E-3]
[null,598,3.2349999999999997E-2,1.3381162475150225E-3,null,null,null,null,null,null,null,null,null,null,null,null,null,null,null,null,null,null,null,null,null,null,null,null,null,null,null,null,null,null,null,null,null,null,null,null,null,null,null,null,null,598,0.65656000000000003,0.65620000000000001,0.656532,3.8649999999999997E-2,0.717252,0.68888700000000003,null,1.06,0.65656000000000003,8.8000000000000003E-4,null,1.1281140000000001,0.68314580000000003,0,null,1.06,0.65656000000000003,8.8000000000000003E-4,null,null,null,null,1.150838,0.71725249999999996,4.2112679999999999E-5,3.1649000000000003,0.28986000000000001,-3.0899999999999999E-3]
[null,599,3.8558000000000002E-2,1.5949022031432533E-3,null,null,null,null,null,null,null,null,null,null,null,null,null,null,null,null,null,null,null,null,null,null,null,null,null,null,null,null,null,null,null,null,null,null,null,null,null,null,null,null,null,599,0.64378000000000002,0.64359999999999995,0.64376599999999995,3.5900000000000001E-2,0.70458200000000004,0.67591000000000001,null,1.0610999999999999,0.64378000000000002,8.4000000000000003E-4,null,1.1260520000000001,0.67074339999999999,0,null,1.0610999999999999,0.64378000000000002,8.4000000000000003E-4,null,null,null,null,1.1513260000000001,0.70458180000000004,3.8654369999999998E-5,3.1661000000000001,0.27448,-2.9299999999999999E-3]
[null,600,4.4764999999999999E-2,1.8516467950544045E-3,null,null,null,null,null,null,null,null,null,null,null,null,null,null,null,null,null,null,null,null,null,null,null,null,null,null,null,null,null,null,null,null,null,null,null,null,null,null,null,null,null,600,0.63100000000000001,0.63100000000000001,0.63100000000000001,3.3149999999999999E-2,0.691855,0.66290400000000005,null,1.0622,0.63100000000000001,8.0000000000000004E-4,null,1.12399,0.65834099999999995,0,null,1.0622,0.63100000000000001,8.0000000000000004E-4,null,null,null,null,1.151033,0.69185529999999995,3.5496610000000002E-5,3.1673,0.2591,-2.7699999999999999E-3]
[null,601,5.2715999999999999E-2,2.1805297095518371E-3,null,null,null,null,null,null,null,null,null,null,null,null,null,null,null,null,null,null,null,null,null,null,null,null,null,null,null,null,null,null,null,null,null,null,null,null,null,null,null,null,null,601,0.61816000000000004,0.61819999999999997,0.61810799999999999,3.1143999999999998E-2,0.67910099999999995,0.649891,null,1.05888,0.61816000000000004,7.6000000000000004E-4,null,1.1170120000000001,0.64544839999999992,0,null,1.05888,0.61816000000000004,7.6000000000000004E-4,null,null,null,null,1.150002,0.67910090000000001,3.2612199999999999E-5,3.1547999999999998,0.24562,-2.6319999999999998E-3]
[null,602,6.0665999999999998E-2,2.5093712603321905E-3,null,null,null,null,null,null,null,null,null,null,null,null,null,null,null,null,null,null,null,null,null,null,null,null,null,null,null,null,null,null,null,null,null,null,null,null,null,null,null,null,null,602,0.60531999999999997,0.60540000000000005,0.60521599999999998,2.9138000000000001E-2,0.66628500000000002,0.63684099999999999,null,1.0555600000000001,0.60531999999999997,7.2000000000000005E-4,null,1.110034,0.6325558,0,null,1.0555600000000001,0.60531999999999997,7.2000000000000005E-4,null,null,null,null,1.148061,0.6662846,2.9976429999999999E-5,3.1423000000000001,0.23214000000000001,-2.4939999999999997E-3]
[null,603,7.0011000000000004E-2,2.8959151964381533E-3,null,null,null,null,null,null,null,null,null,null,null,null,null,null,null,null,null,null,null,null,null,null,null,null,null,null,null,null,null,null,null,null,null,null,null,null,null,null,null,null,null,603,0.59248000000000001,0.59260000000000002,0.59232400000000007,2.7132E-2,0.65335900000000002,0.62370899999999996,null,1.0522400000000001,0.59248000000000001,6.7999999999999994E-4,null,1.103056,0.61966319999999997,0,null,1.0522400000000001,0.59248000000000001,6.7999999999999994E-4,null,null,null,null,1.144998,0.65335949999999998,2.7566930000000001E-5,3.1297999999999999,0.21866000000000002,-2.3559999999999996E-3]
[null,604,7.9354999999999995E-2,3.282417768827036E-3,null,null,null,null,null,null,null,null,null,null,null,null,null,null,null,null,null,null,null,null,null,null,null,null,null,null,null,null,null,null,null,null,null,null,null,null,null,null,null,null,null,604,0.57963999999999993,0.57979999999999998,0.57943200000000006,2.5126000000000002E-2,0.64028099999999999,0.61045400000000005,null,1.0489200000000001,0.57963999999999993,6.3999999999999994E-4,null,1.0960779999999999,0.60677060000000005,0,null,1.0489200000000001,0.57963999999999993,6.3999999999999994E-4,null,null,null,null,1.140622,0.64028070000000004,2.5363390000000001E-5,3.1173000000000002,0.20518,-2.2179999999999999E-3]
[null,605,0.10158399999999999,4.2018918357825674E-3,null,null,null,null,null,null,null,null,null,null,null,null,null,null,null,null,null,null,null,null,null,null,null,null,null,null,null,null,null,null,null,null,null,null,null,null,null,null,null,null,null,605,0.56679999999999997,0.56699999999999995,0.56654000000000004,2.3120000000000002E-2,0.62700699999999998,0.59703700000000004,null,1.0456000000000001,0.56679999999999997,5.9999999999999995E-4,null,1.0891,0.59387800000000002,0,null,1.0456000000000001,0.56679999999999997,5.9999999999999995E-4,null,null,null,null,1.134757,0.62700659999999997,2.3347380000000001E-5,3.1048,0.19170000000000001,-2.0799999999999998E-3]
[null,606,0.114756,4.7467347171509713E-3,null,null,null,null,null,null,null,null,null,null,null,null,null,null,null,null,null,null,null,null,null,null,null,null,null,null,null,null,null,null,null,null,null,null,null,null,null,null,null,null,null,606,0.55403999999999998,0.55420000000000003,0.55383199999999999,2.1682E-2,0.61351500000000003,0.58343999999999996,null,1.0370000000000001,0.55403999999999998,5.4799999999999998E-4,null,1.0773759999999999,0.58069499999999996,0,null,1.0370000000000001,0.55403999999999998,5.4799999999999998E-4,null,null,null,null,1.1272979999999999,0.61351480000000003,2.150221E-5,3.07308,0.1807,-1.964E-3]
[null,607,0.12792799999999999,5.2915775985193751E-3,null,null,null,null,null,null,null,null,null,null,null,null,null,null,null,null,null,null,null,null,null,null,null,null,null,null,null,null,null,null,null,null,null,null,null,null,null,null,null,null,null,607,0.54127999999999998,0.54139999999999999,0.54112400000000005,2.0244000000000002E-2,0.59984899999999997,0.56970399999999999,null,1.0284,0.54127999999999998,4.9600000000000002E-4,null,1.065652,0.56751200000000002,0,null,1.0284,0.54127999999999998,4.9600000000000002E-4,null,null,null,null,1.1183419999999999,0.59984939999999998,1.981268E-5,3.0413600000000001,0.16969999999999999,-1.8479999999999998E-3]
[null,608,0.14364399999999999,5.9416497761374931E-3,null,null,null,null,null,null,null,null,null,null,null,null,null,null,null,null,null,null,null,null,null,null,null,null,null,null,null,null,null,null,null,null,null,null,null,null,null,null,null,null,null,608,0.52851999999999999,0.52859999999999996,0.528416,1.8806E-2,0.58606800000000003,0.55588899999999997,null,1.0198,0.52851999999999999,4.44E-4,null,1.053928,0.55432899999999996,0,null,1.0198,0.52851999999999999,4.44E-4,null,null,null,null,1.108033,0.58606820000000004,1.8264999999999999E-5,3.0096400000000001,0.15870000000000001,-1.732E-3]
[null,609,0.15936,6.591721953755611E-3,null,null,null,null,null,null,null,null,null,null,null,null,null,null,null,null,null,null,null,null,null,null,null,null,null,null,null,null,null,null,null,null,null,null,null,null,null,null,null,null,null,609,0.51576,0.51580000000000004,0.51570800000000006,1.7368000000000001E-2,0.57222600000000001,0.54204699999999995,null,1.0111999999999999,0.51576,3.9199999999999999E-4,null,1.0422040000000001,0.54114600000000002,0,null,1.0111999999999999,0.51576,3.9199999999999999E-4,null,null,null,null,1.0965149999999999,0.57222609999999996,1.684667E-5,2.9779200000000001,0.1477,-1.616E-3]
[null,610,0.19470000000000001,8.0535157153377099E-3,null,null,null,null,null,null,null,null,null,null,null,null,null,null,null,null,null,null,null,null,null,null,null,null,null,null,null,null,null,null,null,null,null,null,null,null,null,null,null,null,null,610,0.503,0.503,0.503,1.593E-2,0.55837499999999995,0.52822999999999998,null,1.0025999999999999,0.503,3.4000000000000002E-4,null,1.0304800000000001,0.52796299999999996,0,null,1.0025999999999999,0.503,3.4000000000000002E-4,null,null,null,null,1.083928,0.55837460000000005,1.5546310000000001E-5,2.9462000000000002,0.13669999999999999,-1.5E-3]
[null,611,0.21630199999999999,8.9470547316845266E-3,null,null,null,null,null,null,null,null,null,null,null,null,null,null,null,null,null,null,null,null,null,null,null,null,null,null,null,null,null,null,null,null,null,null,null,null,null,null,null,null,null,611,0.49064000000000002,0.49080000000000001,0.49074400000000001,1.4919999999999999E-2,0.54455399999999998,0.51447500000000002,null,0.98975999999999997,0.49064000000000002,3.2000000000000003E-4,null,1.014532,0.51473720000000001,0,null,0.98975999999999997,0.49064000000000002,3.2000000000000003E-4,null,null,null,null,1.070387,0.54455350000000002,1.4353599999999999E-5,2.9008400000000001,0.12811999999999998,-1.4060000000000001E-3]
[null,612,0.237904,9.8405937480313434E-3,null,null,null,null,null,null,null,null,null,null,null,null,null,null,null,null,null,null,null,null,null,null,null,null,null,null,null,null,null,null,null,null,null,null,null,null,null,null,null,null,null,612,0.47827999999999998,0.47860000000000003,0.47848800000000002,1.391E-2,0.53076699999999999,0.50078800000000001,null,0.97692000000000001,0.47827999999999998,3.0000000000000003E-4,null,0.99858400000000003,0.50151139999999994,0,null,0.97692000000000001,0.47827999999999998,3.0000000000000003E-4,null,null,null,null,1.0559339999999999,0.53076730000000005,1.325915E-5,2.85548,0.11953999999999999,-1.312E-3]
[null,613,0.263102,1.0882876690995285E-2,null,null,null,null,null,null,null,null,null,null,null,null,null,null,null,null,null,null,null,null,null,null,null,null,null,null,null,null,null,null,null,null,null,null,null,null,null,null,null,null,null,613,0.46592,0.46639999999999998,0.46623199999999998,1.29E-2,0.51701299999999994,0.48716900000000002,null,0.96407999999999994,0.46592,2.8000000000000003E-4,null,0.98263600000000006,0.48828559999999999,0,null,0.96407999999999994,0.46592,2.8000000000000003E-4,null,null,null,null,1.040592,0.51701299999999994,1.2254429999999999E-5,2.81012,0.11095999999999999,-1.2180000000000001E-3]
[null,614,0.28830099999999997,1.1925200997676307E-2,null,null,null,null,null,null,null,null,null,null,null,null,null,null,null,null,null,null,null,null,null,null,null,null,null,null,null,null,null,null,null,null,null,null,null,null,null,null,null,null,null,614,0.45355999999999996,0.45419999999999999,0.45397599999999999,1.1890000000000001E-2,0.50328899999999999,0.47361599999999998,null,0.95123999999999997,0.45355999999999996,2.6000000000000003E-4,null,0.96668799999999999,0.47505980000000003,0,null,0.95123999999999997,0.45355999999999996,2.6000000000000003E-4,null,null,null,null,1.0243850000000001,0.50328890000000004,1.133169E-5,2.7647599999999999,0.10238,-1.124E-3]
[null,615,0.346553,1.4334720244979091E-2,null,null,null,null,null,null,null,null,null,null,null,null,null,null,null,null,null,null,null,null,null,null,null,null,null,null,null,null,null,null,null,null,null,null,null,null,null,null,null,null,null,615,0.44119999999999998,0.442,0.44172,1.0880000000000001E-2,0.489595,0.46013100000000001,null,0.93840000000000001,0.44119999999999998,2.4000000000000001E-4,null,0.95074000000000003,0.46183400000000002,0,null,0.93840000000000001,0.44119999999999998,2.4000000000000001E-4,null,null,null,null,1.007344,0.489595,1.0483869999999999E-5,2.7193999999999998,9.3799999999999994E-2,-1.0300000000000001E-3]
[null,616,0.380187,1.5725947505223922E-2,null,null,null,null,null,null,null,null,null,null,null,null,null,null,null,null,null,null,null,null,null,null,null,null,null,null,null,null,null,null,null,null,null,null,null,null,null,null,null,null,null,616,0.42915999999999999,0.42980000000000002,0.42957600000000001,1.0178000000000001E-2,0.47594399999999998,0.44672600000000001,null,0.92161999999999999,0.42915999999999999,2.3000000000000001E-4,null,0.9318514,0.44907859999999999,0,null,0.92161999999999999,0.42915999999999999,2.3000000000000001E-4,null,null,null,null,0.98952680000000004,0.47594419999999998,0,2.6660399999999997,8.725999999999999E-2,-9.6000000000000013E-4]
[null,617,0.41382000000000002,{"$f":"C269/$C$11","v":1.7117133401751673E-2},null,null,null,null,null,null,null,null,null,null,null,null,null,null,null,null,null,null,null,null,null,null,null,null,null,null,null,null,null,null,null,null,null,null,null,null,null,null,null,null,null,617,0.41711999999999999,0.41760000000000003,0.41743200000000003,9.476E-3,0.46239599999999997,0.43345899999999998,null,0.90483999999999998,0.41711999999999999,2.2000000000000001E-4,null,0.91296279999999996,0.43632320000000002,0,null,0.90483999999999998,0.41711999999999999,2.2000000000000001E-4,null,null,null,null,0.97112129999999997,0.46239580000000002,0,2.6126799999999997,8.072E-2,-8.9000000000000006E-4]
[null,618,0.45212999999999998,1.8701777403059262E-2,null,null,null,null,null,null,null,null,null,null,null,null,null,null,null,null,null,null,null,null,null,null,null,null,null,null,null,null,null,null,null,null,null,null,null,null,null,null,null,null,null,618,0.40508,0.40539999999999998,0.40528799999999998,8.7740000000000005E-3,0.449015,0.42039199999999999,null,0.88806000000000007,0.40508,2.1000000000000001E-4,null,0.89407420000000004,0.42356779999999999,0,null,0.88806000000000007,0.40508,2.1000000000000001E-4,null,null,null,null,0.95232570000000005,0.44901540000000001,0,2.55932,7.4179999999999996E-2,-8.2000000000000009E-4]
[null,619,0.49043900000000001,2.0286380040649775E-2,null,null,null,null,null,null,null,null,null,null,null,null,null,null,null,null,null,null,null,null,null,null,null,null,null,null,null,null,null,null,null,null,null,null,null,null,null,null,null,null,null,619,0.39304,0.39319999999999999,0.39314399999999999,8.0719999999999993E-3,0.43586200000000003,0.40758100000000003,null,0.87128000000000005,0.39304,2.0000000000000001E-4,null,0.87518560000000001,0.41081240000000002,0,null,0.87128000000000005,0.39304,2.0000000000000001E-4,null,null,null,null,0.93332479999999995,0.43586219999999998,0,2.50596,6.7640000000000006E-2,-7.5000000000000002E-4]
[null,620,0.57560199999999995,2.3809038278273322E-2,null,null,null,null,null,null,null,null,null,null,null,null,null,null,null,null,null,null,null,null,null,null,null,null,null,null,null,null,null,null,null,null,null,null,null,null,null,null,null,null,null,620,0.38100000000000001,0.38100000000000001,0.38100000000000001,7.3699999999999998E-3,0.42298999999999998,0.39507599999999998,null,0.85450000000000004,0.38100000000000001,1.9000000000000001E-4,null,0.85629699999999997,0.39805699999999999,0,null,0.85450000000000004,0.38100000000000001,1.9000000000000001E-4,null,null,null,null,0.91428770000000004,0.42298970000000002,0,2.4525999999999999,6.1100000000000002E-2,-6.8000000000000005E-4]
[null,621,0.62228700000000003,2.5740103410119966E-2,null,null,null,null,null,null,null,null,null,null,null,null,null,null,null,null,null,null,null,null,null,null,null,null,null,null,null,null,null,null,null,null,null,null,null,null,null,null,null,null,null,621,0.36899999999999999,0.36940000000000001,0.36890400000000001,6.8899999999999994E-3,0.41041499999999997,0.38288899999999998,null,0.83388000000000007,0.36899999999999999,1.7200000000000001E-4,null,0.83602359999999998,0.38635639999999999,0,null,0.83388000000000007,0.36899999999999999,1.7200000000000001E-4,null,null,null,null,0.89527979999999996,0.41041519999999998,0,2.39608,5.6300000000000003E-2,-6.3240000000000008E-4]
[null,622,0.66897099999999998,2.7671127178249526E-2,null,null,null,null,null,null,null,null,null,null,null,null,null,null,null,null,null,null,null,null,null,null,null,null,null,null,null,null,null,null,null,null,null,null,null,null,null,null,null,null,null,622,0.35699999999999998,0.35780000000000001,0.35680800000000001,6.4099999999999999E-3,0.398036,0.370919,null,0.81325999999999998,0.35699999999999998,1.54E-4,null,0.81575019999999998,0.37465579999999998,0,null,0.81325999999999998,0.35699999999999998,1.54E-4,null,null,null,null,0.87601569999999995,0.39803559999999999,0,2.3395600000000001,5.1500000000000004E-2,-5.8480000000000001E-4]
[null,623,0.717364,2.9672841538867595E-2,null,null,null,null,null,null,null,null,null,null,null,null,null,null,null,null,null,null,null,null,null,null,null,null,null,null,null,null,null,null,null,null,null,null,null,null,null,null,null,null,null,623,0.34500000000000003,0.34620000000000001,0.34471200000000002,5.9299999999999995E-3,0.38573000000000002,0.359045,null,0.79264000000000001,0.34500000000000003,1.36E-4,null,0.79547679999999998,0.36295520000000003,0,null,0.79264000000000001,0.34500000000000003,1.36E-4,null,null,null,null,0.8561607,0.38573000000000002,0,2.2830399999999997,4.6699999999999998E-2,-5.3720000000000005E-4]
[null,624,0.76575700000000002,3.167455589948566E-2,null,null,null,null,null,null,null,null,null,null,null,null,null,null,null,null,null,null,null,null,null,null,null,null,null,null,null,null,null,null,null,null,null,null,null,null,null,null,null,null,null,624,0.33300000000000002,0.33460000000000001,0.33261600000000002,5.45E-3,0.37339099999999997,0.34716200000000003,null,0.77201999999999993,0.33300000000000002,1.1800000000000001E-4,null,0.77520339999999999,0.35125460000000003,0,null,0.77201999999999993,0.33300000000000002,1.1800000000000001E-4,null,null,null,null,0.83542349999999999,0.37339070000000002,0,2.2265199999999998,4.19E-2,-4.8959999999999997E-4]
[null,625,0.85724800000000001,3.5458963738786958E-2,null,null,null,null,null,null,null,null,null,null,null,null,null,null,null,null,null,null,null,null,null,null,null,null,null,null,null,null,null,null,null,null,null,null,null,null,null,null,null,null,null,625,0.32100000000000001,0.32300000000000001,0.32052000000000003,4.9699999999999996E-3,0.36092400000000002,0.335179,null,0.75139999999999996,0.32100000000000001,1E-4,null,0.75492999999999999,0.33955400000000002,0,null,0.75139999999999996,0.32100000000000001,1E-4,null,null,null,null,0.81355650000000002,0.36092449999999998,0,2.17,3.7100000000000001E-2,-4.4200000000000001E-4]
[null,626,0.89653300000000002,3.7083937364246859E-2,null,null,null,null,null,null,null,null,null,null,null,null,null,null,null,null,null,null,null,null,null,null,null,null,null,null,null,null,null,null,null,null,null,null,null,null,null,null,null,null,null,626,0.30980000000000002,0.31140000000000001,0.30941600000000002,4.6429999999999996E-3,0.34828599999999998,0.32305600000000001,null,0.72959999999999992,0.30980000000000002,1.8000000000000001E-4,null,0.73343740000000002,0.32834180000000002,0,null,0.72959999999999992,0.30980000000000002,1.8000000000000001E-4,null,null,null,null,0.79045650000000001,0.34828599999999998,0,2.1031599999999999,3.3980000000000003E-2,-4.08E-4]
[null,627,0.93581700000000001,3.870886962598967E-2,null,null,null,null,null,null,null,null,null,null,null,null,null,null,null,null,null,null,null,null,null,null,null,null,null,null,null,null,null,null,null,null,null,null,null,null,null,null,null,null,null,627,0.29860000000000003,0.29980000000000001,0.29831200000000002,4.3159999999999995E-3,0.33556999999999998,0.310886,null,0.70779999999999998,0.29860000000000003,2.6000000000000003E-4,null,0.71194480000000004,0.31712960000000001,0,null,0.70779999999999998,0.29860000000000003,2.6000000000000003E-4,null,null,null,null,0.76643640000000002,0.33557019999999999,0,2.0363199999999999,3.0859999999999999E-2,-3.7399999999999998E-4]
[null,628,0.96132499999999999,3.9763975321248195E-2,null,null,null,null,null,null,null,null,null,null,null,null,null,null,null,null,null,null,null,null,null,null,null,null,null,null,null,null,null,null,null,null,null,null,null,null,null,null,null,null,null,628,0.28739999999999999,0.28820000000000001,0.28720800000000002,3.9889999999999995E-3,0.32289600000000002,0.29878399999999999,null,0.68599999999999994,0.28739999999999999,3.4000000000000002E-4,null,0.69045219999999996,0.30591740000000001,0,null,0.68599999999999994,0.28739999999999999,3.4000000000000002E-4,null,null,null,null,0.74187769999999997,0.32289630000000002,0,1.9694799999999999,2.7740000000000001E-2,-3.4000000000000002E-4]
[null,629,0.98683399999999999,4.0819122380223796E-2,null,null,null,null,null,null,null,null,null,null,null,null,null,null,null,null,null,null,null,null,null,null,null,null,null,null,null,null,null,null,null,null,null,null,null,null,null,null,null,null,null,629,0.2762,0.27660000000000001,0.27610400000000002,3.6619999999999999E-3,0.31036999999999998,0.28685300000000002,null,0.66420000000000001,0.2762,4.2000000000000002E-4,null,0.66895959999999999,0.2947052,0,null,0.66420000000000001,0.2762,4.2000000000000002E-4,null,null,null,null,0.71712189999999998,0.31037039999999999,0,1.9026400000000001,2.462E-2,-3.0600000000000001E-4]
[null,630,1,4.1363717079289722E-2,null,null,null,null,null,null,null,null,null,null,null,null,null,null,null,null,null,null,null,null,null,null,null,null,null,null,null,null,null,null,null,null,null,null,null,null,null,null,null,null,null,630,0.26500000000000001,0.26500000000000001,0.26500000000000001,3.3349999999999999E-3,0.29808600000000002,0.27518100000000001,null,0.64239999999999997,0.26500000000000001,5.0000000000000001E-4,null,0.64746700000000001,0.28349299999999999,0,null,0.64239999999999997,0.26500000000000001,5.0000000000000001E-4,null,null,null,null,0.69247170000000002,0.29808649999999998,0,1.8358000000000001,2.1499999999999998E-2,-2.72E-4]
[null,631,0.986788,4.0817219649238151E-2,null,null,null,null,null,null,null,null,null,null,null,null,null,null,null,null,null,null,null,null,null,null,null,null,null,null,null,null,null,null,null,null,null,null,null,null,null,null,null,null,null,631,0.25540000000000002,0.25600000000000001,0.25540400000000002,3.1149999999999997E-3,0.28611599999999998,0.26383400000000001,null,0.62229999999999996,0.25540000000000002,4.6000000000000001E-4,null,0.62499559999999998,0.2724452,0,null,0.62229999999999996,0.25540000000000002,4.6000000000000001E-4,null,null,null,null,0.66815999999999998,0.28611599999999998,0,1.7722200000000001,1.9439999999999999E-2,-2.4580000000000001E-4]
[null,632,0.973576,4.0270722219186574E-2,null,null,null,null,null,null,null,null,null,null,null,null,null,null,null,null,null,null,null,null,null,null,null,null,null,null,null,null,null,null,null,null,null,null,null,null,null,null,null,null,null,632,0.24580000000000002,0.247,0.245808,2.895E-3,0.274482,0.25283299999999997,null,0.60219999999999996,0.24580000000000002,4.2000000000000002E-4,null,0.60252419999999995,0.2613974,0,null,0.60219999999999996,0.24580000000000002,4.2000000000000002E-4,null,null,null,null,0.64426969999999995,0.27448220000000001,0,1.7086400000000002,1.738E-2,-2.196E-4]
[null,633,0.94117499999999998,3.8930496422100509E-2,null,null,null,null,null,null,null,null,null,null,null,null,null,null,null,null,null,null,null,null,null,null,null,null,null,null,null,null,null,null,null,null,null,null,null,null,null,null,null,null,null,633,0.23619999999999999,0.23800000000000002,0.23621200000000001,2.6749999999999999E-3,0.26319500000000001,0.24218300000000001,null,0.58210000000000006,0.23619999999999999,3.7999999999999997E-4,null,0.58005280000000004,0.25034960000000001,0,null,0.58210000000000006,0.23619999999999999,3.7999999999999997E-4,null,null,null,null,0.62084499999999998,0.26319530000000002,0,1.64506,1.5319999999999999E-2,-1.9340000000000001E-4]
[null,634,0.90877399999999997,3.7590270625014438E-2,null,null,null,null,null,null,null,null,null,null,null,null,null,null,null,null,null,null,null,null,null,null,null,null,null,null,null,null,null,null,null,null,null,null,null,null,null,null,null,null,null,634,0.2266,0.22900000000000001,0.22661599999999998,2.4550000000000002E-3,0.25226300000000001,0.23189000000000001,null,0.56200000000000006,0.2266,3.3999999999999997E-4,null,0.5575814,0.23930180000000001,0,null,0.56200000000000006,0.2266,3.3999999999999997E-4,null,null,null,null,0.59792429999999996,0.25226280000000001,0,1.58148,1.3259999999999999E-2,-1.672E-4]
[null,635,0.81094299999999997,3.3543616819430445E-2,null,null,null,null,null,null,null,null,null,null,null,null,null,null,null,null,null,null,null,null,null,null,null,null,null,null,null,null,null,null,null,null,null,null,null,null,null,null,null,null,null,635,0.217,0.22,0.21701999999999999,2.235E-3,0.24168999999999999,0.22195599999999999,null,0.54190000000000005,0.217,2.9999999999999997E-4,null,0.53510999999999997,0.22825400000000001,0,null,0.54190000000000005,0.217,2.9999999999999997E-4,null,null,null,null,0.57554099999999997,0.24169019999999999,0,1.5179,1.12E-2,-1.4100000000000001E-4]
[null,636,0.75267499999999998,3.1133435752654391E-2,null,null,null,null,null,null,null,null,null,null,null,null,null,null,null,null,null,null,null,null,null,null,null,null,null,null,null,null,null,null,null,null,null,null,null,null,null,null,null,null,null,636,0.20860000000000001,0.21099999999999999,0.208616,2.0874000000000001E-3,0.23148099999999999,0.21238299999999999,null,0.52310000000000001,0.20860000000000001,2.7999999999999998E-4,null,0.51440140000000001,0.21856880000000001,0,null,0.52310000000000001,0.20860000000000001,2.7999999999999998E-4,null,null,null,null,0.55372960000000004,0.23148089999999999,0,1.46288,9.8399999999999998E-3,-1.2378000000000001E-4]
[null,637,0.694407,2.872325468587834E-2,null,null,null,null,null,null,null,null,null,null,null,null,null,null,null,null,null,null,null,null,null,null,null,null,null,null,null,null,null,null,null,null,null,null,null,null,null,null,null,null,null,637,0.20019999999999999,0.20199999999999999,0.200212,1.9398E-3,0.221638,0.20316999999999999,null,0.50430000000000008,0.20019999999999999,2.5999999999999998E-4,null,0.49369279999999999,0.2088836,0,null,0.50430000000000008,0.20019999999999999,2.5999999999999998E-4,null,null,null,null,0.53254120000000005,0.2216378,0,1.4078599999999999,8.4799999999999997E-3,-1.0656000000000001E-4]
[null,638,0.631436,2.6118540057678385E-2,null,null,null,null,null,null,null,null,null,null,null,null,null,null,null,null,null,null,null,null,null,null,null,null,null,null,null,null,null,null,null,null,null,null,null,null,null,null,null,null,null,638,0.1918,0.193,0.19180799999999998,1.7922000000000001E-3,0.21216199999999999,0.19431799999999999,null,0.48550000000000004,0.1918,2.4000000000000001E-4,null,0.47298419999999997,0.1991984,0,null,0.48550000000000004,0.1918,2.4000000000000001E-4,null,null,null,null,0.51202179999999997,0.2121622,0,1.35284,7.1200000000000005E-3,-8.9340000000000009E-5]
[null,639,0.56846600000000003,2.3513866793195514E-2,null,null,null,null,null,null,null,null,null,null,null,null,null,null,null,null,null,null,null,null,null,null,null,null,null,null,null,null,null,null,null,null,null,null,null,null,null,null,null,null,null,639,0.18339999999999998,0.184,0.18340399999999998,1.6446E-3,0.20305400000000001,0.18582499999999999,null,0.4667,0.18339999999999998,2.2000000000000001E-4,null,0.4522756,0.18951319999999999,0,null,0.4667,0.18339999999999998,2.2000000000000001E-4,null,null,null,null,0.49220700000000001,0.20305419999999999,0,1.29782,5.7600000000000004E-3,-7.2120000000000007E-5]
[null,640,0.44927699999999998,1.8583766718232048E-2,null,null,null,null,null,null,null,null,null,null,null,null,null,null,null,null,null,null,null,null,null,null,null,null,null,null,null,null,null,null,null,null,null,null,null,null,null,null,null,null,null,640,0.17499999999999999,0.17499999999999999,0.17499999999999999,1.4970000000000001E-3,0.19431200000000001,0.17768800000000001,null,0.44790000000000002,0.17499999999999999,2.0000000000000001E-4,null,0.43156699999999998,0.17982799999999999,0,null,0.44790000000000002,0.17499999999999999,2.0000000000000001E-4,null,null,null,null,0.4731224,0.1943124,0,1.2427999999999999,4.4000000000000003E-3,-5.49E-5]
[null,641,0.396872,1.641610112469187E-2,null,null,null,null,null,null,null,null,null,null,null,null,null,null,null,null,null,null,null,null,null,null,null,null,null,null,null,null,null,null,null,null,null,null,null,null,null,null,null,null,null,641,0.16763999999999998,0.16819999999999999,0.167624,1.3986000000000001E-3,0.185923,0.16989299999999999,null,0.43048000000000003,0.1676,1.8000000000000001E-4,null,0.41399159999999996,0.17190459999999999,0,null,0.43048000000000003,0.1676,1.8000000000000001E-4,null,null,null,null,0.45474170000000003,0.1859227,0,1.1956399999999998,3.5356000000000003E-3,-4.4360000000000002E-5]
[null,642,0.34446700000000002,1.4248435531151694E-2,null,null,null,null,null,null,null,null,null,null,null,null,null,null,null,null,null,null,null,null,null,null,null,null,null,null,null,null,null,null,null,null,null,null,null,null,null,null,null,null,null,642,0.16027999999999998,0.16139999999999999,0.160248,1.3002000000000001E-3,0.17782700000000001,0.162382,null,0.41306000000000004,0.16020000000000001,1.6000000000000001E-4,null,0.3964162,0.16398119999999999,0,null,0.41306000000000004,0.16020000000000001,1.6000000000000001E-4,null,null,null,null,0.43687189999999998,0.1778274,0,1.1484799999999999,2.6712000000000003E-3,-3.3819999999999998E-5]
[null,643,0.30215900000000001,1.2498419388961105E-2,null,null,null,null,null,null,null,null,null,null,null,null,null,null,null,null,null,null,null,null,null,null,null,null,null,null,null,null,null,null,null,null,null,null,null,null,null,null,null,null,null,643,0.15292,0.15459999999999999,0.15287199999999998,1.2018E-3,0.169965,0.15509899999999999,null,0.39563999999999999,0.15279999999999999,1.4000000000000001E-4,null,0.37884079999999998,0.1560578,0,null,0.39563999999999999,0.15279999999999999,1.4000000000000001E-4,null,null,null,null,0.41931210000000002,0.16996539999999999,0,1.1013199999999999,1.8067999999999999E-3,-2.3280000000000001E-5]
[null,644,0.259851,1.0748403246770514E-2,null,null,null,null,null,null,null,null,null,null,null,null,null,null,null,null,null,null,null,null,null,null,null,null,null,null,null,null,null,null,null,null,null,null,null,null,null,null,null,null,null,644,0.14555999999999999,0.14779999999999999,0.14549599999999999,1.1034E-3,0.16228400000000001,0.14799200000000001,null,0.37822,0.1454,1.2E-4,null,0.36126540000000001,0.1481344,0,null,0.37822,0.1454,1.2E-4,null,null,null,null,0.40189799999999998,0.16228409999999999,0,1.05416,9.4239999999999992E-4,-1.2739999999999997E-5]
[null,645,0.19476499999999999,8.0562043569478627E-3,null,null,null,null,null,null,null,null,null,null,null,null,null,null,null,null,null,null,null,null,null,null,null,null,null,null,null,null,null,null,null,null,null,null,null,null,null,null,null,null,null,645,0.13819999999999999,0.14099999999999999,0.13811999999999999,1.005E-3,0.15473999999999999,0.14102000000000001,null,0.36080000000000001,0.13800000000000001,1E-4,null,0.34369,0.140211,0,null,0.36080000000000001,0.13800000000000001,1E-4,null,null,null,null,0.38449860000000002,0.15473970000000001,0,1.0069999999999999,7.7999999999999999E-5,-2.2000000000000001E-6]
[null,646,0.17038500000000001,7.0477569345547804E-3,null,null,null,null,null,null,null,null,null,null,null,null,null,null,null,null,null,null,null,null,null,null,null,null,null,null,null,null,null,null,null,null,null,null,null,null,null,null,null,null,null,646,0.13195999999999999,0.13419999999999999,0.13189599999999999,9.3940000000000007E-4,0.14730799999999999,0.134161,null,0.34533999999999998,0.1318,8.0000000000000007E-5,null,0.32861780000000002,0.13369539999999999,0,null,0.34533999999999998,0.1318,8.0000000000000007E-5,null,null,null,null,0.36705919999999997,0.1473081,0,0.96213999999999988,-2.1119999999999998E-4,2.9799999999999994E-6]
[null,647,0.146006,6.0393508758787755E-3,null,null,null,null,null,null,null,null,null,null,null,null,null,null,null,null,null,null,null,null,null,null,null,null,null,null,null,null,null,null,null,null,null,null,null,null,null,null,null,null,null,647,0.12572,0.12739999999999999,0.12567200000000001,8.7379999999999999E-4,0.140017,0.12744,null,0.32988000000000001,0.12560000000000002,6.0000000000000002E-5,null,0.31354559999999998,0.12717980000000001,0,null,0.32988000000000001,0.12560000000000002,6.0000000000000002E-5,null,null,null,null,0.34971669999999999,0.1400169,0,0.91727999999999987,-5.0040000000000002E-4,8.1599999999999998E-6]
[null,648,0.12756200000000001,5.2764384780683562E-3,null,null,null,null,null,null,null,null,null,null,null,null,null,null,null,null,null,null,null,null,null,null,null,null,null,null,null,null,null,null,null,null,null,null,null,null,null,null,null,null,null,648,0.11947999999999999,0.1206,0.119448,8.0820000000000002E-4,0.13290099999999999,0.120889,null,0.31441999999999998,0.11940000000000001,4.0000000000000003E-5,null,0.2984734,0.1206642,0,null,0.31441999999999998,0.11940000000000001,4.0000000000000003E-5,null,null,null,null,0.3326305,0.1329013,0,0.87241999999999997,-7.8959999999999989E-4,1.3339999999999998E-5]
[null,649,0.10911700000000001,4.5134847165408569E-3,null,null,null,null,null,null,null,null,null,null,null,null,null,null,null,null,null,null,null,null,null,null,null,null,null,null,null,null,null,null,null,null,null,null,null,null,null,null,null,null,null,649,0.11323999999999999,0.1138,0.11322399999999999,7.4259999999999994E-4,0.12599099999999999,0.114534,null,0.29896,0.1132,2.0000000000000002E-5,null,0.28340119999999996,0.1141486,0,null,0.29896,0.1132,2.0000000000000002E-5,null,null,null,null,0.3159341,0.1259913,0,0.82755999999999996,-1.0788E-3,1.8519999999999999E-5]
[null,650,8.1778000000000003E-2,3.3826420553101553E-3,null,null,null,null,null,null,null,null,null,null,null,null,null,null,null,null,null,null,null,null,null,null,null,null,null,null,null,null,null,null,null,null,null,null,null,null,null,null,null,null,null,650,0.107,0.107,0.107,6.7699999999999998E-4,0.119312,0.1084,null,0.28349999999999997,0.107,0,null,0.26832899999999998,0.10763300000000001,0,null,0.28349999999999997,0.107,0,null,null,null,null,0.29973739999999999,0.119312,0,0.78269999999999995,-1.3680000000000001E-3,2.37E-5]
[null,651,7.1568999999999994E-2,2.960359867647686E-3,null,null,null,null,null,null,null,null,null,null,null,null,null,null,null,null,null,null,null,null,null,null,null,null,null,null,null,null,null,null,null,null,null,null,null,null,null,null,null,null,null,651,0.10192,0.10239999999999999,0.1019304,6.334E-4,0.112882,0.10250099999999999,null,0.27054,0.10192,0,null,0.25552320000000001,0.1023438,0,null,0.27054,0.10192,0,null,null,null,null,0.28411890000000001,0.112882,0,0.74483999999999995,-1.4920000000000001E-3,2.4680000000000001E-5]
[null,652,6.1360999999999999E-2,2.5381190437022967E-3,null,null,null,null,null,null,null,null,null,null,null,null,null,null,null,null,null,null,null,null,null,null,null,null,null,null,null,null,null,null,null,null,null,null,null,null,null,null,null,null,null,652,9.6839999999999996E-2,9.7799999999999998E-2,9.6860799999999997E-2,5.8980000000000002E-4,0.106711,9.6845899999999999E-2,null,0.25757999999999998,9.6839999999999996E-2,0,null,0.2427174,9.7054600000000005E-2,0,null,0.25757999999999998,9.6839999999999996E-2,0,null,null,null,null,0.26910529999999999,0.1067113,0,0.70697999999999994,-1.6160000000000002E-3,2.5660000000000002E-5]
[null,653,5.3920000000000003E-2,2.2303316249153021E-3,null,null,null,null,null,null,null,null,null,null,null,null,null,null,null,null,null,null,null,null,null,null,null,null,null,null,null,null,null,null,null,null,null,null,null,null,null,null,null,null,null,653,9.1760000000000008E-2,9.3200000000000005E-2,9.1791200000000003E-2,5.4619999999999994E-4,0.10080500000000001,9.1439400000000004E-2,null,0.24462,9.1760000000000008E-2,0,null,0.22991159999999999,9.1765399999999997E-2,0,null,0.24462,9.1760000000000008E-2,0,null,null,null,null,0.25470769999999998,0.1008052,0,0.66911999999999994,-1.7400000000000002E-3,2.6640000000000002E-5]
[null,654,4.6477999999999998E-2,1.9225028424112278E-3,null,null,null,null,null,null,null,null,null,null,null,null,null,null,null,null,null,null,null,null,null,null,null,null,null,null,null,null,null,null,null,null,null,null,null,null,null,null,null,null,null,654,8.6680000000000007E-2,8.8599999999999998E-2,8.6721599999999996E-2,5.0259999999999997E-4,9.5166500000000001E-2,8.6283200000000004E-2,null,0.23166,8.6680000000000007E-2,0,null,0.21710580000000002,8.6476200000000003E-2,0,null,0.23166,8.6680000000000007E-2,0,null,null,null,null,0.2409319,9.5166529999999999E-2,0,0.63126000000000004,-1.8640000000000002E-3,2.762E-5]
[null,655,3.6125999999999998E-2,1.4943056432064204E-3,null,null,null,null,null,null,null,null,null,null,null,null,null,null,null,null,null,null,null,null,null,null,null,null,null,null,null,null,null,null,null,null,null,null,null,null,null,null,null,null,null,655,8.1600000000000006E-2,8.3999999999999991E-2,8.1652000000000002E-2,4.5899999999999999E-4,8.9795899999999998E-2,8.1376900000000002E-2,null,0.21870000000000001,8.1600000000000006E-2,0,null,0.20430000000000001,8.1186999999999995E-2,0,null,0.21870000000000001,8.1600000000000006E-2,0,null,null,null,null,0.22777919999999999,8.9795940000000005E-2,0,0.59340000000000004,-1.9880000000000002E-3,2.8600000000000001E-5]
[null,656,3.1877999999999997E-2,1.3185925730535978E-3,null,null,null,null,null,null,null,null,null,null,null,null,null,null,null,null,null,null,null,null,null,null,null,null,null,null,null,null,null,null,null,null,null,null,null,null,null,null,null,null,null,656,7.7480000000000007E-2,7.9399999999999998E-2,7.7521599999999996E-2,4.2977999999999999E-4,8.4690399999999999E-2,7.6717099999999996E-2,null,0.20794000000000001,7.7480000000000007E-2,0,null,0.1939536,7.7005799999999999E-2,0,null,0.20794000000000001,7.7480000000000007E-2,0,null,null,null,null,0.21524309999999999,8.4690440000000006E-2,0,0.56356000000000006,-2.0240000000000002E-3,2.8100000000000002E-5]
[null,657,2.7629999999999998E-2,1.1428795029007749E-3,null,null,null,null,null,null,null,null,null,null,null,null,null,null,null,null,null,null,null,null,null,null,null,null,null,null,null,null,null,null,null,null,null,null,null,null,null,null,null,null,null,657,7.3360000000000009E-2,7.4800000000000005E-2,7.3391200000000004E-2,4.0056E-4,7.9840099999999997E-2,7.2293999999999997E-2,null,0.19717999999999999,7.3360000000000009E-2,0,null,0.1836072,7.2824600000000003E-2,0,null,0.19717999999999999,7.3360000000000009E-2,0,null,null,null,null,0.20330100000000001,7.9840090000000002E-2,0,0.53371999999999997,-2.0600000000000002E-3,2.76E-5]
[null,658,2.1985999999999999E-2,9.0942268370526385E-4,null,null,null,null,null,null,null,null,null,null,null,null,null,null,null,null,null,null,null,null,null,null,null,null,null,null,null,null,null,null,null,null,null,null,null,null,null,null,null,null,null,658,6.9239999999999996E-2,7.0199999999999999E-2,6.9260799999999997E-2,3.7134000000000001E-4,7.5233700000000001E-2,6.8097000000000005E-2,null,0.18642,6.9239999999999996E-2,0,null,0.17326080000000002,6.8643399999999993E-2,0,null,0.18642,6.9239999999999996E-2,0,null,null,null,null,0.1919276,7.5233720000000004E-2,0,0.50387999999999999,-2.0959999999999998E-3,2.7100000000000001E-5]
[null,659,1.9418999999999999E-2,8.0324202196272712E-4,null,null,null,null,null,null,null,null,null,null,null,null,null,null,null,null,null,null,null,null,null,null,null,null,null,null,null,null,null,null,null,null,null,null,null,null,null,null,null,null,null,659,6.5119999999999997E-2,6.5599999999999992E-2,6.5130400000000005E-2,3.4212000000000001E-4,7.0860599999999996E-2,6.4115500000000006E-2,null,0.17565999999999998,6.5119999999999997E-2,0,null,0.16291440000000001,6.4462199999999997E-2,0,null,0.17565999999999998,6.5119999999999997E-2,0,null,null,null,null,0.1810987,7.0860610000000004E-2,0,0.47404000000000002,-2.1319999999999998E-3,2.6599999999999999E-5]
[null,660,1.6851999999999999E-2,6.9706136022019039E-4,null,null,null,null,null,null,null,null,null,null,null,null,null,null,null,null,null,null,null,null,null,null,null,null,null,null,null,null,null,null,null,null,null,null,null,null,null,null,null,null,null,660,6.0999999999999999E-2,6.0999999999999999E-2,6.0999999999999999E-2,3.1290000000000002E-4,6.6710400000000003E-2,6.0339799999999999E-2,null,0.16489999999999999,6.0999999999999999E-2,0,null,0.15256800000000001,6.0281000000000001E-2,0,null,0.16489999999999999,6.0999999999999999E-2,0,null,null,null,null,0.17079140000000001,6.6710450000000004E-2,0,0.44419999999999998,-2.1679999999999998E-3,2.6100000000000001E-5]
[null,661,1.5166000000000001E-2,6.2732213322450796E-4,null,null,null,null,null,null,null,null,null,null,null,null,null,null,null,null,null,null,null,null,null,null,null,null,null,null,null,null,null,null,null,null,null,null,null,null,null,null,null,null,null,661,5.7715999999999996E-2,5.8099999999999999E-2,5.7665399999999999E-2,2.9324E-4,6.2773599999999999E-2,5.6760499999999998E-2,null,0.15615999999999999,5.7715999999999996E-2,0,null,0.1444964,5.7044000000000004E-2,0,null,0.15615999999999999,5.7715999999999996E-2,0,null,null,null,null,0.16098419999999999,6.2773599999999999E-2,0,0.42102000000000001,-2.1355999999999997E-3,2.5380000000000001E-5]
[null,662,1.3480000000000001E-2,5.5758290622882553E-4,null,null,null,null,null,null,null,null,null,null,null,null,null,null,null,null,null,null,null,null,null,null,null,null,null,null,null,null,null,null,null,null,null,null,null,null,null,null,null,null,null,662,5.4432000000000001E-2,5.5199999999999999E-2,5.4330799999999999E-2,2.7357999999999999E-4,5.9041799999999998E-2,5.3369899999999998E-2,null,0.14742,5.4432000000000001E-2,0,null,0.13642480000000001,5.3807000000000001E-2,0,null,0.14742,5.4432000000000001E-2,0,null,null,null,null,0.15165770000000001,5.9041789999999997E-2,0,0.39783999999999997,-2.1031999999999999E-3,2.4660000000000001E-5]
[null,663,1.0292000000000001E-2,4.2571537618004991E-4,null,null,null,null,null,null,null,null,null,null,null,null,null,null,null,null,null,null,null,null,null,null,null,null,null,null,null,null,null,null,null,null,null,null,null,null,null,null,null,null,null,663,5.1147999999999999E-2,5.2299999999999999E-2,5.0996199999999998E-2,2.5392000000000004E-4,5.5507000000000001E-2,5.0160299999999998E-2,null,0.13868,5.1147999999999999E-2,0,null,0.1283532,5.0570000000000004E-2,0,null,0.13868,5.1147999999999999E-2,0,null,null,null,null,0.14279359999999999,5.5507029999999999E-2,0,0.37465999999999999,-2.0707999999999998E-3,2.3940000000000001E-5]
[null,664,9.6769999999999998E-3,4.0027669017628665E-4,null,null,null,null,null,null,null,null,null,null,null,null,null,null,null,null,null,null,null,null,null,null,null,null,null,null,null,null,null,null,null,null,null,null,null,null,null,null,null,null,null,664,4.7864000000000004E-2,4.9399999999999999E-2,4.7661599999999998E-2,2.3426000000000002E-4,5.2161399999999997E-2,4.7124100000000002E-2,null,0.12994,4.7864000000000004E-2,0,null,0.1202816,4.7333E-2,0,null,0.12994,4.7864000000000004E-2,0,null,null,null,null,0.13437370000000001,5.2161390000000002E-2,0,0.35148000000000001,-2.0384000000000001E-3,2.3220000000000001E-5]
[null,665,9.0609999999999996E-3,3.7479664045544421E-4,null,null,null,null,null,null,null,null,null,null,null,null,null,null,null,null,null,null,null,null,null,null,null,null,null,null,null,null,null,null,null,null,null,null,null,null,null,null,null,null,null,665,4.4580000000000002E-2,4.65E-2,4.4326999999999998E-2,2.1460000000000001E-4,4.8996999999999999E-2,4.4253800000000003E-2,null,0.1212,4.4580000000000002E-2,0,null,0.11221,4.4096000000000003E-2,0,null,0.1212,4.4580000000000002E-2,0,null,null,null,null,0.12638079999999999,4.8996989999999997E-2,0,0.32829999999999998,-2.006E-3,2.2500000000000001E-5]
[null,666,7.5719999999999997E-3,3.1320606572438178E-4,null,null,null,null,null,null,null,null,null,null,null,null,null,null,null,null,null,null,null,null,null,null,null,null,null,null,null,null,null,null,null,null,null,null,null,null,null,null,null,null,null,666,4.2064000000000004E-2,4.36E-2,4.1861599999999999E-2,2.0128E-4,4.6005799999999999E-2,4.1542099999999998E-2,null,0.11444,4.2064000000000004E-2,0,null,0.10602012000000001,4.1636880000000001E-2,0,null,0.11444,4.2064000000000004E-2,0,null,null,null,null,0.1187979,4.6005780000000003E-2,0,0.31051999999999996,-1.9331999999999999E-3,2.1639999999999999E-5]
[null,667,6.7980000000000002E-3,2.8119054870501156E-4,null,null,null,null,null,null,null,null,null,null,null,null,null,null,null,null,null,null,null,null,null,null,null,null,null,null,null,null,null,null,null,null,null,null,null,null,null,null,null,null,null,667,3.9548E-2,4.07E-2,3.9396199999999999E-2,1.8796000000000001E-4,4.3178800000000003E-2,3.8980399999999998E-2,null,0.10768,3.9548E-2,0,null,9.9830240000000001E-2,3.9177759999999999E-2,0,null,0.10768,3.9548E-2,0,null,null,null,null,0.11160879999999999,4.3178849999999998E-2,0,0.29274,-1.8603999999999999E-3,2.0780000000000001E-5]
[null,668,6.025E-3,2.4921639540272057E-4,null,null,null,null,null,null,null,null,null,null,null,null,null,null,null,null,null,null,null,null,null,null,null,null,null,null,null,null,null,null,null,null,null,null,null,null,null,null,null,null,null,668,3.7032000000000002E-2,3.78E-2,3.69308E-2,1.7463999999999999E-4,4.0507500000000002E-2,3.65609E-2,null,0.10092000000000001,3.7032000000000002E-2,0,null,9.3640360000000006E-2,3.6718640000000004E-2,0,null,0.10092000000000001,3.7032000000000002E-2,0,null,null,null,null,0.1047975,4.0507550000000003E-2,0,0.27495999999999998,-1.7875999999999999E-3,1.9919999999999999E-5]
[null,669,5.5970000000000004E-3,2.315127244927846E-4,null,null,null,null,null,null,null,null,null,null,null,null,null,null,null,null,null,null,null,null,null,null,null,null,null,null,null,null,null,null,null,null,null,null,null,null,null,null,null,null,null,669,3.4515999999999998E-2,3.49E-2,3.44654E-2,1.6132000000000001E-4,3.7983799999999998E-2,3.4276000000000001E-2,null,9.4160000000000008E-2,3.4515999999999998E-2,0,null,8.7450479999999997E-2,3.4259520000000002E-2,0,null,9.4160000000000008E-2,3.4515999999999998E-2,0,null,null,null,null,9.8348350000000001E-2,3.7983759999999998E-2,0,0.25717999999999996,-1.7148E-3,1.906E-5]
[null,670,5.169E-3,2.1380905358284858E-4,null,null,null,null,null,null,null,null,null,null,null,null,null,null,null,null,null,null,null,null,null,null,null,null,null,null,null,null,null,null,null,null,null,null,null,null,null,null,null,null,null,670,3.2000000000000001E-2,3.2000000000000001E-2,3.2000000000000001E-2,1.4799999999999999E-4,3.5599800000000001E-2,3.2118500000000001E-2,null,8.7400000000000005E-2,3.2000000000000001E-2,0,null,8.1260600000000002E-2,3.18004E-2,0,null,8.7400000000000005E-2,3.2000000000000001E-2,0,null,null,null,null,9.2245969999999997E-2,3.5599819999999997E-2,0,0.2394,-1.642E-3,1.8199999999999999E-5]
[null,671,4.2700000000000004E-3,1.7662307192856713E-4,null,null,null,null,null,null,null,null,null,null,null,null,null,null,null,null,null,null,null,null,null,null,null,null,null,null,null,null,null,null,null,null,null,null,null,null,null,null,null,null,null,671,3.024E-2,3.0499999999999999E-2,3.02908E-2,1.3892E-4,3.3348599999999999E-2,3.0081900000000002E-2,null,8.2640000000000005E-2,3.024E-2,0,null,7.6594480000000006E-2,2.996066E-2,0,null,8.2640000000000005E-2,3.024E-2,0,null,null,null,null,8.6475060000000006E-2,3.3348559999999999E-2,0,0.22595999999999999,-1.5679999999999999E-3,1.734E-5]
[null,672,3.8080000000000002E-3,1.5751303463793528E-4,null,null,null,null,null,null,null,null,null,null,null,null,null,null,null,null,null,null,null,null,null,null,null,null,null,null,null,null,null,null,null,null,null,null,null,null,null,null,null,null,null,672,2.8479999999999998E-2,2.9000000000000001E-2,2.8581599999999999E-2,1.2983999999999999E-4,3.1223299999999999E-2,2.8160000000000001E-2,null,7.7880000000000005E-2,2.8479999999999998E-2,0,null,7.1928359999999997E-2,2.8120920000000001E-2,0,null,7.7880000000000005E-2,2.8479999999999998E-2,0,null,null,null,null,8.1019859999999999E-2,3.1223319999999999E-2,0,0.21251999999999999,-1.4939999999999999E-3,1.6479999999999998E-5]
[null,673,3.3449999999999999E-3,1.3836163363022412E-4,null,null,null,null,null,null,null,null,null,null,null,null,null,null,null,null,null,null,null,null,null,null,null,null,null,null,null,null,null,null,null,null,null,null,null,null,null,null,null,null,null,673,2.6720000000000001E-2,2.75E-2,2.6872400000000001E-2,1.2076E-4,2.9217799999999999E-2,2.6346999999999999E-2,null,7.3120000000000004E-2,2.6720000000000001E-2,0,null,6.7262240000000001E-2,2.6281179999999998E-2,0,null,7.3120000000000004E-2,2.6720000000000001E-2,0,null,null,null,null,7.5865139999999998E-2,2.9217799999999999E-2,0,0.19907999999999998,-1.4199999999999998E-3,1.562E-5]
[null,674,3.2339999999999999E-3,1.3377026103442296E-4,null,null,null,null,null,null,null,null,null,null,null,null,null,null,null,null,null,null,null,null,null,null,null,null,null,null,null,null,null,null,null,null,null,null,null,null,null,null,null,null,null,674,2.496E-2,2.6000000000000002E-2,2.51632E-2,1.1168E-4,2.7326E-2,2.4637300000000001E-2,null,6.8360000000000004E-2,2.496E-2,0,null,6.2596120000000005E-2,2.4441439999999998E-2,0,null,6.8360000000000004E-2,2.496E-2,0,null,null,null,null,7.0996329999999996E-2,2.7326010000000001E-2,0,0.18564,-1.346E-3,1.4760000000000001E-5]
[null,675,3.1229999999999999E-3,1.291788884386218E-4,null,null,null,null,null,null,null,null,null,null,null,null,null,null,null,null,null,null,null,null,null,null,null,null,null,null,null,null,null,null,null,null,null,null,null,null,null,null,null,null,null,675,2.3199999999999998E-2,2.4500000000000001E-2,2.3453999999999999E-2,1.026E-4,2.5542200000000001E-2,2.30257E-2,null,6.3600000000000004E-2,2.3199999999999998E-2,0,null,5.7930000000000002E-2,2.2601699999999999E-2,0,null,6.3600000000000004E-2,2.3199999999999998E-2,0,null,null,null,null,6.6399600000000003E-2,2.5542229999999999E-2,0,0.17219999999999999,-1.2719999999999999E-3,1.3900000000000001E-5]
[null,676,2.7490000000000001E-3,1.1370885825096746E-4,null,null,null,null,null,null,null,null,null,null,null,null,null,null,null,null,null,null,null,null,null,null,null,null,null,null,null,null,null,null,null,null,null,null,null,null,null,null,null,null,null,676,2.196E-2,2.3E-2,2.2163200000000001E-2,9.6379999999999995E-5,2.3861199999999999E-2,2.1507399999999999E-2,null,6.0234000000000003E-2,2.196E-2,0,null,5.4514159999999999E-2,2.1262379999999997E-2,0,null,6.0234000000000003E-2,2.196E-2,0,null,null,null,null,6.2062249999999999E-2,2.3861210000000001E-2,0,0.16217999999999999,-1.207E-3,1.3180000000000001E-5]
[null,677,2.6340000000000001E-3,1.0895203078684914E-4,null,null,null,null,null,null,null,null,null,null,null,null,null,null,null,null,null,null,null,null,null,null,null,null,null,null,null,null,null,null,null,null,null,null,null,null,null,null,null,null,null,677,2.0719999999999999E-2,2.1500000000000002E-2,2.0872399999999999E-2,9.0160000000000004E-5,2.2278599999999999E-2,2.00784E-2,null,5.6868000000000002E-2,2.0719999999999999E-2,0,null,5.1098320000000003E-2,1.9923059999999999E-2,0,null,5.6868000000000002E-2,2.0719999999999999E-2,0,null,null,null,null,5.7974089999999999E-2,2.2278590000000001E-2,0,0.15215999999999999,-1.142E-3,1.2460000000000001E-5]
[null,678,2.5200000000000001E-3,1.0423656703981011E-4,null,null,null,null,null,null,null,null,null,null,null,null,null,null,null,null,null,null,null,null,null,null,null,null,null,null,null,null,null,null,null,null,null,null,null,null,null,null,null,null,null,678,1.9480000000000001E-2,0.02,1.9581600000000001E-2,8.3939999999999999E-5,2.0790200000000002E-2,1.87347E-2,null,5.3502000000000001E-2,1.9480000000000001E-2,0,null,4.7682479999999999E-2,1.8583739999999998E-2,0,null,5.3502000000000001E-2,1.9480000000000001E-2,0,null,null,null,null,5.4125329999999999E-2,2.0790200000000002E-2,0,0.14213999999999999,-1.077E-3,1.1739999999999999E-5]
[null,679,2.2899999999999999E-3,9.4722912111573464E-5,null,null,null,null,null,null,null,null,null,null,null,null,null,null,null,null,null,null,null,null,null,null,null,null,null,null,null,null,null,null,null,null,null,null,null,null,null,null,null,null,null,679,1.8239999999999999E-2,1.8500000000000003E-2,1.8290799999999999E-2,7.7720000000000008E-5,1.93919E-2,1.7472700000000001E-2,null,5.0136E-2,1.8239999999999999E-2,0,null,4.4266640000000003E-2,1.724442E-2,0,null,5.0136E-2,1.8239999999999999E-2,0,null,null,null,null,5.0506000000000002E-2,1.9391849999999999E-2,0,0.13212000000000002,-1.0119999999999999E-3,1.102E-5]
[null,680,2.4610000000000001E-3,1.0179610773213201E-4,null,null,null,null,null,null,null,null,null,null,null,null,null,null,null,null,null,null,null,null,null,null,null,null,null,null,null,null,null,null,null,null,null,null,null,null,null,null,null,null,null,680,1.7000000000000001E-2,1.7000000000000001E-2,1.7000000000000001E-2,7.1500000000000003E-5,1.8079399999999999E-2,1.6288400000000001E-2,null,4.6769999999999999E-2,1.7000000000000001E-2,0,null,4.08508E-2,1.5905099999999998E-2,0,null,4.6769999999999999E-2,1.7000000000000001E-2,0,null,null,null,null,4.7106059999999998E-2,1.8079390000000001E-2,0,0.1221,-9.4700000000000003E-4,1.03E-5]
[null,681,2.6310000000000001E-3,{"$f":"C333/$C$11","v":1.0882793963561127E-4},null,null,null,null,null,null,null,null,null,null,null,null,null,null,null,null,null,null,null,null,null,null,null,null,null,null,null,null,null,null,null,null,null,null,null,null,null,null,null,null,null,681,1.5984000000000002E-2,1.6120000000000002E-2,1.59744E-2,6.7219999999999997E-5,1.6848200000000001E-2,1.5177700000000001E-2,null,4.3996E-2,1.5984000000000002E-2,0,null,3.840524E-2,1.4950139999999999E-2,0,null,4.3996E-2,1.5984000000000002E-2,0,null,null,null,null,4.3914109999999999E-2,1.6848169999999999E-2,0,0.11473999999999999,-8.9420000000000005E-4,9.7159999999999998E-6]
[null,682,2.415E-3,9.9893376746484691E-5,null,null,null,null,null,null,null,null,null,null,null,null,null,null,null,null,null,null,null,null,null,null,null,null,null,null,null,null,null,null,null,null,null,null,null,null,null,null,null,null,null,682,1.4968E-2,1.5240000000000002E-2,1.4948800000000002E-2,6.2940000000000004E-5,1.5691900000000002E-2,1.41347E-2,null,4.1222000000000002E-2,1.4968E-2,0,null,3.5959680000000001E-2,1.3995179999999999E-2,0,null,4.1222000000000002E-2,1.4968E-2,0,null,null,null,null,4.0914109999999997E-2,1.5691879999999998E-2,0,0.10738,-8.4140000000000007E-4,9.132E-6]
[null,683,2.2000000000000001E-3,9.1000177574437403E-5,null,null,null,null,null,null,null,null,null,null,null,null,null,null,null,null,null,null,null,null,null,null,null,null,null,null,null,null,null,null,null,null,null,null,null,null,null,null,null,null,null,683,1.3952000000000001E-2,1.4360000000000001E-2,1.39232E-2,5.8659999999999997E-5,1.4604499999999999E-2,1.31541E-2,null,3.8447999999999996E-2,1.3952000000000001E-2,0,null,3.3514120000000001E-2,1.3040219999999998E-2,0,null,3.8447999999999996E-2,1.3952000000000001E-2,0,null,null,null,null,3.809067E-2,1.460446E-2,0,0.10002,-7.8859999999999998E-4,8.5480000000000002E-6]
[null,684,1.9870000000000001E-3,8.2189705836548682E-5,null,null,null,null,null,null,null,null,null,null,null,null,null,null,null,null,null,null,null,null,null,null,null,null,null,null,null,null,null,null,null,null,null,null,null,null,null,null,null,null,null,684,1.2936E-2,1.3480000000000001E-2,1.28976E-2,5.4379999999999998E-5,1.35806E-2,1.2230899999999999E-2,null,3.5673999999999997E-2,1.2936E-2,0,null,3.1068559999999999E-2,1.2085259999999999E-2,0,null,3.5673999999999997E-2,1.2936E-2,0,null,null,null,null,3.5430339999999998E-2,1.358062E-2,0,9.2659999999999992E-2,-7.358E-4,7.9640000000000003E-6]
[null,685,1.83E-3,7.5695602255100201E-5,null,null,null,null,null,null,null,null,null,null,null,null,null,null,null,null,null,null,null,null,null,null,null,null,null,null,null,null,null,null,null,null,null,null,null,null,null,null,null,null,null,685,1.192E-2,1.26E-2,1.1872000000000001E-2,5.0099999999999998E-5,1.2615700000000001E-2,1.1361100000000001E-2,null,3.2899999999999999E-2,1.192E-2,0,null,2.8622999999999999E-2,1.1130299999999999E-2,0,null,3.2899999999999999E-2,1.192E-2,0,null,null,null,null,3.292138E-2,1.261573E-2,0,8.5300000000000001E-2,-6.8300000000000001E-4,7.3799999999999996E-6]
[null,686,1.6739999999999999E-3,6.9242862390730996E-5,null,null,null,null,null,null,null,null,null,null,null,null,null,null,null,null,null,null,null,null,null,null,null,null,null,null,null,null,null,null,null,null,null,null,null,null,null,null,null,null,null,686,1.1178E-2,1.1720000000000001E-2,1.1139600000000001E-2,4.7145999999999999E-5,1.1707E-2,1.05419E-2,null,3.0859999999999999E-2,1.1178E-2,0,null,2.688666E-2,1.0454E-2,0,null,3.0859999999999999E-2,1.1178E-2,0,null,null,null,null,3.0556719999999999E-2,1.1706960000000001E-2,0,7.9960000000000003E-2,-6.4199999999999999E-4,6.9479999999999994E-6]
[null,687,2.2279999999999999E-3,9.2158361652657509E-5,null,null,null,null,null,null,null,null,null,null,null,null,null,null,null,null,null,null,null,null,null,null,null,null,null,null,null,null,null,null,null,null,null,null,null,null,null,null,null,null,null,687,1.0436000000000001E-2,1.0840000000000001E-2,1.04072E-2,4.4192E-5,1.08561E-2,9.7750500000000004E-3,null,2.8819999999999998E-2,1.0436000000000001E-2,0,null,2.515032E-2,9.7777000000000003E-3,0,null,2.8819999999999998E-2,1.0436000000000001E-2,0,null,null,null,null,2.8341459999999999E-2,1.0856080000000001E-2,0,7.4620000000000006E-2,-6.0099999999999997E-4,6.516E-6]
[null,688,2.2430000000000002E-3,9.2778817408846866E-5,null,null,null,null,null,null,null,null,null,null,null,null,null,null,null,null,null,null,null,null,null,null,null,null,null,null,null,null,null,null,null,null,null,null,null,null,null,null,null,null,null,688,9.6939999999999995E-3,9.9600000000000001E-3,9.6748000000000008E-3,4.1238000000000001E-5,1.00648E-2,9.0619600000000008E-3,null,2.6780000000000002E-2,9.6939999999999995E-3,0,null,2.3413979999999997E-2,9.1013999999999991E-3,0,null,2.6780000000000002E-2,9.6939999999999995E-3,0,null,null,null,null,2.6280330000000001E-2,1.0064760000000001E-2,0,6.9280000000000008E-2,-5.5999999999999995E-4,6.0839999999999997E-6]
[null,689,2.258E-3,9.3399273165036196E-5,null,null,null,null,null,null,null,null,null,null,null,null,null,null,null,null,null,null,null,null,null,null,null,null,null,null,null,null,null,null,null,null,null,null,null,null,null,null,null,null,null,689,8.9519999999999999E-3,9.0800000000000013E-3,8.9423999999999997E-3,3.8284000000000001E-5,9.3333800000000005E-3,8.4029599999999992E-3,null,2.4740000000000002E-2,8.9519999999999999E-3,0,null,2.1677639999999998E-2,8.4250999999999996E-3,0,null,2.4740000000000002E-2,8.9519999999999999E-3,0,null,null,null,null,2.4374650000000001E-2,9.3333760000000009E-3,0,6.3939999999999997E-2,-5.1900000000000004E-4,5.6519999999999994E-6]
[null,690,2.457E-3,1.0163065286381485E-4,null,null,null,null,null,null,null,null,null,null,null,null,null,null,null,null,null,null,null,null,null,null,null,null,null,null,null,null,null,null,null,null,null,null,null,null,null,null,null,null,null,690,8.2100000000000003E-3,8.2000000000000007E-3,8.2100000000000003E-3,3.5330000000000002E-5,8.6612800000000004E-3,7.79746E-3,null,2.2700000000000001E-2,8.2100000000000003E-3,0,null,1.9941299999999999E-2,7.7488000000000001E-3,0,null,2.2700000000000001E-2,8.2100000000000003E-3,0,null,null,null,null,2.262306E-2,8.661284E-3,0,5.8599999999999999E-2,-4.7800000000000002E-4,5.22E-6]
[null,691,1.9090000000000001E-3,7.8963335904364094E-5,null,null,null,null,null,null,null,null,null,null,null,null,null,null,null,null,null,null,null,null,null,null,null,null,null,null,null,null,null,null,null,null,null,null,null,null,null,null,null,null,null,691,7.7126E-3,7.7900000000000009E-3,7.7224600000000004E-3,3.3266000000000003E-5,8.0460500000000008E-3,7.2432299999999998E-3,null,2.1328E-2,7.7126E-3,0,null,1.8721439999999999E-2,7.2740599999999997E-3,0,null,2.1328E-2,7.7126E-3,0,null,null,null,null,2.1019349999999999E-2,8.0460480000000001E-3,0,5.5039999999999999E-2,-4.4980000000000004E-4,4.9100000000000004E-6]
[null,692,1.361E-3,5.6296018944913317E-5,null,null,null,null,null,null,null,null,null,null,null,null,null,null,null,null,null,null,null,null,null,null,null,null,null,null,null,null,null,null,null,null,null,null,null,null,null,null,null,null,null,692,7.2151999999999997E-3,7.3800000000000003E-3,7.2349200000000006E-3,3.1202000000000004E-5,7.4811299999999999E-3,6.7343799999999999E-3,null,1.9956000000000002E-2,7.2151999999999997E-3,0,null,1.7501579999999999E-2,6.7993200000000002E-3,0,null,1.9956000000000002E-2,7.2151999999999997E-3,0,null,null,null,null,1.954647E-2,7.4811299999999999E-3,0,5.1479999999999998E-2,-4.216E-4,4.6E-6]
[null,693,1.4530000000000001E-3,6.0101480916207972E-5,null,null,null,null,null,null,null,null,null,null,null,null,null,null,null,null,null,null,null,null,null,null,null,null,null,null,null,null,null,null,null,null,null,null,null,null,null,null,null,null,null,693,6.7178000000000003E-3,6.9700000000000005E-3,6.7473799999999999E-3,2.9138000000000001E-5,6.9599900000000001E-3,6.2649999999999997E-3,null,1.8584E-2,6.7178000000000003E-3,0,null,1.628172E-2,6.3245799999999998E-3,0,null,1.8584E-2,6.7178000000000003E-3,0,null,null,null,null,1.8187269999999998E-2,6.9599869999999999E-3,0,4.7920000000000004E-2,-3.9340000000000002E-4,4.2899999999999996E-6]
[null,694,1.5449999999999999E-3,6.3906942887502621E-5,null,null,null,null,null,null,null,null,null,null,null,null,null,null,null,null,null,null,null,null,null,null,null,null,null,null,null,null,null,null,null,null,null,null,null,null,null,null,null,null,null,694,6.2204000000000001E-3,6.5600000000000007E-3,6.25984E-3,2.7073999999999999E-5,6.4770699999999997E-3,5.8300899999999996E-3,null,1.7212000000000002E-2,6.2204000000000001E-3,0,null,1.506186E-2,5.8498400000000002E-3,0,null,1.7212000000000002E-2,6.2204000000000001E-3,0,null,null,null,null,1.6927270000000001E-2,6.4770699999999997E-3,0,4.4360000000000004E-2,-3.6519999999999999E-4,3.98E-6]
[null,695,1.5169999999999999E-3,6.2748758809282515E-5,null,null,null,null,null,null,null,null,null,null,null,null,null,null,null,null,null,null,null,null,null,null,null,null,null,null,null,null,null,null,null,null,null,null,null,null,null,null,null,null,null,695,5.7229999999999998E-3,6.150000000000001E-3,5.7723000000000002E-3,2.5009999999999999E-5,6.0276799999999997E-3,5.4253900000000004E-3,null,1.584E-2,5.7229999999999998E-3,0,null,1.3842E-2,5.3750999999999998E-3,0,null,1.584E-2,5.7229999999999998E-3,0,null,null,null,null,1.5754170000000001E-2,6.0276770000000004E-3,0,4.0800000000000003E-2,-3.3700000000000001E-4,3.67E-6]
[null,696,1.565E-3,6.4734217229088417E-5,null,null,null,null,null,null,null,null,null,null,null,null,null,null,null,null,null,null,null,null,null,null,null,null,null,null,null,null,null,null,null,null,null,null,null,null,null,null,null,null,null,696,5.3987999999999996E-3,5.7400000000000003E-3,5.4382400000000004E-3,2.3567999999999999E-5,5.60817E-3,5.04763E-3,null,1.49438E-2,5.3987999999999996E-3,0,null,1.2988975999999999E-2,5.0436279999999997E-3,0,null,1.49438E-2,5.3987999999999996E-3,0,null,null,null,null,1.4658539999999999E-2,5.6081689999999997E-3,0,3.832E-2,-3.166E-4,3.4479999999999999E-6]
[null,697,1.6119999999999999E-3,6.6678311931815028E-5,null,null,null,null,null,null,null,null,null,null,null,null,null,null,null,null,null,null,null,null,null,null,null,null,null,null,null,null,null,null,null,null,null,null,null,null,null,null,null,null,null,697,5.0745999999999994E-3,5.3300000000000005E-3,5.1041799999999998E-3,2.2125999999999998E-5,5.2166900000000004E-3,4.6951400000000004E-3,null,1.40476E-2,5.0745999999999994E-3,0,null,1.2135952E-2,4.7121560000000003E-3,0,null,1.40476E-2,5.0745999999999994E-3,0,null,null,null,null,1.3635710000000001E-2,5.2166909999999999E-3,0,3.5840000000000004E-2,-2.9619999999999999E-4,3.2260000000000001E-6]
[null,698,2.32E-3,9.5963823623952164E-5,null,null,null,null,null,null,null,null,null,null,null,null,null,null,null,null,null,null,null,null,null,null,null,null,null,null,null,null,null,null,null,null,null,null,null,null,null,null,null,null,null,698,4.7504000000000001E-3,4.9200000000000008E-3,4.7701200000000001E-3,2.0684000000000001E-5,4.8517899999999999E-3,4.3665900000000001E-3,null,1.3151399999999999E-2,4.7504000000000001E-3,0,null,1.1282927999999999E-2,4.3806840000000001E-3,0,null,1.3151399999999999E-2,4.7504000000000001E-3,0,null,null,null,null,1.268205E-2,4.851785E-3,0,3.3360000000000001E-2,-2.7579999999999998E-4,3.004E-6]
[null,699,2.7399999999999998E-3,1.1333658479725384E-4,null,null,null,null,null,null,null,null,null,null,null,null,null,null,null,null,null,null,null,null,null,null,null,null,null,null,null,null,null,null,null,null,null,null,null,null,null,null,null,null,null,699,4.4261999999999999E-3,4.5100000000000001E-3,4.4360599999999995E-3,1.9242E-5,4.5120100000000003E-3,4.0606899999999996E-3,null,1.2255199999999999E-2,4.4261999999999999E-3,0,null,1.0429904E-2,4.049212E-3,0,null,1.2255199999999999E-2,4.4261999999999999E-3,0,null,null,null,null,1.1793939999999999E-2,4.5120079999999996E-3,0,3.0880000000000001E-2,-2.5540000000000003E-4,2.7819999999999998E-6]
[null,700,1.9E-3,7.8591062450650479E-5,null,null,null,null,null,null,null,null,null,null,null,null,null,null,null,null,null,null,null,null,null,null,null,null,null,null,null,null,null,null,null,null,null,null,null,null,null,null,null,null,null,700,4.1019999999999997E-3,4.1000000000000003E-3,4.1019999999999997E-3,1.7799999999999999E-5,4.1959400000000004E-3,3.7761399999999999E-3,null,1.1358999999999999E-2,4.1019999999999997E-3,0,null,9.5768799999999994E-3,3.7177400000000002E-3,0,null,1.1358999999999999E-2,4.1019999999999997E-3,0,null,null,null,null,1.096778E-2,4.1959409999999999E-3,0,2.8400000000000002E-2,-2.3499999999999999E-4,2.5600000000000001E-6]
[null,701,1.5529999999999999E-3,6.4237852624136945E-5,null,null,null,null,null,null,null,null,null,null,null,null,null,null,null,null,null,null,null,null,null,null,null,null,null,null,null,null,null,null,null,null,null,null,null,null,null,null,null,null,null,701,3.8674E-3,3.9000000000000003E-3,3.8674199999999999E-3,1.6785999999999998E-5,3.9020600000000002E-3,3.5115799999999998E-3,null,1.0709399999999999E-2,3.8674E-3,0,null,8.9825440000000003E-3,3.487104E-3,0,null,1.0709399999999999E-2,3.8674E-3,0,null,null,null,null,1.0199639999999999E-2,3.902057E-3,0,2.666E-2,-2.206E-4,2.3999999999999999E-6]
[null,702,1.5950000000000001E-3,6.5975128741467117E-5,null,null,null,null,null,null,null,null,null,null,null,null,null,null,null,null,null,null,null,null,null,null,null,null,null,null,null,null,null,null,null,null,null,null,null,null,null,null,null,null,null,702,3.6327999999999998E-3,3.7000000000000002E-3,3.63284E-3,1.5772000000000001E-5,3.6283700000000001E-3,3.2652100000000002E-3,null,1.0059799999999999E-2,3.6327999999999998E-3,0,null,8.3882079999999994E-3,3.2564680000000002E-3,0,null,1.0059799999999999E-2,3.6327999999999998E-3,0,null,null,null,null,9.4843170000000008E-3,3.628371E-3,0,2.4920000000000001E-2,-2.062E-4,2.2400000000000002E-6]
[null,703,1.637E-3,6.7712404858797276E-5,null,null,null,null,null,null,null,null,null,null,null,null,null,null,null,null,null,null,null,null,null,null,null,null,null,null,null,null,null,null,null,null,null,null,null,null,null,null,null,null,null,703,3.3982000000000001E-3,3.5000000000000001E-3,3.3982599999999997E-3,1.4758E-5,3.3730100000000001E-3,3.0353400000000001E-3,null,9.4102000000000005E-3,3.3982000000000001E-3,0,null,7.7938720000000003E-3,3.025832E-3,0,null,9.4102000000000005E-3,3.3982000000000001E-3,0,null,null,null,null,8.8168510000000005E-3,3.3730050000000001E-3,0,2.3179999999999999E-2,-1.918E-4,2.08E-6]
[null,704,2.042E-3,8.4464710275909617E-5,null,null,null,null,null,null,null,null,null,null,null,null,null,null,null,null,null,null,null,null,null,null,null,null,null,null,null,null,null,null,null,null,null,null,null,null,null,null,null,null,null,704,3.1635999999999999E-3,3.3E-3,3.1636799999999999E-3,1.3743999999999999E-5,3.1343199999999999E-3,2.8205000000000001E-3,null,8.7606000000000003E-3,3.1635999999999999E-3,0,null,7.1995360000000003E-3,2.7951960000000002E-3,0,null,8.7606000000000003E-3,3.1635999999999999E-3,0,null,null,null,null,8.1929210000000006E-3,3.1343149999999999E-3,0,2.1440000000000001E-2,-1.774E-4,1.9200000000000003E-6]
[null,705,2.447E-3,1.0121701569302196E-4,null,null,null,null,null,null,null,null,null,null,null,null,null,null,null,null,null,null,null,null,null,null,null,null,null,null,null,null,null,null,null,null,null,null,null,null,null,null,null,null,null,705,2.9290000000000002E-3,3.1000000000000003E-3,2.9291E-3,1.273E-5,2.9108599999999999E-3,2.6193700000000002E-3,null,8.1110000000000002E-3,2.9290000000000002E-3,0,null,6.6052000000000003E-3,2.56456E-3,0,null,8.1110000000000002E-3,2.9290000000000002E-3,0,null,null,null,null,7.6087500000000001E-3,2.910864E-3,0,1.9699999999999999E-2,-1.63E-4,1.7600000000000001E-6]
[null,706,1.7060000000000001E-3,7.0566501337268278E-5,null,null,null,null,null,null,null,null,null,null,null,null,null,null,null,null,null,null,null,null,null,null,null,null,null,null,null,null,null,null,null,null,null,null,null,null,null,null,null,null,null,706,2.7614000000000002E-3,2.9000000000000002E-3,2.7614800000000002E-3,1.2012E-5,2.7015300000000002E-3,2.4309599999999998E-3,null,7.6468000000000005E-3,2.7614000000000002E-3,0,null,6.1946860000000005E-3,2.405342E-3,0,null,7.6468000000000005E-3,2.7614000000000002E-3,0,null,null,null,null,7.0613910000000002E-3,2.7015279999999999E-3,0,1.8459999999999997E-2,-1.526E-4,1.6480000000000001E-6]
[null,707,1.8929999999999999E-3,7.8301516431095446E-5,null,null,null,null,null,null,null,null,null,null,null,null,null,null,null,null,null,null,null,null,null,null,null,null,null,null,null,null,null,null,null,null,null,null,null,null,null,null,null,null,null,707,2.5938000000000003E-3,2.7000000000000001E-3,2.5938599999999999E-3,1.1294000000000001E-5,2.5057999999999999E-3,2.2547999999999999E-3,null,7.1825999999999999E-3,2.5938000000000003E-3,0,null,5.7841720000000006E-3,2.246124E-3,0,null,7.1825999999999999E-3,2.5938000000000003E-3,0,null,null,null,null,6.5495090000000002E-3,2.5057959999999998E-3,0,1.7219999999999999E-2,-1.4220000000000001E-4,1.536E-6]
[null,708,2.0799999999999998E-3,8.6036531524922614E-5,null,null,null,null,null,null,null,null,null,null,null,null,null,null,null,null,null,null,null,null,null,null,null,null,null,null,null,null,null,null,null,null,null,null,null,null,null,null,null,null,null,708,2.4261999999999999E-3,2.5000000000000001E-3,2.4262400000000001E-3,1.0576E-5,2.3232299999999999E-3,2.09049E-3,null,6.7184000000000002E-3,2.4261999999999999E-3,0,null,5.3736579999999999E-3,2.0869059999999999E-3,0,null,6.7184000000000002E-3,2.4261999999999999E-3,0,null,null,null,null,6.0719700000000003E-3,2.3232309999999998E-3,0,1.5980000000000001E-2,-1.3180000000000001E-4,1.424E-6]
[null,709,1.866E-3,7.7184696069954631E-5,null,null,null,null,null,null,null,null,null,null,null,null,null,null,null,null,null,null,null,null,null,null,null,null,null,null,null,null,null,null,null,null,null,null,null,null,null,null,null,null,null,709,2.2585999999999999E-3,2.3E-3,2.2586199999999998E-3,9.8580000000000012E-6,2.1533300000000002E-3,1.9375900000000001E-3,null,6.2541999999999997E-3,2.2585999999999999E-3,0,null,4.9631440000000001E-3,1.9276880000000001E-3,0,null,6.2541999999999997E-3,2.2585999999999999E-3,0,null,null,null,null,5.6274760000000002E-3,2.1533329999999999E-3,0,1.474E-2,-1.214E-4,1.3119999999999999E-6]
[null,710,1.818E-3,7.5199237650148715E-5,null,null,null,null,null,null,null,null,null,null,null,null,null,null,null,null,null,null,null,null,null,null,null,null,null,null,null,null,null,null,null,null,null,null,null,null,null,null,null,null,null,710,2.091E-3,2.0999999999999999E-3,2.091E-3,9.1400000000000006E-6,1.99556E-3,1.7956000000000001E-3,null,5.79E-3,2.091E-3,0,null,4.5526300000000002E-3,1.7684700000000001E-3,0,null,5.79E-3,2.091E-3,0,null,null,null,null,5.2146079999999999E-3,1.9955569999999998E-3,0,1.35E-2,-1.11E-4,1.1999999999999999E-6]
[null,711,1.7700000000000001E-3,7.3213779230342813E-5,null,null,null,null,null,null,null,null,null,null,null,null,null,null,null,null,null,null,null,null,null,null,null,null,null,null,null,null,null,null,null,null,null,null,null,null,null,null,null,null,null,711,1.9696000000000002E-3,2E-3,1.9692400000000001E-3,8.6320000000000014E-6,1.84932E-3,1.66399E-3,null,5.4538E-3,1.9696000000000002E-3,0,null,4.2710439999999999E-3,1.659254E-3,0,null,5.4538E-3,1.9696000000000002E-3,0,null,null,null,null,4.8318479999999997E-3,1.8493159999999999E-3,0,1.2648E-2,-1.0376E-4,1.1233999999999999E-6]
[null,712,2.0660000000000001E-3,8.5457439485812575E-5,null,null,null,null,null,null,null,null,null,null,null,null,null,null,null,null,null,null,null,null,null,null,null,null,null,null,null,null,null,null,null,null,null,null,null,null,null,null,null,null,null,712,1.8481999999999999E-3,1.9E-3,1.8474799999999999E-3,8.1240000000000005E-6,1.7139799999999999E-3,1.5422000000000001E-3,null,5.1175999999999999E-3,1.8481999999999999E-3,0,null,3.9894580000000004E-3,1.5500380000000001E-3,0,null,5.1175999999999999E-3,1.8481999999999999E-3,0,null,null,null,null,4.4775789999999998E-3,1.7139760000000001E-3,0,1.1795999999999999E-2,-9.6520000000000004E-5,1.0467999999999999E-6]
[null,713,2.2910000000000001E-3,9.4764275828652768E-5,null,null,null,null,null,null,null,null,null,null,null,null,null,null,null,null,null,null,null,null,null,null,null,null,null,null,null,null,null,null,null,null,null,null,null,null,null,null,null,null,null,713,1.7268000000000001E-3,1.8E-3,1.72572E-3,7.6160000000000004E-6,1.5889000000000001E-3,1.42964E-3,null,4.7813999999999999E-3,1.7268000000000001E-3,0,null,3.7078720000000001E-3,1.440822E-3,0,null,4.7813999999999999E-3,1.7268000000000001E-3,0,null,null,null,null,4.1501660000000003E-3,1.588899E-3,0,1.0943999999999999E-2,-8.9279999999999999E-5,9.7020000000000005E-7]
[null,714,1.8420000000000001E-3,7.6191966860051673E-5,null,null,null,null,null,null,null,null,null,null,null,null,null,null,null,null,null,null,null,null,null,null,null,null,null,null,null,null,null,null,null,null,null,null,null,null,null,null,null,null,null,714,1.6054000000000001E-3,1.6999999999999999E-3,1.60396E-3,7.1080000000000004E-6,1.4734500000000001E-3,1.3257500000000001E-3,null,4.4451999999999998E-3,1.6054000000000001E-3,0,null,3.4262859999999997E-3,1.3316060000000002E-3,0,null,4.4451999999999998E-3,1.6054000000000001E-3,0,null,null,null,null,3.8479880000000001E-3,1.473453E-3,0,1.0092E-2,-8.2039999999999994E-5,8.9360000000000001E-7]
[null,715,1.8730000000000001E-3,7.7474242089509664E-5,null,null,null,null,null,null,null,null,null,null,null,null,null,null,null,null,null,null,null,null,null,null,null,null,null,null,null,null,null,null,null,null,null,null,null,null,null,null,null,null,null,715,1.4840000000000001E-3,1.5999999999999999E-3,1.4821999999999999E-3,6.6000000000000003E-6,1.36702E-3,1.2299800000000001E-3,null,4.1089999999999998E-3,1.4840000000000001E-3,0,null,3.1446999999999998E-3,1.2223900000000001E-3,0,null,4.1089999999999998E-3,1.4840000000000001E-3,0,null,null,null,null,3.5694519999999999E-3,1.3670220000000001E-3,0,9.2399999999999999E-3,-7.4800000000000002E-5,8.1699999999999997E-7]
[null,716,2.104E-3,8.7029260734825586E-5,null,null,null,null,null,null,null,null,null,null,null,null,null,null,null,null,null,null,null,null,null,null,null,null,null,null,null,null,null,null,null,null,null,null,null,null,null,null,null,null,null,716,1.3966E-3,1.5E-3,1.3951599999999999E-3,6.2360000000000001E-6,1.26895E-3,1.1417300000000001E-3,null,3.8669999999999998E-3,1.3966E-3,0,null,2.9507520000000001E-3,1.14715E-3,0,null,3.8669999999999998E-3,1.3966E-3,0,null,null,null,null,3.3128570000000002E-3,1.2689540000000001E-3,0,8.6680000000000004E-3,-7.0000000000000007E-5,7.6459999999999995E-7]
[null,717,2.3340000000000001E-3,9.6542915663062217E-5,null,null,null,null,null,null,null,null,null,null,null,null,null,null,null,null,null,null,null,null,null,null,null,null,null,null,null,null,null,null,null,null,null,null,null,null,null,null,null,null,null,717,1.3091999999999999E-3,1.4E-3,1.3081199999999999E-3,5.8719999999999999E-6,1.1784199999999999E-3,1.0602700000000001E-3,null,3.6249999999999998E-3,1.3091999999999999E-3,0,null,2.7568039999999999E-3,1.0719100000000001E-3,0,null,3.6249999999999998E-3,1.3091999999999999E-3,0,null,null,null,null,3.0760219999999999E-3,1.178421E-3,0,8.0960000000000008E-3,-6.5199999999999999E-5,7.1219999999999993E-7]
[null,718,2.075E-3,8.5829712939526176E-5,null,null,null,null,null,null,null,null,null,null,null,null,null,null,null,null,null,null,null,null,null,null,null,null,null,null,null,null,null,null,null,null,null,null,null,null,null,null,null,null,null,718,1.2218000000000001E-3,1.2999999999999999E-3,1.22108E-3,5.5080000000000005E-6,1.09464E-3,9.8488500000000001E-4,null,3.3830000000000002E-3,1.2218000000000001E-3,0,null,2.5628560000000001E-3,9.9667000000000006E-4,0,null,3.3830000000000002E-3,1.2218000000000001E-3,0,null,null,null,null,2.856894E-3,1.0946440000000001E-3,0,7.5240000000000003E-3,-6.0400000000000004E-5,6.5980000000000002E-7]
[null,719,1.9599999999999999E-3,8.1072885475407853E-5,null,null,null,null,null,null,null,null,null,null,null,null,null,null,null,null,null,null,null,null,null,null,null,null,null,null,null,null,null,null,null,null,null,null,null,null,null,null,null,null,null,719,1.1344E-3,1.2000000000000001E-3,1.13404E-3,5.1440000000000002E-6,1.01694E-3,9.1496999999999998E-4,null,3.1410000000000001E-3,1.1344E-3,0,null,2.3689079999999999E-3,9.2142999999999999E-4,0,null,3.1410000000000001E-3,1.1344E-3,0,null,null,null,null,2.6536810000000002E-3,1.016943E-3,0,6.9519999999999998E-3,-5.5600000000000003E-5,6.074E-7]
[null,720,1.8439999999999999E-3,7.6274694294210254E-5,null,null,null,null,null,null,null,null,null,null,null,null,null,null,null,null,null,null,null,null,null,null,null,null,null,null,null,null,null,null,null,null,null,null,null,null,null,null,null,null,null,720,1.047E-3,1.1000000000000001E-3,1.047E-3,4.78E-6,9.4472700000000002E-4,8.4999000000000001E-4,null,2.8990000000000001E-3,1.047E-3,0,null,2.1749600000000001E-3,8.4619000000000003E-4,0,null,2.8990000000000001E-3,1.047E-3,0,null,null,null,null,2.4648209999999999E-3,9.4472689999999999E-4,0,6.3800000000000003E-3,-5.0800000000000002E-5,5.5499999999999998E-7]
[null,721,1.789E-3,7.3999689854849319E-5,null,null,null,null,null,null,null,null,null,null,null,null,null,null,null,null,null,null,null,null,null,null,null,null,null,null,null,null,null,null,null,null,null,null,null,null,null,null,null,null,null,721,9.8559999999999989E-4,1.0400000000000001E-3,9.8562999999999993E-4,4.5204E-6,8.7751699999999997E-4,7.8951599999999998E-4,null,2.7290000000000001E-3,9.8559999999999989E-4,0,null,2.0411080000000002E-3,7.9423999999999999E-4,0,null,2.7290000000000001E-3,9.8559999999999989E-4,0,null,null,null,null,2.2890599999999999E-3,8.775171E-4,0,5.986E-3,-4.7519999999999999E-5,5.1900000000000003E-7]
[null,722,1.7329999999999999E-3,7.1683321698409093E-5,null,null,null,null,null,null,null,null,null,null,null,null,null,null,null,null,null,null,null,null,null,null,null,null,null,null,null,null,null,null,null,null,null,null,null,null,null,null,null,null,null,722,9.2420000000000002E-4,9.7999999999999997E-4,9.2425999999999999E-4,4.2607999999999999E-6,8.1504400000000001E-4,7.3330400000000005E-4,null,2.5590000000000001E-3,9.2420000000000002E-4,0,null,1.907256E-3,7.4229000000000005E-4,0,null,2.5590000000000001E-3,9.2420000000000002E-4,0,null,null,null,null,2.125694E-3,8.1504380000000005E-4,0,5.5919999999999997E-3,-4.4240000000000003E-5,4.8299999999999997E-7]
[null,723,2.1719999999999999E-3,8.9841993496217283E-5,null,null,null,null,null,null,null,null,null,null,null,null,null,null,null,null,null,null,null,null,null,null,null,null,null,null,null,null,null,null,null,null,null,null,null,null,null,null,null,null,null,723,8.6279999999999994E-4,9.2000000000000003E-4,8.6288999999999995E-4,4.0011999999999999E-6,7.5707599999999997E-4,6.8114599999999999E-4,null,2.3890000000000001E-3,8.6279999999999994E-4,0,null,1.7734040000000001E-3,6.9034000000000001E-4,0,null,2.3890000000000001E-3,8.6279999999999994E-4,0,null,null,null,null,1.9741210000000001E-3,7.5707550000000002E-4,0,5.1979999999999995E-3,-4.0960000000000001E-5,4.4700000000000002E-7]
[null,724,2.2030000000000001E-3,9.1124268725675274E-5,null,null,null,null,null,null,null,null,null,null,null,null,null,null,null,null,null,null,null,null,null,null,null,null,null,null,null,null,null,null,null,null,null,null,null,null,null,null,null,null,null,724,8.0139999999999996E-4,8.6000000000000009E-4,8.0152000000000001E-4,3.7415999999999999E-6,7.0337600000000002E-4,6.3282900000000001E-4,null,2.2190000000000001E-3,8.0139999999999996E-4,0,null,1.6395520000000001E-3,6.3839000000000007E-4,0,null,2.2190000000000001E-3,8.0139999999999996E-4,0,null,null,null,null,1.833723E-3,7.0337549999999996E-4,0,4.8040000000000001E-3,-3.7680000000000005E-5,4.1100000000000001E-7]
[null,725,2.235E-3,9.2447907672212529E-5,null,null,null,null,null,null,null,null,null,null,null,null,null,null,null,null,null,null,null,null,null,null,null,null,null,null,null,null,null,null,null,null,null,null,null,null,null,null,null,null,null,725,7.3999999999999999E-4,8.0000000000000004E-4,7.4014999999999997E-4,3.4819999999999999E-6,6.5370499999999998E-4,5.8813799999999999E-4,null,2.049E-3,7.3999999999999999E-4,0,null,1.5057E-3,5.8644000000000003E-4,0,null,2.049E-3,7.3999999999999999E-4,0,null,null,null,null,1.703876E-3,6.5370499999999998E-4,0,4.4099999999999999E-3,-3.4400000000000003E-5,3.7500000000000001E-7]
[null,726,1.7060000000000001E-3,7.0566501337268278E-5,null,null,null,null,null,null,null,null,null,null,null,null,null,null,null,null,null,null,null,null,null,null,null,null,null,null,null,null,null,null,null,null,null,null,null,null,null,null,null,null,null,726,6.96E-4,7.3999999999999999E-4,6.9611999999999994E-4,3.2947999999999998E-6,6.07805E-4,5.4683900000000003E-4,null,1.9272E-3,6.96E-4,0,null,1.413512E-3,5.5063400000000004E-4,0,null,1.9272E-3,6.96E-4,0,null,null,null,null,1.5839039999999999E-3,6.0780480000000004E-4,0,4.1419999999999998E-3,-3.2200000000000003E-5,3.5079999999999999E-7]
[null,727,2.1310000000000001E-3,8.8146081095966401E-5,null,null,null,null,null,null,null,null,null,null,null,null,null,null,null,null,null,null,null,null,null,null,null,null,null,null,null,null,null,null,null,null,null,null,null,null,null,null,null,null,null,727,6.5200000000000002E-4,6.8000000000000005E-4,6.5208999999999992E-4,3.1075999999999997E-6,5.6534399999999996E-4,5.0863500000000001E-4,null,1.8054E-3,6.5200000000000002E-4,0,null,1.321324E-3,5.1482800000000005E-4,0,null,1.8054E-3,6.5200000000000002E-4,0,null,null,null,null,1.4729389999999999E-3,5.6534350000000001E-4,0,3.8739999999999998E-3,-3.0000000000000001E-5,3.2660000000000003E-7]
[null,728,2.5560000000000001E-3,1.0572566085466454E-4,null,null,null,null,null,null,null,null,null,null,null,null,null,null,null,null,null,null,null,null,null,null,null,null,null,null,null,null,null,null,null,null,null,null,null,null,null,null,null,null,null,728,6.0799999999999993E-4,6.2E-4,6.0806E-4,2.9204E-6,5.2600499999999996E-4,4.7323999999999999E-4,null,1.6836000000000002E-3,6.0799999999999993E-4,0,null,1.229136E-3,4.7902200000000001E-4,0,null,1.6836000000000002E-3,6.0799999999999993E-4,0,null,null,null,null,1.370151E-3,5.2600460000000004E-4,0,3.6059999999999998E-3,-2.7800000000000001E-5,3.0240000000000001E-7]
[null,729,2.454E-3,1.0150656171257699E-4,null,null,null,null,null,null,null,null,null,null,null,null,null,null,null,null,null,null,null,null,null,null,null,null,null,null,null,null,null,null,null,null,null,null,null,null,null,null,null,null,null,729,5.6399999999999994E-4,5.6000000000000006E-4,5.6402999999999998E-4,2.7331999999999999E-6,4.8950600000000001E-4,4.40402E-4,null,1.5618000000000001E-3,5.6399999999999994E-4,0,null,1.136948E-3,4.4321599999999997E-4,0,null,1.5618000000000001E-3,5.6399999999999994E-4,0,null,null,null,null,1.2748029999999999E-3,4.8950610000000005E-4,0,3.3379999999999998E-3,-2.5599999999999999E-5,2.7820000000000004E-7]
[null,730,2.4399999999999999E-3,1.0092746967346693E-4,null,null,null,null,null,null,null,null,null,null,null,null,null,null,null,null,null,null,null,null,null,null,null,null,null,null,null,null,null,null,null,null,null,null,null,null,null,null,null,null,null,730,0,5.0000000000000001E-4,5.1999999999999995E-4,2.5459999999999998E-6,4.5559700000000002E-4,4.0989299999999999E-4,null,1.4400000000000001E-3,5.1999999999999995E-4,0,null,1.04476E-3,4.0740999999999998E-4,0,null,1.4400000000000001E-3,5.1999999999999995E-4,0,null,null,null,null,1.186238E-3,4.5559700000000002E-4,0,3.0699999999999998E-3,-2.34E-5,2.5400000000000002E-7]
[null,731,2.4260000000000002E-3,1.0034837763435689E-4,null,null,null,null,null,null,null,null,null,null,null,null,null,null,null,null,null,null,null,null,null,null,null,null,null,null,null,null,null,null,null,null,null,null,null,null,null,null,null,null,null,731,0,4.6999999999999999E-4,4.8818599999999994E-4,2.4107999999999999E-6,4.24055E-4,3.8151400000000001E-4,null,1.3520000000000001E-3,4.8819999999999994E-4,0,null,9.8129800000000002E-4,3.8273619999999996E-4,0,null,1.3520000000000001E-3,4.8819999999999994E-4,0,null,null,null,null,1.103871E-3,4.2405479999999999E-4,0,2.8839999999999998E-3,-2.19E-5,2.3740000000000002E-7]
[null,732,1.7260000000000001E-3,7.1393775678854073E-5,null,null,null,null,null,null,null,null,null,null,null,null,null,null,null,null,null,null,null,null,null,null,null,null,null,null,null,null,null,null,null,null,null,null,null,null,null,null,null,null,null,732,0,4.4000000000000002E-4,4.5637199999999997E-4,2.2755999999999999E-6,3.94686E-4,3.5509000000000002E-4,null,1.2640000000000001E-3,4.5639999999999998E-4,0,null,9.17836E-4,3.580624E-4,0,null,1.2640000000000001E-3,4.5639999999999998E-4,0,null,null,null,null,1.0271939999999999E-3,3.94686E-4,0,2.6979999999999999E-3,-2.0400000000000001E-5,2.2080000000000002E-7]
[null,733,1.8940000000000001E-3,7.8342880148174737E-5,null,null,null,null,null,null,null,null,null,null,null,null,null,null,null,null,null,null,null,null,null,null,null,null,null,null,null,null,null,null,null,null,null,null,null,null,null,null,null,null,null,733,0,4.0999999999999999E-4,4.2455799999999996E-4,2.1403999999999999E-6,3.67318E-4,3.3046699999999998E-4,null,1.176E-3,4.2459999999999997E-4,0,null,8.5437400000000008E-4,3.3338859999999999E-4,0,null,1.176E-3,4.2459999999999997E-4,0,null,null,null,null,9.5574929999999998E-4,3.6731779999999998E-4,0,2.5119999999999999E-3,-1.8899999999999999E-5,2.0420000000000002E-7]
[null,734,2.0609999999999999E-3,8.5250620900416123E-5,null,null,null,null,null,null,null,null,null,null,null,null,null,null,null,null,null,null,null,null,null,null,null,null,null,null,null,null,null,null,null,null,null,null,null,null,null,null,null,null,null,734,0,3.8000000000000002E-4,3.9274399999999999E-4,2.0051999999999999E-6,3.4179399999999997E-4,3.0750299999999999E-4,null,1.088E-3,3.9280000000000001E-4,0,null,7.9091200000000006E-4,3.0871480000000003E-4,0,null,1.088E-3,3.9280000000000001E-4,0,null,null,null,null,8.8912620000000003E-4,3.4179410000000001E-4,0,2.3259999999999999E-3,-1.7399999999999999E-5,1.8760000000000001E-7]
[null,735,2.1440000000000001E-3,8.8683809417997177E-5,null,null,null,null,null,null,null,null,null,null,null,null,null,null,null,null,null,null,null,null,null,null,null,null,null,null,null,null,null,null,null,null,null,null,null,null,null,null,null,null,null,735,0,3.5E-4,3.6092999999999997E-4,1.8700000000000001E-6,3.17974E-4,2.8607200000000001E-4,null,1E-3,3.6099999999999999E-4,0,null,7.2745000000000004E-4,2.8404100000000001E-4,0,null,1E-3,3.6099999999999999E-4,0,null,null,null,null,8.2695350000000002E-4,3.1797379999999999E-4,0,2.14E-3,-1.59E-5,1.7100000000000001E-7]
[null,736,2.264E-3,9.3647455467511939E-5,null,null,null,null,null,null,null,null,null,null,null,null,null,null,null,null,null,null,null,null,null,null,null,null,null,null,null,null,null,null,null,null,null,null,null,null,null,null,null,null,null,736,0,3.2000000000000003E-4,3.3858399999999996E-4,1.7718000000000001E-6,2.9574400000000002E-4,2.6607200000000001E-4,null,9.3800000000000003E-4,3.3859999999999999E-4,0,null,6.8361160000000008E-4,2.6697880000000002E-4,0,null,9.3800000000000003E-4,3.3859999999999999E-4,0,null,null,null,null,7.6893510000000003E-4,2.957441E-4,0,2.0100000000000001E-3,-1.486E-5,1.6E-7]
[null,737,2.3839999999999998E-3,9.86111015170267E-5,null,null,null,null,null,null,null,null,null,null,null,null,null,null,null,null,null,null,null,null,null,null,null,null,null,null,null,null,null,null,null,null,null,null,null,null,null,null,null,null,null,737,0,2.9E-4,3.1623799999999999E-4,1.6736000000000002E-6,2.7505599999999998E-4,2.47459E-4,null,8.7600000000000004E-4,3.1619999999999999E-4,0,null,6.3977320000000002E-4,2.4991660000000003E-4,0,null,8.7600000000000004E-4,3.1619999999999999E-4,0,null,null,null,null,7.1494250000000005E-4,2.7505580000000002E-4,0,1.8799999999999999E-3,-1.382E-5,1.49E-7]
[null,738,2.431E-3,1.0055519621975332E-4,null,null,null,null,null,null,null,null,null,null,null,null,null,null,null,null,null,null,null,null,null,null,null,null,null,null,null,null,null,null,null,null,null,null,null,null,null,null,null,null,null,738,0,2.6000000000000003E-4,2.9389199999999997E-4,1.5754E-6,2.5586400000000002E-4,2.3019199999999999E-4,null,8.1399999999999994E-4,2.9379999999999999E-4,0,null,5.9593480000000006E-4,2.328544E-4,0,null,8.1399999999999994E-4,2.9379999999999999E-4,0,null,null,null,null,6.6485899999999996E-4,2.5586400000000002E-4,0,1.75E-3,-1.278E-5,1.3799999999999999E-7]
[null,739,2.392E-3,9.8942011253661024E-5,null,null,null,null,null,null,null,null,null,null,null,null,null,null,null,null,null,null,null,null,null,null,null,null,null,null,null,null,null,null,null,null,null,null,null,null,null,null,null,null,null,739,0,2.3000000000000001E-4,2.7154600000000001E-4,1.4772E-6,2.3811399999999999E-4,2.1422300000000001E-4,null,7.5199999999999996E-4,2.7139999999999998E-4,0,null,5.5209639999999999E-4,2.1579219999999998E-4,0,null,7.5199999999999996E-4,2.7139999999999998E-4,0,null,null,null,null,6.1854209999999995E-4,2.381142E-4,0,1.6199999999999999E-3,-1.1739999999999999E-5,1.2700000000000001E-7]
[null,740,2.3540000000000002E-3,9.7370190004648026E-5,null,null,null,null,null,null,null,null,null,null,null,null,null,null,null,null,null,null,null,null,null,null,null,null,null,null,null,null,null,null,null,null,null,null,null,null,null,null,null,null,null,740,0,2.0000000000000001E-4,2.4919999999999999E-4,1.3790000000000001E-6,2.21745E-4,1.99495E-4,null,6.8999999999999997E-4,2.4899999999999998E-4,0,null,5.0825800000000004E-4,1.9872999999999999E-4,0,null,6.8999999999999997E-4,2.4899999999999998E-4,0,null,null,null,null,5.7583030000000004E-4,2.2174449999999999E-4,0,1.49E-3,-1.0699999999999999E-5,1.1600000000000001E-7]
[null,741,2.9810000000000001E-3,1.2330524061336266E-4,null,null,null,null,null,null,null,null,null,null,null,null,null,null,null,null,null,null,null,null,null,null,null,null,null,null,null,null,null,null,null,null,null,null,null,null,null,null,null,null,null,741,0,1.9000000000000001E-4,2.3382199999999998E-4,1.3076E-6,2.0667099999999999E-4,1.8593400000000001E-4,null,6.4720000000000001E-4,2.3358E-4,0,null,4.7788240000000003E-4,1.86894E-4,0,null,6.4720000000000001E-4,2.3358E-4,0,null,null,null,null,5.3650460000000003E-4,2.0667109999999999E-4,0,1.402E-3,-1.0005999999999999E-5,1.085E-7]
[null,742,3.0140000000000002E-3,1.2467024327697925E-4,null,null,null,null,null,null,null,null,null,null,null,null,null,null,null,null,null,null,null,null,null,null,null,null,null,null,null,null,null,null,null,null,null,null,null,null,null,null,null,null,null,742,0,1.8000000000000001E-4,2.1844399999999998E-4,1.2361999999999999E-6,1.92747E-4,1.7340699999999999E-4,null,6.0439999999999995E-4,2.1815999999999998E-4,0,null,4.4750680000000002E-4,1.7505799999999999E-4,0,null,6.0439999999999995E-4,2.1815999999999998E-4,0,null,null,null,null,5.0018420000000005E-4,1.927474E-4,0,1.3140000000000001E-3,-9.312E-6,1.01E-7]
[null,743,3.0469999999999998E-3,1.2603524594059578E-4,null,null,null,null,null,null,null,null,null,null,null,null,null,null,null,null,null,null,null,null,null,null,null,null,null,null,null,null,null,null,null,null,null,null,null,null,null,null,null,null,null,743,0,1.7000000000000001E-4,2.0306600000000001E-4,1.1648000000000001E-6,1.7983100000000001E-4,1.61786E-4,null,5.6159999999999999E-4,2.0274E-4,0,null,4.1713120000000002E-4,1.63222E-4,0,null,5.6159999999999999E-4,2.0274E-4,0,null,null,null,null,4.6650050000000002E-4,1.7983149999999999E-4,0,1.2260000000000001E-3,-8.6179999999999995E-6,9.3499999999999997E-8]
[null,744,2.8869999999999998E-3,1.1941705120790943E-4,null,null,null,null,null,null,null,null,null,null,null,null,null,null,null,null,null,null,null,null,null,null,null,null,null,null,null,null,null,null,null,null,null,null,null,null,null,null,null,null,null,744,0,1.6000000000000001E-4,1.8768800000000001E-4,1.0934E-6,1.6780199999999999E-4,1.5096400000000001E-4,null,5.1880000000000003E-4,1.8731999999999999E-4,0,null,3.8675560000000001E-4,1.5138599999999999E-4,0,null,5.1880000000000003E-4,1.8731999999999999E-4,0,null,null,null,null,4.3513859999999999E-4,1.6780230000000001E-4,0,1.1379999999999999E-3,-7.9240000000000007E-6,8.6000000000000002E-8]
[null,745,3.0500000000000002E-3,{"$f":"C397/$C$11","v":1.2615933709183368E-4},null,null,null,null,null,null,null,null,null,null,null,null,null,null,null,null,null,null,null,null,null,null,null,null,null,null,null,null,null,null,null,null,null,null,null,null,null,null,null,null,null,745,0,1.5000000000000001E-4,1.7231000000000001E-4,1.0219999999999999E-6,1.5655700000000001E-4,1.4084699999999999E-4,null,4.7600000000000002E-4,1.719E-4,0,null,3.5638E-4,1.3955E-4,0,null,4.7600000000000002E-4,1.719E-4,0,null,null,null,null,4.0583029999999998E-4,1.5655660000000001E-4,0,1.0499999999999999E-3,-7.2300000000000002E-6,7.8499999999999995E-8]
[null,746,3.2130000000000001E-3,1.3290162297575789E-4,null,null,null,null,null,null,null,null,null,null,null,null,null,null,null,null,null,null,null,null,null,null,null,null,null,null,null,null,null,null,null,null,null,null,null,null,null,null,null,null,null,746,0,1.4000000000000001E-4,1.61848E-4,9.696E-7,1.4601699999999999E-4,1.31364E-4,null,4.4720000000000003E-4,1.6152000000000001E-4,0,null,3.3529779999999997E-4,1.313256E-4,0,null,4.4720000000000003E-4,1.6152000000000001E-4,0,null,null,null,null,3.7837329999999998E-4,1.4601680000000001E-4,0,9.8780000000000005E-4,-6.7580000000000003E-6,7.3419999999999992E-8]
[null,747,3.6840000000000002E-3,1.5238393372010335E-4,null,null,null,null,null,null,null,null,null,null,null,null,null,null,null,null,null,null,null,null,null,null,null,null,null,null,null,null,null,null,null,null,null,null,null,null,null,null,null,null,null,747,0,1.3000000000000002E-4,1.5138600000000002E-4,9.1719999999999998E-7,1.36153E-4,1.2249E-4,null,4.1840000000000003E-4,1.5113999999999999E-4,0,null,3.142156E-4,1.2310120000000001E-4,0,null,4.1840000000000003E-4,1.5113999999999999E-4,0,null,null,null,null,3.5268920000000001E-4,1.361535E-4,0,9.2559999999999995E-4,-6.2860000000000005E-6,6.8340000000000002E-8]
[null,748,3.6930000000000001E-3,1.5275620717381696E-4,null,null,null,null,null,null,null,null,null,null,null,null,null,null,null,null,null,null,null,null,null,null,null,null,null,null,null,null,null,null,null,null,null,null,null,null,null,null,null,null,null,748,0,1.2E-4,1.4092400000000001E-4,8.6479999999999996E-7,1.26945E-4,1.14206E-4,null,3.8959999999999998E-4,1.4076E-4,0,null,2.9313339999999997E-4,1.148768E-4,0,null,3.8959999999999998E-4,1.4076E-4,0,null,null,null,null,3.2871989999999998E-4,1.2694510000000001E-4,0,8.6339999999999995E-4,-5.8140000000000006E-6,6.3259999999999999E-8]
[null,749,3.6749999999999999E-3,1.5201166026638973E-4,null,null,null,null,null,null,null,null,null,null,null,null,null,null,null,null,null,null,null,null,null,null,null,null,null,null,null,null,null,null,null,null,null,null,null,null,null,null,null,null,null,749,0,1.1E-4,1.30462E-4,8.1240000000000005E-7,1.18367E-4,1.06489E-4,null,3.6079999999999999E-4,1.3038000000000001E-4,0,null,2.720512E-4,1.066524E-4,0,null,3.6079999999999999E-4,1.3038000000000001E-4,0,null,null,null,null,3.0639980000000001E-4,1.1836709999999999E-4,0,8.0119999999999996E-4,-5.3419999999999998E-6,5.8179999999999996E-8]
[null,750,3.362E-3,1.3906481682057206E-4,null,null,null,null,null,null,null,null,null,null,null,null,null,null,null,null,null,null,null,null,null,null,null,null,null,null,null,null,null,null,null,null,null,null,null,null,null,null,null,null,null,750,0,1E-4,1.2E-4,7.6000000000000003E-7,1.10393E-4,9.9314400000000006E-5,null,3.3199999999999999E-4,1.2E-4,0,null,2.5096899999999998E-4,9.8428E-5,0,null,3.3199999999999999E-4,1.2E-4,0,null,null,null,null,2.856577E-4,1.103928E-4,0,7.3899999999999997E-4,-4.87E-6,5.3099999999999999E-8]
[null,751,3.16E-3,1.3070934597055552E-4,null,null,null,null,null,null,null,null,null,null,null,null,null,null,null,null,null,null,null,null,null,null,null,null,null,null,null,null,null,null,null,null,null,null,null,null,null,null,null,null,null,751,0,1E-4,1.1292400000000001E-4,7.2139999999999999E-7,1.02991E-4,9.2655100000000007E-5,null,3.1260000000000001E-4,1.1296E-4,0,null,2.3632119999999999E-4,9.2706200000000004E-5,0,null,3.1260000000000001E-4,1.1296E-4,0,null,null,null,null,2.6641080000000002E-4,1.029908E-4,0,6.958E-4,-4.5539999999999999E-6,4.9679999999999999E-8]
[null,752,2.9589999999999998E-3,1.223952388376183E-4,null,null,null,null,null,null,null,null,null,null,null,null,null,null,null,null,null,null,null,null,null,null,null,null,null,null,null,null,null,null,null,null,null,null,null,null,null,null,null,null,null,752,0,1E-4,1.0584800000000001E-4,6.8280000000000005E-7,9.6118400000000005E-5,8.6472199999999995E-5,null,2.9319999999999997E-4,1.0592E-4,0,null,2.2167339999999998E-4,8.6984400000000007E-5,0,null,2.9319999999999997E-4,1.0592E-4,0,null,null,null,null,2.485462E-4,9.6118360000000002E-5,0,6.5260000000000003E-4,-4.2379999999999999E-6,4.6259999999999999E-8]
[null,753,3.0219999999999999E-3,1.2500115301361354E-4,null,null,null,null,null,null,null,null,null,null,null,null,null,null,null,null,null,null,null,null,null,null,null,null,null,null,null,null,null,null,null,null,null,null,null,null,null,null,null,null,null,753,0,1E-4,9.8771999999999996E-5,6.4420000000000001E-7,8.9733200000000003E-5,8.0727800000000003E-5,null,2.7379999999999999E-4,9.8880000000000002E-5,0,null,2.0702559999999999E-4,8.1262599999999997E-5,0,null,2.7379999999999999E-4,9.8880000000000002E-5,0,null,null,null,null,2.3195290000000001E-4,8.9733230000000006E-5,0,6.0939999999999996E-4,-3.9219999999999999E-6,4.2839999999999998E-8]
[null,754,3.0330000000000001E-3,1.2545615390148574E-4,null,null,null,null,null,null,null,null,null,null,null,null,null,null,null,null,null,null,null,null,null,null,null,null,null,null,null,null,null,null,null,null,null,null,null,null,null,null,null,null,null,754,0,1E-4,9.1695999999999998E-5,6.0560000000000008E-7,8.3796900000000004E-5,7.5387200000000002E-5,null,2.544E-4,9.1840000000000002E-5,0,null,1.9237779999999998E-4,7.55408E-5,0,null,2.544E-4,9.1840000000000002E-5,0,null,null,null,null,2.1652999999999999E-4,8.3796939999999993E-5,0,5.6619999999999999E-4,-3.6059999999999999E-6,3.9419999999999998E-8]
[null,755,3.045E-3,1.259525185064372E-4,null,null,null,null,null,null,null,null,null,null,null,null,null,null,null,null,null,null,null,null,null,null,null,null,null,null,null,null,null,null,null,null,null,null,null,null,null,null,null,null,null,755,0,1E-4,8.462E-5,5.6700000000000003E-7,7.8274400000000004E-5,7.0418800000000004E-5,null,2.3499999999999999E-4,8.4800000000000001E-5,0,null,1.7772999999999999E-4,6.9819000000000004E-5,0,null,2.3499999999999999E-4,8.4800000000000001E-5,0,null,null,null,null,2.0218530000000001E-4,7.8274420000000005E-5,0,5.2300000000000003E-4,-3.2899999999999998E-6,3.5999999999999998E-8]
[null,756,2.7680000000000001E-3,1.1449476887547395E-4,null,null,null,null,null,null,null,null,null,null,null,null,null,null,null,null,null,null,null,null,null,null,null,null,null,null,null,null,null,null,null,null,null,null,null,null,null,null,null,null,null,756,0,1E-4,7.9696000000000004E-5,5.3860000000000002E-7,7.3133099999999999E-5,6.5793399999999999E-5,null,2.2119999999999998E-4,7.9839999999999995E-5,0,null,1.67462E-4,6.5802600000000006E-5,0,null,2.2119999999999998E-4,7.9839999999999995E-5,0,null,null,null,null,1.8883379999999999E-4,7.3133120000000001E-5,0,4.9280000000000005E-4,-3.0759999999999999E-6,3.3680000000000001E-8]
[null,757,3.166E-3,1.3095752827303126E-4,null,null,null,null,null,null,null,null,null,null,null,null,null,null,null,null,null,null,null,null,null,null,null,null,null,null,null,null,null,null,null,null,null,null,null,null,null,null,null,null,null,757,0,1E-4,7.4771999999999995E-5,5.102E-7,6.8341400000000003E-5,6.14825E-5,null,2.074E-4,7.4880000000000001E-5,0,null,1.5719399999999999E-4,6.1786200000000008E-5,0,null,2.074E-4,7.4880000000000001E-5,0,null,null,null,null,1.7639350000000001E-4,6.8341420000000004E-5,0,4.6260000000000002E-4,-2.8619999999999999E-6,3.1359999999999998E-8]
[null,758,3.5639999999999999E-3,1.4742028767058857E-4,null,null,null,null,null,null,null,null,null,null,null,null,null,null,null,null,null,null,null,null,null,null,null,null,null,null,null,null,null,null,null,null,null,null,null,null,null,null,null,null,null,758,0,1E-4,6.9847999999999999E-5,4.8179999999999999E-7,6.3870399999999998E-5,5.7460100000000002E-5,null,1.9359999999999999E-4,6.9920000000000008E-5,0,null,1.46926E-4,5.7769800000000004E-5,0,null,1.9359999999999999E-4,6.9920000000000008E-5,0,null,null,null,null,1.6478949999999999E-4,6.3870349999999994E-5,0,4.3239999999999999E-4,-2.6479999999999999E-6,2.9040000000000001E-8]
[null,759,3.5130000000000001E-3,1.4531073809954481E-4,null,null,null,null,null,null,null,null,null,null,null,null,null,null,null,null,null,null,null,null,null,null,null,null,null,null,null,null,null,null,null,null,null,null,null,null,null,null,null,null,null,759,0,1E-4,6.4924000000000004E-5,4.5340000000000002E-7,5.9693900000000001E-5,5.3702700000000003E-5,null,1.7980000000000001E-4,6.4960000000000001E-5,0,null,1.3665799999999998E-4,5.3753399999999999E-5,0,null,1.7980000000000001E-4,6.4960000000000001E-5,0,null,null,null,null,1.539542E-4,5.969389E-5,0,4.0220000000000002E-4,-2.4339999999999999E-6,2.672E-8]
[null,760,0,0,null,null,null,null,null,null,null,null,null,null,null,null,null,null,null,null,null,null,null,null,null,null,null,null,null,null,null,null,null,null,null,null,null,null,null,null,null,null,null,null,null,760,0,1E-4,6.0000000000000002E-5,4.2500000000000001E-7,5.5788600000000003E-5,5.0189299999999997E-5,null,1.66E-4,6.0000000000000002E-5,0,null,1.2638999999999999E-4,4.9737000000000002E-5,0,null,1.66E-4,6.0000000000000002E-5,0,null,null,null,null,1.4382699999999999E-4,5.5788619999999998E-5,0,3.7199999999999999E-4,-2.2199999999999999E-6,2.44E-8]
[null,null,null,null,null,null,null,null,null,null,null,null,null,null,null,null,null,null,null,null,null,null,null,null,null,null,null,null,null,null,null,null,null,null,null,null,null,null,null,null,null,null,null,null,null,null,null,null,null,null,null,null,null,null,null,null,null,null,null,null,null,1.682E-4,5.6480000000000001E-5,0]
[null,null,null,null,null,null,null,null,null,null,null,null,null,null,null,null,null,null,null,null,null,null,null,null,null,null,null,null,null,null,null,null,null,null,null,null,null,null,null,null,null,null,null,null,null,null,null,null,null,null,null,null,null,null,null,null,null,null,null,null,null,1.7039999999999999E-4,5.2960000000000001E-5,0]
[null,null,null,null,null,null,null,null,null,null,null,null,null,null,null,null,null,null,null,null,null,null,null,null,null,null,null,null,null,null,null,null,null,null,null,null,null,null,null,null,null,null,null,null,null,null,null,null,null,null,null,null,null,null,null,null,null,null,null,null,null,1.7259999999999999E-4,4.9440000000000001E-5,0]
[null,null,null,null,null,null,null,null,null,null,null,null,null,null,null,null,null,null,null,null,null,null,null,null,null,null,null,null,null,null,null,null,null,null,null,null,null,null,null,null,null,null,null,null,null,null,null,null,null,null,null,null,null,null,null,null,null,null,null,null,null,1.7479999999999999E-4,4.5920000000000001E-5,0]
[null,null,null,null,null,null,null,null,null,null,null,null,null,null,null,null,null,null,null,null,null,null,null,null,null,null,null,null,null,null,null,null,null,null,null,null,null,null,null,null,null,null,null,null,null,null,null,null,null,null,null,null,null,null,null,null,null,null,null,null,null,1.7699999999999999E-4,4.2400000000000001E-5,0]
[null,null,null,null,null,null,null,null,null,null,null,null,null,null,null,null,null,null,null,null,null,null,null,null,null,null,null,null,null,null,null,null,null,null,null,null,null,null,null,null,null,null,null,null,null,null,null,null,null,null,null,null,null,null,null,null,null,null,null,null,null,1.582E-4,3.9919999999999997E-5,0]
[null,null,null,null,null,null,null,null,null,null,null,null,null,null,null,null,null,null,null,null,null,null,null,null,null,null,null,null,null,null,null,null,null,null,null,null,null,null,null,null,null,null,null,null,null,null,null,null,null,null,null,null,null,null,null,null,null,null,null,null,null,1.394E-4,3.7440000000000001E-5,0]
[null,null,null,null,null,null,null,null,null,null,null,null,null,null,null,null,null,null,null,null,null,null,null,null,null,null,null,null,null,null,null,null,null,null,null,null,null,null,null,null,null,null,null,null,null,null,null,null,null,null,null,null,null,null,null,null,null,null,null,null,null,1.2059999999999999E-4,3.4960000000000004E-5,0]
[null,null,null,null,null,null,null,null,null,null,null,null,null,null,null,null,null,null,null,null,null,null,null,null,null,null,null,null,null,null,null,null,null,null,null,null,null,null,null,null,null,null,null,null,null,null,null,null,null,null,null,null,null,null,null,null,null,null,null,null,null,1.0179999999999999E-4,3.2480000000000001E-5,0]
[null,null,null,null,null,null,null,null,null,null,null,null,null,null,null,null,null,null,null,null,null,null,null,null,null,null,null,null,null,null,null,null,null,null,null,null,null,null,null,null,null,null,null,null,null,null,null,null,null,null,null,null,null,null,null,null,null,null,null,null,null,8.2999999999999998E-5,3.0000000000000001E-5,0]
[null,null,null,null,null,null,null,null,null,null,null,null,null,null,null,null,null,null,null,null,null,null,null,null,null,null,null,null,null,null,null,null,null,null,null,null,null,null,null,null,null,null,null,null,null,null,null,null,null,null,null,null,null,null,null,null,null,null,null,null,null,7.8200000000000003E-5,2.8200000000000001E-5,0]
[null,null,null,null,null,null,null,null,null,null,null,null,null,null,null,null,null,null,null,null,null,null,null,null,null,null,null,null,null,null,null,null,null,null,null,null,null,null,null,null,null,null,null,null,null,null,null,null,null,null,null,null,null,null,null,null,null,null,null,null,null,7.3399999999999995E-5,2.6400000000000001E-5,0]
[null,null,null,null,null,null,null,null,null,null,null,null,null,null,null,null,null,null,null,null,null,null,null,null,null,null,null,null,null,null,null,null,null,null,null,null,null,null,null,null,null,null,null,null,null,null,null,null,null,null,null,null,null,null,null,null,null,null,null,null,null,6.86E-5,2.4599999999999998E-5,0]
[null,null,null,null,null,null,null,null,null,null,null,null,null,null,null,null,null,null,null,null,null,null,null,null,null,null,null,null,null,null,null,null,null,null,null,null,null,null,null,null,null,null,null,null,null,null,null,null,null,null,null,null,null,null,null,null,null,null,null,null,null,6.3799999999999992E-5,2.2799999999999999E-5,0]
[null,null,null,null,null,null,null,null,null,null,null,null,null,null,null,null,null,null,null,null,null,null,null,null,null,null,null,null,null,null,null,null,null,null,null,null,null,null,null,null,null,null,null,null,null,null,null,null,null,null,null,null,null,null,null,null,null,null,null,null,null,5.8999999999999998E-5,2.0999999999999999E-5,0]
[null,null,null,null,null,null,null,null,null,null,null,null,null,null,null,null,null,null,null,null,null,null,null,null,null,null,null,null,null,null,null,null,null,null,null,null,null,null,null,null,null,null,null,null,null,null,null,null,null,null,null,null,null,null,null,null,null,null,null,null,null,5.5599999999999996E-5,1.98E-5,0]
[null,null,null,null,null,null,null,null,null,null,null,null,null,null,null,null,null,null,null,null,null,null,null,null,null,null,null,null,null,null,null,null,null,null,null,null,null,null,null,null,null,null,null,null,null,null,null,null,null,null,null,null,null,null,null,null,null,null,null,null,null,5.2199999999999995E-5,1.8599999999999998E-5,0]
[null,null,null,null,null,null,null,null,null,null,null,null,null,null,null,null,null,null,null,null,null,null,null,null,null,null,null,null,null,null,null,null,null,null,null,null,null,null,null,null,null,null,null,null,null,null,null,null,null,null,null,null,null,null,null,null,null,null,null,null,null,4.88E-5,1.7399999999999999E-5,0]
[null,null,null,null,null,null,null,null,null,null,null,null,null,null,null,null,null,null,null,null,null,null,null,null,null,null,null,null,null,null,null,null,null,null,null,null,null,null,null,null,null,null,null,null,null,null,null,null,null,null,null,null,null,null,null,null,null,null,null,null,null,4.5399999999999999E-5,1.6200000000000001E-5,0]
[null,null,null,null,null,null,null,null,null,null,null,null,null,null,null,null,null,null,null,null,null,null,null,null,null,null,null,null,null,null,null,null,null,null,null,null,null,null,null,null,null,null,null,null,null,null,null,null,null,null,null,null,null,null,null,null,null,null,null,null,null,4.1999999999999998E-5,1.5E-5,0]
[null,null,null,null,null,null,null,null,null,null,null,null,null,null,null,null,null,null,null,null,null,null,null,null,null,null,null,null,null,null,null,null,null,null,null,null,null,null,null,null,null,null,null,null,null,null,null,null,null,null,null,null,null,null,null,null,null,null,null,null,null,3.947E-5,1.412E-5,0]
[null,null,null,null,null,null,null,null,null,null,null,null,null,null,null,null,null,null,null,null,null,null,null,null,null,null,null,null,null,null,null,null,null,null,null,null,null,null,null,null,null,null,null,null,null,null,null,null,null,null,null,null,null,null,null,null,null,null,null,null,null,3.6939999999999995E-5,1.324E-5,0]
[null,null,null,null,null,null,null,null,null,null,null,null,null,null,null,null,null,null,null,null,null,null,null,null,null,null,null,null,null,null,null,null,null,null,null,null,null,null,null,null,null,null,null,null,null,null,null,null,null,null,null,null,null,null,null,null,null,null,null,null,null,3.4409999999999998E-5,1.236E-5,0]
[null,null,null,null,null,null,null,null,null,null,null,null,null,null,null,null,null,null,null,null,null,null,null,null,null,null,null,null,null,null,null,null,null,null,null,null,null,null,null,null,null,null,null,null,null,null,null,null,null,null,null,null,null,null,null,null,null,null,null,null,null,3.188E-5,1.148E-5,0]
[null,null,null,null,null,null,null,null,null,null,null,null,null,null,null,null,null,null,null,null,null,null,null,null,null,null,null,null,null,null,null,null,null,null,null,null,null,null,null,null,null,null,null,null,null,null,null,null,null,null,null,null,null,null,null,null,null,null,null,null,null,2.9349999999999999E-5,1.06E-5,0]
[null,null,null,null,null,null,null,null,null,null,null,null,null,null,null,null,null,null,null,null,null,null,null,null,null,null,null,null,null,null,null,null,null,null,null,null,null,null,null,null,null,null,null,null,null,null,null,null,null,null,null,null,null,null,null,null,null,null,null,null,null,2.7614E-5,9.9739999999999997E-6,0]
[null,null,null,null,null,null,null,null,null,null,null,null,null,null,null,null,null,null,null,null,null,null,null,null,null,null,null,null,null,null,null,null,null,null,null,null,null,null,null,null,null,null,null,null,null,null,null,null,null,null,null,null,null,null,null,null,null,null,null,null,null,2.5877999999999999E-5,9.3479999999999993E-6,0]
[null,null,null,null,null,null,null,null,null,null,null,null,null,null,null,null,null,null,null,null,null,null,null,null,null,null,null,null,null,null,null,null,null,null,null,null,null,null,null,null,null,null,null,null,null,null,null,null,null,null,null,null,null,null,null,null,null,null,null,null,null,2.4142E-5,8.7220000000000005E-6,0]
[null,null,null,null,null,null,null,null,null,null,null,null,null,null,null,null,null,null,null,null,null,null,null,null,null,null,null,null,null,null,null,null,null,null,null,null,null,null,null,null,null,null,null,null,null,null,null,null,null,null,null,null,null,null,null,null,null,null,null,null,null,2.2405999999999999E-5,8.0960000000000001E-6,0]
[null,null,null,null,null,null,null,null,null,null,null,null,null,null,null,null,null,null,null,null,null,null,null,null,null,null,null,null,null,null,null,null,null,null,null,null,null,null,null,null,null,null,null,null,null,null,null,null,null,null,null,null,null,null,null,null,null,null,null,null,null,2.067E-5,7.4699999999999996E-6,0]
[null,null,null,null,null,null,null,null,null,null,null,null,null,null,null,null,null,null,null,null,null,null,null,null,null,null,null,null,null,null,null,null,null,null,null,null,null,null,null,null,null,null,null,null,null,null,null,null,null,null,null,null,null,null,null,null,null,null,null,null,null,1.9448000000000001E-5,7.0279999999999995E-6,0]
[null,null,null,null,null,null,null,null,null,null,null,null,null,null,null,null,null,null,null,null,null,null,null,null,null,null,null,null,null,null,null,null,null,null,null,null,null,null,null,null,null,null,null,null,null,null,null,null,null,null,null,null,null,null,null,null,null,null,null,null,null,1.8226000000000001E-5,6.5859999999999993E-6,0]
[null,null,null,null,null,null,null,null,null,null,null,null,null,null,null,null,null,null,null,null,null,null,null,null,null,null,null,null,null,null,null,null,null,null,null,null,null,null,null,null,null,null,null,null,null,null,null,null,null,null,null,null,null,null,null,null,null,null,null,null,null,1.7003999999999998E-5,6.144E-6,0]
[null,null,null,null,null,null,null,null,null,null,null,null,null,null,null,null,null,null,null,null,null,null,null,null,null,null,null,null,null,null,null,null,null,null,null,null,null,null,null,null,null,null,null,null,null,null,null,null,null,null,null,null,null,null,null,null,null,null,null,null,null,1.5781999999999999E-5,5.7019999999999998E-6,0]
[null,null,null,null,null,null,null,null,null,null,null,null,null,null,null,null,null,null,null,null,null,null,null,null,null,null,null,null,null,null,null,null,null,null,null,null,null,null,null,null,null,null,null,null,null,null,null,null,null,null,null,null,null,null,null,null,null,null,null,null,null,1.456E-5,5.2599999999999996E-6,0]
[null,null,null,null,null,null,null,null,null,null,null,null,null,null,null,null,null,null,null,null,null,null,null,null,null,null,null,null,null,null,null,null,null,null,null,null,null,null,null,null,null,null,null,null,null,null,null,null,null,null,null,null,null,null,null,null,null,null,null,null,null,1.3698E-5,4.9479999999999999E-6,0]
[null,null,null,null,null,null,null,null,null,null,null,null,null,null,null,null,null,null,null,null,null,null,null,null,null,null,null,null,null,null,null,null,null,null,null,null,null,null,null,null,null,null,null,null,null,null,null,null,null,null,null,null,null,null,null,null,null,null,null,null,null,1.2836E-5,4.6360000000000002E-6,0]
[null,null,null,null,null,null,null,null,null,null,null,null,null,null,null,null,null,null,null,null,null,null,null,null,null,null,null,null,null,null,null,null,null,null,null,null,null,null,null,null,null,null,null,null,null,null,null,null,null,null,null,null,null,null,null,null,null,null,null,null,null,1.1973999999999999E-5,4.3239999999999996E-6,0]
[null,null,null,null,null,null,null,null,null,null,null,null,null,null,null,null,null,null,null,null,null,null,null,null,null,null,null,null,null,null,null,null,null,null,null,null,null,null,null,null,null,null,null,null,null,null,null,null,null,null,null,null,null,null,null,null,null,null,null,null,null,1.1112E-5,4.0119999999999999E-6,0]
[null,null,null,null,null,null,null,null,null,null,null,null,null,null,null,null,null,null,null,null,null,null,null,null,null,null,null,null,null,null,null,null,null,null,null,null,null,null,null,null,null,null,null,null,null,null,null,null,null,null,null,null,null,null,null,null,null,null,null,null,null,1.025E-5,3.7000000000000002E-6,0]

{"sheet":"CM","index":2,"n_rows":541,"n_cols":142,"rows_kept":541,"cut":false,"hidden":false,"merged":[]}
[1,2,3,4,5,6,7,8,9,10,11,12,13,14,15,16,17,18,19,20,21,22,23,24,25,26,27,28,29,30,31,32,33,34,35,36,37,38,39,40,41,42,43,44,45,46,47,48,49,50,51,52,53,54,55,56,57,58,59,60,61,62,63,64,65,66,67,68,69,70,71,72,73,74,75,76,77,78,79,80,81,82,83,84,85,86,87,88,89,90,91,92,93,94,95,96,97,98,99,100,101,102,103,104,105,106,107,108,109,110,111,112,113,114,115,116,117,118,119,120,121,122,123,124,125,126,159,160,161,162,163,164,165,166,167,168,169,170,171,172,173,174]
[null,null,null,null,null,null,"Color Mixing Tool",null,null,null,null,null,null,null,null,null,null,null,null,null,"Optimizer v1.2"]
[]
[null,null,null,null,null,null,null,null,null,null,null,null,null,null,null,"Luminous Efficacy",null,"Lum/W",null,null,"CRILimit",80]
[null,null,null,null,null,null,null,null,null,null,null,null,null,null,null,null,{"$f":"AX12","v":"CIE1924"},{"$f":"SUMPRODUCT($D$33:$D$413,$AX$33:$AX$413)*683.002","v":318.95462734683201},null,null,"Wei_v",4,1]
[null,null,null,null,null,null,null,null,null,null,null,null,null,null,null,null,{"$f":"AY12","v":"CIE 1951, Judd"},{"$f":"SUMPRODUCT($D$33:$D$413,$AY$33:$AY$413)*683.002","v":319.98537170596262},null,null,"Iteration",5,3,null,null,null,null,null,null,null,null,null,null,null,null,null,null,null,null,null,null,null,null,null,null,null,null,null,null,null,null,null,null,null,null,null,null,null,null,null,null,null,null,null,null,null,null,null,null,null,null,null,null,null,null,null,null,null,null,null,null,null,null,null,null,0.1,1.0162187726978078E-3,-2.2529819303229726E-3]
[null,null,null,null,null,null,null,null,null,null,null,null,null,null,null,null,{"$f":"AZ12","v":"CIE Judd & Vos"},{"$f":"SUMPRODUCT($D$33:$D$413,$AZ$33:$AZ$413)*683.002","v":320.2542981650995},null,null,null,null,null,1,2,3,4,5,6,"Note",null,null,null,null,null,null,null,null,null,null,null,null,null,null,null,null,null,null,null,null,null,null,null,null,null,null,null,null,null,null,null,null,null,null,null,null,null,null,null,null,null,null,null,null,null,null,null,null,null,null,null,null,null,null,null,1E-3,1.0284424629691813E-3,-2.2800821509738611E-3]
[null,null,null,null,null,null,null,null,null,null,null,null,null,null,null,null,{"$f":"BA12","v":"CIE1951(Scotopic)"},{"$f":"SUMPRODUCT($D$33:$D$413,$BA$33:$BA$413)*683.002","v":226.4464768464114},null,null,null,"Original","Suggested","R[ 1]","R[ 5]","R[ 3]","R[ 1]","R[ 3]","R[ 4]",null,null,null,null,null,null,null,null,null,null,null,null,null,null,null,null,null,null,null,null,null,null,null,null,null,null,null,"CIE (1931) 2-deg color matching functions",null,null,null,null,null,null,null,null,null,null,null,null,null,null,null,null,null,null,null,null,null,null,null,null,null,null,null,null,1E-4,1.028554939275228E-3,-2.2803315075092812E-3]
[null,null,null,null,null,null,null,null,null,null,null,null,null,null,null,null,{"$f":"BB12","v":"2 degree"},{"$f":"SUMPRODUCT($D$33:$D$413,$BB$33:$BB$413)*683.002","v":335.10479198303523},null,null,"CCT",4000,null,4000.2201609708613,4934.8008711567936,3860.0401431492023,4000.2201609708613,3860.0401431492023,5120.4428125721242,null,null,null,null,null,null,null,null,null,null,null,null,null,null,null,null,null,null,null,null,"Luminosity function"]
[null,null,null,null,null,null,null,null,null,null,null,null,null,null,null,null,{"$f":"BC12","v":"10 degree"},{"$f":"SUMPRODUCT($D$33:$D$413,$BC$33:$BC$413)*683.002","v":342.45131301442996},null,null,"u",{"$f":"AF36","v":0.22510917909058201},null,0.22499509772932041,0.21801390305315207,0.217276193326187,0.22499509772932041,0.217276193326187,0.19923407668386839,null,null,null,null,null,null,null,null,null,null,null,null,null,null,null,null,null,null,null,null,"(http://www.cvrl.org/lumindex.htm)",null,null,null,"Photopic (V(lamda))",null,null,"CIE1931",null,null,null,"CIE1964",null,null,null,"CIE bar",null,null,null,null,null,null,"CIE2006",null,null,"RGB",null,null,null,null,null,null,"Mixing study"]
[null,"wd","Target SPD","nomalized SPD",null,null,null,null,null,null,null,null,null,null,null,null,null,null,null,null,"v",{"$f":"AG36","v":0.33438633879882312},null,0.33453038971367488,0.31764670752506913,0.35233714607157385,0.33453038971367488,0.35233714607157385,0.33273174255970961,null,null,null,null,null,null,null,null,null,null,null,null,null,null,null,null,null,null,null,null,null,null,null,null,2005,2005,null,{"$f":"SUM(BE13:BE506)","v":106.86336579999997},{"$f":"SUM(BF13:BF506)","v":106.85519715999996},{"$f":"SUM(BG13:BG506)","v":106.86803329999998},null,{"$f":"SUM(BI13:BI506)","v":116.64554167875006},{"$f":"SUM(BJ13:BJ506)","v":116.65964808154597},{"$f":"SUM(BK13:BK506)","v":116.67434641005401},null,null,null,null,null,null,null,null,"2-deg XYZ CMFs transformed from the CIE (2006) 2-deg LMS cone fundamentals",null,null,"Stiles & Burch (1955) 2-deg, RGB CMFs"]
[null,null,{"$f":"SUM(C13:C413)","v":49.279172226269175},null,null,null,"Name","x","y","Rj","Prog.","Notes",null,null,null,"CIE1931(2-deg)",null,null,null,null,"duv","ori",{"$f":"(OFFSET(X9,0,$W$6-1)-$V$9) / (OFFSET(X9,0,W6-1) - OFFSET(X9,0,W5-1))","v":0.99842944112661303},1.8375315795089321E-4,1.8181259506111512E-2,1.9585380969709399E-2,1.8375315795089321E-4,1.9585380969709399E-2,2.5927950425600661E-2,null,null,null,null,null,null,null,null,null,null,null,null,null,null,null,null,null,null,null,"WD","CIE1924","CIE 1951, Judd","CIE Judd & Vos","CIE1951(Scotopic)","2 degree","10 degree",null,"x-bar(2-deg)","y-bar(2-deg)","z-bar(2-deg)",null,"x-bar(10-deg)","y-bar(10-deg)","z-bar(10-deg)",null,"x","y","z",null,null,null,null,"x","y","z","R","G","B",null,null,null,null,"TAR","Option","u","v","Ratio","du","dv"]
[null,360,{"$f":"SUMPRODUCT($P$37:$AD$37,P42:AD42)","v":3.045273963039742E-3},{"$f":"C13/$C$12","v":6.1796370057863966E-5},null,1,{"$f":"P38","v":"Fake LED"},{"$f":"P39","v":0.30190342985606361},{"$f":"P40","v":0.30070378005741016},0,0,null,null,null,null,null,"x=",{"$f":"T15/(SUM(T15:T17))","v":0.38054237375379213},null,null,1,0,{"$f":"OFFSET(X13,0,$W$6-1)-$W$12*(OFFSET(X13,0,$W$6-1)-OFFSET(X13,0,$W$5-1))","v":0},0,0,0,0,0,0,0,null,null,null,null,null,null,null,null,null,null,null,null,null,null,null,null,null,null,360,0,0,0,0,0,0,null,1.2999999999999999E-4,3.9199999999999997E-6,6.0610000000000004E-4,null,0,0,0,null,0,0,0,null,null,null,null,null,null,null,null,null,null,null,null,null,null,1,1,0.20111348385903433,0.30047147990415957,1,1.5264134956005648E-3,-3.0374097670371469E-3]
[null,361,{"$f":"SUMPRODUCT($P$37:$AD$37,P43:AD43)","v":3.5691480686781065E-3},{"$f":"C14/$C$12","v":7.2427110834777909E-5},null,2,{"$f":"Q38","v":"LCB CRBP(blue)"},{"$f":"Q39","v":0.15941250711922395},{"$f":"Q40","v":0.11638349231305288},3.7773701593981072E-2,0.2,null,null,null,null,null,"y=",{"$f":"T16/(SUM(T15:T17))","v":0.37720271744713296},null,null,2,3.7773701593981072E-2,{"$f":"OFFSET(X14,0,$W$6-1)-$W$12*(OFFSET(X14,0,$W$6-1)-OFFSET(X14,0,$W$5-1))","v":3.7718249294563674E-2},3.7773701593981072E-2,0.2287693382042745,2.4663340339160832E-3,3.7773701593981072E-2,2.4663340339160832E-3,9.1149138577516928E-2,3.7773701593981072E-2,null,null,null,null,null,null,null,null,null,null,null,null,null,null,null,null,null,null,361,0,0,0,0,0,0,null,1.5034E-4,4.5299999999999998E-6,7.0208E-4,null,2.81614E-7,3.0848400000000001E-8,1.2336815999999999E-6,null,1.5034E-4,4.5299999999999998E-6,7.0208E-4,null,null,null,null,0,0,0,0,0,0,null,null,null,null,2,1,0.15637213483637244,0.17124537006053567,1,-1.2176870997637756E-3,-8.5674737265728496E-3]
[null,362,3.0040299537539518E-3,6.0959423992771492E-5,null,3,{"$f":"R38","v":"LV CQBP(verde)"},{"$f":"R39","v":7.6478564127056947E-2},{"$f":"R40","v":0.5132111749781606},1.7852967023315902E-2,0.4,null,null,null,null,null,null,null,"X",{"$f":"SUMPRODUCT($D$33:$D$413,$BE$33:$BE$413)*100/SUMPRODUCT($D$33:$D$413,$BF$33:$BF$413)","v":100.88537440272476},3,1.7852967023315902E-2,1.7826055838516007E-2,1.7852967023315902E-2,6.8947644088421028E-4,7.1818445902973628E-4,1.7852967023315902E-2,7.1818445902973628E-4,8.1486747767098614E-4,1.7852967023315902E-2,null,null,null,null,null,null,null,null,null,null,null,null,null,null,null,null,null,null,362,0,0,0,0,0,0,null,1.7078000000000001E-4,5.1399999999999999E-6,7.9805999999999996E-4,null,4.4102800000000002E-7,4.8298800000000004E-8,1.9323362000000001E-6,null,1.7078000000000001E-4,5.1399999999999999E-6,7.9805999999999996E-4,null,null,null,null,0,0,0,0,0,0,null,null,null,null,3,1,3.3969707373653873E-2,0.34192857912979319,1,-8.6130935258998953E-3,-2.0382971799293159E-3]
[null,363,2.6456898425780365E-3,5.3687789852275615E-5,null,4,{"$f":"S38","v":"LUW CRBP(white)"},{"$f":"S39","v":0.33614944254203721},{"$f":"S40","v":0.33997830312219285},0.27227545431280692,0.8,null,null,null,null,"CCT Calculation",null,null,"Y",{"$f":"SUMPRODUCT($D$33:$D$413,$BF$33:$BF$413)*(100/+SUMPRODUCT($D$33:$D$413,$BF$33:$BF$413))","v":100},4,0.27227545431280692,0.27206706292859673,0.27227545431280692,0.13977592679343503,0.13958932089788226,0.27227545431280692,0.13958932089788226,0.2768891585292545,0.27227545431280692,null,null,null,null,null,null,null,null,null,null,null,null,null,null,null,null,null,null,363,0,0,0,0,0,0,null,1.9122E-4,5.75E-6,8.9404000000000003E-4,null,6.00442E-7,6.57492E-8,2.6309908E-6,null,1.9122E-4,5.75E-6,8.9404000000000003E-4,null,null,null,null,0,0,0,0,0,0,null,null,null,null,4,1,0.20984952452080963,0.31835928457866641,1,-1.1262461435679327E-4,-8.0396298896001639E-4]
[null,364,2.7570924033098179E-3,5.5948431736036726E-5,null,5,{"$f":"T38","v":"LT CQBP(green)"},{"$f":"T39","v":0.17924531488072146},{"$f":"T40","v":0.72085092641298287},0.17972167529727523,0.8,null,null,null,null,"CCT test",{"$f":"-449*T20^3+3525*T20^2-6823.3*T20+5520.33","v":4009.2504480779403},null,"Z",{"$f":"SUMPRODUCT($D$33:$D$413,$BG$33:$BG$413)*(100/+SUMPRODUCT($D$33:$D$413,$BF$33:$BF$413))","v":64.22406244542185},5,0.17972167529727523,0.17989985133215605,0.17972167529727523,0.17878369279742043,0.29316921164882831,0.17972167529727523,0.29316921164882831,0.26715093329387352,0.17972167529727523,null,null,null,null,null,null,null,null,null,null,null,null,null,null,null,null,null,null,364,0,0,0,0,0,0,null,2.1166000000000002E-4,6.3600000000000001E-6,9.9001999999999988E-4,null,7.5985600000000008E-7,8.3199600000000009E-8,3.3296454000000002E-6,null,2.1166000000000002E-4,6.3600000000000001E-6,9.9001999999999988E-4,null,null,null,null,0,0,0,0,0,0,null,null,null,null,5,1,6.3496381505969784E-2,0.38303309767609522,1,-1.1996371715727872E-2,5.6932386588437467E-3]
[null,365,2.8293591736416736E-3,5.7414908689018754E-5,null,6,{"$f":"U38","v":"LJ CKBP(red)"},{"$f":"U39","v":0.68438008519198867},{"$f":"U40","v":0.31157120114663078},0.41991298257598614,1.5,null,null,null,null,"CCT",{"$f":"IF(ISERROR(R18),IF(ERROR.TYPE(R18)<=3,Q17,0),R18)","v":4000.2171618788961},{"$f":"CCT_CM!J23","v":4000.2171618788961},null,null,6,0.41991298257598614,0.41995506180099007,0.41991298257598614,0.33010368915759147,0.44670549937809845,0.41991298257598614,0.44670549937809845,0.33091131025028026,0.41991298257598614,null,null,null,null,null,null,null,null,null,null,null,null,null,null,null,null,null,null,365,0,0,0,0,0,0,null,2.321E-4,6.9700000000000002E-6,1.0859999999999999E-3,null,9.1927000000000005E-7,1.0065E-7,4.0283E-6,null,2.321E-4,6.9700000000000002E-6,1.0859999999999999E-3,null,null,null,null,0,0,0,0,0,0,null,null,null,null,6,1,0.50977114734453066,0.34811772648465505,1,4.0664848507954154E-3,2.9574540499899271E-3]
[null,366,2.7652765420271321E-3,5.6114508769143858E-5,null,7,{"$f":"V38","v":"SZB(blue)"},{"$f":"V39","v":0.14659189448616783},{"$f":"V40","v":3.575623594085614E-2},0,0,null,null,null,null,"duv",{"$f":"IF(ISERROR(R19),IF(ERROR.TYPE(R19)<=3,\"error\",0),R19)","v":1.8733643154256185E-4},{"$f":"CCT_CM!J15","v":1.8733643154256185E-4},null,null,7,0,0,0,0,0,0,0,0,0,null,null,null,null,null,null,null,null,null,null,null,null,null,null,null,null,null,null,366,0,0,0,0,0,0,null,2.6865999999999999E-4,8.0539999999999995E-6,1.258E-3,null,1.9271359999999999E-6,2.1073999999999999E-7,8.4513800000000004E-6,null,2.6865999999999999E-4,8.0539999999999995E-6,1.258E-3,null,null,null,null,0,0,0,0,0,0,null,null,null,null,7,0,0,0,0]
[null,367,2.7013180054192704E-3,5.4816627053229658E-5,null,8,{"$f":"W38","v":"SZG(green)"},{"$f":"W39","v":0.16502817650858403},{"$f":"W40","v":0.70103136826753454},0,0,null,null,null,null,null,null,null,"n=",{"$f":"(R13-0.332)/(R14-0.1858)","v":0.25361381698877877},8,0,0,0,0,0,0,0,0,0,null,null,null,null,null,null,null,null,null,null,null,null,null,null,null,null,null,null,367,0,0,0,0,0,0,null,3.0521999999999998E-4,9.1379999999999996E-6,1.4300000000000001E-3,null,2.9350019999999999E-6,3.2082999999999999E-7,1.2874459999999999E-5,null,3.0521999999999998E-4,9.1379999999999996E-6,1.4300000000000001E-3,null,null,null,null,0,0,0,0,0,0,null,null,null,null,8,0,0,0,0]
[null,368,2.8553867641756153E-3,5.7943074836259088E-5,null,9,{"$f":"X38","v":"SZ5M2"},{"$f":"X39","v":0.35390021683095246},{"$f":"X40","v":0.36234199398901401},0,0,null,null,null,null,"CRI=",{"$f":"AVERAGE(Q22:Q28,S22:S28)","v":84.44993630023184},"R8=",{"$f":"AVERAGE(Q22:Q28,S22)","v":85.509347973518217},null,9,0,0,0,0,0,0,0,0,0,null,null,null,null,null,null,null,null,null,null,null,null,null,null,null,null,null,null,368,0,0,0,0,0,0,null,3.4178000000000002E-4,1.0222E-5,1.6019999999999999E-3,null,3.9428679999999999E-6,4.3092E-7,1.7297539999999998E-5,null,3.4178000000000002E-4,1.0222E-5,1.6019999999999999E-3,null,null,null,null,0,0,0,0,0,0,null,null,null,null,9,0,0,0,0]
[null,369,3.0091454737760522E-3,6.1063230931707318E-5,null,10,{"$f":"Y38","v":"SZA(amber) "},{"$f":"Y39","v":0.58800545116307001},{"$f":"Y40","v":0.40740290476537211},7.2463219196634801E-2,0.9,null,null,null,null,"R1",{"$f":"CRI_CM!BD35","v":88.103978473381005},"R8",{"$f":"CRI_CM!BK35","v":84.450549234476824},null,10,7.2463219196634801E-2,7.2533718805177561E-2,7.2463219196634801E-2,0.12187787660639439,0.11735144958224518,7.2463219196634801E-2,0.11735144958224518,3.3084591871403807E-2,7.2463219196634801E-2,null,null,null,null,null,null,null,null,null,null,null,null,null,null,null,null,null,null,369,0,0,0,0,0,0,null,3.7834000000000001E-4,1.1306E-5,1.774E-3,null,4.9507340000000004E-6,5.4101000000000005E-7,2.1720619999999998E-5,null,3.7834000000000001E-4,1.1306E-5,1.774E-3,null,null,null,null,0,0,0,0,0,0,null,null,null,null,10,1,0.35037737796483703,0.36414109006509299,1,1.0156387300619407E-2,3.6013586546257415E-3]
[null,370,3.070218898887912E-3,6.230256638221847E-5,null,11,{"$f":"Z38","v":"SZR(red)"},{"$f":"Z39","v":0.69163716430524202},{"$f":"Z40","v":0.30398775511803083},null,null,null,null,null,null,"R2",{"$f":"CRI_CM!BE35","v":94.677453075714709},"R9",{"$f":"CRI_CM!BL35","v":90.297906469179267},null,11,null,0,0,0,0,0,0,0,null,null,null,null,null,null,null,null,null,null,null,null,null,null,null,null,null,null,null,370,0,0,0,0,0,0,null,4.149E-4,1.239E-5,1.946E-3,null,5.9586E-6,6.511E-7,2.6143699999999998E-5,null,4.149E-4,1.239E-5,1.946E-3,null,null,null,null,0,0,0,0,0,0,null,null,null,null,11,0,0,0,0]
[null,371,3.1312545502981777E-3,6.3541135308052205E-5,null,12,{"$f":"AA38","v":0},{"$f":"AA39","v":0},{"$f":"AA40","v":0},0,0,null,null,null,null,"R3",{"$f":"CRI_CM!BF35","v":78.474187606787027},"R10",{"$f":"CRI_CM!BM35","v":85.784751232167764},null,12,0,0,0,0,0,0,0,0,null,null,null,null,null,null,null,null,null,null,null,null,null,null,null,null,null,null,null,371,0,1.3000000000000002E-4,0,0,0,0,null,4.8024E-4,1.4316E-5,2.2539999999999999E-3,null,1.1420080000000001E-5,1.2458800000000001E-6,5.0158959999999996E-5,null,4.8024E-4,1.4316E-5,2.2539999999999999E-3,null,null,null,null,0,0,0,0,0,0,null,null,null,null,12,0,0,0,0]
[null,372,2.9415047999745833E-3,5.9690629267643411E-5,null,13,{"$f":"AB38","v":0},{"$f":"AB39","v":0},{"$f":"AB40","v":0},0,0,null,null,null,null,"R4",{"$f":"CRI_CM!BG35","v":69.628669490017373},"R11",{"$f":"CRI_CM!BN35","v":63.434726954631394},null,13,0,0,0,0,0,0,0,0,null,null,null,null,null,null,null,null,null,null,null,null,null,null,null,null,null,null,null,372,0,1.6000000000000001E-4,0,0,0,0,null,5.4558000000000004E-4,1.6241999999999998E-5,2.562E-3,null,1.6881560000000002E-5,1.84066E-6,7.417422E-5,null,5.4558000000000004E-4,1.6241999999999998E-5,2.562E-3,null,null,null,null,0,0,0,0,0,0,null,null,null,null,13,0,0,0,0]
[null,373,2.7215618082010468E-3,5.5227425406108341E-5,null,14,{"$f":"AC38","v":0},{"$f":"AC39","v":0},{"$f":"AC40","v":0},0,0,null,null,null,null,"R5",{"$f":"CRI_CM!BH35","v":87.375977711858866},"R12",{"$f":"CRI_CM!BO35","v":80.228902652833213},null,14,0,0,0,0,0,0,0,0,null,null,null,null,null,null,null,null,null,null,null,null,null,null,null,null,null,null,null,373,0,1.9000000000000001E-4,0,0,0,0,null,6.1092000000000004E-4,1.8168E-5,2.8700000000000002E-3,null,2.2343040000000002E-5,2.4354399999999998E-6,9.8189479999999998E-5,null,6.1092000000000004E-4,1.8168E-5,2.8700000000000002E-3,null,null,null,null,0,0,0,0,0,0,null,null,null,null,14,0,0,0,0]
[null,374,2.8144343299971266E-3,5.7112045573217649E-5,null,15,{"$f":"AD38","v":0},{"$f":"AD39","v":0},{"$f":"AD40","v":0},0,0,null,null,null,null,"R6",{"$f":"CRI_CM!BI35","v":98.192001979474171},"R13",{"$f":"CRI_CM!BP35","v":92.716098338236122},null,15,0,0,0,0,0,0,0,0,null,null,null,null,null,null,null,null,null,null,null,null,null,null,null,null,null,null,null,374,0,2.2000000000000001E-4,0,0,0,0,null,6.7626000000000003E-4,2.0094000000000001E-5,3.1779999999999998E-3,null,2.7804520000000003E-5,3.0302199999999999E-6,1.2220474E-4,null,6.7626000000000003E-4,2.0094000000000001E-5,3.1779999999999998E-3,null,null,null,null,0,0,0,0,0,0,null,null,null,null,15,0,0,0,0]
[null,375,2.9078313121420128E-3,5.900730837747188E-5,null,null,null,null,null,null,null,null,null,null,null,"R7",{"$f":"CRI_CM!BJ35","v":83.171966216435692},"R14",{"$f":"CRI_CM!BQ35","v":85.76193876805236},null,"CRI",null,null,84.449887846966774,79.593300136651564,80.184797640743199,84.449887846966774,80.184797640743199,81.769829535342893,null,null,null,null,null,null,null,null,null,null,null,null,null,null,null,null,null,null,null,375,0,2.5000000000000001E-4,0,0,0,0,null,7.4160000000000003E-4,2.2019999999999999E-5,3.4859999999999999E-3,null,3.3266000000000003E-5,3.625E-6,1.4621999999999999E-4,null,7.4160000000000003E-4,2.2019999999999999E-5,3.4859999999999999E-3,null,null,null,null,0,0,0,0,0,0,null,null,null,null,null,null,null,"RES1"]
[null,376,2.9315436572944697E-3,5.9488492295163921E-5,null,null,null,null,null,null,87,null,null,null,null,null,null,null,null,null,null,null,null,null,null,null,null,null,null,null,null,null,null,null,null,null,null,null,null,null,null,null,null,null,null,null,null,null,376,0,2.8000000000000003E-4,0,0,0,0,null,8.6687999999999999E-4,2.5616E-5,2.9177999999999999E-3,null,5.8603200000000002E-5,6.3727999999999994E-6,2.5793119999999999E-4,null,8.6687999999999999E-4,2.5616E-5,2.9177999999999999E-3,null,null,null,null,0,0,0,0,0,0,null,null,null,null,"RES",null,null,"u",0.19203300194189185]
[null,377,2.9338918190169381E-3,5.9536142481163126E-5,null,null,null,null,null,null,null,null,null,null,null,null,null,null,null,null,null,null,null,null,null,null,null,null,null,null,null,null,null,null,null,null,null,null,null,null,null,null,null,null,null,null,null,null,377,0,3.1E-4,0,0,0,0,null,9.9215999999999996E-4,2.9212000000000001E-5,2.3495999999999999E-3,null,8.39404E-5,9.1205999999999987E-6,3.6964239999999997E-4,null,9.9215999999999996E-4,2.9212000000000001E-5,2.3495999999999999E-3,null,null,null,null,0,0,0,0,0,0,null,null,null,null,null,null,null,"v",0.31854072819017892]
[null,378,2.7278377008713344E-3,5.5354779263463564E-5,null,null,null,null,null,null,null,null,null,null,null,null,null,null,null,null,null,null,null,null,null,null,null,null,null,null,null,null,null,null,null,null,null,null,null,null,null,null,null,null,null,null,null,null,378,0,3.4000000000000002E-4,0,0,0,0,null,1.1174400000000001E-3,3.2808000000000002E-5,1.7814E-3,null,1.0927759999999999E-4,1.18684E-5,4.8135359999999994E-4,null,1.1174400000000001E-3,3.2808000000000002E-5,1.7814E-3,null,null,null,null,0,0,0,0,0,0,null,null,null,null,null,null,null,"CCT",6331.6355166667818]
[null,379,2.9187158908601297E-3,5.9228184220680847E-5,null,null,null,null,null,null,null,null,null,null,null,null,null,null,null,null,null,null,null,null,null,null,null,null,null,null,null,null,null,null,null,null,null,null,null,null,null,null,null,null,null,null,null,null,379,0,3.6999999999999999E-4,0,0,0,0,null,1.2427200000000001E-3,3.6403999999999999E-5,1.2132E-3,null,1.346148E-4,1.4616199999999999E-5,5.9306479999999997E-4,null,1.2427200000000001E-3,3.6403999999999999E-5,1.2132E-3,null,null,null,null,0,0,0,0,0,0,null,null,null,null,null,null,null,"duv",1.162726181045072E-2]
[null,380,3.110249342175415E-3,6.311488610024661E-5,null,null,null,null,null,null,null,null,null,null,null,null,null,null,null,null,null,null,null,null,null,null,null,null,null,null,null,null,null,null,null,null,null,null,null,null,null,null,null,null,null,null,null,null,380,0,4.0000000000000002E-4,0,0,0,0,null,1.3680000000000001E-3,4.0000000000000003E-5,6.4499999999999996E-4,null,1.5995199999999999E-4,1.7363999999999998E-5,7.0477599999999995E-4,null,1.3680000000000001E-3,4.0000000000000003E-5,6.4499999999999996E-4,null,null,null,null,0,0,0,0,0,0]
[null,381,3.1028285021714561E-3,6.2964298343417302E-5,null,null,null,null,null,null,null,null,null,null,null,null,null,null,null,null,null,null,null,null,null,null,null,null,null,null,null,null,null,null,null,null,null,null,null,null,null,null,null,null,null,null,null,null,381,4.3999999999999999E-5,5.1000000000000004E-4,2.3911200000000001E-4,6.9280000000000003E-4,0,0,null,1.5416000000000002E-3,4.4000000000000006E-5,2.6259999999999999E-3,null,2.6044959999999999E-4,2.8203199999999998E-5,1.1493808E-3,null,1.5416000000000002E-3,4.4000000000000006E-5,2.6259999999999999E-3,null,null,null,null,0,0,0,0,0,0,null,null,null,null,null,null,null,"TargetCCT",4000]
[null,382,2.8483320449045339E-3,5.7799916602214715E-5,null,null,null,null,null,null,null,null,null,null,null,null,null,null,null,null,null,null,null,null,null,null,null,null,null,null,null,"His Data",null,null,null,null,null,null,null,null,null,null,null,null,null,null,null,null,382,4.8999999999999998E-5,6.2E-4,2.7822399999999998E-4,7.9660000000000006E-4,0,0,null,1.7152000000000001E-3,4.8000000000000001E-5,4.607E-3,null,3.6094719999999999E-4,3.9042399999999997E-5,1.5939856E-3,null,1.7152000000000001E-3,4.8000000000000001E-5,4.607E-3,null,null,null,null,0,0,0,0,0,0,null,null,null,null,null,null,null,"u",0.22510917909058201]
[null,383,2.845745159768728E-3,5.7747422109735662E-5,null,null,"OPTIMIZER SETTINGS(Optimizer v1.2)",null,null,null,null,null,null,null,"DATABASE",null,null,null,null,null,null,null,null,null,null,null,null,null,null,null,"Target=",0.22510917909058201,0.33438633879882312,null,null,null,null,null,null,null,null,null,null,null,null,null,null,null,383,5.3999999999999998E-5,7.3000000000000007E-4,3.1733599999999999E-4,9.0039999999999999E-4,0,0,null,1.8888000000000002E-3,5.2000000000000004E-5,6.5880000000000001E-3,null,4.6144480000000004E-4,4.98816E-5,2.0385904E-3,null,1.8888000000000002E-3,5.2000000000000004E-5,6.5880000000000001E-3,null,null,null,null,0,0,0,0,0,0,null,null,null,null,null,null,null,"v",0.33438633879882312]
[null,384,2.8431808007380608E-3,5.76953847293411E-5,null,null,"Name","Sheet","LocX","LocY",null,null,null,null,null,{"$f":"J13","v":0},{"$f":"J14","v":3.7773701593981072E-2},{"$f":"J15","v":1.7852967023315902E-2},{"$f":"J16","v":0.27227545431280692},{"$f":"J17","v":0.17972167529727523},{"$f":"J18","v":0.41991298257598614},{"$f":"J19","v":0},{"$f":"J20","v":0},{"$f":"J21","v":0},{"$f":"J22","v":7.2463219196634801E-2},{"$f":"J23","v":0},{"$f":"J24","v":0},{"$f":"J25","v":0},{"$f":"J26","v":0},{"$f":"J27","v":0},null,"u","v","CCT","duv","CRI",null,null,null,null,null,null,null,null,null,null,null,null,384,5.8999999999999998E-5,8.4000000000000003E-4,3.5644799999999999E-4,1.0042E-3,0,0,null,2.0624000000000003E-3,5.5999999999999999E-5,8.5690000000000002E-3,null,5.6194239999999998E-4,6.0720799999999996E-5,2.4831951999999997E-3,null,2.0624000000000003E-3,5.5999999999999999E-5,8.5690000000000002E-3,null,null,null,null,0,0,0,0,0,0]
[null,385,2.8375959124993478E-3,5.7582053113033318E-5,null,null,"Working Sheet","CM",null,null,null,null,null,null,"Name","Fake LED","LCB CRBP(blue)","LV CQBP(verde)","LUW CRBP(white)","LT CQBP(green)","LJ CKBP(red)","SZB(blue)","SZG(green)","SZ5M2","SZA(amber) ","SZR(red)",null,null,null,null,0,0.22499509772932041,0.33453038971367488,4000.2201609708613,1.8375315795089321E-4,84.449887846966774,null,null,null,null,null,null,null,null,null,null,null,null,385,6.3999999999999997E-5,9.5E-4,3.9555999999999999E-4,1.108E-3,0,0,null,2.2360000000000001E-3,6.0000000000000002E-5,1.055E-2,null,6.6244000000000003E-4,7.1559999999999999E-5,2.9277999999999999E-3,null,2.2360000000000001E-3,6.0000000000000002E-5,1.055E-2,null,null,null,null,0,0,0,0,0,0]
[null,386,2.7996211114127375E-3,5.6811447614380737E-5,null,null,"[INPUT LOCATION]",null,null,null,null,null,null,null,"x",0.30190342985606361,0.15941250711922395,7.6478564127056947E-2,0.33614944254203721,0.17924531488072146,0.68438008519198867,0.14659189448616783,0.16502817650858403,0.35390021683095246,0.58800545116307001,0.69163716430524202,null,null,null,null,1,0.20144057479544827,0.36863459500531393,4001.859724740847,4.1631068716345233E-2,54.147680386360591,null,null,null,null,null,null,null,null,null,null,null,null,386,7.5199999999999998E-5,1.06E-3,4.7644799999999998E-4,1.3282000000000001E-3,0,0,null,2.6374000000000002E-3,7.2000000000000002E-5,1.2449999999999999E-2,null,1.002272E-3,1.07928E-4,4.4386800000000004E-3,null,2.6374000000000002E-3,7.2000000000000002E-5,1.2449999999999999E-2,null,null,null,null,0,0,0,0,0,0]
[null,387,2.6784900731687353E-3,5.4353390127379545E-5,null,null,"CIE1931 color matching function","CM",13,57,null,null,null,null,"y",0.30070378005741016,0.11638349231305288,0.5132111749781606,0.33997830312219285,0.72085092641298287,0.31157120114663078,3.575623594085614E-2,0.70103136826753454,0.36234199398901401,0.40740290476537211,0.30398775511803083,null,null,null,null,2,0.217276193326187,0.35233714607157385,3860.0401431492023,1.9585380969709399E-2,80.184797640743199,null,null,null,null,null,null,null,null,null,null,null,null,387,8.6399999999999999E-5,1.17E-3,5.5733599999999996E-4,1.5484000000000001E-3,0,0,null,3.0388000000000004E-3,8.4000000000000009E-5,1.435E-2,null,1.342104E-3,1.44296E-4,5.9495600000000004E-3,null,3.0388000000000004E-3,8.4000000000000009E-5,1.435E-2,null,null,null,null,0,0,0,0,0,0]
[null,388,2.5575245254200211E-3,5.1898690864305654E-5,null,null,"Black body curve(CCT v.s. (u,v))","CCT_CM",5,1,null,null,null,null,"wd",null,null,null,null,null,null,null,null,null,null,null,null,null,null,null,3,0.19923407668386839,0.33273174255970961,5120.4428125721242,2.5927950425600661E-2,81.769829535342893,null,null,null,null,null,null,null,null,null,null,null,null,388,9.7600000000000001E-5,1.2800000000000001E-3,6.3822400000000006E-4,1.7685999999999999E-3,0,0,null,3.4402E-3,9.6000000000000002E-5,1.6250000000000001E-2,null,1.6819360000000002E-3,1.8066399999999998E-4,7.4604400000000005E-3,null,3.4402E-3,9.6000000000000002E-5,1.6250000000000001E-2,null,null,null,null,0,0,0,0,0,0]
[null,389,2.5631602105116885E-3,5.2013053278223459E-5,null,null,"CIE Daylight","CRI_CM",6,16,null,null,null,null,360,0,1.5449999999999999E-3,2.1649999999999998E-3,6.8360000000000001E-3,2.3579999999999999E-3,1.188E-3,1.5690000000000001E-3,2.4369999999999999E-3,7.7660000000000003E-3,2.2680000000000001E-3,1.2600000000000001E-3,0,0,0,0,4,0.21801390305315207,0.31764670752506913,4934.8008711567936,1.8181259506111512E-2,79.593300136651564,null,null,null,null,null,null,null,null,null,null,null,null,389,1.088E-4,1.39E-3,7.1911200000000005E-4,1.9888000000000002E-3,0,0,null,3.8416000000000001E-3,1.08E-4,1.8149999999999999E-2,null,2.0217680000000002E-3,2.1703199999999998E-4,8.9713199999999996E-3,null,3.8416000000000001E-3,1.08E-4,1.8149999999999999E-2,null,null,null,null,0,0,0,0,0,0]
[null,390,2.568575794855896E-3,5.2122949287014793E-5,null,null,"Color Rendering Sample","CRI_CM",6,21,null,null,null,null,361,0,1.5709999999999999E-3,2.2629999999999998E-3,8.0020000000000004E-3,2.5669999999999998E-3,1.4790000000000001E-3,1.701E-3,2.5070000000000001E-3,7.8340000000000007E-3,2.8739999999999998E-3,1.5679999999999999E-3,null,null,null,null,5,0.22890231740036857,0.30314216962205681,5147.9193038587118,3.1473576310669944E-2,77.095296511773242,null,null,null,null,null,null,null,null,null,null,null,null,390,1.2E-4,1.5E-3,8.0000000000000004E-4,2.209E-3,4.1461599999999998E-4,4.0767800000000002E-4,null,4.2430000000000002E-3,1.2E-4,2.0049999999999998E-2,null,2.3616000000000002E-3,2.5339999999999998E-4,1.0482200000000001E-2,null,4.2430000000000002E-3,1.2E-4,2.0049999999999998E-2,null,null,null,null,3.7696470000000001E-3,4.1461610000000001E-4,1.8472599999999999E-2,1.5E-3,-4.0000000000000002E-4,6.1999999999999998E-3]
[null,391,2.7342869683321409E-3,5.5485651337190652E-5,null,null,null,null,null,null,null,null,null,null,362,0,1.596E-3,2.0669999999999998E-3,5.6709999999999998E-3,2.777E-3,1.7700000000000001E-3,1.436E-3,2.3670000000000002E-3,7.6990000000000001E-3,1.6620000000000001E-3,1.877E-3,null,null,null,null,null,null,null,null,null,null,null,null,null,null,null,null,null,null,null,null,null,null,391,1.394E-4,1.8E-3,9.4914000000000001E-4,2.6732000000000001E-3,5.0283299999999995E-4,4.9777700000000003E-4,null,4.9243999999999998E-3,1.394E-4,2.3281999999999997E-2,null,3.3377400000000001E-3,3.5641999999999998E-4,1.4854559999999999E-2,null,4.9243999999999998E-3,1.394E-4,2.3281999999999997E-2,null,null,null,null,4.532416E-3,5.0283330000000005E-4,2.221101E-2,1.9599999999999999E-3,-5.2000000000000006E-4,8.1799999999999998E-3]
[null,392,2.5773405930171263E-3,5.2300809380138639E-5,null,null,"Inumber of iterations","CM",6,22,null,null,null,null,363,0,1.191E-3,1.735E-3,5.7920000000000003E-3,3.0000000000000001E-3,7.5100000000000004E-4,1.4859999999999999E-3,2.4759999999999999E-3,7.9570000000000005E-3,1.9070000000000001E-3,9.4799999999999995E-4,null,null,null,null,null,null,null,null,null,null,null,null,null,null,null,null,null,null,null,null,null,null,392,1.5880000000000001E-4,2.0999999999999999E-3,1.0982800000000001E-3,3.1374000000000003E-3,6.0849899999999998E-4,6.0647499999999998E-4,null,5.6058000000000002E-3,1.5880000000000001E-4,2.6513999999999999E-2,null,4.31388E-3,4.5943999999999998E-4,1.9226919999999998E-2,null,5.6058000000000002E-3,1.5880000000000001E-4,2.6513999999999999E-2,null,null,null,null,5.4465529999999998E-3,6.0849910000000001E-4,2.669819E-2,2.4200000000000003E-3,-6.4000000000000005E-4,1.0159999999999999E-2]
[null,393,2.3778013462996878E-3,4.8251649507865652E-5,null,null,"Database location",{"$f":"H40","v":"CM"},42,16,null,null,null,null,364,0,1.5839999999999999E-3,1.967E-3,5.9659999999999999E-3,3.0709999999999999E-3,8.1700000000000002E-4,1.2340000000000001E-3,2.715E-3,8.1469999999999997E-3,1.97E-3,1.2409999999999999E-3,null,null,null,null,null,null,null,null,null,null,null,null,null,null,null,null,null,null,null,null,null,null,393,1.7819999999999999E-4,2.3999999999999998E-3,1.24742E-3,3.6015999999999999E-3,7.34444E-4,7.3700399999999998E-4,null,6.2871999999999997E-3,1.7819999999999999E-4,2.9745999999999998E-2,null,5.2900200000000003E-3,5.6245999999999998E-4,2.359928E-2,null,6.2871999999999997E-3,1.7819999999999999E-4,2.9745999999999998E-2,null,null,null,null,6.5388679999999998E-3,7.3444359999999998E-4,3.206937E-2,2.8800000000000002E-3,-7.6000000000000004E-4,1.214E-2]
[null,394,2.4872070977099638E-3,5.0471771041318586E-5,null,null,"Initial Rj","CM",13,22,null,null,null,null,365,0,1.9759999999999999E-3,2.1979999999999999E-3,6.1390000000000004E-3,2.928E-3,8.8199999999999997E-4,9.810000000000001E-4,2.954E-3,7.7679999999999997E-3,2.0339999999999998E-3,1.5349999999999999E-3,null,null,null,null,null,null,null,null,null,null,null,null,null,null,null,null,null,null,null,null,null,null,394,1.9759999999999998E-4,2.6999999999999997E-3,1.3965599999999998E-3,4.0658000000000005E-3,8.8373900000000003E-4,8.9293900000000004E-4,null,6.9686000000000001E-3,1.9759999999999998E-4,3.2978E-2,null,6.2661599999999998E-3,6.6547999999999998E-4,2.7971639999999999E-2,null,6.9686000000000001E-3,1.9759999999999998E-4,3.2978E-2,null,null,null,null,7.8396990000000003E-3,8.837389E-4,3.8478320000000003E-2,3.3400000000000001E-3,-8.8000000000000014E-4,1.4120000000000001E-2]
[null,395,2.5961409312560582E-3,5.2682316158552221E-5,null,null,null,null,null,null,null,null,null,null,366,0,1.9880000000000002E-3,1.8140000000000001E-3,5.9480000000000002E-3,2.7179999999999999E-3,9.3800000000000003E-4,7.4299999999999995E-4,2.5379999999999999E-3,7.5890000000000003E-3,2.1519999999999998E-3,1.7309999999999999E-3,null,null,null,null,null,null,null,null,null,null,null,null,null,null,null,null,null,null,null,null,null,null,395,2.1699999999999999E-4,3.0000000000000001E-3,1.5456999999999999E-3,4.5300000000000002E-3,1.0596500000000001E-3,1.07817E-3,null,7.6499999999999997E-3,2.1699999999999999E-4,3.6209999999999999E-2,null,7.2423000000000001E-3,7.6849999999999998E-4,3.2343999999999998E-2,null,7.6499999999999997E-3,2.1699999999999999E-4,3.6209999999999999E-2,null,null,null,null,9.3829670000000007E-3,1.059646E-3,4.6097840000000001E-2,3.8E-3,-1E-3,1.61E-2]
[null,396,2.6415837081131687E-3,5.3604465918869949E-5,null,null,"cct_Wish","CM",9,22,null,null,null,null,367,0,1.9989999999999999E-3,1.4289999999999999E-3,5.757E-3,2.5089999999999999E-3,9.9400000000000009E-4,5.0500000000000002E-4,2.1210000000000001E-3,7.4099999999999999E-3,2.2699999999999999E-3,1.34E-3,null,null,null,null,null,null,null,null,null,null,null,null,null,null,null,null,null,null,null,null,null,null,396,2.5279999999999996E-4,3.3E-3,1.79656E-3,5.4819999999999999E-3,1.26553E-3,1.29682E-3,null,8.9820000000000004E-3,2.5359999999999998E-4,4.2537999999999999E-2,null,9.6157800000000009E-3,1.0156799999999999E-3,4.3077379999999998E-2,null,8.9820000000000004E-3,2.5359999999999998E-4,4.2537999999999999E-2,null,null,null,null,1.120608E-2,1.265532E-3,5.511953E-2,4.8199999999999996E-3,4.8199999999999996E-3,4.8199999999999996E-3]
[null,397,2.6596418249166206E-3,5.3970911132692474E-5,null,null,"CRILimit","CM",4,22,null,null,null,null,368,9.0334236676254688E-6,1.9789999999999999E-3,1.7440000000000001E-3,5.7600000000000004E-3,2.2520000000000001E-3,1.3979999999999999E-3,8.1300000000000003E-4,2.0820000000000001E-3,7.4619999999999999E-3,2.614E-3,1.356E-3,null,null,null,null,null,null,null,null,null,null,null,null,null,null,null,null,null,null,null,null,null,null,397,2.8859999999999997E-4,3.5999999999999999E-3,2.0474199999999999E-3,6.4339999999999996E-3,1.50475E-3,1.55316E-3,null,1.0314E-2,2.9020000000000001E-4,4.8866E-2,null,1.198926E-2,1.26286E-3,5.3810759999999999E-2,null,1.0314E-2,2.9020000000000001E-4,4.8866E-2,null,null,null,null,1.3349649999999999E-2,1.5047529999999999E-3,6.5752569999999996E-2,5.8399999999999997E-3,-1.6000000000000001E-3,2.5660000000000002E-2]
[null,398,2.6816508749338396E-3,5.4417530850981626E-5,null,null,"Weighting for v","CM",5,22,null,null,null,null,369,6.4425875740297357E-5,1.9580000000000001E-3,2.0590000000000001E-3,5.7619999999999998E-3,1.9949999999999998E-3,1.802E-3,1.122E-3,2.0430000000000001E-3,7.5129999999999997E-3,2.9580000000000001E-3,1.372E-3,null,null,null,null,null,null,null,null,null,null,null,null,null,null,null,null,null,null,null,null,null,null,398,3.2439999999999997E-4,3.8999999999999998E-3,2.2982799999999998E-3,7.3860000000000002E-3,1.78049E-3,1.8514600000000001E-3,null,1.1646E-2,3.2680000000000003E-4,5.5193999999999993E-2,null,1.4362740000000001E-2,1.51004E-3,6.454414E-2,null,1.1646E-2,3.2680000000000003E-4,5.5193999999999993E-2,null,null,null,null,1.58569E-2,1.780493E-3,7.822113E-2,6.8599999999999998E-3,-1.9000000000000002E-3,3.0440000000000002E-2]
[null,399,2.6960944442694854E-3,5.4710627684453726E-5,null,null,"Clear","x8:ac27","ae38:ak500","ae38:ak500",null,null,null,null,370,1.1981832781296924E-4,1.7570000000000001E-3,2.1679999999999998E-3,5.7629999999999999E-3,2.176E-3,1.9430000000000001E-3,9.4700000000000003E-4,2.0899999999999998E-3,7.2009999999999999E-3,2.6090000000000002E-3,1.41E-3,null,null,null,null,null,null,null,null,null,null,null,null,null,null,null,null,null,null,null,null,null,null,399,3.6019999999999997E-4,4.1999999999999997E-3,2.5491400000000001E-3,8.3379999999999999E-3,2.0955700000000002E-3,2.19579E-3,null,1.2978E-2,3.634E-4,6.1521999999999993E-2,null,1.673622E-2,1.7572199999999999E-3,7.5277520000000001E-2,null,1.2978E-2,3.634E-4,6.1521999999999993E-2,null,null,null,null,1.8772859999999999E-2,2.095572E-3,9.2760129999999996E-2,7.8799999999999999E-3,-2.2000000000000001E-3,3.5220000000000001E-2]
[null,400,2.8994649452673961E-3,5.8837533470616673E-5,null,null,null,null,null,null,null,null,null,null,371,1.7521077988564112E-4,1.555E-3,2.2769999999999999E-3,5.764E-3,2.3570000000000002E-3,2.0839999999999999E-3,7.7300000000000003E-4,2.1380000000000001E-3,6.888E-3,2.2599999999999999E-3,1.4480000000000001E-3,null,null,null,null,null,null,null,null,null,null,null,null,null,null,null,null,null,null,null,null,null,null,400,3.9599999999999998E-4,4.4999999999999997E-3,2.8E-3,9.2899999999999996E-3,2.4521899999999999E-3,2.5897699999999999E-3,null,1.431E-2,4.0000000000000002E-4,6.7849999999999994E-2,null,1.91097E-2,2.0043999999999999E-3,8.6010900000000001E-2,null,1.431E-2,4.0000000000000002E-4,6.7849999999999994E-2,null,null,null,null,2.2143019999999999E-2,2.452194E-3,0.109609,8.8999999999999999E-3,-2.5000000000000001E-3,0.04]
[null,401,3.1035276347021953E-3,6.2978485524312492E-5,null,null,"[OUTPUT LOCATION]",null,null,null,null,null,null,null,372,2.30603231958313E-4,1.4649999999999999E-3,2.4880000000000002E-3,5.6270000000000001E-3,2.4130000000000002E-3,1.688E-3,1.0950000000000001E-3,2.0479999999999999E-3,6.9719999999999999E-3,2.307E-3,1.421E-3,null,null,null,null,null,null,null,null,null,null,null,null,null,null,null,null,null,null,null,null,null,null,401,4.4479999999999997E-4,4.9800000000000001E-3,3.1712400000000001E-3,1.1136E-2,2.8522199999999999E-3,3.0368000000000001E-3,null,1.6086E-2,4.4800000000000005E-4,7.6319999999999999E-2,null,2.3967760000000001E-2,2.5053200000000001E-3,0.10823272,null,1.6086E-2,4.4800000000000005E-4,7.6319999999999999E-2,null,null,null,null,2.6012850000000001E-2,2.8522159999999999E-3,0.1290077,1.0880000000000001E-2,-3.1800000000000001E-3,5.0119999999999998E-2]
[null,402,3.1375455342734708E-3,6.3668795406448484E-5,null,null,"Historical data from the optimization",null,39,31,null,null,null,null,373,2.8599568403098489E-4,1.3749999999999999E-3,2.699E-3,5.4900000000000001E-3,2.3010000000000001E-3,1.292E-3,1.418E-3,1.957E-3,7.0559999999999998E-3,2.3540000000000002E-3,1.3929999999999999E-3,null,null,null,null,null,null,null,null,null,null,null,null,null,null,null,null,null,null,null,null,null,null,402,4.9359999999999996E-4,5.4599999999999996E-3,3.5424800000000002E-3,1.2981999999999999E-2,3.29912E-3,3.54193E-3,null,1.7861999999999999E-2,4.9600000000000002E-4,8.4790000000000004E-2,null,2.8825820000000002E-2,3.0062399999999999E-3,0.13045454000000001,null,1.7861999999999999E-2,4.9600000000000002E-4,8.4790000000000004E-2,null,null,null,null,3.043036E-2,3.299115E-3,0.1512047,1.286E-2,-3.8599999999999997E-3,6.0240000000000002E-2]
[null,403,3.1714740283556682E-3,6.4357291023347491E-5,null,null,"Best Rj and Best CRI Rj",null,8,24,null,null,null,null,374,3.4138813610365681E-4,1.5460000000000001E-3,2.4399999999999999E-3,5.5700000000000003E-3,2.6619999999999999E-3,1.3339999999999999E-3,1.188E-3,2.153E-3,7.156E-3,2.1710000000000002E-3,1.457E-3,null,null,null,null,null,null,null,null,null,null,null,null,null,null,null,null,null,null,null,null,null,null,403,5.4240000000000007E-4,5.9399999999999991E-3,3.9137199999999999E-3,1.4827999999999999E-2,3.7974699999999998E-3,4.1114200000000002E-3,null,1.9637999999999999E-2,5.44E-4,9.3259999999999996E-2,null,3.3683879999999999E-2,3.5071600000000001E-3,0.15267635999999998,null,1.9637999999999999E-2,5.44E-4,9.3259999999999996E-2,null,null,null,null,3.5443250000000003E-2,3.7974660000000002E-3,0.17644409999999999,1.4839999999999999E-2,-4.5399999999999998E-3,7.0360000000000006E-2]
[null,404,3.9779630797325081E-3,8.0723009336832596E-5,null,null,null,null,null,null,null,null,null,null,375,3.9678058817632867E-4,1.717E-3,2.1810000000000002E-3,5.6509999999999998E-3,3.0240000000000002E-3,1.3760000000000001E-3,9.5799999999999998E-4,2.3500000000000001E-3,7.2570000000000004E-3,1.9889999999999999E-3,1.521E-3,null,null,null,null,null,null,null,null,null,null,null,null,null,null,null,null,null,null,null,null,null,null,404,5.9120000000000006E-4,6.4199999999999995E-3,4.28496E-3,1.6673999999999998E-2,4.3527699999999997E-3,4.7526199999999999E-3,null,2.1413999999999999E-2,5.9200000000000008E-4,0.10173,null,3.8541940000000004E-2,4.0080799999999998E-3,0.17489817999999999,null,2.1413999999999999E-2,5.9200000000000008E-4,0.10173,null,null,null,null,4.1096399999999998E-2,4.3527679999999999E-3,0.20495169999999999,1.6820000000000002E-2,-5.2199999999999998E-3,8.0479999999999996E-2]
[null,405,4.6241465388564213E-3,9.3835718620115832E-5,null,null,null,null,null,null,null,null,null,null,376,4.5217304024900058E-4,1.9070000000000001E-3,1.853E-3,5.8710000000000004E-3,3.0639999999999999E-3,1.2290000000000001E-3,1.181E-3,2.7079999999999999E-3,7.7419999999999998E-3,2.2239999999999998E-3,1.5610000000000001E-3,null,null,null,null,null,null,null,null,null,null,null,null,null,null,null,null,null,null,null,null,null,null,405,6.4000000000000005E-4,6.8999999999999999E-3,4.6562000000000001E-3,1.8519999999999998E-2,4.9717199999999998E-3,5.4742100000000002E-3,null,2.3189999999999999E-2,6.4000000000000005E-4,0.11020000000000001,null,4.3400000000000001E-2,4.509E-3,0.19711999999999999,null,2.3189999999999999E-2,6.4000000000000005E-4,0.11020000000000001,null,null,null,null,4.7429859999999997E-2,4.9717169999999996E-3,0.23692460000000001,1.8800000000000001E-2,-5.8999999999999999E-3,9.06E-2]
[null,406,4.1892707940216663E-3,8.5010981409880461E-5,null,null,null,null,null,null,null,null,null,null,377,5.0756549232167244E-4,2.0960000000000002E-3,1.5250000000000001E-3,6.0910000000000001E-3,2.983E-3,1.083E-3,1.4040000000000001E-3,3.0669999999999998E-3,8.2269999999999999E-3,2.4589999999999998E-3,1.601E-3,null,null,null,null,null,null,null,null,null,null,null,null,null,null,null,null,null,null,null,null,null,null,406,7.54E-4,7.3799999999999994E-3,5.2049599999999998E-3,2.1783999999999998E-2,5.6610100000000002E-3,6.2850299999999996E-3,null,2.7254E-2,7.54E-4,0.12964000000000001,null,5.1667200000000003E-2,5.3584000000000001E-3,0.23556919999999998,null,2.7254E-2,7.54E-4,0.12964000000000001,null,null,null,null,5.4473939999999998E-2,5.6610139999999998E-3,0.27251229999999999,2.2040000000000001E-2,-7.1000000000000004E-3,0.10852000000000001]
[null,407,4.8947370394003585E-3,9.9326689517546891E-5,null,null,null,null,null,null,null,null,null,null,378,5.629579443943443E-4,1.9350000000000001E-3,1.7539999999999999E-3,5.6540000000000002E-3,2.7360000000000002E-3,1.0560000000000001E-3,1.3159999999999999E-3,2.258E-3,7.6049999999999998E-3,2.0539999999999998E-3,1.8190000000000001E-3,null,null,null,null,null,null,null,null,null,null,null,null,null,null,null,null,null,null,null,null,null,null,407,8.6799999999999996E-4,7.8599999999999989E-3,5.7537200000000004E-3,2.5048000000000001E-2,6.4216100000000003E-3,7.1880700000000004E-3,null,3.1317999999999999E-2,8.6799999999999996E-4,0.14907999999999999,null,5.9934400000000006E-2,6.2078000000000003E-3,0.2740184,null,3.1317999999999999E-2,8.6799999999999996E-4,0.14907999999999999,null,null,null,null,6.2236119999999999E-2,6.4216150000000003E-3,0.311782,2.5280000000000004E-2,-8.3000000000000001E-3,0.12644]
[null,408,5.6002388208878503E-3,1.136431187434301E-4,null,null,null,null,null,null,null,null,null,null,379,6.1835039646701627E-4,2.1570000000000001E-3,2.0019999999999999E-3,5.7860000000000003E-3,2.709E-3,1.3860000000000001E-3,1.3320000000000001E-3,2.372E-3,7.5560000000000002E-3,2.1700000000000001E-3,1.5740000000000001E-3,null,null,null,null,null,null,null,null,null,null,null,null,null,null,null,null,null,null,null,null,null,null,408,9.8200000000000002E-4,8.3400000000000002E-3,6.3024800000000001E-3,2.8312E-2,7.2503100000000003E-3,8.1817899999999995E-3,null,3.5381999999999997E-2,9.8200000000000002E-4,0.16852,null,6.8201600000000001E-2,7.0571999999999996E-3,0.31246760000000001,null,3.5381999999999997E-2,9.8200000000000002E-4,0.16852,null,null,null,null,7.0700479999999996E-2,7.2503120000000001E-3,0.35470639999999998,2.8520000000000004E-2,-9.4999999999999998E-3,0.14435999999999999]
[null,409,6.5086850539418381E-3,1.3207780812666051E-4,null,null,null,null,null,null,null,null,null,null,380,6.7374284853968813E-4,2.3800000000000002E-3,2.251E-3,5.9179999999999996E-3,2.6830000000000001E-3,1.717E-3,1.348E-3,2.4870000000000001E-3,7.5069999999999998E-3,2.2859999999999998E-3,1.3290000000000001E-3,null,null,null,null,null,null,null,null,null,null,null,null,null,null,null,null,null,null,null,null,null,null,409,1.096E-3,8.8199999999999997E-3,6.8512400000000006E-3,3.1576E-2,8.1401700000000004E-3,9.2604200000000001E-3,null,3.9446000000000002E-2,1.096E-3,0.18796000000000002,null,7.6468800000000003E-2,7.9065999999999997E-3,0.35091679999999997,null,3.9446000000000002E-2,1.096E-3,0.18796000000000002,null,null,null,null,7.9825129999999994E-2,8.1401730000000005E-3,0.40114729999999998,3.1760000000000004E-2,-1.0700000000000001E-2,0.16227999999999998]
[null,410,7.4060874439385495E-3,1.5028838978733083E-4,null,null,null,null,null,null,null,null,null,null,381,7.2913530061235999E-4,2.2360000000000001E-3,2.284E-3,5.7580000000000001E-3,2.4520000000000002E-3,1.9040000000000001E-3,1.0510000000000001E-3,2.3879999999999999E-3,7.711E-3,2.3410000000000002E-3,1.449E-3,null,null,null,null,null,null,null,null,null,null,null,null,null,null,null,null,null,null,null,null,null,null,410,1.2099999999999999E-3,9.2999999999999992E-3,7.4000000000000003E-3,3.4840000000000003E-2,9.0798600000000004E-3,1.0413E-2,null,4.351E-2,1.2099999999999999E-3,0.2074,null,8.4736000000000006E-2,8.7559999999999999E-3,0.38936599999999999,null,4.351E-2,1.2099999999999999E-3,0.2074,null,null,null,null,8.9538030000000005E-2,9.0798600000000004E-3,0.45083689999999998,3.5000000000000003E-2,-1.1900000000000001E-2,0.1802]
[null,411,8.9120967272805583E-3,1.8084915644199479E-4,null,null,null,null,null,null,null,null,null,null,382,7.8452775268503185E-4,2.0920000000000001E-3,2.317E-3,5.5989999999999998E-3,2.222E-3,1.5299999999999999E-3,7.54E-4,2.2880000000000001E-3,7.9139999999999992E-3,2.2309999999999999E-3,1.5679999999999999E-3,null,null,null,null,null,null,null,null,null,null,null,null,null,null,null,null,null,null,null,null,null,null,411,1.4039999999999999E-3,1.0119999999999999E-2,8.2757999999999998E-3,3.9952000000000001E-2,1.00561E-2,1.16264E-2,null,5.0334000000000004E-2,1.4039999999999999E-3,0.24018,null,9.5916400000000013E-2,9.8960000000000003E-3,0.44284479999999998,null,5.0334000000000004E-2,1.4039999999999999E-3,0.24018,null,null,null,null,9.974848E-2,1.005608E-2,0.50341639999999999,3.8620000000000002E-2,-1.354E-2,0.20591999999999999]
[null,412,1.0418140700140171E-2,2.1141062703538248E-4,null,null,null,null,null,null,null,null,null,null,383,8.3992020475770371E-4,1.684E-3,2.2200000000000002E-3,5.4819999999999999E-3,2.4910000000000002E-3,1.5430000000000001E-3,1.041E-3,2.2300000000000002E-3,7.306E-3,2.1289999999999998E-3,1.469E-3,null,null,null,null,null,null,null,null,null,null,null,null,null,null,null,null,null,null,null,null,null,null,412,1.598E-3,1.094E-2,9.1515999999999993E-3,4.5064E-2,1.1064600000000001E-2,1.28988E-2,null,5.7158E-2,1.598E-3,0.27295999999999998,null,0.10709680000000001,1.1036000000000001E-2,0.49632359999999998,null,5.7158E-2,1.598E-3,0.27295999999999998,null,null,null,null,0.1104019,1.1064559999999999E-2,0.55863609999999997,4.224E-2,-1.5180000000000001E-2,0.23164000000000001]
[null,413,1.2519176571485855E-2,2.5404599967716738E-4,null,null,null,null,null,null,null,null,null,null,384,8.9531265683037568E-4,1.276E-3,2.1220000000000002E-3,5.3639999999999998E-3,2.7590000000000002E-3,1.557E-3,1.3290000000000001E-3,2.1710000000000002E-3,6.6969999999999998E-3,2.0279999999999999E-3,1.3699999999999999E-3,null,null,null,null,null,null,null,null,null,null,null,null,null,null,null,null,null,null,null,null,null,null,413,1.792E-3,1.176E-2,1.0027400000000001E-2,5.0176000000000005E-2,1.21052E-2,1.4234399999999999E-2,null,6.3981999999999997E-2,1.792E-3,0.30574000000000001,null,0.11827720000000001,1.2175999999999999E-2,0.54980240000000002,null,6.3981999999999997E-2,1.792E-3,0.30574000000000001,null,null,null,null,0.1214566,1.210522E-2,0.61627339999999997,4.5859999999999998E-2,-1.6820000000000002E-2,0.25736000000000003]
[null,414,1.462028490605074E-2,2.9668284278235355E-4,null,null,null,null,null,null,null,null,null,null,385,9.5070510890304754E-4,1.389E-3,1.933E-3,5.3959999999999998E-3,2.8189999999999999E-3,1.5299999999999999E-3,1.5629999999999999E-3,2.101E-3,6.9459999999999999E-3,1.8259999999999999E-3,1.4E-3,null,null,null,null,null,null,null,null,null,null,null,null,null,null,null,null,null,null,null,null,null,null,414,1.9859999999999999E-3,1.2580000000000001E-2,1.09032E-2,5.5288000000000004E-2,1.31801E-2,1.56408E-2,null,7.0806000000000008E-2,1.9859999999999999E-3,0.33852000000000004,null,0.12945760000000001,1.3316E-2,0.60328119999999996,null,7.0806000000000008E-2,1.9859999999999999E-3,0.33852000000000004,null,null,null,null,0.13287409999999999,1.318014E-2,0.67609819999999998,4.9480000000000003E-2,-1.8460000000000001E-2,0.28308]
[null,415,1.8007109695131106E-2,3.6541014959524996E-4,null,null,null,null,null,null,null,null,null,null,386,1.0060975609757195E-3,1.5009999999999999E-3,1.745E-3,5.4270000000000004E-3,2.7000000000000001E-3,1.503E-3,1.0939999999999999E-3,2.0300000000000001E-3,7.1939999999999999E-3,1.6249999999999999E-3,1.4300000000000001E-3,null,null,null,null,null,null,null,null,null,null,null,null,null,null,null,null,null,null,null,null,null,null,415,2.1800000000000001E-3,1.34E-2,1.1779E-2,6.0400000000000002E-2,1.4293800000000001E-2,1.7129700000000001E-2,null,7.7630000000000005E-2,2.1800000000000001E-3,0.37130000000000002,null,0.14063800000000001,1.4456E-2,0.65676000000000001,null,7.7630000000000005E-2,2.1800000000000001E-3,0.37130000000000002,null,null,null,null,0.14462140000000001,1.4293770000000001E-2,0.73788220000000004,5.3100000000000001E-2,-2.01E-2,0.30880000000000002]
[null,416,2.1394206759665784E-2,4.3414298157105013E-4,null,null,null,null,null,null,null,null,null,null,387,1.0614900130483914E-3,1.547E-3,1.8029999999999999E-3,5.2680000000000001E-3,2.7039999999999998E-3,1.305E-3,1.168E-3,2.1900000000000001E-3,7.0689999999999998E-3,1.65E-3,1.4530000000000001E-3,null,null,null,null,null,null,null,null,null,null,null,null,null,null,null,null,null,null,null,null,null,null,416,2.5440000000000003E-3,1.422E-2,1.2923199999999999E-2,6.7640000000000006E-2,1.545E-2,1.8712699999999999E-2,null,8.8980000000000004E-2,2.5440000000000003E-3,0.42615999999999998,null,0.15340880000000001,1.5842999999999999E-2,0.71991640000000001,null,8.8980000000000004E-2,2.5440000000000003E-3,0.42615999999999998,null,null,null,null,0.1566468,1.545004E-2,0.80130190000000001,5.6520000000000001E-2,-2.1860000000000001E-2,0.34044000000000002]
[null,417,2.9094070311472164E-2,5.9039283732049031E-4,null,null,null,null,null,null,null,null,null,null,388,1.1168824651210632E-3,1.593E-3,1.8619999999999999E-3,5.1079999999999997E-3,2.7079999999999999E-3,1.108E-3,1.2409999999999999E-3,2.3500000000000001E-3,6.9439999999999997E-3,1.6750000000000001E-3,1.4059999999999999E-3,null,null,null,null,null,null,null,null,null,null,null,null,null,null,null,null,null,null,null,null,null,null,417,2.908E-3,1.5040000000000001E-2,1.4067400000000001E-2,7.4880000000000002E-2,1.66409E-2,2.03839E-2,null,0.10033,2.908E-3,0.48102,null,0.16617960000000001,1.7229999999999999E-2,0.78307280000000001,null,0.10033,2.908E-3,0.48102,null,null,null,null,0.1687901,1.6640930000000002E-2,0.86555729999999997,5.994E-2,-2.3619999999999999E-2,0.37208000000000002]
[null,418,3.4573523191230436E-2,7.0158490147690386E-4,null,null,null,null,null,null,null,null,null,null,389,1.1722749171937351E-3,1.6659999999999999E-3,1.4530000000000001E-3,5.2170000000000003E-3,2.539E-3,1.132E-3,1.346E-3,2.4750000000000002E-3,7.2630000000000004E-3,1.686E-3,1.5610000000000001E-3,null,null,null,null,null,null,null,null,null,null,null,null,null,null,null,null,null,null,null,null,null,null,418,3.2720000000000002E-3,1.5860000000000003E-2,1.52116E-2,8.2119999999999999E-2,1.7853000000000001E-2,2.21294E-2,null,0.11168,3.2720000000000002E-3,0.53588000000000002,null,0.17895040000000001,1.8617000000000002E-2,0.84622920000000001,null,0.11168,3.2720000000000002E-3,0.53588000000000002,null,null,null,null,0.18083279999999999,1.7853020000000001E-2,0.92957909999999999,6.336E-2,-2.538E-2,0.40372000000000002]
[null,419,4.0052721648501433E-2,8.1277180275261579E-4,null,null,null,null,null,null,null,null,null,null,390,1.2276673692664069E-3,1.7390000000000001E-3,1.044E-3,5.3270000000000001E-3,2.3700000000000001E-3,1.155E-3,1.451E-3,2.225E-3,7.5810000000000001E-3,1.696E-3,1.7160000000000001E-3,null,null,null,null,null,null,null,null,null,null,null,null,null,null,null,null,null,null,null,null,null,null,419,3.6359999999999999E-3,1.668E-2,1.63558E-2,8.9360000000000009E-2,1.9070199999999999E-2,2.39299E-2,null,0.12303,3.6359999999999999E-3,0.59073999999999993,null,0.19172120000000001,2.0004000000000001E-2,0.90938560000000002,null,0.12303,3.6359999999999999E-3,0.59073999999999993,null,null,null,null,0.19252159999999999,1.9070179999999999E-2,0.99212929999999999,6.6780000000000006E-2,-2.7139999999999997E-2,0.43536000000000002]
[null,420,4.6223238764634474E-2,9.379873215482772E-4,null,null,null,null,null,null,null,null,null,null,391,1.2830598213390788E-3,1.9059999999999999E-3,1.725E-3,5.7720000000000002E-3,2.3159999999999999E-3,1.1800000000000001E-3,1.1479999999999999E-3,2.1350000000000002E-3,6.9699999999999996E-3,2.0449999999999999E-3,1.3550000000000001E-3,null,null,null,null,null,null,null,null,null,null,null,null,null,null,null,null,null,null,null,null,null,null,420,4.0000000000000001E-3,1.7500000000000002E-2,1.7500000000000002E-2,9.6600000000000005E-2,2.0273699999999999E-2,2.5761300000000001E-2,null,0.13438,4.0000000000000001E-3,0.64559999999999995,null,0.20449200000000001,2.1391E-2,0.97254200000000002,null,0.13438,4.0000000000000001E-3,0.64559999999999995,null,null,null,null,0.2035729,2.027369E-2,1.0518209999999999,7.0199999999999999E-2,-2.8899999999999999E-2,0.46700000000000003]
[null,421,5.2393538385390626E-2,1.0631984268084211E-3,null,null,null,null,null,null,null,null,null,null,392,1.3384522734117507E-3,1.73E-3,1.7340000000000001E-3,5.5490000000000001E-3,2.0500000000000002E-3,1.047E-3,1.098E-3,1.9680000000000001E-3,6.9680000000000002E-3,2.2369999999999998E-3,1.2830000000000001E-3,null,null,null,null,null,null,null,null,null,null,null,null,null,null,null,null,null,null,null,null,null,null,421,4.6600000000000001E-3,1.8480000000000003E-2,1.8535600000000003E-2,0.10600000000000001,2.1448100000000001E-2,2.76016E-2,null,0.15045800000000001,4.6600000000000001E-3,0.72428999999999999,null,0.21654100000000001,2.30122E-2,1.0345336000000001,null,0.15045800000000001,4.6600000000000001E-3,0.72428999999999999,null,null,null,null,0.2137531,2.144805E-2,1.1075090000000001,7.1419999999999997E-2,-2.9879999999999997E-2,0.49664000000000003]
[null,422,6.1679012296019083E-2,1.2516243579095661E-3,null,null,null,null,null,null,null,null,null,null,393,1.3938447254844225E-3,1.554E-3,1.7440000000000001E-3,5.3249999999999999E-3,1.7830000000000001E-3,9.1299999999999997E-4,1.0480000000000001E-3,1.8E-3,6.966E-3,1.853E-3,1.2110000000000001E-3,null,null,null,null,null,null,null,null,null,null,null,null,null,null,null,null,null,null,null,null,null,null,422,5.3200000000000001E-3,1.9460000000000002E-2,1.95712E-2,0.1154,2.26004E-2,2.9455100000000001E-2,null,0.16653599999999999,5.3200000000000001E-3,0.80298000000000003,null,0.22859000000000002,2.46334E-2,1.0965252000000001,null,0.16653599999999999,5.3200000000000001E-3,0.80298000000000003,null,null,null,null,0.22313479999999999,2.2600410000000001E-2,1.159527,7.2639999999999996E-2,-3.0859999999999999E-2,0.52627999999999997]
[null,423,7.0876150853216913E-2,1.4382577395534064E-3,null,null,null,null,null,null,null,null,null,null,394,1.4492371775570946E-3,1.7799999999999999E-3,1.8029999999999999E-3,5.2310000000000004E-3,1.8959999999999999E-3,1.145E-3,1.1559999999999999E-3,1.9959999999999999E-3,6.6340000000000001E-3,1.9589999999999998E-3,1.323E-3,null,null,null,null,null,null,null,null,null,null,null,null,null,null,null,null,null,null,null,null,null,null,423,5.9800000000000001E-3,2.044E-2,2.0606800000000002E-2,0.12480000000000001,2.3747899999999999E-2,3.13388E-2,null,0.182614,5.9800000000000001E-3,0.88166999999999995,null,0.24063899999999999,2.6254599999999999E-2,1.1585167999999999,null,0.182614,5.9800000000000001E-3,0.88166999999999995,null,null,null,null,0.23192450000000001,2.3747890000000001E-2,1.208869,7.3860000000000009E-2,-3.184E-2,0.55591999999999997]
[null,424,7.9885192713363334E-2,1.6210741598207904E-3,null,null,null,null,null,null,null,null,null,null,395,1.5046296296297665E-3,2.0049999999999998E-3,1.8630000000000001E-3,5.1359999999999999E-3,2.0079999999999998E-3,1.377E-3,1.2639999999999999E-3,2.1930000000000001E-3,6.3020000000000003E-3,2.065E-3,1.4350000000000001E-3,null,null,null,null,null,null,null,null,null,null,null,null,null,null,null,null,null,null,null,null,null,null,424,6.6400000000000001E-3,2.1420000000000002E-2,2.1642399999999999E-2,0.13420000000000001,2.4912500000000001E-2,3.3275800000000001E-2,null,0.19869199999999998,6.6400000000000001E-3,0.96035999999999999,null,0.25268800000000002,2.7875799999999999E-2,1.2205083999999999,null,0.19869199999999998,6.6400000000000001E-3,0.96035999999999999,null,null,null,null,0.2403892,2.4912469999999999E-2,1.256834,7.5080000000000008E-2,-3.2819999999999995E-2,0.58555999999999997]
[null,425,{"$f":"SUMPRODUCT($P$37:$AD$37,P107:AD107)","v":8.8894035304194E-2},{"$f":"C78/$C$12","v":1.8038865364058893E-3},null,null,null,null,null,null,null,null,null,null,396,1.5600220817024383E-3,1.6850000000000001E-3,1.7769999999999999E-3,5.2909999999999997E-3,2.1480000000000002E-3,1.3990000000000001E-3,1.32E-3,1.8450000000000001E-3,6.2509999999999996E-3,1.823E-3,1.1689999999999999E-3,null,null,null,null,null,null,null,null,null,null,null,null,null,null,null,null,null,null,null,null,null,null,425,7.3000000000000001E-3,2.2400000000000003E-2,2.2678E-2,0.14360000000000001,2.6121100000000001E-2,3.52955E-2,null,0.21476999999999999,7.3000000000000001E-3,1.03905,null,0.264737,2.9496999999999999E-2,1.2825,null,0.21476999999999999,7.3000000000000001E-3,1.03905,null,null,null,null,0.2488523,2.6121060000000001E-2,1.3050079999999999,7.6300000000000007E-2,-3.3799999999999997E-2,0.61519999999999997]
[null,426,0.10160927766649197,2.0619112106823757E-3,null,null,null,null,null,null,null,null,null,null,397,1.6154145337751102E-3,1.3649999999999999E-3,1.6900000000000001E-3,5.4460000000000003E-3,2.2880000000000001E-3,1.356E-3,1.3760000000000001E-3,1.4970000000000001E-3,6.1989999999999996E-3,1.58E-3,9.0300000000000005E-4,null,null,null,null,null,null,null,null,null,null,null,null,null,null,null,null,null,null,null,null,null,null,426,8.1600000000000006E-3,2.3380000000000001E-2,2.3602399999999999E-2,0.15484000000000001,2.7399199999999999E-2,3.7427099999999998E-2,null,0.22859599999999999,8.1600000000000006E-3,1.10836,null,0.27472540000000001,3.1332800000000001E-2,1.3366959999999999,null,0.22859599999999999,8.1600000000000006E-3,1.10836,null,null,null,null,0.25758959999999997,2.739923E-2,1.3547579999999999,7.5940000000000007E-2,-3.4019999999999995E-2,0.64491999999999994]
[null,427,0.11432413805933417,2.3199281338250966E-3,null,null,null,null,null,null,null,null,null,null,398,1.670806985847782E-3,1.459E-3,1.7329999999999999E-3,5.4559999999999999E-3,2.4610000000000001E-3,1.3389999999999999E-3,1.3339999999999999E-3,1.9170000000000001E-3,6.4450000000000002E-3,1.456E-3,1.083E-3,null,null,null,null,null,null,null,null,null,null,null,null,null,null,null,null,null,null,null,null,null,null,427,9.0200000000000002E-3,2.436E-2,2.4526800000000001E-2,0.16608000000000001,2.8749899999999998E-2,3.9671400000000002E-2,null,0.242422,9.0200000000000002E-3,1.17767,null,0.28471380000000002,3.3168599999999999E-2,1.390892,null,0.242422,9.0200000000000002E-3,1.17767,null,null,null,null,0.26649909999999999,2.874993E-2,1.405594,7.5580000000000008E-2,-3.424E-2,0.67464000000000002]
[null,428,0.12707624859044697,2.578700957211019E-3,null,null,null,null,null,null,null,null,null,null,399,1.7261994379204539E-3,1.5529999999999999E-3,1.7769999999999999E-3,5.437E-3,2.6329999999999999E-3,1.323E-3,1.292E-3,2.3370000000000001E-3,6.692E-3,1.333E-3,1.263E-3,null,null,null,null,null,null,null,null,null,null,null,null,null,null,null,null,null,null,null,null,null,null,428,9.8799999999999999E-3,2.5340000000000001E-2,2.54512E-2,0.17732000000000001,3.0169100000000001E-2,4.2020000000000002E-2,null,0.25624799999999998,9.8799999999999999E-3,1.24698,null,0.29470219999999997,3.5004399999999998E-2,1.4450879999999999,null,0.25624799999999998,9.8799999999999999E-3,1.24698,null,null,null,null,0.27535320000000002,3.0169089999999999E-2,1.4564140000000001,7.5219999999999995E-2,-3.4459999999999998E-2,0.70435999999999999]
[null,429,0.13977676856350099,2.8364268766874782E-3,null,null,null,null,null,null,null,null,null,null,400,1.7815918899931258E-3,1.709E-3,1.408E-3,6.2570000000000004E-3,2.526E-3,1.243E-3,1.271E-3,2.6649999999999998E-3,7.5680000000000001E-3,1.797E-3,1.3600000000000001E-3,null,null,null,null,null,null,null,null,null,null,null,null,null,null,null,null,null,null,null,null,null,null,429,1.074E-2,2.6320000000000003E-2,2.6375600000000003E-2,0.18856000000000001,3.1651400000000003E-2,4.44617E-2,null,0.27007399999999998,1.074E-2,1.31629,null,0.30469059999999998,3.6840200000000003E-2,1.4992840000000001,null,0.27007399999999998,1.074E-2,1.31629,null,null,null,null,0.28389209999999998,3.1651449999999998E-2,1.50596,7.4859999999999996E-2,-3.4680000000000002E-2,0.73408000000000007]
[null,430,0.16654484744696452,3.3796194197877518E-3,null,null,null,null,null,null,null,null,null,null,401,1.8369843420657976E-3,1.8649999999999999E-3,1.039E-3,7.0780000000000001E-3,2.4190000000000001E-3,1.1640000000000001E-3,1.25E-3,2.0100000000000001E-3,8.4449999999999994E-3,2.261E-3,1.456E-3,null,null,null,null,null,null,null,null,null,null,null,null,null,null,null,null,null,null,null,null,null,null,430,1.1599999999999999E-2,2.7300000000000001E-2,2.7300000000000001E-2,0.19980000000000001,3.3190400000000002E-2,4.6982299999999998E-2,null,0.28389999999999999,1.1599999999999999E-2,1.3855999999999999,null,0.31467899999999999,3.8676000000000002E-2,1.55348,null,0.28389999999999999,1.1599999999999999E-2,1.3855999999999999,null,null,null,null,0.29182459999999999,3.3190379999999998E-2,1.552826,7.4499999999999997E-2,-3.49E-2,0.76380000000000003]
[null,431,0.18001304126686551,3.652923398151283E-3,null,null,null,null,null,null,null,null,null,null,402,1.8923767941384697E-3,2.1250000000000002E-3,1.2390000000000001E-3,7.587E-3,2.3600000000000001E-3,9.6199999999999996E-4,1.1169999999999999E-3,2.1410000000000001E-3,8.8039999999999993E-3,1.9499999999999999E-3,1.485E-3,null,null,null,null,null,null,null,null,null,null,null,null,null,null,null,null,null,null,null,null,null,null,431,1.2648E-2,2.8360000000000003E-2,2.8356800000000001E-2,0.21234,3.47791E-2,4.9567399999999998E-2,null,0.29281999999999997,1.2648E-2,1.4330719999999999,null,0.32328699999999999,4.08612E-2,1.602484,null,0.29281999999999997,1.2648E-2,1.4330719999999999,null,null,null,null,0.29892000000000002,3.4779119999999997E-2,1.5959019999999999,7.0819999999999994E-2,-3.3439999999999998E-2,0.78660000000000008]
[null,432,0.19346795709983902,3.9259579323190691E-3,null,null,null,null,null,null,null,null,null,null,403,1.9477692462111416E-3,2.385E-3,1.4400000000000001E-3,8.0960000000000008E-3,2.3E-3,7.6000000000000004E-4,9.8499999999999998E-4,2.271E-3,8.0870000000000004E-3,1.64E-3,1.5139999999999999E-3,null,null,null,null,null,null,null,null,null,null,null,null,null,null,null,null,null,null,null,null,null,null,432,1.3696E-2,2.9420000000000002E-2,2.9413600000000002E-2,0.22488,3.64149E-2,5.22122E-2,null,0.30174000000000001,1.3696E-2,1.4805439999999999,null,0.331895,4.3046399999999999E-2,1.6514880000000001,null,0.30174000000000001,1.3696E-2,1.4805439999999999,null,null,null,null,0.3052993,3.6414950000000001E-2,1.6357680000000001,6.7139999999999991E-2,-3.1980000000000001E-2,0.80940000000000001]
[null,433,0.21010759563483891,4.263618606865258E-3,null,null,null,null,null,null,null,null,null,null,404,2.0031616982838134E-3,2.428E-3,2.1080000000000001E-3,9.639E-3,1.647E-3,1.7910000000000001E-3,1.14E-3,2.444E-3,7.8239999999999994E-3,2.4299999999999999E-3,9.9299999999999996E-4,null,null,null,null,null,null,null,null,null,null,null,null,null,null,null,null,null,null,null,null,null,null,433,1.4744E-2,3.048E-2,3.0470400000000002E-2,0.23742000000000002,3.8095700000000003E-2,5.4913900000000002E-2,null,0.31065999999999999,1.4744E-2,1.528016,null,0.340503,4.5231600000000004E-2,1.7004919999999999,null,0.31065999999999999,1.4744E-2,1.528016,null,null,null,null,0.31120310000000001,3.8095690000000001E-2,1.673573,6.3459999999999989E-2,-3.0519999999999999E-2,0.83220000000000005]
[null,434,0.22674747436114603,4.601284155505236E-3,null,null,null,null,null,null,null,null,null,null,405,3.4383468834699484E-3,2.3219999999999998E-3,2.1789999999999999E-3,1.0746E-2,1.743E-3,2.6459999999999999E-3,1.3179999999999999E-3,2.2130000000000001E-3,7.5389999999999997E-3,2.0330000000000001E-3,1.1460000000000001E-3,null,null,null,null,null,null,null,null,null,null,null,null,null,null,null,null,null,null,null,null,null,null,434,1.5792E-2,3.1539999999999999E-2,3.1527200000000005E-2,0.24996000000000002,3.9818399999999997E-2,5.7669199999999997E-2,null,0.31958000000000003,1.5792E-2,1.575488,null,0.349111,4.7416800000000002E-2,1.7494959999999999,null,0.31958000000000003,1.5792E-2,1.575488,null,null,null,null,0.31690469999999998,3.9818430000000002E-2,1.710604,5.978E-2,-2.9059999999999999E-2,0.85499999999999998]
[null,435,0.24056401239083774,4.881656925694069E-3,null,null,null,null,null,null,null,null,null,null,406,6.4295392953941273E-3,2.2160000000000001E-3,2.0370000000000002E-3,1.1853000000000001E-2,1.838E-3,9.3599999999999998E-4,1.4970000000000001E-3,1.9819999999999998E-3,7.254E-3,1.6360000000000001E-3,1.2999999999999999E-3,null,null,null,null,null,null,null,null,null,null,null,null,null,null,null,null,null,null,null,null,null,null,435,1.6840000000000001E-2,3.2600000000000004E-2,3.2584000000000002E-2,0.26250000000000001,4.1579400000000002E-2,6.0474300000000002E-2,null,0.32850000000000001,1.6840000000000001E-2,1.62296,null,0.35771900000000001,4.9602E-2,1.7985,null,0.32850000000000001,1.6840000000000001E-2,1.62296,null,null,null,null,0.32270870000000001,4.1579400000000002E-2,1.7482800000000001,5.6099999999999997E-2,-2.76E-2,0.87780000000000002]
[null,436,0.25438124260896633,5.1620437421504356E-3,null,null,null,null,null,null,null,null,null,null,407,9.4207317073183063E-3,2.5860000000000002E-3,1.9610000000000001E-3,1.4097E-2,2.0509999999999999E-3,1.0120000000000001E-3,1.753E-3,1.9759999999999999E-3,7.9810000000000002E-3,1.797E-3,1.2019999999999999E-3,null,null,null,null,null,null,null,null,null,null,null,null,null,null,null,null,null,null,null,null,null,null,436,1.8072000000000001E-2,3.3660000000000002E-2,3.3647200000000002E-2,0.27562000000000003,4.3371E-2,6.3322000000000003E-2,null,0.33245600000000003,1.8072000000000001E-2,1.64778,null,0.36292200000000002,5.2096999999999997E-2,1.8322559999999999,null,0.33245600000000003,1.8072000000000001E-2,1.64778,null,null,null,null,0.32881939999999998,4.3370980000000003E-2,1.787504,5.1339999999999997E-2,-2.546E-2,0.89734000000000003]
[null,437,0.26716920454949844,5.421544082006291E-3,null,null,null,null,null,null,null,null,null,null,408,1.2411924119242485E-2,2.957E-3,1.8860000000000001E-3,1.634E-2,2.2650000000000001E-3,1.088E-3,2.0100000000000001E-3,1.9710000000000001E-3,8.7069999999999995E-3,1.9589999999999998E-3,1.1039999999999999E-3,null,null,null,null,null,null,null,null,null,null,null,null,null,null,null,null,null,null,null,null,null,null,437,1.9304000000000002E-2,3.4720000000000001E-2,3.4710400000000002E-2,0.28874,4.5171799999999998E-2,6.6192699999999993E-2,null,0.33641199999999999,1.9304000000000002E-2,1.6726000000000001,null,0.36812500000000004,5.4592000000000002E-2,1.866012,null,0.33641199999999999,1.9304000000000002E-2,1.6726000000000001,null,null,null,null,0.33492420000000001,4.5171799999999998E-2,1.8266089999999999,4.6579999999999996E-2,-2.332E-2,0.91688000000000003]
[null,438,0.27990955815501839,5.6800783274076061E-3,null,null,null,null,null,null,null,null,null,null,409,1.5403116531166664E-2,3.0530000000000002E-3,1.663E-3,1.9517E-2,2.405E-3,1.1709999999999999E-3,1.8760000000000001E-3,1.9750000000000002E-3,9.1020000000000007E-3,1.735E-3,1.2359999999999999E-3,null,null,null,null,null,null,null,null,null,null,null,null,null,null,null,null,null,null,null,null,null,null,438,2.0535999999999999E-2,3.5780000000000006E-2,3.5773600000000003E-2,0.30186000000000002,4.6954200000000001E-2,6.9061899999999996E-2,null,0.340368,2.0535999999999999E-2,1.6974199999999999,null,0.37332799999999999,5.7086999999999999E-2,1.8997679999999999,null,0.340368,2.0535999999999999E-2,1.6974199999999999,null,null,null,null,0.34054519999999999,4.6954200000000001E-2,1.863108,4.1820000000000003E-2,-2.1179999999999997E-2,0.93642000000000003]
[null,439,0.28874133366189436,5.8592975615766422E-3,null,null,null,null,null,null,null,null,null,null,410,1.8394308943090843E-2,2.8609999999999998E-3,1.4400000000000001E-3,2.2693000000000001E-2,2.5460000000000001E-3,1.2539999999999999E-3,1.743E-3,1.98E-3,9.4970000000000002E-3,1.5100000000000001E-3,1.3669999999999999E-3,null,null,null,null,null,null,null,null,null,null,null,null,null,null,null,null,null,null,null,null,null,null,439,2.1767999999999999E-2,3.6840000000000005E-2,3.6836800000000003E-2,0.31497999999999998,4.86872E-2,7.1901900000000005E-2,null,0.34432399999999996,2.1767999999999999E-2,1.72224,null,0.37853100000000001,5.9582000000000003E-2,1.933524,null,0.34432399999999996,2.1767999999999999E-2,1.72224,null,null,null,null,0.3451688,4.8687179999999997E-2,1.8943319999999999,3.7060000000000003E-2,-1.9039999999999998E-2,0.95596000000000003]
[null,440,0.29757330898100554,6.0385208504451825E-3,null,null,null,null,null,null,null,null,null,null,411,2.1385501355015022E-2,3.7829999999999999E-3,1.6479999999999999E-3,2.8487999999999999E-2,2.5739999999999999E-3,1.008E-3,1.9689999999999998E-3,2.0820000000000001E-3,1.1209999999999999E-2,1.343E-3,1.485E-3,null,null,null,null,null,null,null,null,null,null,null,null,null,null,null,null,null,null,null,null,null,null,440,2.3E-2,3.7900000000000003E-2,3.7900000000000003E-2,0.3281,5.0336600000000002E-2,7.4682899999999997E-2,null,0.34827999999999998,2.3E-2,1.7470600000000001,null,0.38373400000000002,6.2077E-2,1.9672799999999999,null,0.34827999999999998,2.3E-2,1.7470600000000001,null,null,null,null,0.34825539999999999,5.0336569999999997E-2,1.9174789999999999,3.2300000000000002E-2,-1.6899999999999998E-2,0.97550000000000003]
[null,441,0.29993770187581009,6.0865004082987159E-3,null,null,null,null,null,null,null,null,null,null,412,2.4376693766939201E-2,4.7039999999999998E-3,1.856E-3,3.4283000000000001E-2,2.6020000000000001E-3,7.6199999999999998E-4,2.196E-3,2.1849999999999999E-3,1.2921999999999999E-2,1.1770000000000001E-3,1.25E-3,null,null,null,null,null,null,null,null,null,null,null,null,null,null,null,null,null,null,null,null,null,null,441,2.436E-2,3.8790000000000005E-2,3.8798200000000005E-2,0.34110000000000001,5.1876100000000001E-2,7.7384499999999995E-2,null,0.34823599999999999,2.436E-2,1.7541679999999999,null,0.38433240000000002,6.4602400000000004E-2,1.9792839999999998,null,0.34823599999999999,2.436E-2,1.7541679999999999,null,null,null,null,0.34941529999999998,5.1876110000000003E-2,1.9305289999999999,2.4960000000000003E-2,-1.304E-2,0.98077999999999999]
[null,442,0.29482317019798759,5.9827135253872352E-3,null,null,null,null,null,null,null,null,null,null,413,2.736788617886338E-2,5.8339999999999998E-3,1.3029999999999999E-3,4.1875999999999997E-2,2.1789999999999999E-3,9.0499999999999999E-4,2.568E-3,1.823E-3,1.4564000000000001E-2,1.4090000000000001E-3,1.1720000000000001E-3,null,null,null,null,null,null,null,null,null,null,null,null,null,null,null,null,null,null,null,null,null,null,442,2.572E-2,3.968E-2,3.96964E-2,0.35410000000000003,5.33222E-2,8.0035999999999996E-2,null,0.348192,2.572E-2,1.7612760000000001,null,0.38493080000000002,6.7127800000000001E-2,1.9912879999999999,null,0.348192,2.572E-2,1.7612760000000001,null,null,null,null,0.34890749999999998,5.3322179999999997E-2,1.9348190000000001,1.762E-2,-9.1799999999999989E-3,0.98606000000000005]
[null,443,0.28884035459961482,5.8613069487730386E-3,null,null,null,null,null,null,null,null,null,null,414,3.0359078590787559E-2,6.9639999999999997E-3,7.5000000000000002E-4,4.9468999999999999E-2,1.756E-3,1.0480000000000001E-3,2.9399999999999999E-3,1.462E-3,1.6205000000000001E-2,1.642E-3,1.0950000000000001E-3,null,null,null,null,null,null,null,null,null,null,null,null,null,null,null,null,null,null,null,null,null,null,443,2.708E-2,4.0570000000000002E-2,4.0594600000000002E-2,0.36709999999999998,5.4705999999999998E-2,8.26852E-2,null,0.34814799999999996,2.708E-2,1.768384,null,0.38552920000000002,6.9653199999999998E-2,2.0032920000000001,null,0.34814799999999996,2.708E-2,1.768384,null,null,null,null,0.3471746,5.4706030000000003E-2,1.93265,1.0279999999999997E-2,-5.3199999999999983E-3,0.99134]
[null,444,0.28323353663230916,5.7475303223808267E-3,null,null,null,null,null,null,null,null,null,null,415,3.3350271002711734E-2,8.5299999999999994E-3,1.2440000000000001E-3,6.132E-2,1.8730000000000001E-3,1.199E-3,3.5850000000000001E-3,1.743E-3,1.9106999999999999E-2,1.748E-3,1.243E-3,null,null,null,null,null,null,null,null,null,null,null,null,null,null,null,null,null,null,null,null,null,null,444,2.844E-2,4.1460000000000004E-2,4.1492799999999996E-2,0.38009999999999999,5.6063399999999999E-2,8.5387500000000005E-2,null,0.34810399999999997,2.844E-2,1.7754920000000001,null,0.38612760000000002,7.2178600000000009E-2,2.0152959999999998,null,0.34810399999999997,2.844E-2,1.7754920000000001,null,null,null,null,0.34467049999999999,5.6063349999999998E-2,1.9263950000000001,2.9399999999999982E-3,-1.4599999999999995E-3,0.99662000000000006]
[null,445,0.27762626406250335,5.6337444709452632E-3,null,null,null,null,null,null,null,null,null,null,416,3.6341463414635913E-2,1.0096000000000001E-2,1.738E-3,7.3172000000000001E-2,1.99E-3,1.3500000000000001E-3,4.2300000000000003E-3,2.0249999999999999E-3,2.2009000000000001E-2,1.854E-3,1.3910000000000001E-3,null,null,null,null,null,null,null,null,null,null,null,null,null,null,null,null,null,null,null,null,null,null,445,2.98E-2,4.2349999999999999E-2,4.2390999999999998E-2,0.3931,5.7433900000000003E-2,8.8205400000000003E-2,null,0.34805999999999998,2.98E-2,1.7826,null,0.38672600000000001,7.4704000000000007E-2,2.0272999999999999,null,0.34805999999999998,2.98E-2,1.7826,null,null,null,null,0.34184829999999999,5.7433930000000001E-2,1.9184369999999999,-4.4000000000000003E-3,2.3999999999999998E-3,1.0019]
[null,446,0.26399129698990054,5.357056238237198E-3,null,null,null,null,null,null,null,null,null,null,417,3.9332655826560092E-2,1.4581999999999999E-2,1.7639999999999999E-3,0.100122,1.748E-3,1.9469999999999999E-3,5.476E-3,1.745E-3,2.7675000000000002E-2,1.6459999999999999E-3,9.8700000000000003E-4,null,null,null,null,null,null,null,null,null,null,null,null,null,null,null,null,null,null,null,null,null,null,446,3.1440000000000003E-2,4.3240000000000001E-2,4.32728E-2,0.40548000000000001,5.8851100000000003E-2,9.1189300000000001E-2,null,0.345688,3.1440000000000003E-2,1.780502,null,0.38352120000000001,7.7654399999999998E-2,2.0207999999999999,null,0.345688,3.1440000000000003E-2,1.780502,null,null,null,null,0.33902399999999999,5.8851069999999998E-2,1.9104300000000001,-1.3080000000000001E-2,7.5799999999999999E-3,1.0014400000000001]
[null,447,0.25034596272826998,5.0801576288413879E-3,null,null,null,null,null,null,null,null,null,null,418,4.2323848238484271E-2,1.7974E-2,1.8619999999999999E-3,0.12031600000000001,1.738E-3,1.606E-3,6.5250000000000004E-3,1.7099999999999999E-3,3.2475999999999998E-2,1.5939999999999999E-3,8.61E-4,null,null,null,null,null,null,null,null,null,null,null,null,null,null,null,null,null,null,null,null,null,null,447,3.3079999999999998E-2,4.4130000000000003E-2,4.4154600000000002E-2,0.41786000000000001,6.0308100000000003E-2,9.4310400000000003E-2,null,0.34331600000000001,3.3079999999999998E-2,1.7784040000000001,null,0.3803164,8.0604800000000004E-2,2.0143,null,0.34331600000000001,3.3079999999999998E-2,1.7784040000000001,null,null,null,null,0.33599259999999997,6.0308090000000002E-2,1.901224,-2.1760000000000002E-2,1.2759999999999999E-2,1.00098]
[null,448,0.23552843294600434,4.7794721848118124E-3,null,null,null,null,null,null,null,null,null,null,419,4.531504065040845E-2,2.1366E-2,1.9610000000000001E-3,0.140509,1.7279999999999999E-3,1.2650000000000001E-3,7.574E-3,1.6739999999999999E-3,3.7276999999999998E-2,1.542E-3,7.3499999999999998E-4,null,null,null,null,null,null,null,null,null,null,null,null,null,null,null,null,null,null,null,null,null,null,448,3.4720000000000001E-2,4.5020000000000004E-2,4.5036399999999997E-2,0.43024000000000001,6.1786399999999998E-2,9.7513500000000003E-2,null,0.34094399999999997,3.4720000000000001E-2,1.7763059999999999,null,0.37711159999999999,8.3555199999999996E-2,2.0078,null,0.34094399999999997,3.4720000000000001E-2,1.7763059999999999,null,null,null,null,0.33242759999999999,6.1786439999999998E-2,1.889,-3.0440000000000002E-2,1.7939999999999998E-2,1.0005200000000001]
[null,449,0.22071070091595824,4.4787826366593127E-3,null,null,null,null,null,null,null,null,null,null,420,4.8306233062332629E-2,2.6001E-2,1.753E-3,0.16264999999999999,1.9559999999999998E-3,1.157E-3,9.3240000000000007E-3,1.6620000000000001E-3,4.3227000000000002E-2,1.1980000000000001E-3,8.7200000000000005E-4,null,null,null,null,null,null,null,null,null,null,null,null,null,null,null,null,null,null,null,null,null,null,449,3.6359999999999996E-2,4.5909999999999999E-2,4.5918199999999999E-2,0.44262000000000001,6.3265699999999994E-2,0.10073500000000001,null,0.33857199999999998,3.6359999999999996E-2,1.774208,null,0.37390679999999998,8.6505600000000002E-2,2.0013000000000001,null,0.33857199999999998,3.6359999999999996E-2,1.774208,null,null,null,null,0.32801570000000002,6.3265699999999994E-2,1.871996,-3.9120000000000002E-2,2.3119999999999998E-2,1.0000599999999999]
[null,450,0.20537885758332772,4.1676604598858647E-3,null,null,null,null,null,null,null,null,null,null,421,5.1297425474256808E-2,3.0634999999999999E-2,1.5449999999999999E-3,0.18479100000000001,2.183E-3,1.049E-3,1.1073E-2,1.65E-3,4.9175999999999997E-2,8.5400000000000005E-4,1.0089999999999999E-3,null,null,null,null,null,null,null,null,null,null,null,null,null,null,null,null,null,null,null,null,null,null,450,3.7999999999999999E-2,4.6800000000000001E-2,4.6800000000000001E-2,0.45500000000000002,6.4723500000000003E-2,0.103903,null,0.3362,3.7999999999999999E-2,1.7721100000000001,null,0.37070199999999998,8.9455999999999994E-2,1.9947999999999999,null,0.3362,3.7999999999999999E-2,1.7721100000000001,null,null,null,null,0.32246370000000002,6.4723520000000007E-2,1.8485450000000001,-4.7800000000000002E-2,2.8299999999999999E-2,0.99960000000000004]
[null,451,0.19004659450753988,3.8565297654539745E-3,null,null,null,null,null,null,null,null,null,null,422,5.4288617886180987E-2,3.814E-2,1.5250000000000001E-3,0.217751,2.3470000000000001E-3,1.0120000000000001E-3,1.3753E-2,1.861E-3,5.7883999999999998E-2,1.0499999999999999E-3,1.026E-3,null,null,null,null,null,null,null,null,null,null,null,null,null,null,null,null,null,null,null,null,null,null,451,0.04,4.8120000000000003E-2,4.7864400000000001E-2,0.46660000000000001,6.6147499999999998E-2,0.106964,null,0.3327,0.04,1.766508,null,0.36515300000000001,9.2815999999999996E-2,1.9759799999999998,null,0.3327,0.04,1.766508,null,null,null,null,0.31562249999999997,6.6147490000000003E-2,1.8177920000000001,-5.7640000000000004E-2,3.5360000000000003E-2,0.98246]
[null,452,0.17382619908808927,3.5273766022276649E-3,null,null,null,null,null,null,null,null,null,null,423,6.6486562782303457E-2,4.5645999999999999E-2,1.506E-3,0.25071199999999999,2.0200000000000001E-3,9.7400000000000004E-4,1.6433E-2,2.0730000000000002E-3,6.6590999999999997E-2,1.2459999999999999E-3,1.044E-3,null,null,null,null,null,null,null,null,null,null,null,null,null,null,null,null,null,null,null,null,null,null,452,4.2000000000000003E-2,4.9439999999999998E-2,4.8928800000000001E-2,0.47820000000000001,6.7572599999999997E-2,0.109968,null,0.32919999999999999,4.2000000000000003E-2,1.7609060000000001,null,0.35960399999999998,9.6175999999999998E-2,1.95716,null,0.32919999999999999,4.2000000000000003E-2,1.7609060000000001,null,null,null,null,0.30782009999999999,6.7572560000000004E-2,1.7816270000000001,-6.7479999999999998E-2,4.2419999999999999E-2,0.96532000000000007]
[null,453,0.15760596553734693,3.1982267237299932E-3,null,null,null,null,null,null,null,null,null,null,424,8.0943992773268317E-2,5.5208E-2,1.449E-3,0.28291899999999998,1.828E-3,7.94E-4,1.9392E-2,1.918E-3,7.5242000000000003E-2,1.1050000000000001E-3,1.059E-3,null,null,null,null,null,null,null,null,null,null,null,null,null,null,null,null,null,null,null,null,null,null,453,4.3999999999999997E-2,5.076E-2,4.9993200000000002E-2,0.48980000000000001,6.9049299999999994E-2,0.112999,null,0.32569999999999999,4.3999999999999997E-2,1.755304,null,0.35405500000000001,9.9535999999999999E-2,1.93834,null,0.32569999999999999,4.3999999999999997E-2,1.755304,null,null,null,null,0.2994771,6.9049280000000005E-2,1.7425139999999999,-7.732E-2,4.9480000000000003E-2,0.94818000000000002]
[null,454,0.13189470790373639,2.6764797772602898E-3,null,null,null,null,null,null,null,null,null,null,425,9.5401422764233162E-2,6.4770999999999995E-2,1.3929999999999999E-3,0.31512699999999999,1.635E-3,6.1300000000000005E-4,2.2350999999999999E-2,1.7619999999999999E-3,8.3892999999999995E-2,9.6500000000000004E-4,1.075E-3,null,null,null,null,null,null,null,null,null,null,null,null,null,null,null,null,null,null,null,null,null,null,454,4.5999999999999999E-2,5.2080000000000001E-2,5.1057600000000002E-2,0.50140000000000007,7.0632799999999996E-2,0.11615399999999999,null,0.32219999999999999,4.5999999999999999E-2,1.7497020000000001,null,0.34850599999999998,0.102896,1.9195200000000001,null,0.32219999999999999,4.5999999999999999E-2,1.7497020000000001,null,null,null,null,0.2909776,7.0632799999999996E-2,1.7027490000000001,-8.7160000000000001E-2,5.6540000000000007E-2,0.93104000000000009]
[null,455,0.12186458353455817,2.47294299049926E-3,null,null,null,null,null,null,null,null,null,null,426,0.10985885275519801,7.9555000000000001E-2,1.459E-3,0.35960900000000001,1.6479999999999999E-3,6.5899999999999997E-4,2.7282000000000001E-2,1.7309999999999999E-3,9.6932000000000004E-2,1.2769999999999999E-3,9.4700000000000003E-4,null,null,null,null,null,null,null,null,null,null,null,null,null,null,null,null,null,null,null,null,null,null,455,4.8000000000000001E-2,5.3400000000000003E-2,5.2122000000000002E-2,0.51300000000000001,7.2383400000000001E-2,0.11953900000000001,null,0.31869999999999998,4.8000000000000001E-2,1.7441,null,0.34295700000000001,0.106256,1.9007000000000001,null,0.31869999999999998,4.8000000000000001E-2,1.7441,null,null,null,null,0.28266459999999999,7.2383390000000006E-2,1.664439,-9.7000000000000003E-2,6.3600000000000004E-2,0.91390000000000005]
[null,456,0.11183497163214159,2.2694166029949238E-3,null,null,null,null,null,null,null,null,null,null,427,0.12467818428184729,9.4339000000000006E-2,1.526E-3,0.40409200000000001,1.66E-3,7.0399999999999998E-4,3.2214E-2,1.699E-3,0.109971,1.588E-3,8.1899999999999996E-4,null,null,null,null,null,null,null,null,null,null,null,null,null,null,null,null,null,null,null,null,null,null,456,5.04E-2,5.4719999999999998E-2,5.3697599999999998E-2,0.52380000000000004,7.4359599999999998E-2,0.12325,null,0.31312000000000001,5.04E-2,1.72912,null,0.33482020000000001,0.11064500000000001,1.869634,null,0.31312000000000001,5.04E-2,1.72912,null,null,null,null,0.27479619999999999,7.4359599999999998E-2,1.6292070000000001,-0.10932,7.2520000000000001E-2,0.89706000000000008]
[null,457,0.10355750019371311,2.1014456111036269E-3,null,null,null,null,null,null,null,null,null,null,428,0.13963414634146934,0.112386,1.817E-3,0.44766800000000001,1.7849999999999999E-3,1.0870000000000001E-3,3.8523000000000002E-2,1.812E-3,0.12420100000000001,1.8259999999999999E-3,9.8499999999999998E-4,null,null,null,null,null,null,null,null,null,null,null,null,null,null,null,null,null,null,null,null,null,null,457,5.28E-2,5.604E-2,5.5273200000000001E-2,0.53459999999999996,7.6593800000000004E-2,0.127305,null,0.30753999999999998,5.28E-2,1.71414,null,0.32668340000000001,0.11503400000000001,1.838568,null,0.30753999999999998,5.28E-2,1.71414,null,null,null,null,0.26743119999999998,7.6593830000000002E-2,1.5973599999999999,-0.12164,8.1440000000000012E-2,0.88022]
[null,458,9.5244513348330312E-2,1.9327539210887649E-3,null,null,null,null,null,null,null,null,null,null,429,0.15459010840109136,0.13043399999999999,2.1090000000000002E-3,0.49124499999999999,1.9090000000000001E-3,1.47E-3,4.4832999999999998E-2,1.9250000000000001E-3,0.138431,1.3500000000000001E-3,1.1509999999999999E-3,null,null,null,null,null,null,null,null,null,null,null,null,null,null,null,null,null,null,null,null,null,null,458,5.5199999999999999E-2,5.7360000000000001E-2,5.6848799999999998E-2,0.5454,7.9114400000000001E-2,0.13169600000000001,null,0.30196000000000001,5.5199999999999999E-2,1.69916,null,0.31854660000000001,0.119423,1.8075020000000002,null,0.30196000000000001,5.5199999999999999E-2,1.69916,null,null,null,null,0.2605847,7.9114359999999995E-2,1.5688960000000001,-0.13396,9.036000000000001E-2,0.86338000000000004]
[null,459,8.8296012310807886E-2,1.79175112571676E-3,null,null,null,null,null,null,null,null,null,null,430,0.16954607046071341,0.17676900000000001,1.9499999999999999E-3,0.58367899999999995,2.0569999999999998E-3,1.0089999999999999E-3,6.1081000000000003E-2,1.949E-3,0.16944200000000001,1.6280000000000001E-3,8.1599999999999999E-4,null,null,null,null,null,null,null,null,null,null,null,null,null,null,null,null,null,null,null,null,null,null,459,5.7599999999999998E-2,5.8679999999999996E-2,5.8424400000000001E-2,0.55619999999999992,8.1953499999999999E-2,0.13641800000000001,null,0.29637999999999998,5.7599999999999998E-2,1.68418,null,0.31040980000000001,0.12381200000000001,1.7764360000000001,null,0.29637999999999998,5.7599999999999998E-2,1.68418,null,null,null,null,0.25427490000000003,8.1953449999999997E-2,1.5438229999999999,-0.14627999999999999,9.9280000000000007E-2,0.84653999999999996]
[null,460,8.134699897634913E-2,1.6507379345342495E-3,null,null,null,null,null,null,null,null,null,null,431,0.18644308943090576,0.205508,1.9759999999999999E-3,0.62867300000000004,2.3040000000000001E-3,1.206E-3,7.1709999999999996E-2,2.0010000000000002E-3,0.18656200000000001,1.6869999999999999E-3,7.1400000000000001E-4,null,null,null,null,null,null,null,null,null,null,null,null,null,null,null,null,null,null,null,null,null,null,460,0.06,0.06,0.06,0.56699999999999995,8.5148199999999993E-2,0.141459,null,0.2908,0.06,1.6692,null,0.30227300000000001,0.12820100000000001,1.7453700000000001,null,0.2908,0.06,1.6692,null,null,null,null,0.24852540000000001,8.5148160000000001E-2,1.522157,-0.15859999999999999,0.1082,0.82969999999999999]
[null,461,7.5807113356251662E-2,1.5383195360542455E-3,null,null,null,null,null,null,null,null,null,null,432,0.20439024390245072,0.23424700000000001,2.0019999999999999E-3,0.67366599999999999,2.5500000000000002E-3,1.403E-3,8.2339999999999997E-2,2.052E-3,0.203682,1.5690000000000001E-3,6.1200000000000002E-4,null,null,null,null,null,null,null,null,null,null,null,null,null,null,null,null,null,null,null,null,null,null,461,6.2780000000000002E-2,6.3100000000000003E-2,6.2588400000000002E-2,0.5776,8.8726600000000003E-2,0.14680000000000001,null,0.28286,6.2780000000000002E-2,1.6409800000000001,null,0.29263539999999999,0.13311300000000001,1.707276,null,0.28286,6.2780000000000002E-2,1.6409800000000001,null,null,null,null,0.24330389999999999,8.8726570000000005E-2,1.503611,-0.17157999999999998,0.11890000000000001,0.81210000000000004]
[null,462,7.0232078020441902E-2,1.4251878602579975E-3,null,null,null,null,null,null,null,null,null,null,433,0.22233739837399569,0.27493200000000001,1.861E-3,0.72979700000000003,2.4069999999999999E-3,1.0640000000000001E-3,9.7631999999999997E-2,2.085E-3,0.22512099999999999,1.4350000000000001E-3,8.1700000000000002E-4,null,null,null,null,null,null,null,null,null,null,null,null,null,null,null,null,null,null,null,null,null,null,462,6.5559999999999993E-2,6.6199999999999995E-2,6.5176800000000007E-2,0.58819999999999995,9.2660099999999995E-2,0.15240000000000001,null,0.27492,6.5559999999999993E-2,1.61276,null,0.28299780000000002,0.13802500000000001,1.6691819999999999,null,0.27492,6.5559999999999993E-2,1.61276,null,null,null,null,0.23834140000000001,9.2660080000000006E-2,1.4866729999999999,-0.18456,0.12959999999999999,0.79449999999999998]
[null,463,6.5078716265806108E-2,1.3206130161235682E-3,null,null,null,null,null,null,null,null,null,null,434,0.23935636856369491,0.31561699999999998,1.72E-3,0.78592799999999996,2.2629999999999998E-3,7.2599999999999997E-4,0.112925,2.019E-3,0.246559,1.3010000000000001E-3,1.0219999999999999E-3,null,null,null,null,null,null,null,null,null,null,null,null,null,null,null,null,null,null,null,null,null,null,463,6.8339999999999998E-2,6.93E-2,6.7765199999999998E-2,0.5988,9.6897200000000003E-2,0.15820200000000001,null,0.26698,6.8339999999999998E-2,1.5845400000000001,null,0.2733602,0.14293700000000001,1.6310880000000001,null,0.26698,6.8339999999999998E-2,1.5845400000000001,null,null,null,null,0.23332530000000001,9.6897230000000001E-2,1.469595,-0.19753999999999999,0.14030000000000001,0.77690000000000003]
[null,464,5.992588381448246E-2,1.2160489129023531E-3,null,null,null,null,null,null,null,null,null,null,435,0.25630645889792947,0.36138700000000001,1.707E-3,0.83013099999999995,2.3700000000000001E-3,7.6599999999999997E-4,0.130384,2.1840000000000002E-3,0.266237,1.5280000000000001E-3,1.085E-3,null,null,null,null,null,null,null,null,null,null,null,null,null,null,null,null,null,null,null,null,null,null,464,7.1119999999999989E-2,7.2399999999999992E-2,7.0353600000000002E-2,0.60939999999999994,0.10137500000000001,0.16414000000000001,null,0.25903999999999999,7.1119999999999989E-2,1.5563199999999999,null,0.26372260000000003,0.14784900000000001,1.592994,null,0.25903999999999999,7.1119999999999989E-2,1.5563199999999999,null,null,null,null,0.2279619,0.1013746,1.450709,-0.21051999999999998,0.15100000000000002,0.75929999999999997]
[null,465,5.1676925652302724E-2,1.0486565280566013E-3,null,null,null,null,null,null,null,null,null,null,436,0.27325654923216403,0.40715699999999999,1.694E-3,0.87433499999999997,2.477E-3,8.0699999999999999E-4,0.147844,2.3479999999999998E-3,0.285916,1.755E-3,1.147E-3,null,null,null,null,null,null,null,null,null,null,null,null,null,null,null,null,null,null,null,null,null,null,465,7.3899999999999993E-2,7.5499999999999998E-2,7.2942000000000007E-2,0.62,0.106014,0.17013700000000001,null,0.25109999999999999,7.3899999999999993E-2,1.5281,null,0.25408500000000001,0.15276100000000001,1.5548999999999999,null,0.25109999999999999,7.3899999999999993E-2,1.5281,null,null,null,null,0.22197810000000001,0.1060145,1.4284399999999999,-0.2235,0.16170000000000001,0.74170000000000003]
[null,466,4.8360697585709093E-2,9.8136180866953632E-4,null,null,null,null,null,null,null,null,null,null,437,0.29020663956639858,0.46359600000000001,1.7279999999999999E-3,0.91354999999999997,2.3700000000000001E-3,7.6300000000000001E-4,0.17069799999999999,2.114E-3,0.30833300000000002,1.9740000000000001E-3,1.026E-3,null,null,null,null,null,null,null,null,null,null,null,null,null,null,null,null,null,null,null,null,null,null,466,7.7315999999999996E-2,7.8600000000000003E-2,7.6549600000000009E-2,0.63119999999999998,0.110738,0.176123,null,0.239952,7.7315999999999996E-2,1.480008,null,0.24239160000000001,0.15924679999999999,1.5074319999999999,null,0.239952,7.7315999999999996E-2,1.480008,null,null,null,null,0.21517349999999999,0.11073769999999999,1.4015869999999999,-0.23576,0.17338000000000001,0.71604000000000001]
[null,467,4.5044504208633054E-2,9.1406779322119474E-4,null,null,null,null,null,null,null,null,null,null,438,0.31503218157181984,0.52003500000000003,1.7619999999999999E-3,0.95276499999999997,2.2629999999999998E-3,7.1900000000000002E-4,0.193553,1.8799999999999999E-3,0.33075100000000002,1.536E-3,9.0499999999999999E-4,null,null,null,null,null,null,null,null,null,null,null,null,null,null,null,null,null,null,null,null,null,null,467,8.0731999999999998E-2,8.1699999999999995E-2,8.0157200000000012E-2,0.64239999999999997,0.115511,0.18209,null,0.22880400000000001,8.0731999999999998E-2,1.431916,null,0.23069819999999999,0.16573260000000001,1.459964,null,0.22880400000000001,8.0731999999999998E-2,1.431916,null,null,null,null,0.20756189999999999,0.11551110000000001,1.3700939999999999,-0.24801999999999999,0.18506,0.69037999999999999]
[null,468,4.2617856155559186E-2,8.6482491953955652E-4,null,null,null,null,null,null,null,null,null,null,439,0.34120511517615576,0.58241200000000004,1.9189999999999999E-3,0.97638199999999997,2.1099999999999999E-3,8.6499999999999999E-4,0.221247,2.2529999999999998E-3,0.35520299999999999,1.655E-3,9.6299999999999999E-4,null,null,null,null,null,null,null,null,null,null,null,null,null,null,null,null,null,null,null,null,null,null,468,8.4148000000000001E-2,8.48E-2,8.37648E-2,0.65360000000000007,0.120312,0.18804599999999999,null,0.21765599999999999,8.4148000000000001E-2,1.3838239999999999,null,0.2190048,0.17221839999999999,1.412496,null,0.21765599999999999,8.4148000000000001E-2,1.3838239999999999,null,null,null,null,0.19921829999999999,0.12031219999999999,1.33422,-0.26028000000000001,0.19674,0.66471999999999998]
[null,469,4.0191393683540425E-2,8.155858117705082E-4,null,null,null,null,null,null,null,null,null,null,440,0.36788617886179309,0.64478899999999995,2.0760000000000002E-3,1,1.957E-3,1.011E-3,0.248941,2.6259999999999999E-3,0.37965500000000002,1.7730000000000001E-3,1.0200000000000001E-3,null,null,null,null,null,null,null,null,null,null,null,null,null,null,null,null,null,null,null,null,null,null,469,8.7564000000000003E-2,8.7899999999999992E-2,8.7372400000000003E-2,0.66480000000000006,0.125116,0.19400600000000001,null,0.206508,8.7564000000000003E-2,1.3357319999999999,null,0.20731139999999998,0.17870420000000001,1.3650280000000001,null,0.206508,8.7564000000000003E-2,1.3357319999999999,null,null,null,null,0.19022900000000001,0.12511610000000001,1.2942750000000001,-0.27254,0.20841999999999999,0.63905999999999996]
[null,470,3.8212740780765787E-2,7.7543390147279665E-4,null,null,null,null,null,null,null,null,null,null,441,0.39779810298103407,0.75942699999999996,2.3730000000000001E-3,0.99146299999999998,2.3749999999999999E-3,1.681E-3,0.31043999999999999,2.2790000000000002E-3,0.42971700000000002,1.7279999999999999E-3,7.27E-4,null,null,null,null,null,null,null,null,null,null,null,null,null,null,null,null,null,null,null,null,null,null,470,9.0980000000000005E-2,9.0999999999999998E-2,9.0980000000000005E-2,0.67600000000000005,0.12989600000000001,0.199986,null,0.19536000000000001,9.0980000000000005E-2,1.2876399999999999,null,0.19561799999999999,0.18518999999999999,1.3175600000000001,null,0.19536000000000001,9.0980000000000005E-2,1.2876399999999999,null,null,null,null,0.1806905,0.1298957,1.25061,-0.2848,0.22009999999999999,0.61339999999999995]
[null,471,3.6234180431770159E-2,7.3528386932714867E-4,null,null,null,null,null,null,null,null,null,null,442,0.42771002710027506,0.80847800000000003,2.4269999999999999E-3,0.96487699999999998,2.4290000000000002E-3,2.3470000000000001E-3,0.34624300000000002,2.3280000000000002E-3,0.45940199999999998,1.4660000000000001E-3,7.8799999999999996E-4,null,null,null,null,null,null,null,null,null,null,null,null,null,null,null,null,null,null,null,null,null,null,471,9.5304E-2,9.5799999999999996E-2,9.5352000000000006E-2,0.68759999999999999,0.13463,0.20600499999999999,null,0.18470800000000001,9.5304E-2,1.2384919999999999,null,0.18296419999999999,0.19214000000000001,1.2600880000000001,null,0.18470800000000001,9.5304E-2,1.2384919999999999,null,null,null,null,0.17071539999999999,0.1346299,1.2036960000000001,-0.29476000000000002,0.23199999999999998,0.58511999999999997]
[null,472,3.5537901507849003E-2,7.2115459538715353E-4,null,null,null,null,null,null,null,null,null,null,443,0.45918445121951645,0.85752899999999999,2.48E-3,0.93828999999999996,2.3219999999999998E-3,1.0150000000000001E-3,0.382046,2.3770000000000002E-3,0.48908600000000002,1.2030000000000001E-3,8.4900000000000004E-4,null,null,null,null,null,null,null,null,null,null,null,null,null,null,null,null,null,null,null,null,null,null,472,9.9628000000000008E-2,0.10059999999999999,9.9724000000000007E-2,0.69920000000000004,0.13933100000000001,0.21209800000000001,null,0.17405600000000002,9.9628000000000008E-2,1.189344,null,0.1703104,0.19908999999999999,1.2026160000000001,null,0.17405600000000002,9.9628000000000008E-2,1.189344,null,null,null,null,0.16044710000000001,0.13933090000000001,1.1543159999999999,-0.30471999999999999,0.24390000000000001,0.55684]
[null,473,3.468017672930291E-2,7.0374917358729497E-4,null,null,null,null,null,null,null,null,null,null,444,0.4928353658536625,0.90802700000000003,2.826E-3,0.91071899999999995,2.5000000000000001E-3,8.8800000000000001E-4,0.43157800000000002,2.5209999999999998E-3,0.53523699999999996,1.31E-3,8.52E-4,null,null,null,null,null,null,null,null,null,null,null,null,null,null,null,null,null,null,null,null,null,null,473,0.103952,0.10540000000000001,0.10409599999999999,0.71079999999999999,0.14402300000000001,0.218304,null,0.16340399999999999,0.103952,1.140196,null,0.15765659999999998,0.20604,1.1451439999999999,null,0.16340399999999999,0.103952,1.140196,null,null,null,null,0.1500244,0.1440235,1.1032839999999999,-0.31468000000000002,0.25580000000000003,0.52855999999999992]
[null,474,3.3245167091735216E-2,6.7462917069887923E-4,null,null,null,null,null,null,null,null,null,null,445,0.52648628048780854,0.95852599999999999,3.1719999999999999E-3,0.88314800000000004,2.6779999999999998E-3,7.6000000000000004E-4,0.48110900000000001,2.666E-3,0.58138699999999999,1.4159999999999999E-3,8.5499999999999997E-4,null,null,null,null,null,null,null,null,null,null,null,null,null,null,null,null,null,null,null,null,null,null,474,0.10827600000000001,0.11020000000000001,0.10846799999999999,0.72240000000000004,0.14873700000000001,0.22466900000000001,null,0.152752,0.10827600000000001,1.091048,null,0.14500279999999999,0.21298999999999998,1.087672,null,0.152752,0.10827600000000001,1.091048,null,null,null,null,0.13957049999999999,0.14873720000000001,1.051347,-0.32463999999999998,0.26769999999999999,0.50027999999999995]
[null,475,3.318740111203581E-2,6.7345695174531874E-4,null,null,null,null,null,null,null,null,null,null,446,0.65092189314750692,0.97792599999999996,3.2889999999999998E-3,0.83033900000000005,2.4949999999999998E-3,8.5099999999999998E-4,0.53164599999999995,2.9260000000000002E-3,0.62819899999999995,1.4630000000000001E-3,9.0899999999999998E-4,null,null,null,null,null,null,null,null,null,null,null,null,null,null,null,null,null,null,null,null,null,null,475,0.11260000000000001,0.115,0.11284,0.73399999999999999,0.153507,0.231243,null,0.1421,0.11260000000000001,1.0419,null,0.13234899999999999,0.21994,1.0302,null,0.1421,0.11260000000000001,1.0419,null,null,null,null,0.129192,0.15350659999999999,0.99917889999999998,-0.33460000000000001,0.27960000000000002,0.47199999999999998]
[null,476,3.3066517857469391E-2,6.7100392242065037E-4,null,null,null,null,null,null,null,null,null,null,447,0.66908270421990612,0.99732600000000005,3.4069999999999999E-3,0.77753000000000005,2.313E-3,9.41E-4,0.58218199999999998,3.1870000000000002E-3,0.67501100000000003,1.3699999999999999E-3,9.6299999999999999E-4,null,null,null,null,null,null,null,null,null,null,null,null,null,null,null,null,null,null,null,null,null,null,476,0.117884,0.1198,0.118076,0.74580000000000002,0.158364,0.23807400000000001,null,0.13280800000000001,0.117884,0.99611000000000005,null,0.12198059999999999,0.2266698,0.97858500000000004,null,0.13280800000000001,0.117884,0.99611000000000005,null,null,null,null,0.11898590000000001,0.15836439999999999,0.94739580000000001,-0.34320000000000001,0.29224,0.44749999999999995]
[null,477,3.3347994130799821E-2,6.7671579339198106E-4,null,null,null,null,null,null,null,null,null,null,448,0.68724351529230532,0.99866299999999997,3.8630000000000001E-3,0.72323400000000004,2.2950000000000002E-3,6.9099999999999999E-4,0.63886500000000002,3.3149999999999998E-3,0.72865800000000003,1.5839999999999999E-3,9.9200000000000004E-4,null,null,null,null,null,null,null,null,null,null,null,null,null,null,null,null,null,null,null,null,null,null,477,0.123168,0.1246,0.123312,0.75760000000000005,0.16331999999999999,0.24518000000000001,null,0.123516,0.123168,0.95032000000000005,null,0.11161219999999999,0.23339960000000001,0.92696999999999996,null,0.123516,0.123168,0.95032000000000005,null,null,null,null,0.10906150000000001,0.16331989999999999,0.89662220000000004,-0.3518,0.30487999999999998,0.42299999999999999]
[null,478,3.3628998486266062E-2,6.8241808794709227E-4,null,null,null,null,null,null,null,null,null,null,449,0.70540432636470451,1,4.3200000000000001E-3,0.66893899999999995,2.2769999999999999E-3,4.4000000000000002E-4,0.69554800000000006,3.4429999999999999E-3,0.78230500000000003,1.797E-3,1.021E-3,null,null,null,null,null,null,null,null,null,null,null,null,null,null,null,null,null,null,null,null,null,null,478,0.12845200000000001,0.12940000000000002,0.128548,0.76939999999999997,0.168376,0.25256800000000001,null,0.11422400000000001,0.12845200000000001,0.90452999999999995,null,0.10124379999999999,0.24012939999999999,0.87535499999999999,null,0.11422400000000001,0.12845200000000001,0.90452999999999995,null,null,null,null,9.9514240000000004E-2,0.1683761,0.84739810000000004,-0.3604,0.31752000000000002,0.39849999999999997]
[null,479,3.4582076565453673E-2,7.0175847123947954E-4,null,null,null,null,null,null,null,null,null,null,450,0.72356513743710382,0.97982599999999997,4.9880000000000002E-3,0.61509199999999997,2.1480000000000002E-3,6.7900000000000002E-4,0.75241899999999995,3.7420000000000001E-3,0.83477000000000001,1.8289999999999999E-3,9.9099999999999991E-4,null,null,null,null,null,null,null,null,null,null,null,null,null,null,null,null,null,null,null,null,null,null,479,0.13373599999999999,0.13420000000000001,0.13378400000000001,0.78120000000000001,0.173537,0.26024799999999998,null,0.104932,0.13373599999999999,0.85873999999999995,null,9.0875399999999995E-2,0.2468592,0.82373999999999992,null,0.104932,0.13373599999999999,0.85873999999999995,null,null,null,null,9.0418499999999999E-2,0.17353650000000001,0.80015760000000002,-0.36899999999999999,0.33016000000000001,0.374]
[null,480,3.5534497145721995E-2,7.2108551220305753E-4,null,null,null,null,null,null,null,null,null,null,451,0.77867829719968051,0.95965100000000003,5.6569999999999997E-3,0.56124600000000002,2.0179999999999998E-3,9.1699999999999995E-4,0.80928999999999995,4.0419999999999996E-3,0.88723600000000002,1.8600000000000001E-3,9.6100000000000005E-4,null,null,null,null,null,null,null,null,null,null,null,null,null,null,null,null,null,null,null,null,null,null,480,0.13902,0.13900000000000001,0.13902,0.79300000000000004,0.17880499999999999,0.26822699999999999,null,9.5640000000000003E-2,0.13902,0.81294999999999995,null,8.0506999999999995E-2,0.25358900000000001,0.77212499999999995,null,9.5640000000000003E-2,0.13902,0.81294999999999995,null,null,null,null,8.1828949999999998E-2,0.17880480000000001,0.75523790000000002,-0.37759999999999999,0.34279999999999999,0.34949999999999998]
[null,481,3.6679264558993896E-2,7.4431576063368479E-4,null,null,null,null,null,null,null,null,null,null,452,0.83600948509488515,0.91274,6.221E-3,0.50832500000000003,2.124E-3,7.7200000000000001E-4,0.85090299999999996,4.2449999999999996E-3,0.92012099999999997,1.756E-3,7.6999999999999996E-4,null,null,null,null,null,null,null,null,null,null,null,null,null,null,null,null,null,null,null,null,null,null,481,0.14507600000000001,0.1459,0.14519000000000001,0.80459999999999998,0.18418200000000001,0.276501,null,8.8102E-2,0.14507600000000001,0.77359999999999995,null,7.261999999999999E-2,0.26240420000000003,0.73181999999999992,null,8.8102E-2,0.14507600000000001,0.77359999999999995,null,null,null,null,7.3768169999999994E-2,0.18418190000000001,0.71278790000000003,-0.38479999999999998,0.35596,0.33088000000000001]
[null,482,3.7823539596064042E-2,7.6753601749628218E-4,null,null,null,null,null,null,null,null,null,null,453,0.93779369918699818,0.86582899999999996,6.7840000000000001E-3,0.45540399999999998,2.2309999999999999E-3,6.2699999999999995E-4,0.89251599999999998,3.8379999999999998E-3,0.95300600000000002,1.652E-3,5.8E-4,null,null,null,null,null,null,null,null,null,null,null,null,null,null,null,null,null,null,null,null,null,null,482,0.15113200000000002,0.15280000000000002,0.15135999999999999,0.81620000000000004,0.18965599999999999,0.28500399999999998,null,8.0563999999999997E-2,0.15113200000000002,0.73424999999999996,null,6.4732999999999999E-2,0.2712194,0.69151499999999999,null,8.0563999999999997E-2,0.15113200000000002,0.73424999999999996,null,null,null,null,6.619477E-2,0.18965589999999999,0.6725198,-0.39200000000000002,0.36912,0.31225999999999998]
[null,483,3.9766119794097519E-2,8.0695592067797466E-4,null,null,null,null,null,null,null,null,null,null,454,0.94766463414634838,0.76369600000000004,9.6170000000000005E-3,0.37423400000000001,2.6930000000000001E-3,9.9400000000000009E-4,0.95425199999999999,5.0289999999999996E-3,0.99298900000000001,1.0939999999999999E-3,9.2100000000000005E-4,null,null,null,null,null,null,null,null,null,null,null,null,null,null,null,null,null,null,null,null,null,null,483,0.15718799999999999,0.15970000000000001,0.15753,0.82779999999999998,0.19520999999999999,0.29364699999999999,null,7.3026000000000008E-2,0.15718799999999999,0.69489999999999996,null,5.6845999999999994E-2,0.28003460000000002,0.65120999999999996,null,7.3026000000000008E-2,0.15718799999999999,0.69489999999999996,null,null,null,null,5.90638E-2,0.1952101,0.63409760000000004,-0.3992,0.38228000000000001,0.29364000000000001]
[null,484,4.1708937035148344E-2,8.4638063406662959E-4,null,null,null,null,null,null,null,null,null,null,455,0.95753556910569859,0.71306099999999994,1.0859000000000001E-2,0.34414299999999998,2.9719999999999998E-3,1.003E-3,0.96979499999999996,5.1240000000000001E-3,0.99649399999999999,1.0870000000000001E-3,1.193E-3,null,null,null,null,null,null,null,null,null,null,null,null,null,null,null,null,null,null,null,null,null,null,484,0.163244,0.1666,0.16369999999999998,0.83940000000000003,0.200826,0.30233199999999999,null,6.5488000000000005E-2,0.163244,0.65554999999999997,null,4.8958999999999996E-2,0.28884979999999999,0.61090500000000003,null,6.5488000000000005E-2,0.163244,0.65554999999999997,null,null,null,null,5.2342420000000001E-2,0.2008259,0.59724330000000003,-0.40640000000000004,0.39544000000000001,0.27502000000000004]
[null,485,4.5505486612840755E-2,9.2342230108693286E-4,null,null,null,null,null,null,null,null,null,null,456,0.9674065040650488,0.66242599999999996,1.2101000000000001E-2,0.31405300000000003,3.2499999999999999E-3,1.013E-3,0.98533800000000005,5.2180000000000004E-3,1,1.08E-3,6.4999999999999997E-4,null,null,null,null,null,null,null,null,null,null,null,null,null,null,null,null,null,null,null,null,null,null,485,0.16930000000000001,0.17349999999999999,0.16986999999999999,0.85099999999999998,0.206483,0.310944,null,5.7950000000000002E-2,0.16930000000000001,0.61619999999999997,null,4.1071999999999997E-2,0.29766500000000001,0.5706,null,5.7950000000000002E-2,0.16930000000000001,0.61619999999999997,null,null,null,null,4.6008649999999998E-2,0.20648279999999999,0.56173130000000004,-0.41360000000000002,0.40860000000000002,0.25640000000000002]
[null,486,4.8734708325499455E-2,9.889514398036198E-4,null,null,null,null,null,null,null,null,null,null,457,0.97727743902439901,0.61439999999999995,1.3781E-2,0.29054099999999999,3.3159999999999999E-3,7.4899999999999999E-4,1,5.6649999999999999E-3,0.98133899999999996,1.1820000000000001E-3,7.9000000000000001E-4,null,null,null,null,null,null,null,null,null,null,null,null,null,null,null,null,null,null,null,null,null,null,486,0.17704400000000001,0.1804,0.17749999999999999,0.86160000000000003,0.21218300000000001,0.31941000000000003,null,5.2762000000000003E-2,0.17704400000000001,0.58599599999999996,null,3.6091999999999999E-2,0.30595860000000002,0.53953079999999998,null,5.2762000000000003E-2,0.17704400000000001,0.58599599999999996,null,null,null,null,4.006154E-2,0.2121826,0.52749210000000002,-0.41722000000000004,0.42120000000000002,0.24150000000000002]
[null,487,5.1945539522359356E-2,1.0541073880836989E-3,null,null,null,null,null,null,null,null,null,null,458,0.98714837398374922,0.56637300000000002,1.5461000000000001E-2,0.26702900000000002,3.1849999999999999E-3,4.8500000000000003E-4,0.97067599999999998,6.1130000000000004E-3,0.96267899999999995,1.2830000000000001E-3,9.3099999999999997E-4,null,null,null,null,null,null,null,null,null,null,null,null,null,null,null,null,null,null,null,null,null,null,487,0.18478800000000001,0.18729999999999999,0.18512999999999999,0.87219999999999998,0.218028,0.32786799999999999,null,4.7573999999999998E-2,0.18478800000000001,0.55579199999999995,null,3.1111999999999997E-2,0.31425220000000004,0.50846159999999996,null,4.7573999999999998E-2,0.18478800000000001,0.55579199999999995,null,null,null,null,3.4543730000000002E-2,0.2180279,0.49488090000000001,-0.42083999999999999,0.43380000000000002,0.22660000000000002]
[null,488,5.5194714519420443E-2,1.120041429794916E-3,null,null,null,null,null,null,null,null,null,null,459,0.9944891598915846,0.52348799999999995,1.7652999999999999E-2,0.24693999999999999,3.3709999999999999E-3,6.1300000000000005E-4,0.93937599999999999,6.7879999999999998E-3,0.92334899999999998,1.488E-3,9.4499999999999998E-4,null,null,null,null,null,null,null,null,null,null,null,null,null,null,null,null,null,null,null,null,null,null,488,0.19253200000000001,0.19419999999999998,0.19276000000000001,0.88280000000000003,0.224159,0.33652599999999999,null,4.2386E-2,0.19253200000000001,0.52558799999999994,null,2.6131999999999999E-2,0.32254579999999999,0.47739239999999999,null,4.2386E-2,0.19253200000000001,0.52558799999999994,null,null,null,null,2.9490909999999999E-2,0.22415860000000001,0.46425860000000002,-0.42446,0.44640000000000002,0.2117]
[null,489,{"$f":"SUMPRODUCT($P$37:$AD$37,P171:AD171)","v":5.8443252108122047E-2},{"$f":"C142/$C$12","v":1.1859625368659864E-3},null,null,null,null,null,null,null,null,null,null,460,0.9813279132791195,0.48060199999999997,1.9845999999999999E-2,0.226851,3.5569999999999998E-3,7.3999999999999999E-4,0.90807499999999997,7.463E-3,0.88401799999999997,1.6919999999999999E-3,9.59E-4,null,null,null,null,null,null,null,null,null,null,null,null,null,null,null,null,null,null,null,null,null,null,489,0.20027600000000001,0.2011,0.20039000000000001,0.89339999999999997,0.23072999999999999,0.34561799999999998,null,3.7197999999999995E-2,0.20027600000000001,0.49538399999999999,null,2.1151999999999997E-2,0.33083940000000001,0.44632320000000003,null,3.7197999999999995E-2,0.20027600000000001,0.49538399999999999,null,null,null,null,2.49214E-2,0.2307302,0.4358841,-0.42807999999999996,0.45900000000000002,0.1968]
[null,490,6.2570935692986759E-2,1.2697237568376233E-3,null,null,null,null,null,null,null,null,null,null,461,0.96816666666665441,0.447237,2.3234000000000001E-2,0.21045800000000001,3.7699999999999999E-3,9.1500000000000001E-4,0.86486399999999997,8.1300000000000001E-3,0.83830899999999997,1.8519999999999999E-3,9.2400000000000002E-4,null,null,null,null,null,null,null,null,null,null,null,null,null,null,null,null,null,null,null,null,null,null,490,0.20802000000000001,0.20799999999999999,0.20802000000000001,0.90400000000000003,0.23791599999999999,0.355402,null,3.2009999999999997E-2,0.20802000000000001,0.46517999999999998,null,1.6171999999999999E-2,0.33913300000000002,0.41525400000000001,null,3.2009999999999997E-2,0.20802000000000001,0.46517999999999998,null,null,null,null,2.083981E-2,0.23791599999999999,0.4099313,-0.43169999999999997,0.47160000000000002,0.18190000000000001]
[null,491,6.669892932700737E-2,1.3534912684968411E-3,null,null,null,null,null,null,null,null,null,null,462,0.95500542005418942,0.41387099999999999,2.6623000000000001E-2,0.19406499999999999,3.9830000000000004E-3,1.0889999999999999E-3,0.82165299999999997,8.7980000000000003E-3,0.79259900000000005,1.5330000000000001E-3,8.8800000000000001E-4,null,null,null,null,null,null,null,null,null,null,null,null,null,null,null,null,null,null,null,null,null,null,491,0.218136,0.2195,0.218032,0.91300000000000003,0.24587100000000001,0.366089,null,2.8547999999999997E-2,0.218136,0.44280399999999998,null,1.3963999999999999E-2,0.35038220000000003,0.39267440000000003,null,2.8547999999999997E-2,0.218136,0.44280399999999998,null,null,null,null,1.723591E-2,0.24587059999999999,0.38642609999999999,-0.43439999999999995,0.48710000000000003,0.17166000000000001]
[null,492,7.1531980699825387E-2,1.4515661986240496E-3,null,null,null,null,null,null,null,null,null,null,463,0.94184417344172433,0.38230700000000001,3.0228999999999999E-2,0.178846,4.2690000000000002E-3,1.214E-3,0.76295000000000002,9.4809999999999998E-3,0.73838499999999996,1.732E-3,9.4899999999999997E-4,null,null,null,null,null,null,null,null,null,null,null,null,null,null,null,null,null,null,null,null,null,null,492,0.22825200000000001,0.23099999999999998,0.228044,0.92200000000000004,0.25460199999999999,0.37758599999999998,null,2.5085999999999997E-2,0.22825200000000001,0.42042799999999997,null,1.1755999999999999E-2,0.36163139999999999,0.3700948,null,2.5085999999999997E-2,0.22825200000000001,0.42042799999999997,null,null,null,null,1.407924E-2,0.2546023,0.36505660000000001,-0.43709999999999999,0.50260000000000005,0.16142000000000001]
[null,493,7.6365089936904801E-2,1.5496423029645976E-3,null,null,null,null,null,null,null,null,null,null,464,0.92868292682925935,0.350742,3.3834000000000003E-2,0.163628,4.5539999999999999E-3,1.34E-3,0.70424600000000004,1.0163E-2,0.68417099999999997,1.9319999999999999E-3,1.0089999999999999E-3,null,null,null,null,null,null,null,null,null,null,null,null,null,null,null,null,null,null,null,null,null,null,493,0.238368,0.24249999999999999,0.23805599999999999,0.93099999999999994,0.26407599999999998,0.38969599999999999,null,2.1623999999999997E-2,0.238368,0.39805200000000002,null,9.5479999999999992E-3,0.37288060000000001,0.34751520000000002,null,2.1623999999999997E-2,0.238368,0.39805200000000002,null,null,null,null,1.134516E-2,0.26407599999999998,0.34548119999999999,-0.43979999999999997,0.5181,0.15118000000000001]
[null,494,8.5999189309277968E-2,1.7451427332100052E-3,null,null,null,null,null,null,null,null,null,null,465,0.91552168021679425,0.30383599999999999,4.4123000000000002E-2,0.13989599999999999,5.2729999999999999E-3,5.9000000000000003E-4,0.60069600000000001,1.2355E-2,0.59983799999999998,1.7459999999999999E-3,7.6099999999999996E-4,null,null,null,null,null,null,null,null,null,null,null,null,null,null,null,null,null,null,null,null,null,null,494,0.24848400000000001,0.254,0.24806799999999998,0.94,0.27424900000000002,0.40219500000000002,null,1.8161999999999998E-2,0.24848400000000001,0.37567600000000001,null,7.3400000000000002E-3,0.38412979999999997,0.32493559999999999,null,1.8161999999999998E-2,0.24848400000000001,0.37567600000000001,null,null,null,null,9.0196579999999998E-3,0.27424900000000002,0.32740950000000002,-0.4425,0.53360000000000007,0.14094000000000001]
[null,495,9.1699334244662048E-2,1.8608132016426206E-3,null,null,null,null,null,null,null,null,null,null,466,0.89300587172536305,0.28198899999999999,5.0562999999999997E-2,0.12973100000000001,6.1339999999999997E-3,6.4199999999999999E-4,0.55114700000000005,1.3658E-2,0.56276499999999996,1.5410000000000001E-3,8.1300000000000003E-4,null,null,null,null,null,null,null,null,null,null,null,null,null,null,null,null,null,null,null,null,null,null,495,0.2586,0.26550000000000001,0.25807999999999998,0.94899999999999995,0.28506799999999999,0.414823,null,1.47E-2,0.2586,0.3533,null,5.1320000000000003E-3,0.39537899999999998,0.30235600000000001,null,1.47E-2,0.2586,0.3533,null,null,null,null,7.0977310000000004E-3,0.28506799999999999,0.31059389999999998,-0.44519999999999998,0.54910000000000003,0.13070000000000001]
[null,496,9.7400115741814425E-2,1.9764965875358901E-3,null,null,null,null,null,null,null,null,null,null,467,0.85013211382112175,0.26014100000000001,5.7002999999999998E-2,0.11956600000000001,6.9950000000000003E-3,6.9399999999999996E-4,0.50159699999999996,1.4961E-2,0.52569100000000002,1.3370000000000001E-3,8.6499999999999999E-4,null,null,null,null,null,null,null,null,null,null,null,null,null,null,null,null,null,null,null,null,null,null,496,0.27148,0.27700000000000002,0.27106399999999997,0.9556,0.29648400000000003,0.42735400000000001,null,1.274E-2,0.27148,0.33704000000000001,null,4.8688000000000004E-3,0.40845860000000001,0.28558519999999998,null,1.274E-2,0.27148,0.33704000000000001,null,null,null,null,5.5711449999999996E-3,0.29648370000000002,0.29481020000000002,-0.44316,0.56447999999999998,0.12276000000000001]
[null,497,0.10390387326713386,2.1084744035482395E-3,null,null,null,null,null,null,null,null,null,null,468,0.80846375338752197,0.24224799999999999,6.5098000000000003E-2,0.11226999999999999,7.7790000000000003E-3,5.6899999999999995E-4,0.46132600000000001,1.6747999999999999E-2,0.498224,1.3760000000000001E-3,8.1300000000000003E-4,null,null,null,null,null,null,null,null,null,null,null,null,null,null,null,null,null,null,null,null,null,null,497,0.28436,0.28849999999999998,0.28404799999999997,0.96219999999999994,0.30850100000000003,0.43982100000000002,null,1.078E-2,0.28436,0.32078000000000001,null,4.6056000000000005E-3,0.42153819999999997,0.26881440000000001,null,1.078E-2,0.28436,0.32078000000000001,null,null,null,null,4.3945659999999999E-3,0.30850100000000003,0.2798194,-0.44112000000000001,0.57986000000000004,0.11482000000000001]
[null,498,0.11040752353399717,2.2404500430131496E-3,null,null,null,null,null,null,null,null,null,null,469,0.76995215108399939,0.224355,7.3193999999999995E-2,0.104974,8.5620000000000002E-3,4.4499999999999997E-4,0.42105599999999999,1.8533999999999998E-2,0.47075600000000001,1.4139999999999999E-3,7.6199999999999998E-4,null,null,null,null,null,null,null,null,null,null,null,null,null,null,null,null,null,null,null,null,null,null,498,0.29724,0.3,0.29703200000000002,0.96879999999999999,0.32113900000000001,0.45233600000000002,null,8.8199999999999997E-3,0.29724,0.30452000000000001,null,4.3423999999999997E-3,0.4346178,0.25204360000000003,null,8.8199999999999997E-3,0.29724,0.30452000000000001,null,null,null,null,3.5163030000000001E-3,0.32113930000000002,0.26540999999999998,-0.43907999999999997,0.59523999999999999,0.10688]
[null,499,0.11755561619221831,2.3855030610589905E-3,null,null,null,null,null,null,null,null,null,null,470,0.73144054878047682,0.20854900000000001,8.3089999999999997E-2,9.8531999999999995E-2,9.2999999999999992E-3,5.9299999999999999E-4,0.38506899999999999,2.0549000000000001E-2,0.44509100000000001,1.4270000000000001E-3,8.5800000000000004E-4,null,null,null,null,null,null,null,null,null,null,null,null,null,null,null,null,null,null,null,null,null,null,499,0.31012000000000001,0.3115,0.31001600000000001,0.97539999999999993,0.33441799999999999,0.46503,null,6.8599999999999998E-3,0.31012000000000001,0.28826000000000002,null,4.0791999999999998E-3,0.44769739999999997,0.2352728,null,6.8599999999999998E-3,0.31012000000000001,0.28826000000000002,null,null,null,null,2.8876380000000001E-3,0.33441749999999998,0.25140839999999998,-0.43703999999999998,0.61062000000000005,9.894E-2]
[null,500,0.1247042737955797,2.5305675432815769E-3,null,null,null,null,null,null,null,null,null,null,471,0.6945990006774968,0.192743,9.2985999999999999E-2,9.2091000000000006E-2,1.0037000000000001E-2,7.4100000000000001E-4,0.349082,2.2565000000000002E-2,0.41942699999999999,1.4400000000000001E-3,9.5299999999999996E-4,null,null,null,null,null,null,null,null,null,null,null,null,null,null,null,null,null,null,null,null,null,null,500,0.32300000000000001,0.32300000000000001,0.32300000000000001,0.98199999999999998,0.348354,0.47804799999999997,null,4.8999999999999998E-3,0.32300000000000001,0.27200000000000002,null,3.8159999999999999E-3,0.46077699999999999,0.218502,null,4.8999999999999998E-3,0.32300000000000001,0.27200000000000002,null,null,null,null,2.4615879999999998E-3,0.34835359999999999,0.23767530000000001,-0.435,0.626,9.0999999999999998E-2]
[null,501,0.13252870862874472,2.6893452678188015E-3,null,null,null,null,null,null,null,null,null,null,472,0.65907859078589781,0.18226999999999999,0.106889,8.9046E-2,1.1199000000000001E-2,8.6899999999999998E-4,0.32381799999999999,2.5198999999999999E-2,0.40284900000000001,1.683E-3,1.0300000000000001E-3,null,null,null,null,null,null,null,null,null,null,null,null,null,null,null,null,null,null,null,null,null,null,501,0.33986,0.34100000000000003,0.33948,0.98519999999999996,0.36296,0.49151699999999998,null,4.3999999999999994E-3,0.33986,0.26006000000000001,null,6.1415999999999997E-3,0.47489360000000003,0.20665140000000001,null,4.3999999999999994E-3,0.33986,0.26006000000000001,null,null,null,null,2.2063479999999999E-3,0.36296010000000001,0.22412109999999999,-0.43080000000000002,0.64273999999999998,8.4400000000000003E-2]
[null,502,0.13991465568749895,2.8392249578598817E-3,null,null,null,null,null,null,null,null,null,null,473,0.62355818089429893,0.17179800000000001,0.120793,8.6001999999999995E-2,1.2359999999999999E-2,6.1200000000000002E-4,0.29855399999999999,2.7834000000000001E-2,0.38627099999999998,1.9269999999999999E-3,1.106E-3,null,null,null,null,null,null,null,null,null,null,null,null,null,null,null,null,null,null,null,null,null,null,502,0.35671999999999998,0.35899999999999999,0.35596,0.98839999999999995,0.37822800000000001,0.50542200000000004,null,3.8999999999999998E-3,0.35671999999999998,0.24812000000000001,null,8.4671999999999994E-3,0.48901020000000001,0.1948008,null,3.8999999999999998E-3,0.35671999999999998,0.24812000000000001,null,null,null,null,2.1495590000000001E-3,0.37822749999999999,0.2107484,-0.42659999999999998,0.65947999999999996,7.7799999999999994E-2]
[null,503,0.14837262255022129,3.0108586619303746E-3,null,null,null,null,null,null,null,null,null,null,474,0.59746358401083344,0.15312400000000001,0.15287400000000001,7.8785999999999995E-2,1.5292E-2,9.68E-4,0.24785399999999999,3.3647000000000003E-2,0.34499999999999997,1.7329999999999999E-3,6.4899999999999995E-4,null,null,null,null,null,null,null,null,null,null,null,null,null,null,null,null,null,null,null,null,null,null,503,0.37358000000000002,0.377,0.37243999999999999,0.99160000000000004,0.39413599999999999,0.519706,null,3.3999999999999998E-3,0.37358000000000002,0.23618,null,1.07928E-2,0.50312679999999999,0.18295020000000001,null,3.3999999999999998E-3,0.37358000000000002,0.23618,null,null,null,null,2.3370909999999999E-3,0.39413589999999998,0.19758390000000001,-0.4224,0.67622000000000004,7.1199999999999999E-2]
[null,504,0.15683104401544379,3.18250159104422E-3,null,null,null,null,null,null,null,null,null,null,475,0.57316014566395035,0.147729,0.17360700000000001,7.6837000000000003E-2,1.6952999999999999E-2,1.018E-3,0.227937,3.7534999999999999E-2,0.32889800000000002,1.554E-3,5.44E-4,null,null,null,null,null,null,null,null,null,null,null,null,null,null,null,null,null,null,null,null,null,null,504,0.39044000000000001,0.39500000000000002,0.38891999999999999,0.99480000000000002,0.41065800000000002,0.53430100000000003,null,2.8999999999999998E-3,0.39044000000000001,0.22423999999999999,null,1.3118399999999999E-2,0.51724340000000002,0.17109959999999999,null,2.8999999999999998E-3,0.39044000000000001,0.22423999999999999,null,null,null,null,2.8189310000000002E-3,0.41065819999999997,0.1846574,-0.41819999999999996,0.69296000000000002,6.4600000000000005E-2]
[null,505,0.17272538491644884,3.505038277091318E-3,null,null,null,null,null,null,null,null,null,null,476,0.54749999999999188,0.14233299999999999,0.19434000000000001,7.4886999999999995E-2,1.8615E-2,9.1799999999999998E-4,0.20802100000000001,4.1424000000000002E-2,0.31279600000000002,1.3749999999999999E-3,4.4000000000000002E-4,null,null,null,null,null,null,null,null,null,null,null,null,null,null,null,null,null,null,null,null,null,null,505,0.4073,0.41300000000000003,0.40539999999999998,0.998,0.42775999999999997,0.54913400000000001,null,2.3999999999999998E-3,0.4073,0.21229999999999999,null,1.5443999999999999E-2,0.53136000000000005,0.159249,null,2.3999999999999998E-3,0.4073,0.21229999999999999,null,null,null,null,3.6491779999999999E-3,0.42775950000000001,0.17200180000000001,-0.41399999999999998,0.7097,5.8000000000000003E-2]
[null,506,0.1821162012343793,3.6956018741179032E-3,null,null,null,null,null,null,null,null,null,null,477,0.51210422312556081,0.137796,0.21723600000000001,7.3317999999999994E-2,2.1107000000000001E-2,9.7499999999999996E-4,0.189167,4.5726000000000003E-2,0.29615599999999997,1.3680000000000001E-3,6.6100000000000002E-4,null,null,null,null,null,null,null,null,null,null,null,null,null,null,null,null,null,null,null,null,null,null,506,0.42643999999999999,0.43099999999999999,0.42491999999999996,0.99780000000000002,0.44539899999999999,0.56413000000000002,null,3.7799999999999995E-3,0.42643999999999999,0.20147999999999999,null,1.98482E-2,0.54643620000000004,0.149808,null,3.7799999999999995E-3,0.42643999999999999,0.20147999999999999,null,null,null,null,4.8913589999999996E-3,0.4453993,0.15969179999999999,-0.40465999999999996,0.72645999999999999,5.3540000000000004E-2]
[null,507,0.19133612719958132,3.8826976703473532E-3,null,null,null,null,null,null,null,null,null,null,478,0.47766937669376619,0.13325799999999999,0.24013300000000001,7.1748000000000006E-2,2.3598000000000001E-2,1.0319999999999999E-3,0.17031399999999999,5.0027000000000002E-2,0.27951599999999999,1.361E-3,8.8099999999999995E-4,null,null,null,null,null,null,null,null,null,null,null,null,null,null,null,null,null,null,null,null,null,null,507,0.44557999999999998,0.44900000000000001,0.44444,0.99760000000000004,0.46354000000000001,0.57924200000000003,null,5.1599999999999997E-3,0.44557999999999998,0.19066,null,2.42524E-2,0.56151240000000002,0.14036699999999999,null,5.1599999999999997E-3,0.44557999999999998,0.19066,null,null,null,null,6.6293639999999996E-3,0.4635396,0.1479415,-0.39532,0.74321999999999999,4.9079999999999999E-2]
[null,508,0.20035167239801238,4.0656460599232877E-3,null,null,null,null,null,null,null,null,null,null,479,0.45373983739836443,0.132081,0.27027499999999999,7.1697999999999998E-2,2.6641000000000001E-2,8.6799999999999996E-4,0.15625900000000001,5.5878999999999998E-2,0.26938800000000002,1.292E-3,9.3300000000000002E-4,null,null,null,null,null,null,null,null,null,null,null,null,null,null,null,null,null,null,null,null,null,null,508,0.46472000000000002,0.46700000000000003,0.46395999999999998,0.99739999999999995,0.48213800000000001,0.59442600000000001,null,6.5399999999999998E-3,0.46472000000000002,0.17984,null,2.8656599999999997E-2,0.57658860000000001,0.13092600000000001,null,6.5399999999999998E-3,0.46472000000000002,0.17984,null,null,null,null,8.9429020000000008E-3,0.4821376,0.1369428,-0.38597999999999999,0.75997999999999999,4.462E-2]
[null,509,0.20936754719323977,4.2486011378582477E-3,null,null,null,null,null,null,null,null,null,null,480,0.42981029810296262,0.13090299999999999,0.30041699999999999,7.1647000000000002E-2,2.9683999999999999E-2,7.0299999999999996E-4,0.142205,6.173E-2,0.25925999999999999,1.224E-3,9.8400000000000007E-4,null,null,null,null,null,null,null,null,null,null,null,null,null,null,null,null,null,null,null,null,null,null,509,0.48386000000000001,0.48499999999999999,0.48348000000000002,0.99719999999999998,0.50114300000000001,0.60963900000000004,null,7.92E-3,0.48386000000000001,0.16902,null,3.3060800000000001E-2,0.59166479999999999,0.12148500000000001,null,7.92E-3,0.48386000000000001,0.16902,null,null,null,null,1.190224E-2,0.50114300000000001,0.12682789999999999,-0.37664000000000003,0.77673999999999999,4.0160000000000001E-2]
[null,510,0.219145209987683,4.4470148358308585E-3,null,null,null,null,null,null,null,null,null,null,481,0.40861619241190833,0.12958600000000001,0.332538,7.1877999999999997E-2,3.3217000000000003E-2,5.3600000000000002E-4,0.128964,6.8289000000000002E-2,0.24967700000000001,1.132E-3,9.9599999999999992E-4,null,null,null,null,null,null,null,null,null,null,null,null,null,null,null,null,null,null,null,null,null,null,510,0.503,0.503,0.503,0.997,0.52049699999999999,0.62483,null,9.2999999999999992E-3,0.503,0.15820000000000001,null,3.7464999999999998E-2,0.60674099999999997,0.112044,null,9.2999999999999992E-3,0.503,0.15820000000000001,null,null,null,null,1.5569889999999999E-2,0.52049719999999999,0.1176796,-0.36730000000000002,0.79349999999999998,3.5700000000000003E-2]
[null,511,0.22892329269510883,4.6454370549080986E-3,null,null,null,null,null,null,null,null,null,null,482,0.39216463414632791,0.12826899999999999,0.36465900000000001,7.2109000000000006E-2,3.6749999999999998E-2,3.68E-4,0.11572399999999999,7.4848999999999999E-2,0.240093,1.039E-3,1.008E-3,null,null,null,null,null,null,null,null,null,null,null,null,null,null,null,null,null,null,null,null,null,null,511,0.52403999999999995,0.52370000000000005,0.52402199999999999,0.99260000000000004,0.54013900000000004,0.63996600000000003,null,1.3259999999999999E-2,0.52403999999999995,0.1489,null,4.4243600000000001E-2,0.62252479999999999,0.10608480000000001,null,1.3259999999999999E-2,0.52403999999999995,0.1489,null,null,null,null,1.997668E-2,0.54013869999999997,0.109497,-0.35074,0.80910000000000004,3.2560000000000006E-2]
[null,512,0.23661322008264282,4.8014852805606132E-3,null,null,null,null,null,null,null,null,null,null,483,0.37571307588074748,0.12842600000000001,0.40118599999999999,7.3637999999999995E-2,4.1172E-2,5.13E-4,0.105351,8.2758999999999999E-2,0.23388400000000001,1.2130000000000001E-3,8.4900000000000004E-4,null,null,null,null,null,null,null,null,null,null,null,null,null,null,null,null,null,null,null,null,null,null,512,0.54508000000000001,0.5444,0.54504399999999997,0.98819999999999997,0.56002099999999999,0.65509399999999995,null,1.7219999999999999E-2,0.54508000000000001,0.1396,null,5.1022200000000004E-2,0.6383086,0.10012560000000001,null,1.7219999999999999E-2,0.54508000000000001,0.1396,null,null,null,null,2.504698E-2,0.56002079999999999,0.1020943,-0.33417999999999998,0.82469999999999999,2.9420000000000002E-2]
[null,513,0.24430276793626643,4.9575258045027855E-3,null,null,null,null,null,null,null,null,null,null,484,0.35926151761516711,0.128583,0.43771199999999999,7.5165999999999997E-2,4.5594999999999997E-2,6.5899999999999997E-4,9.4978000000000007E-2,9.0670000000000001E-2,0.22767499999999999,1.3860000000000001E-3,6.8999999999999997E-4,null,null,null,null,null,null,null,null,null,null,null,null,null,null,null,null,null,null,null,null,null,null,513,0.56611999999999996,0.56509999999999994,0.56606600000000007,0.98380000000000001,0.58009699999999997,0.67029000000000005,null,2.1180000000000001E-2,0.56611999999999996,0.1303,null,5.7800799999999999E-2,0.65409240000000002,9.4166399999999997E-2,null,2.1180000000000001E-2,0.56611999999999996,0.1303,null,null,null,null,3.0675299999999999E-2,0.58009719999999998,9.5279929999999999E-2,-0.31762000000000001,0.84030000000000005,2.6280000000000001E-2]
[null,514,0.26143792042877267,5.3052417201401034E-3,null,null,null,null,null,null,null,null,null,null,485,0.34309789972898974,0.12718499999999999,0.50677700000000003,7.8522999999999996E-2,5.5106000000000002E-2,5.9500000000000004E-4,7.7037999999999995E-2,0.10682899999999999,0.21592600000000001,1.66E-3,6.5300000000000004E-4,null,null,null,null,null,null,null,null,null,null,null,null,null,null,null,null,null,null,null,null,null,null,514,0.58716000000000002,0.58579999999999999,0.58708800000000005,0.97939999999999994,0.60031699999999999,0.68563799999999997,null,2.5139999999999999E-2,0.58716000000000002,0.121,null,6.4579400000000009E-2,0.66987620000000003,8.8207199999999999E-2,null,2.5139999999999999E-2,0.58716000000000002,0.121,null,null,null,null,3.6749990000000003E-2,0.6003172,8.8900750000000001E-2,-0.30105999999999999,0.85589999999999999,2.3140000000000001E-2]
[null,515,0.26764764519317691,5.4312528620458923E-3,null,null,null,null,null,null,null,null,null,null,486,0.3276434056007132,0.129105,0.55008500000000005,8.2369999999999999E-2,6.2302999999999997E-2,6.8199999999999999E-4,7.0899000000000004E-2,0.118419,0.215693,1.7440000000000001E-3,5.6700000000000001E-4,null,null,null,null,null,null,null,null,null,null,null,null,null,null,null,null,null,null,null,null,null,null,515,0.60819999999999996,0.60650000000000004,0.60811000000000004,0.97499999999999998,0.62062600000000001,0.70122899999999999,null,2.9100000000000001E-2,0.60819999999999996,0.11169999999999999,null,7.1358000000000005E-2,0.68566000000000005,8.2248000000000002E-2,null,2.9100000000000001E-2,0.60819999999999996,0.11169999999999999,null,null,null,null,4.3151710000000003E-2,0.6206256,8.2835480000000003E-2,-0.28449999999999998,0.87150000000000005,0.02]
[null,516,0.27385665991617719,5.5572495954019458E-3,null,null,null,null,null,null,null,null,null,null,487,0.31218891147243671,0.131025,0.59339399999999998,8.6218000000000003E-2,6.9500000000000006E-2,7.6800000000000002E-4,6.4760999999999999E-2,0.13000900000000001,0.21546000000000001,1.5759999999999999E-3,4.8099999999999998E-4,null,null,null,null,null,null,null,null,null,null,null,null,null,null,null,null,null,null,null,null,null,null,516,0.62856000000000001,0.62719999999999998,0.62848800000000005,0.96699999999999997,0.64093999999999995,0.71711000000000003,null,3.5934000000000001E-2,0.62856000000000001,0.10500999999999999,null,8.0636200000000005E-2,0.70087940000000004,7.7940200000000001E-2,null,3.5934000000000001E-2,0.62856000000000001,0.10500999999999999,null,null,null,null,4.9785839999999998E-2,0.64093979999999995,7.7009820000000007E-2,-0.26469999999999999,0.88674000000000008,1.7899999999999999E-2]
[null,517,0.28123504222559287,5.7069757773990232E-3,null,null,null,null,null,null,null,null,null,null,488,0.29673441734416017,0.13186,0.632768,9.0325000000000003E-2,7.7336000000000002E-2,7.7499999999999997E-4,5.9393000000000001E-2,0.142646,0.215533,1.372E-3,5.5500000000000005E-4,null,null,null,null,null,null,null,null,null,null,null,null,null,null,null,null,null,null,null,null,null,null,517,0.64891999999999994,0.64789999999999992,0.64886600000000005,0.95899999999999996,0.66107700000000003,0.73309199999999997,null,4.2768E-2,0.64891999999999994,9.8319999999999991E-2,null,8.9914400000000005E-2,0.71609880000000004,7.3632400000000001E-2,null,4.2768E-2,0.64891999999999994,9.8319999999999991E-2,null,null,null,null,5.668554E-2,0.66107720000000003,7.1440009999999998E-2,-0.24489999999999998,0.90198,1.5800000000000002E-2]
[null,518,0.28861289421527997,5.8566911978572061E-3,null,null,null,null,null,null,null,null,null,null,489,0.28360264227641829,0.13269400000000001,0.67214200000000002,9.4432000000000002E-2,8.5170999999999997E-2,7.8100000000000001E-4,5.4024999999999997E-2,0.155282,0.21560599999999999,1.168E-3,6.2799999999999998E-4,null,null,null,null,null,null,null,null,null,null,null,null,null,null,null,null,null,null,null,null,null,null,518,0.66927999999999999,0.66859999999999997,0.66924399999999995,0.95100000000000007,0.680813,0.74890400000000001,null,4.9602000000000007E-2,0.66927999999999999,9.1630000000000003E-2,null,9.9192600000000006E-2,0.73131820000000003,6.93246E-2,null,4.9602000000000007E-2,0.66927999999999999,9.1630000000000003E-2,null,null,null,null,6.3916509999999996E-2,0.68081340000000001,6.6154359999999995E-2,-0.22509999999999999,0.91722000000000004,1.37E-2]
[null,519,0.29241882026530974,5.9339231373986123E-3,null,null,null,null,null,null,null,null,null,null,490,0.27911585365853214,0.13481000000000001,0.71283799999999997,9.9954000000000001E-2,9.5372999999999999E-2,7.5299999999999998E-4,4.9896000000000003E-2,0.17116300000000001,0.21778800000000001,1.1119999999999999E-3,5.8100000000000003E-4,null,null,null,null,null,null,null,null,null,null,null,null,null,null,null,null,null,null,null,null,null,null,519,0.68963999999999992,0.68930000000000002,0.68962199999999996,0.94300000000000006,0.69990399999999997,0.76425299999999996,null,5.6436000000000007E-2,0.68963999999999992,8.4940000000000002E-2,null,0.10847080000000001,0.74653760000000002,6.50168E-2,null,5.6436000000000007E-2,0.68963999999999992,8.4940000000000002E-2,null,null,null,null,7.1543519999999999E-2,0.69990439999999998,6.1171990000000002E-2,-0.20529999999999998,0.93245999999999996,1.1599999999999999E-2]
[null,520,0.29622391217892902,6.0111381501863253E-3,null,null,null,null,null,null,null,null,null,null,491,0.27462906504064599,0.13692699999999999,0.75353400000000004,0.105477,0.105575,7.2499999999999995E-4,4.5766000000000001E-2,0.18704299999999999,0.21997,1.0560000000000001E-3,5.3300000000000005E-4,null,null,null,null,null,null,null,null,null,null,null,null,null,null,null,null,null,null,null,null,null,null,520,0.71,0.71,0.71,0.93500000000000005,0.71808899999999998,0.77881999999999996,null,6.3270000000000007E-2,0.71,7.825E-2,null,0.11774900000000001,0.76175700000000002,6.0708999999999999E-2,null,6.3270000000000007E-2,0.71,7.825E-2,null,null,null,null,7.9629169999999999E-2,0.71808899999999998,5.6504070000000003E-2,-0.1855,0.94769999999999999,9.4999999999999998E-3]
[null,521,0.30384364130446112,6.1657618741917837E-3,null,null,null,null,null,null,null,null,null,null,492,0.27014227642275984,0.13924300000000001,0.79235100000000003,0.112286,0.117932,6.5200000000000002E-4,4.2021999999999997E-2,0.205868,0.22382199999999999,1.173E-3,6.7599999999999995E-4,null,null,null,null,null,null,null,null,null,null,null,null,null,null,null,null,null,null,null,null,null,null,521,0.72663999999999995,0.72519999999999996,0.72702,0.92400000000000004,0.73515900000000001,0.79234099999999996,null,7.2536000000000003E-2,0.72663999999999995,7.4050000000000005E-2,null,0.12878980000000001,0.77407159999999997,5.7177199999999997E-2,null,7.2536000000000003E-2,0.72663999999999995,7.4050000000000005E-2,null,null,null,null,8.8214730000000005E-2,0.73515929999999996,5.2151210000000003E-2,-0.15709999999999999,0.95706000000000002,7.7399999999999995E-3]
[null,522,0.30624681671320009,6.2145284280962325E-3,null,null,null,null,null,null,null,null,null,null,493,0.26565548780487369,0.14155999999999999,0.83116800000000002,0.11909599999999999,0.13028799999999999,5.7899999999999998E-4,3.8278E-2,0.224693,0.22767399999999999,1.289E-3,8.1800000000000004E-4,null,null,null,null,null,null,null,null,null,null,null,null,null,null,null,null,null,null,null,null,null,null,522,0.74327999999999994,0.74039999999999995,0.74404000000000003,0.91300000000000003,0.75118200000000002,0.80485099999999998,null,8.1802E-2,0.74327999999999994,6.9849999999999995E-2,null,0.1398306,0.78638620000000004,5.3645399999999996E-2,null,8.1802E-2,0.74327999999999994,6.9849999999999995E-2,null,null,null,null,9.726978E-2,0.75118209999999996,4.8095659999999998E-2,-0.12869999999999998,0.96642000000000006,5.9799999999999992E-3]
[null,523,0.30452944565214274,6.1796785922838141E-3,null,null,null,null,null,null,null,null,null,null,494,0.26116869918698754,0.14412900000000001,0.88720900000000003,0.13274900000000001,0.157633,3.5100000000000002E-4,3.1754999999999999E-2,0.26515699999999998,0.23513800000000001,1.2949999999999999E-3,9.4300000000000004E-4,null,null,null,null,null,null,null,null,null,null,null,null,null,null,null,null,null,null,null,null,null,null,523,0.75992000000000004,0.75559999999999994,0.76105999999999996,0.90200000000000002,0.76631400000000005,0.81647499999999995,null,9.106800000000001E-2,0.75992000000000004,6.565E-2,null,0.15087139999999999,0.79870079999999999,5.0113600000000001E-2,null,9.106800000000001E-2,0.75992000000000004,6.565E-2,null,null,null,null,0.1067504,0.7663143,4.4317200000000001E-2,-0.1003,0.97577999999999998,4.2199999999999998E-3]
[null,524,0.30538780495354462,6.197096890169596E-3,null,null,null,null,null,null,null,null,null,null,495,0.25668191056910139,0.14574300000000001,0.91156899999999996,0.140684,0.17424899999999999,4.7399999999999997E-4,2.8979999999999999E-2,0.28898200000000002,0.240699,1.3760000000000001E-3,8.4999999999999995E-4,null,null,null,null,null,null,null,null,null,null,null,null,null,null,null,null,null,null,null,null,null,null,524,0.77656000000000003,0.77079999999999993,0.77807999999999999,0.89100000000000001,0.78073499999999996,0.82735199999999998,null,0.10033400000000001,0.77656000000000003,6.1450000000000005E-2,null,0.16191220000000001,0.81101540000000005,4.65818E-2,null,0.10033400000000001,0.77656000000000003,6.1450000000000005E-2,null,null,null,null,0.11661920000000001,0.78073519999999996,4.0797340000000001E-2,-7.1899999999999992E-2,0.98514000000000002,2.4599999999999995E-3]
[null,525,0.30624640184088314,6.2145200092795557E-3,null,null,null,null,null,null,null,null,null,null,496,0.25219512195121524,0.14735599999999999,0.93592799999999998,0.14862,0.19086500000000001,5.9800000000000001E-4,2.6204999999999999E-2,0.31280599999999997,0.24625900000000001,1.457E-3,7.5799999999999999E-4,null,null,null,null,null,null,null,null,null,null,null,null,null,null,null,null,null,null,null,null,null,null,525,0.79320000000000002,0.78600000000000003,0.79510000000000003,0.88,0.79464500000000005,0.83763600000000005,null,0.1096,0.79320000000000002,5.7250000000000002E-2,null,0.172953,0.82333000000000001,4.3049999999999998E-2,null,0.1096,0.79320000000000002,5.7250000000000002E-2,null,null,null,null,0.12684680000000001,0.79464480000000004,3.7519120000000003E-2,-4.3499999999999997E-2,0.99450000000000005,6.9999999999999999E-4]
[null,526,0.30446294980734423,6.178329222117993E-3,null,null,null,null,null,null,null,null,null,null,497,0.24770833333332912,0.149009,0.95454300000000003,0.157578,0.21121100000000001,6.2299999999999996E-4,2.3931000000000001E-2,0.34115299999999998,0.254131,1.4959999999999999E-3,7.3200000000000001E-4,null,null,null,null,null,null,null,null,null,null,null,null,null,null,null,null,null,null,null,null,null,null,526,0.80696000000000001,0.80120000000000002,0.80847999999999998,0.86619999999999997,0.80820700000000001,0.84746500000000002,null,0.12078,0.80696000000000001,5.4232000000000002E-2,null,0.18566060000000001,0.83370619999999995,4.0530199999999995E-2,null,0.12078,0.80696000000000001,5.4232000000000002E-2,null,null,null,null,0.137406,0.80820740000000002,3.4468459999999999E-2,-9.3999999999999986E-3,0.99965999999999999,-3.0000000000000003E-4]
[null,527,0.30267916817700891,6.1421317465974032E-3,null,null,null,null,null,null,null,null,null,null,498,0.24322154471544297,0.15066199999999999,0.97315799999999997,0.16653599999999999,0.23155600000000001,6.4800000000000003E-4,2.1656000000000002E-2,0.3695,0.26200299999999999,1.536E-3,7.0600000000000003E-4,null,null,null,null,null,null,null,null,null,null,null,null,null,null,null,null,null,null,null,null,null,null,527,0.82072000000000001,0.81640000000000001,0.82186000000000003,0.85240000000000005,0.82138199999999995,0.85688699999999995,null,0.13195999999999999,0.82072000000000001,5.1214000000000003E-2,null,0.19836819999999999,0.84408240000000001,3.80104E-2,null,0.13195999999999999,0.82072000000000001,5.1214000000000003E-2,null,null,null,null,0.14824709999999999,0.82138169999999999,3.1637640000000002E-2,2.47E-2,1.00482,-1.2999999999999999E-3]
[null,528,0.30046580114452565,6.0972168884029423E-3,null,null,null,null,null,null,null,null,null,null,499,0.23873475609755682,0.152059,0.98248599999999997,0.176176,0.25557299999999999,6.1399999999999996E-4,1.9980000000000001E-2,0.40176800000000001,0.27146700000000001,1.5629999999999999E-3,6.0499999999999996E-4,null,null,null,null,null,null,null,null,null,null,null,null,null,null,null,null,null,null,null,null,null,null,528,0.83448,0.83160000000000001,0.83523999999999998,0.83860000000000001,0.83406999999999998,0.86592400000000003,null,0.14314000000000002,0.83448,4.8196000000000003E-2,null,0.21107580000000001,0.85445859999999996,3.5490599999999997E-2,null,0.14314000000000002,0.83448,4.8196000000000003E-2,null,null,null,null,0.15930759999999999,0.83407010000000004,2.9019010000000001E-2,5.8800000000000005E-2,1.0099800000000001,-2.3E-3]
[null,529,0.29825268629693685,6.0523071476827226E-3,null,null,null,null,null,null,null,null,null,null,500,0.23712737127371594,0.15345700000000001,0.99181399999999997,0.18581600000000001,0.27959099999999998,5.8100000000000003E-4,1.8303E-2,0.43403599999999998,0.28093200000000002,1.5889999999999999E-3,5.0500000000000002E-4,null,null,null,null,null,null,null,null,null,null,null,null,null,null,null,null,null,null,null,null,null,null,529,0.84823999999999999,0.8468,0.84862000000000004,0.82480000000000009,0.84617100000000001,0.87460400000000005,null,0.15432000000000001,0.84823999999999999,4.5178000000000003E-2,null,0.22378339999999999,0.86483480000000001,3.2970800000000001E-2,null,0.15432000000000001,0.84823999999999999,4.5178000000000003E-2,null,null,null,null,0.17051810000000001,0.84617109999999995,2.6603640000000001E-2,9.2899999999999996E-2,1.0151399999999999,-3.3E-3]
[null,530,0.28775623494461217,5.8393073979278081E-3,null,null,null,null,null,null,null,null,null,null,501,0.24111562782294807,0.15450700000000001,1,0.19581699999999999,0.30668099999999998,6.9899999999999997E-4,1.6759E-2,0.468802,0.29100399999999998,1.5529999999999999E-3,5.7200000000000003E-4,null,null,null,null,null,null,null,null,null,null,null,null,null,null,null,null,null,null,null,null,null,null,530,0.86199999999999999,0.86199999999999999,0.86199999999999999,0.81100000000000005,0.85758000000000001,0.88295500000000005,null,0.16550000000000001,0.86199999999999999,4.2160000000000003E-2,null,0.23649100000000001,0.87521099999999996,3.0450999999999999E-2,null,0.16550000000000001,0.86199999999999999,4.2160000000000003E-2,null,null,null,null,0.18180260000000001,0.85757989999999995,2.438164E-2,0.127,1.0203,-4.3E-3]
[null,531,0.28482807543016081,5.7798875785159383E-3,null,null,null,null,null,null,null,null,null,null,502,0.2451038843721802,0.155557,0.98362899999999998,0.205818,0.33377099999999998,8.1700000000000002E-4,1.5214E-2,0.50356800000000002,0.30107499999999998,1.516E-3,6.3900000000000003E-4,null,null,null,null,null,null,null,null,null,null,null,null,null,null,null,null,null,null,null,null,null,null,531,0.87256999999999996,0.87119999999999997,0.87261,0.7954,0.86824100000000004,0.89102700000000001,null,0.17755000000000001,0.87256999999999996,3.9696000000000002E-2,null,0.25003540000000002,0.88493080000000002,2.8477599999999999E-2,null,0.17755000000000001,0.87256999999999996,3.9696000000000002E-2,null,null,null,null,0.193109,0.86824080000000003,2.2340970000000002E-2,0.16417999999999999,1.0237400000000001,-4.7200000000000002E-3]
[null,532,0.28171604863959332,5.716736623457716E-3,null,null,null,null,null,null,null,null,null,null,503,0.24909214092141235,0.156559,0.97256799999999999,0.21732499999999999,0.365008,5.5099999999999995E-4,1.4067E-2,0.54224899999999998,0.31323299999999998,1.271E-3,5.9699999999999998E-4,null,null,null,null,null,null,null,null,null,null,null,null,null,null,null,null,null,null,null,null,null,null,532,0.88314000000000004,0.88039999999999996,0.88322000000000001,0.77980000000000005,0.87830600000000003,0.898949,null,0.18960000000000002,0.88314000000000004,3.7232000000000001E-2,null,0.26357980000000003,0.89465059999999996,2.6504199999999999E-2,null,0.18960000000000002,0.88314000000000004,3.7232000000000001E-2,null,null,null,null,0.20450850000000001,0.87830609999999998,2.046415E-2,0.20136000000000001,1.02718,-5.1400000000000005E-3]
[null,533,0.27685303911123788,5.6180537660016992E-3,null,null,null,null,null,null,null,null,null,null,504,0.25308039747064448,0.15756000000000001,0.961507,0.22883200000000001,0.39624500000000001,2.8600000000000001E-4,1.2919999999999999E-2,0.58092900000000003,0.32539000000000001,1.0269999999999999E-3,5.5500000000000005E-4,null,null,null,null,null,null,null,null,null,null,null,null,null,null,null,null,null,null,null,null,null,null,533,0.89371,0.88959999999999995,0.89383000000000001,0.76419999999999999,0.88799099999999997,0.90687499999999999,null,0.20165,0.89371,3.4768E-2,null,0.27712419999999999,0.90437040000000002,2.4530800000000002E-2,null,0.20165,0.89371,3.4768E-2,null,null,null,null,0.21611659999999999,0.88799070000000002,1.8734560000000001E-2,0.23854000000000003,1.0306200000000001,-5.5600000000000007E-3]
[null,534,0.27193247657719566,5.5182030113776342E-3,null,null,null,null,null,null,null,null,null,null,505,0.25706865401987661,0.157143,0.90573000000000004,0.248249,0.46023799999999998,5.5000000000000003E-4,1.0878000000000001E-2,0.65341099999999996,0.34524899999999997,1.1280000000000001E-3,1.1980000000000001E-3,null,null,null,null,null,null,null,null,null,null,null,null,null,null,null,null,null,null,null,null,null,null,534,0.90428000000000008,0.89879999999999993,0.90444000000000002,0.74860000000000004,0.89752100000000001,0.91496500000000003,null,0.2137,0.90428000000000008,3.2303999999999999E-2,null,0.2906686,0.91409019999999996,2.2557400000000002E-2,null,0.2137,0.90428000000000008,3.2303999999999999E-2,null,null,null,null,0.22806499999999999,0.89752109999999996,1.7137880000000001E-2,0.27572000000000002,1.03406,-5.9800000000000001E-3]
[null,535,0.26764764854898221,5.4312529301437347E-3,null,null,null,null,null,null,null,null,null,null,506,0.26105691056910874,0.15743699999999999,0.87688900000000003,0.259739,0.49746099999999999,6.8599999999999998E-4,1.0219000000000001E-2,0.69350999999999996,0.35809600000000003,1.3940000000000001E-3,1.74E-3,null,null,null,null,null,null,null,null,null,null,null,null,null,null,null,null,null,null,null,null,null,null,535,0.91485000000000005,0.90799999999999992,0.91505000000000003,0.73299999999999998,0.90713500000000002,0.92338600000000004,null,0.22575000000000001,0.91485000000000005,2.9839999999999998E-2,null,0.30421300000000001,0.92381000000000002,2.0584000000000002E-2,null,0.22575000000000001,0.91485000000000005,2.9839999999999998E-2,null,null,null,null,0.24050150000000001,0.90713469999999996,1.566174E-2,0.31290000000000001,1.0375000000000001,-6.4000000000000003E-3]
[null,536,0.26336254824531441,5.3442973237469299E-3,null,null,null,null,null,null,null,null,null,null,507,0.26504516711834086,0.15773100000000001,0.848047,0.27123000000000003,0.53468499999999997,4.1399999999999998E-4,9.5600000000000008E-3,0.73360800000000004,0.37094300000000002,1.66E-3,6.5600000000000001E-4,null,null,null,null,null,null,null,null,null,null,null,null,null,null,null,null,null,null,null,null,null,null,536,0.92268000000000006,0.91720000000000002,0.92283999999999999,0.71640000000000004,0.916995,0.93223199999999995,null,0.23868,0.92268000000000006,2.7931999999999998E-2,null,0.31872480000000003,0.93144559999999998,1.9202400000000001E-2,null,0.23868,0.92268000000000006,2.7931999999999998E-2,null,null,null,null,0.25354409999999999,0.91699470000000005,1.4296440000000001E-2,0.35755999999999999,1.04034,-6.7600000000000004E-3]
[null,537,0.25929262006756743,5.2617081081842258E-3,null,null,null,null,null,null,null,null,null,null,508,0.26903342366757299,0.15753900000000001,0.81133699999999997,0.28177999999999997,0.57215000000000005,5.7899999999999998E-4,8.8620000000000001E-3,0.76995000000000002,0.382579,1.7030000000000001E-3,7.4100000000000001E-4,null,null,null,null,null,null,null,null,null,null,null,null,null,null,null,null,null,null,null,null,null,null,537,0.93051000000000006,0.9264,0.93062999999999996,0.69979999999999998,0.926929,0.94128599999999996,null,0.25161,0.93051000000000006,2.6023999999999999E-2,null,0.33323659999999999,0.93908119999999995,1.7820800000000001E-2,null,0.25161,0.93051000000000006,2.6023999999999999E-2,null,null,null,null,0.26712999999999998,0.92692949999999996,1.303702E-2,0.40222000000000002,1.04318,-7.1200000000000005E-3]
[null,538,0.25522267403685339,5.1791185303393193E-3,null,null,null,null,null,null,null,null,null,null,509,0.27302168021680512,0.15734699999999999,0.77462600000000004,0.29232999999999998,0.60961500000000002,7.45E-4,8.1630000000000001E-3,0.80629300000000004,0.39421499999999998,1.745E-3,8.2700000000000004E-4,null,null,null,null,null,null,null,null,null,null,null,null,null,null,null,null,null,null,null,null,null,null,538,0.93833999999999995,0.93559999999999999,0.93842000000000003,0.68320000000000003,0.93667299999999998,0.95023800000000003,null,0.26454,0.93833999999999995,2.4115999999999999E-2,null,0.34774840000000001,0.94671680000000002,1.6439200000000001E-2,null,0.26454,0.93833999999999995,2.4115999999999999E-2,null,null,null,null,0.28113510000000003,0.93667310000000004,1.1878970000000001E-2,0.44688,1.0460200000000002,-7.4800000000000005E-3]
[null,539,0.24513040216191179,4.9743206122938987E-3,null,null,null,null,null,null,null,null,null,null,510,0.27700993676603725,0.15682599999999999,0.73816999999999999,0.30364000000000002,0.65016499999999999,9.4300000000000004E-4,7.7219999999999997E-3,0.84111400000000003,0.406779,1.7160000000000001E-3,8.8400000000000002E-4,null,null,null,null,null,null,null,null,null,null,null,null,null,null,null,null,null,null,null,null,null,null,539,0.94616999999999996,0.94479999999999997,0.94621,0.66659999999999997,0.94594800000000001,0.95876499999999998,null,0.27746999999999999,0.94616999999999996,2.2207999999999999E-2,null,0.36226019999999998,0.95435239999999999,1.5057600000000001E-2,null,0.27746999999999999,0.94616999999999996,2.2207999999999999E-2,null,null,null,null,0.29541640000000002,0.94594820000000002,1.081725E-2,0.49153999999999998,1.0488600000000001,-7.8399999999999997E-3]
[null,540,0.24094063634898488,4.8892995856887993E-3,null,null,null,null,null,null,null,null,null,null,511,0.28099819331526937,0.156305,0.70171399999999995,0.31495000000000001,0.69071499999999997,1.142E-3,7.28E-3,0.87593500000000002,0.41934300000000002,1.6869999999999999E-3,7.6999999999999996E-4,null,null,null,null,null,null,null,null,null,null,null,null,null,null,null,null,null,null,null,null,null,null,540,0.95399999999999996,0.95399999999999996,0.95399999999999996,0.65,0.95446799999999998,0.96653199999999995,null,0.29039999999999999,0.95399999999999996,2.0299999999999999E-2,null,0.376772,0.96198799999999995,1.3676000000000001E-2,null,0.29039999999999999,0.95399999999999996,2.0299999999999999E-2,null,null,null,null,0.30981170000000002,0.95446750000000002,9.8464699999999995E-3,0.53620000000000001,1.0517000000000001,-8.2000000000000007E-3]
[null,541,0.23675079790301365,4.8042770851741143E-3,null,null,null,null,null,null,null,null,null,null,512,0.2849864498645015,0.15452199999999999,0.66113,0.32368799999999998,0.72512500000000002,9.68E-4,6.7330000000000003E-3,0.89895999999999998,0.42835800000000002,1.57E-3,6.7000000000000002E-4,null,null,null,null,null,null,null,null,null,null,null,null,null,null,null,null,null,null,null,null,null,null,541,0.95926,0.95809999999999995,0.95920799999999995,0.63280000000000003,0.96198300000000003,0.97324999999999995,null,0.30425999999999997,0.95926,1.8919999999999999E-2,null,0.39173439999999998,0.96603039999999996,1.25244E-2,null,0.30425999999999997,0.95926,1.8919999999999999E-2,null,null,null,null,0.32416780000000001,0.96198340000000004,8.9606870000000002E-3,0.58340000000000003,1.0491600000000001,-8.4400000000000013E-3]
[null,542,0.23351389231441774,4.7385920210311254E-3,null,null,null,null,null,null,null,null,null,null,513,0.28897470641373363,0.15273900000000001,0.62054600000000004,0.33242500000000003,0.75953400000000004,7.94E-4,6.1859999999999997E-3,0.92198500000000005,0.43737300000000001,1.454E-3,5.6999999999999998E-4,null,null,null,null,null,null,null,null,null,null,null,null,null,null,null,null,null,null,null,null,null,null,542,0.96451999999999993,0.96219999999999994,0.96441599999999994,0.61560000000000004,0.96843900000000005,0.97884199999999999,null,0.31812000000000001,0.96451999999999993,1.754E-2,null,0.40669679999999997,0.97007279999999996,1.1372800000000001E-2,null,0.31812000000000001,0.96451999999999993,1.754E-2,null,null,null,null,0.33843190000000001,0.96843900000000005,8.1528109999999994E-3,0.63060000000000005,1.0466200000000001,-8.6800000000000002E-3]
[null,543,0.23027710912615509,4.6729094407028538E-3,null,null,null,null,null,null,null,null,null,null,514,0.29296296296296576,0.150393,0.55169699999999999,0.35252499999999998,0.83251799999999998,5.0299999999999997E-4,5.378E-3,0.96597599999999995,0.46055200000000002,1.255E-3,7.4600000000000003E-4,null,null,null,null,null,null,null,null,null,null,null,null,null,null,null,null,null,null,null,null,null,null,543,0.96977999999999998,0.96629999999999994,0.96962400000000004,0.59839999999999993,0.97382899999999994,0.98328700000000002,null,0.33198,0.96977999999999998,1.6160000000000001E-2,null,0.42165920000000001,0.97411519999999996,1.02212E-2,null,0.33198,0.96977999999999998,1.6160000000000001E-2,null,null,null,null,0.35257860000000002,0.9738289,7.4160249999999997E-3,0.67779999999999996,1.0440799999999999,-8.9200000000000008E-3]
[null,544,0.22694397614618003,4.6052716775385151E-3,null,null,null,null,null,null,null,null,null,null,515,0.29695121951219788,0.14818200000000001,0.51739400000000002,0.36006500000000002,0.85924900000000004,6.0499999999999996E-4,5.1479999999999998E-3,0.97457000000000005,0.468634,1.3339999999999999E-3,7.7399999999999995E-4,null,null,null,null,null,null,null,null,null,null,null,null,null,null,null,null,null,null,null,null,null,null,544,0.97503999999999991,0.97039999999999993,0.97483200000000003,0.58119999999999994,0.97815200000000002,0.986572,null,0.34584000000000004,0.97503999999999991,1.478E-2,null,0.4366216,0.97815759999999996,9.0696000000000006E-3,null,0.34584000000000004,0.97503999999999991,1.478E-2,null,null,null,null,0.36658390000000002,0.97815189999999996,6.7441150000000002E-3,0.72499999999999998,1.0415399999999999,-9.1599999999999997E-3]
[null,545,0.22361077368145046,4.5376325043514146E-3,null,null,null,null,null,null,null,null,null,null,516,0.30104420731707848,0.14597099999999999,0.48309000000000002,0.36760399999999999,0.88597999999999999,7.0600000000000003E-4,4.9179999999999996E-3,0.98316300000000001,0.476717,1.413E-3,7.1900000000000002E-4,null,null,null,null,null,null,null,null,null,null,null,null,null,null,null,null,null,null,null,null,null,null,545,0.98029999999999995,0.97449999999999992,0.98004000000000002,0.56399999999999995,0.98141100000000003,0.98868900000000004,null,0.35970000000000002,0.98029999999999995,1.34E-2,null,0.45158399999999999,0.98219999999999996,7.9179999999999997E-3,null,0.35970000000000002,0.98029999999999995,1.34E-2,null,null,null,null,0.3804244,0.98141060000000002,6.1314209999999997E-3,0.7722,1.0389999999999999,-9.4000000000000004E-3]
[null,546,0.2152429021434259,4.367827064040793E-3,null,null,null,null,null,null,null,null,null,null,517,0.3083352388211435,0.14492099999999999,0.45682299999999998,0.37804300000000002,0.914385,5.5000000000000003E-4,4.6169999999999996E-3,0.99158199999999996,0.48790600000000001,1.485E-3,6.9399999999999996E-4,null,null,null,null,null,null,null,null,null,null,null,null,null,null,null,null,null,null,null,null,null,null,546,0.98322999999999994,0.97860000000000003,0.98302200000000006,0.5474,0.98366699999999996,0.98970599999999997,null,0.37445000000000001,0.98322999999999994,1.247E-2,null,0.46723239999999999,0.98411219999999999,7.1319999999999995E-3,null,0.37445000000000001,0.98322999999999994,1.247E-2,null,null,null,null,0.39409880000000003,0.98366690000000001,5.5727779999999996E-3,0.81894,1.0317799999999999,-9.4599999999999997E-3]
[null,547,0.21253731783147378,4.3129238627546756E-3,null,null,null,null,null,null,null,null,null,null,518,0.31562627032520851,0.143871,0.43055500000000002,0.38848100000000002,0.94279100000000005,3.9300000000000001E-4,4.3169999999999997E-3,1,0.49909500000000001,1.557E-3,6.6799999999999997E-4,null,null,null,null,null,null,null,null,null,null,null,null,null,null,null,null,null,null,null,null,null,null,547,0.98615999999999993,0.98270000000000002,0.98600399999999999,0.53079999999999994,0.98520799999999997,0.989985,null,0.38919999999999999,0.98615999999999993,1.154E-2,null,0.4828808,0.98602440000000002,6.3460000000000001E-3,null,0.38919999999999999,0.98615999999999993,1.154E-2,null,null,null,null,0.40769719999999998,0.98520810000000003,5.0634629999999998E-3,0.86568000000000001,1.0245599999999999,-9.5200000000000007E-3]
[null,548,0.20983164682512245,4.2580189022182443E-3,null,null,null,null,null,null,null,null,null,null,519,0.32291730182927353,0.141123,0.40435700000000002,0.39508399999999999,0.95651900000000001,6.3699999999999998E-4,3.9979999999999998E-3,0.99314800000000003,0.50604199999999999,1.694E-3,7.6099999999999996E-4,null,null,null,null,null,null,null,null,null,null,null,null,null,null,null,null,null,null,null,null,null,null,548,0.98909000000000002,0.98680000000000001,0.98898600000000003,0.51419999999999999,0.98638099999999995,0.98996200000000001,null,0.40395000000000003,0.98909000000000002,1.0610000000000001E-2,null,0.49852920000000001,0.98793659999999994,5.5599999999999998E-3,null,0.40395000000000003,0.98909000000000002,1.0610000000000001E-2,null,null,null,null,0.42134840000000001,0.98638130000000002,4.5991690000000002E-3,0.91242000000000001,1.0173399999999999,-9.58E-3]
[null,549,0.20615496391191518,4.1834096353189241E-3,null,null,null,null,null,null,null,null,null,null,520,0.33020833333333854,0.138376,0.37815900000000002,0.40168599999999999,0.97024600000000005,8.8000000000000003E-4,3.679E-3,0.98629599999999995,0.51298900000000003,1.8309999999999999E-3,8.5300000000000003E-4,null,null,null,null,null,null,null,null,null,null,null,null,null,null,null,null,null,null,null,null,null,null,549,0.99202000000000001,0.9909,0.99196799999999996,0.49759999999999999,0.98753599999999997,0.99007299999999998,null,0.41870000000000002,0.99202000000000001,9.6800000000000011E-3,null,0.51417760000000001,0.98984879999999997,4.7740000000000005E-3,null,0.41870000000000002,0.99202000000000001,9.6800000000000011E-3,null,null,null,null,0.43520029999999998,0.98753570000000002,4.1759709999999997E-3,0.95916000000000001,1.0101199999999999,-9.640000000000001E-3]
[null,550,0.20247877039644499,4.1088102995469949E-3,null,null,null,null,null,null,null,null,null,null,521,0.33749936483740356,0.134796,0.33567599999999997,0.41824499999999998,0.99235700000000004,9.5600000000000004E-4,3.2039999999999998E-3,0.96965699999999999,0.53087300000000004,1.818E-3,7.7399999999999995E-4,null,null,null,null,null,null,null,null,null,null,null,null,null,null,null,null,null,null,null,null,null,null,550,0.99495,0.995,0.99495,0.48099999999999998,0.98902299999999999,0.99075000000000002,null,0.43345,0.99495,8.7500000000000008E-3,null,0.52982600000000002,0.991761,3.9880000000000002E-3,null,0.43345,0.99495,8.7500000000000008E-3,null,null,null,null,0.4494206,0.98902279999999998,3.7902909999999999E-3,1.0059,1.0028999999999999,-9.7000000000000003E-3]
[null,551,0.20037227520549358,4.0660641433964964E-3,null,null,null,null,null,null,null,null,null,null,522,0.34479039634146857,0.13195499999999999,0.31476700000000002,0.423759,1,1E-3,3.1909999999999998E-3,0.95009299999999997,0.53634300000000001,1.6850000000000001E-3,6.02E-4,null,null,null,null,null,null,null,null,null,null,null,null,null,null,null,null,null,null,null,null,null,null,551,0.99595999999999996,0.995,0.99597999999999998,0.4652,0.99108099999999999,0.99228300000000003,null,0.44917000000000001,0.99595999999999996,8.150000000000001E-3,null,0.54707139999999999,0.99323079999999997,3.4086000000000003E-3,null,0.44917000000000001,0.99595999999999996,8.150000000000001E-3,null,null,null,null,0.46416160000000001,0.99108110000000005,3.4389519999999999E-3,1.0589200000000001,0.99627999999999994,-9.7000000000000003E-3]
[null,552,0.19826583479461968,4.0233190988733861E-3,null,null,null,null,null,null,null,null,null,null,523,0.35208142784553353,0.12911300000000001,0.29385699999999998,0.42927300000000002,0.98471399999999998,1.0449999999999999E-3,3.179E-3,0.93052999999999997,0.54181400000000002,1.5510000000000001E-3,4.2900000000000002E-4,null,null,null,null,null,null,null,null,null,null,null,null,null,null,null,null,null,null,null,null,null,null,552,0.99697000000000002,0.995,0.99700999999999995,0.44940000000000002,0.99349100000000001,0.99438400000000005,null,0.46489000000000003,0.99697000000000002,7.5500000000000003E-3,null,0.56431679999999995,0.99470060000000005,2.8292E-3,null,0.46489000000000003,0.99697000000000002,7.5500000000000003E-3,null,null,null,null,0.47943950000000002,0.99349129999999997,3.1193409999999999E-3,1.1119399999999999,0.98965999999999998,-9.7000000000000003E-3]
[null,553,{"$f":"SUMPRODUCT($P$37:$AD$37,P235:AD235)","v":0.19162125397786664},{"$f":"C206/$C$12","v":3.8884836193680905E-3},null,null,null,null,null,null,null,null,null,null,524,0.35937245934959855,0.12717800000000001,0.27699600000000002,0.43711899999999998,0.98023400000000005,8.0800000000000002E-4,3.1719999999999999E-3,0.91349599999999997,0.55059000000000002,1.5629999999999999E-3,5.2499999999999997E-4,null,null,null,null,null,null,null,null,null,null,null,null,null,null,null,null,null,null,null,null,null,null,553,0.99797999999999998,0.995,0.99804000000000004,0.43359999999999999,0.99591700000000005,0.99662200000000001,null,0.48060999999999998,0.99797999999999998,6.9500000000000004E-3,null,0.58156220000000003,0.99617040000000001,2.2498000000000002E-3,null,0.48060999999999998,0.99797999999999998,6.9500000000000004E-3,null,null,null,null,0.49521799999999999,0.99591719999999995,2.8290379999999999E-3,1.16496,0.98303999999999991,-9.7000000000000003E-3]
[null,554,0.18941184871735733,3.8436491556241652E-3,null,null,null,null,null,null,null,null,null,null,525,0.36666349085366357,0.12524399999999999,0.26013500000000001,0.44496599999999997,0.97575400000000001,5.71E-4,3.166E-3,0.89646300000000001,0.55936600000000003,1.5740000000000001E-3,6.2100000000000002E-4,null,null,null,null,null,null,null,null,null,null,null,null,null,null,null,null,null,null,null,null,null,null,554,0.99899000000000004,0.995,0.99907000000000001,0.4178,0.99802100000000005,0.99856500000000004,null,0.49632999999999999,0.99899000000000004,6.3499999999999997E-3,null,0.5988076,0.99764020000000009,1.6704000000000001E-3,null,0.49632999999999999,0.99899000000000004,6.3499999999999997E-3,null,null,null,null,0.51143950000000005,0.99802049999999998,2.5657219999999999E-3,1.2179799999999998,0.97641999999999995,-9.7000000000000003E-3]
[null,555,0.18720237099362877,3.7988132214168378E-3,null,null,null,null,null,null,null,null,null,null,526,0.37395452235772858,0.12282800000000001,0.24388899999999999,0.45086399999999999,0.95895600000000003,5.9599999999999996E-4,3.003E-3,0.87235700000000005,0.565577,1.58E-3,6.5799999999999995E-4,null,null,null,null,null,null,null,null,null,null,null,null,null,null,null,null,null,null,null,null,null,null,555,1,0.995,1.0001,0.40200000000000002,0.99946100000000004,0.99977800000000006,null,0.51205000000000001,1,5.7499999999999999E-3,null,0.61605299999999996,0.99911000000000005,1.091E-3,null,0.51205000000000001,1,5.7499999999999999E-3,null,null,null,null,0.52802329999999997,0.99946080000000004,2.3271860000000002E-3,1.2709999999999999,0.9698,-9.7000000000000003E-3]
[null,556,0.18422848683122253,3.7384655323616845E-3,null,null,null,null,null,null,null,null,null,null,527,0.38071815718157448,0.12041200000000001,0.22764400000000001,0.456762,0.94215800000000005,6.2E-4,2.8389999999999999E-3,0.84825200000000001,0.57178799999999996,1.5870000000000001E-3,6.9499999999999998E-4,null,null,null,null,null,null,null,null,null,null,null,null,null,null,null,null,null,null,null,null,null,null,556,0.999,0.995,0.99907999999999997,0.38736000000000004,0.99999300000000002,0.99994400000000006,null,0.52854000000000001,0.999,5.3800000000000002E-3,null,0.63388719999999998,0.99875600000000009,8.7279999999999996E-4,null,0.52854000000000001,0.999,5.3800000000000002E-3,null,null,null,null,0.54486959999999995,0.99999300000000002,2.1112800000000001E-3,1.3282799999999999,0.95908000000000004,-9.6200000000000001E-3]
[null,557,0.18125416852465373,3.6781090334149897E-3,null,null,null,null,null,null,null,null,null,null,528,0.38470641373080666,0.11840199999999999,0.213614,0.46312199999999998,0.92186199999999996,6.7299999999999999E-4,2.6740000000000002E-3,0.82453900000000002,0.57894100000000004,1.6800000000000001E-3,9.0300000000000005E-4,null,null,null,null,null,null,null,null,null,null,null,null,null,null,null,null,null,null,null,null,null,null,557,0.998,0.995,0.99805999999999995,0.37272,0.99975599999999998,0.99922,null,0.54503000000000001,0.998,5.0099999999999997E-3,null,0.65172140000000001,0.99840200000000001,6.5459999999999997E-4,null,0.54503000000000001,0.998,5.0099999999999997E-3,null,null,null,null,0.56188979999999999,0.99975570000000002,1.915766E-3,1.3855599999999999,0.94835999999999998,-9.5399999999999999E-3]
[null,558,0.17964440319348157,3.6454427921116497E-3,null,null,null,null,null,null,null,null,null,null,529,0.38869467028003879,0.116392,0.19958400000000001,0.46948200000000001,0.90156700000000001,7.2599999999999997E-4,2.5079999999999998E-3,0.80082600000000004,0.58609299999999998,1.774E-3,1.111E-3,null,null,null,null,null,null,null,null,null,null,null,null,null,null,null,null,null,null,null,null,null,null,558,0.997,0.995,0.99704000000000004,0.35808000000000001,0.99898399999999998,0.99787899999999996,null,0.56152000000000002,0.997,4.64E-3,null,0.66955559999999992,0.99804800000000005,4.3639999999999998E-4,null,0.56152000000000002,0.997,4.64E-3,null,null,null,null,0.57901369999999996,0.99898390000000004,1.738589E-3,1.4428399999999999,0.93764000000000003,-9.4599999999999997E-3]
[null,559,0.1780341858651798,3.6127673786345662E-3,null,null,null,null,null,null,null,null,null,null,530,0.39268292682927097,0.110378,0.171963,0.474912,0.83847400000000005,9.3099999999999997E-4,2.4130000000000002E-3,0.73841100000000004,0.59026999999999996,1.753E-3,7.9699999999999997E-4,null,null,null,null,null,null,null,null,null,null,null,null,null,null,null,null,null,null,null,null,null,null,559,0.996,0.995,0.99602000000000002,0.34343999999999997,0.99791200000000002,0.996193,null,0.57801000000000002,0.996,4.2699999999999995E-3,null,0.68738979999999994,0.99769399999999997,2.1819999999999999E-4,null,0.57801000000000002,0.996,4.2699999999999995E-3,null,null,null,null,0.59618819999999995,0.99791229999999997,1.57792E-3,1.5001199999999999,0.92691999999999997,-9.3799999999999994E-3]
[null,560,0.1731759695139036,3.5141817869576335E-3,null,null,null,null,null,null,null,null,null,null,531,0.3966711833785031,0.108538,0.16173399999999999,0.481715,0.81281800000000004,1.077E-3,2.2750000000000001E-3,0.71484899999999996,0.59813099999999997,2.0470000000000002E-3,8.7799999999999998E-4,null,null,null,null,null,null,null,null,null,null,null,null,null,null,null,null,null,null,null,null,null,null,560,0.995,0.995,0.995,0.32879999999999998,0.99677400000000005,0.99443000000000004,null,0.59450000000000003,0.995,3.8999999999999998E-3,null,0.70522399999999996,0.99734,0,null,0.59450000000000003,0.995,3.8999999999999998E-3,null,null,null,null,0.61337839999999999,0.99677369999999998,1.432128E-3,1.5573999999999999,0.91620000000000001,-9.2999999999999992E-3]
[null,561,0.17167342734494273,3.4836913768902357E-3,null,null,null,null,null,null,null,null,null,null,532,0.40065943992773528,0.106698,0.151504,0.48851800000000001,0.78716200000000003,7.85E-4,2.137E-3,0.69128699999999998,0.60599099999999995,2.3419999999999999E-3,9.59E-4,null,null,null,null,null,null,null,null,null,null,null,null,null,null,null,null,null,null,null,null,null,null,561,0.99172000000000005,0.99070000000000003,0.99175000000000002,0.31581999999999999,0.99573599999999995,0.99278299999999997,null,0.61128000000000005,0.99172000000000005,3.6699999999999997E-3,null,0.72294559999999997,0.99434800000000001,0,null,0.61128000000000005,0.99172000000000005,3.6699999999999997E-3,null,null,null,null,0.63058970000000003,0.99573560000000005,1.2997810000000001E-3,1.6152199999999999,0.90437999999999996,-9.1799999999999989E-3]
[null,562,0.1701711809939577,3.4532069697235054E-3,null,null,null,null,null,null,null,null,null,null,533,0.40464769647696741,0.10397000000000001,0.14116799999999999,0.49227100000000001,0.75593200000000005,7.76E-4,2.0830000000000002E-3,0.66421300000000005,0.61000500000000002,2.6069999999999999E-3,7.2499999999999995E-4,null,null,null,null,null,null,null,null,null,null,null,null,null,null,null,null,null,null,null,null,null,null,562,0.98843999999999999,0.98639999999999994,0.98850000000000005,0.30284,0.99471100000000001,0.99115799999999998,null,0.62806000000000006,0.98843999999999999,3.4399999999999999E-3,null,0.74066719999999997,0.99135600000000001,0,null,0.62806000000000006,0.98843999999999999,3.4399999999999999E-3,null,null,null,null,0.64792229999999995,0.99471149999999997,1.1796669999999999E-3,1.6730399999999999,0.89256000000000002,-9.0599999999999986E-3]
[null,563,0.16840422289513179,3.4173508865345918E-3,null,null,null,null,null,null,null,null,null,null,534,0.40863595302619959,0.101241,0.130833,0.49602299999999999,0.72470199999999996,7.6800000000000002E-4,2.029E-3,0.63713900000000001,0.61401899999999998,2.0760000000000002E-3,4.9200000000000003E-4,null,null,null,null,null,null,null,null,null,null,null,null,null,null,null,null,null,null,null,null,null,null,563,0.98516000000000004,0.98209999999999997,0.98524999999999996,0.28986000000000001,0.99355300000000002,0.98939200000000005,null,0.64483999999999997,0.98516000000000004,3.2099999999999997E-3,null,0.75838879999999997,0.98836400000000002,0,null,0.64483999999999997,0.98516000000000004,3.2099999999999997E-3,null,null,null,null,0.66548660000000004,0.99355340000000003,1.0706940000000001E-3,1.7308599999999998,0.88073999999999997,-8.94E-3]
[null,564,0.16663728488686577,3.3814952110343419E-3,null,null,null,null,null,null,null,null,null,null,535,0.41262420957543172,9.8999000000000004E-2,0.122457,0.50067099999999998,0.69515499999999997,7.4100000000000001E-4,1.9599999999999999E-3,0.61232299999999995,0.61944699999999997,2.1510000000000001E-3,4.66E-4,null,null,null,null,null,null,null,null,null,null,null,null,null,null,null,null,null,null,null,null,null,null,564,0.98187999999999998,0.9778,0.98199999999999998,0.27688000000000001,0.992116,0.98732900000000001,null,0.66161999999999999,0.98187999999999998,2.98E-3,null,0.77611039999999998,0.98537200000000003,0,null,0.66161999999999999,0.98187999999999998,2.98E-3,null,null,null,null,0.68337820000000005,0.99211559999999999,9.7186229999999998E-4,1.78868,0.86892000000000003,-8.8199999999999997E-3]
[null,565,0.16610120459257222,3.3706167755802705E-3,null,null,null,null,null,null,null,null,null,null,536,0.4166124661246639,9.6756999999999996E-2,0.114081,0.50531800000000004,0.66560799999999998,7.1400000000000001E-4,1.8910000000000001E-3,0.587507,0.62487499999999996,2.2260000000000001E-3,4.4000000000000002E-4,null,null,null,null,null,null,null,null,null,null,null,null,null,null,null,null,null,null,null,null,null,null,565,0.97860000000000003,0.97350000000000003,0.97875000000000001,0.26390000000000002,0.990255,0.98481300000000005,null,0.6784,0.97860000000000003,2.7499999999999998E-3,null,0.79383199999999998,0.98238000000000003,0,null,0.6784,0.97860000000000003,2.7499999999999998E-3,null,null,null,null,0.70167740000000001,0.99025490000000005,8.8225309999999998E-4,1.8465,0.85709999999999997,-8.6999999999999994E-3]
[null,566,0.16556508876217002,3.3597376190079849E-3,null,null,null,null,null,null,null,null,null,null,537,0.42060072267389609,9.4677999999999998E-2,0.107015,0.51000999999999996,0.63711499999999999,6.3100000000000005E-4,1.714E-3,0.56386199999999997,0.630162,2.4039999999999999E-3,6.5799999999999995E-4,null,null,null,null,null,null,null,null,null,null,null,null,null,null,null,null,null,null,null,null,null,null,566,0.97328000000000003,0.96919999999999995,0.97340000000000004,0.25264000000000003,0.98785999999999996,0.98172499999999996,null,0.69513999999999998,0.97328000000000003,2.6199999999999999E-3,null,0.81079659999999998,0.97701440000000006,0,null,0.69513999999999998,0.97328000000000003,2.6199999999999999E-3,null,null,null,null,0.72041100000000002,0.98785959999999995,8.0102310000000003E-4,1.9074200000000001,0.84214,-8.5599999999999999E-3]
[null,567,0.16236250891046392,3.2947491115508953E-3,null,null,null,null,null,null,null,null,null,null,538,0.42458897922312822,9.2599000000000001E-2,9.9947999999999995E-2,0.51470199999999999,0.608622,5.4799999999999998E-4,1.5380000000000001E-3,0.54021699999999995,0.63544999999999996,2.5820000000000001E-3,8.7600000000000004E-4,null,null,null,null,null,null,null,null,null,null,null,null,null,null,null,null,null,null,null,null,null,null,567,0.96796000000000004,0.96489999999999998,0.96804999999999997,0.24138000000000001,0.98493200000000003,0.97807100000000002,null,0.71187999999999996,0.96796000000000004,2.49E-3,null,0.82776119999999997,0.97164879999999998,0,null,0.71187999999999996,0.96796000000000004,2.49E-3,null,null,null,null,0.73944949999999998,0.98493240000000004,7.2738839999999996E-4,1.96834,0.82718000000000003,-8.4200000000000004E-3]
[null,568,0.16210306895238979,3.2894844135790443E-3,null,null,null,null,null,null,null,null,null,null,539,0.4285772357723604,8.7543999999999997E-2,8.6528999999999995E-2,0.51756000000000002,0.55005800000000005,6.7400000000000001E-4,1.835E-3,0.49026900000000001,0.63989600000000002,3.029E-3,1.083E-3,null,null,null,null,null,null,null,null,null,null,null,null,null,null,null,null,null,null,null,null,null,null,568,0.96263999999999994,0.96060000000000001,0.9627,0.23012000000000002,0.98150400000000004,0.97388600000000003,null,0.72862000000000005,0.96263999999999994,2.3599999999999997E-3,null,0.84472579999999997,0.96628320000000001,0,null,0.72862000000000005,0.96263999999999994,2.3599999999999997E-3,null,null,null,null,0.75862850000000004,0.98150360000000003,6.6063470000000003E-4,2.0292599999999998,0.81221999999999994,-8.2799999999999992E-3]
[null,569,0.16184353867812937,3.2842178828615888E-3,null,null,null,null,null,null,null,null,null,null,540,0.43256549232159253,8.5125000000000006E-2,8.0700999999999995E-2,0.52012199999999997,0.52368700000000001,7.3800000000000005E-4,1.923E-3,0.46728399999999998,0.64265000000000005,3.3140000000000001E-3,1.126E-3,null,null,null,null,null,null,null,null,null,null,null,null,null,null,null,null,null,null,null,null,null,null,569,0.95731999999999995,0.95629999999999993,0.95734999999999992,0.21886,0.977603,0.96920300000000004,null,0.74536000000000002,0.95731999999999995,2.2299999999999998E-3,null,0.86169039999999997,0.96091759999999993,0,null,0.74536000000000002,0.95731999999999995,2.2299999999999998E-3,null,null,null,null,0.77778849999999999,0.97760349999999996,6.001146E-4,2.0901800000000001,0.79725999999999997,-8.1399999999999997E-3]
[null,570,0.16147550745666484,3.2767495913940559E-3,null,null,null,null,null,null,null,null,null,null,541,0.43655374887082471,8.2707000000000003E-2,7.4871999999999994E-2,0.52268300000000001,0.49731700000000001,8.0199999999999998E-4,1.7470000000000001E-3,0.444299,0.64540500000000001,3.5990000000000002E-3,1.0399999999999999E-3,null,null,null,null,null,null,null,null,null,null,null,null,null,null,null,null,null,null,null,null,null,null,570,0.95199999999999996,0.95199999999999996,0.95199999999999996,0.20760000000000001,0.97326100000000004,0.964055,null,0.7621,0.95199999999999996,2.0999999999999999E-3,null,0.87865499999999996,0.95555199999999996,0,null,0.7621,0.95199999999999996,2.0999999999999999E-3,null,null,null,null,0.79677500000000001,0.97326109999999999,5.4524160000000001E-4,2.1511,0.7823,-8.0000000000000002E-3]
[null,571,0.16110763827373378,3.2692845881013475E-3,null,null,null,null,null,null,null,null,null,null,542,0.44054200542005684,8.0567E-2,7.0598999999999995E-2,0.52601200000000004,0.47425600000000001,1.0820000000000001E-3,1.7910000000000001E-3,0.42426000000000003,0.64985400000000004,4.1619999999999999E-3,1.181E-3,null,null,null,null,null,null,null,null,null,null,null,null,null,null,null,null,null,null,null,null,null,null,571,0.94467999999999996,0.94379999999999997,0.944716,0.19812000000000002,0.968476,0.95844099999999999,null,0.77817999999999998,0.94467999999999996,2.0399999999999997E-3,null,0.89315639999999996,0.9474766,0,null,0.77817999999999998,0.94467999999999996,2.0399999999999997E-3,null,null,null,null,0.81545299999999998,0.96847640000000002,4.9548470000000005E-4,2.2058800000000001,0.76490000000000002,-7.8600000000000007E-3]
[null,572,0.16121392063719361,3.2714413281328524E-3,null,null,null,null,null,null,null,null,null,null,543,0.44453026196928902,7.8426999999999997E-2,6.6326999999999997E-2,0.52934199999999998,0.45119599999999999,1.361E-3,1.835E-3,0.40422000000000002,0.65430299999999997,4.7260000000000002E-3,1.3209999999999999E-3,null,null,null,null,null,null,null,null,null,null,null,null,null,null,null,null,null,null,null,null,null,null,572,0.93735999999999997,0.93559999999999999,0.93743199999999993,0.18864,0.96313700000000002,0.95223800000000003,null,0.79425999999999997,0.93735999999999997,1.98E-3,null,0.90765779999999996,0.93940119999999994,0,null,0.79425999999999997,0.93735999999999997,1.98E-3,null,null,null,null,0.83373889999999995,0.96313689999999996,4.5036419999999999E-4,2.2606600000000001,0.74750000000000005,-7.7200000000000003E-3]
[null,573,0.16131967854030466,3.2735874255272134E-3,null,null,null,null,null,null,null,null,null,null,544,0.44533423667570005,7.6412999999999995E-2,6.2281999999999997E-2,0.53161800000000003,0.429813,1.402E-3,1.738E-3,0.38507799999999998,0.65777699999999995,5.019E-3,1.1969999999999999E-3,null,null,null,null,null,null,null,null,null,null,null,null,null,null,null,null,null,null,null,null,null,null,573,0.93003999999999998,0.9274,0.93014799999999997,0.17916000000000001,0.95710600000000001,0.94529700000000005,null,0.81034000000000006,0.93003999999999998,1.9199999999999998E-3,null,0.92215919999999996,0.93132579999999998,0,null,0.81034000000000006,0.93003999999999998,1.9199999999999998E-3,null,null,null,null,0.85154929999999995,0.95710620000000002,4.0944549999999999E-4,2.3154399999999997,0.73009999999999997,-7.5799999999999999E-3]
[null,574,0.16049796705112229,3.2569128051539364E-3,null,null,null,null,null,null,null,null,null,null,545,0.445583502710027,7.4399999999999994E-2,5.8236999999999997E-2,0.53389399999999998,0.40842899999999999,1.4430000000000001E-3,1.6410000000000001E-3,0.36593500000000001,0.66125199999999995,5.313E-3,1.072E-3,null,null,null,null,null,null,null,null,null,null,null,null,null,null,null,null,null,null,null,null,null,null,574,0.92271999999999998,0.91920000000000002,0.92286399999999991,0.16968,0.95025400000000004,0.937477,null,0.82642000000000004,0.92271999999999998,1.8599999999999999E-3,null,0.93666059999999995,0.92325039999999992,0,null,0.82642000000000004,0.92271999999999998,1.8599999999999999E-3,null,null,null,null,0.86878619999999995,0.95025400000000004,3.723345E-4,2.3702199999999998,0.7127,-7.4400000000000004E-3]
[null,575,0.16150476709321354,3.2773433439923011E-3,null,null,null,null,null,null,null,null,null,null,546,0.44583276874435401,6.9667999999999994E-2,5.0807999999999999E-2,0.53328799999999998,0.36579,8.5899999999999995E-4,1.2589999999999999E-3,0.32774199999999998,0.66273499999999996,5.5459999999999997E-3,8.9099999999999997E-4,null,null,null,null,null,null,null,null,null,null,null,null,null,null,null,null,null,null,null,null,null,null,575,0.91539999999999999,0.91100000000000003,0.91557999999999995,0.16020000000000001,0.94245699999999999,0.92864899999999995,null,0.84250000000000003,0.91539999999999999,1.8E-3,null,0.95116199999999995,0.91517499999999996,0,null,0.84250000000000003,0.91539999999999999,1.8E-3,null,null,null,null,0.88533759999999995,0.94245690000000004,3.3867389999999998E-4,2.4249999999999998,0.69530000000000003,-7.3000000000000001E-3]
[null,576,0.16251158397185533,3.2977742244871865E-3,null,null,null,null,null,null,null,null,null,null,547,0.44608203477868097,6.7546999999999996E-2,4.7710000000000002E-2,0.53515500000000005,0.34809800000000002,9.8700000000000003E-4,1.2999999999999999E-3,0.31157800000000002,0.66661700000000002,6.1999999999999998E-3,9.7300000000000002E-4,null,null,null,null,null,null,null,null,null,null,null,null,null,null,null,null,null,null,null,null,null,null,576,0.90632000000000001,0.90279999999999994,0.90646399999999994,0.15240000000000001,0.93369000000000002,0.91879500000000003,null,0.85726000000000002,0.90632000000000001,1.7699999999999999E-3,null,0.9637616,0.90592679999999992,0,null,0.85726000000000002,0.90632000000000001,1.7699999999999999E-3,null,null,null,null,0.90115880000000004,0.93368969999999996,3.0813960000000001E-4,2.4714799999999997,0.67556000000000005,-7.1000000000000004E-3]
[null,577,0.16334167345356504,3.314618855681442E-3,null,null,null,null,null,null,null,null,null,null,548,0.44633130081300793,6.5425999999999998E-2,4.4613E-2,0.53702099999999997,0.330405,1.116E-3,1.34E-3,0.29541499999999998,0.67049999999999998,6.8529999999999997E-3,1.0549999999999999E-3,null,null,null,null,null,null,null,null,null,null,null,null,null,null,null,null,null,null,null,null,null,null,577,0.89724000000000004,0.89459999999999995,0.89734799999999992,0.14460000000000001,0.92428900000000003,0.90830100000000003,null,0.87202000000000002,0.89724000000000004,1.74E-3,null,0.97636119999999993,0.89667859999999999,0,null,0.87202000000000002,0.89724000000000004,1.74E-3,null,null,null,null,0.9165278,0.92428929999999998,2.8043700000000003E-4,2.51796,0.65582000000000007,-6.8999999999999999E-3]
[null,578,0.16417170730860617,3.3314623580688193E-3,null,null,null,null,null,null,null,null,null,null,549,0.44658056684733494,6.3329999999999997E-2,4.1570999999999997E-2,0.53607800000000005,0.312087,1.0349999999999999E-3,1.3500000000000001E-3,0.27948099999999998,0.67108500000000004,7.4009999999999996E-3,1.0660000000000001E-3,null,null,null,null,null,null,null,null,null,null,null,null,null,null,null,null,null,null,null,null,null,null,578,0.88815999999999995,0.88639999999999997,0.88823200000000002,0.1368,0.91467100000000001,0.89763499999999996,null,0.88678000000000001,0.88815999999999995,1.7099999999999999E-3,null,0.98896079999999997,0.88743039999999995,0,null,0.88678000000000001,0.88815999999999995,1.7099999999999999E-3,null,null,null,null,0.93182450000000006,0.91467069999999995,2.552996E-4,2.5644399999999998,0.63607999999999998,-6.7000000000000002E-3]
[null,579,0.1652539604181508,3.3534240319495283E-3,null,null,null,null,null,null,null,null,null,null,550,0.44682983288166189,6.1233000000000003E-2,3.8529000000000001E-2,0.53513500000000003,0.29376999999999998,9.5500000000000001E-4,1.3309999999999999E-3,0.26354699999999998,0.66991400000000001,7.9480000000000002E-3,1.078E-3,null,null,null,null,null,null,null,null,null,null,null,null,null,null,null,null,null,null,null,null,null,null,579,0.87907999999999997,0.87819999999999998,0.87911600000000001,0.129,0.90523299999999995,0.88724000000000003,null,0.90154000000000001,0.87907999999999997,1.6800000000000001E-3,null,1.0015604,0.87818220000000002,0,null,0.90154000000000001,0.87907999999999997,1.6800000000000001E-3,null,null,null,null,0.94745239999999997,0.90523330000000002,2.324859E-4,2.6109200000000001,0.61634,-6.4999999999999997E-3]
[null,580,0.16633701595305306,3.375401989085848E-3,null,null,null,null,null,null,null,null,null,null,551,0.4470790989159889,5.9313999999999999E-2,3.6013999999999997E-2,0.53733900000000001,0.27871899999999999,1.0529999999999999E-3,1.372E-3,0.25017800000000001,0.67414300000000005,8.9779999999999999E-3,9.9299999999999996E-4,null,null,null,null,null,null,null,null,null,null,null,null,null,null,null,null,null,null,null,null,null,null,580,0.87,0.87,0.87,0.1212,0.89636099999999996,0.87753599999999998,null,0.9163,0.87,1.65E-3,null,1.01416,0.86893399999999998,0,null,0.9163,0.87,1.65E-3,null,null,null,null,0.9638388,0.89636130000000003,2.117772E-4,2.6574,0.59660000000000002,-6.3E-3]
[null,581,0.16877783255355625,3.4249323787055438E-3,null,null,null,null,null,null,null,null,null,null,552,0.44732836495031586,5.7394000000000001E-2,3.3499000000000001E-2,0.53954400000000002,0.26366699999999998,1.1509999999999999E-3,1.4120000000000001E-3,0.23680899999999999,0.678373,1.0008E-2,9.0799999999999995E-4,null,null,null,null,null,null,null,null,null,null,null,null,null,null,null,null,null,null,null,null,null,null,581,0.85926000000000002,0.85870000000000002,0.85924599999999995,0.11494,0.88830699999999996,0.86879200000000001,null,0.92876000000000003,0.85926000000000002,1.6000000000000001E-3,null,1.0261879999999999,0.86027180000000003,0,null,0.92876000000000003,0.85926000000000002,1.6000000000000001E-3,null,null,null,null,0.98125960000000001,0.88830690000000001,1.9297579999999999E-4,2.7089400000000001,0.57854000000000005,-6.1139999999999996E-3]
[null,582,0.1711886730234386,3.4738544762361757E-3,null,null,null,null,null,null,null,null,null,null,553,0.44757763098464282,5.3703000000000001E-2,2.8669E-2,0.53567799999999999,0.23278599999999999,1.206E-3,1.077E-3,0.21045,0.67701900000000004,1.2224E-2,1.1900000000000001E-3,null,null,null,null,null,null,null,null,null,null,null,null,null,null,null,null,null,null,null,null,null,null,582,0.84852000000000005,0.84740000000000004,0.84849200000000002,0.10868,0.88084600000000002,0.86074700000000004,null,0.94122000000000006,0.84852000000000005,1.5499999999999999E-3,null,1.038216,0.85160959999999997,0,null,0.94122000000000006,0.84852000000000005,1.5499999999999999E-3,null,null,null,null,0.9992953,0.88084620000000002,1.759024E-4,2.7604799999999998,0.56047999999999998,-5.9280000000000001E-3]
[null,583,0.17359949564035387,3.5227762114846046E-3,null,null,null,null,null,null,null,null,null,null,554,0.44782689701896983,5.1806999999999999E-2,2.7286999999999999E-2,0.53577600000000003,0.219972,1.403E-3,1E-3,0.19927600000000001,0.67908400000000002,1.3334E-2,1.31E-3,null,null,null,null,null,null,null,null,null,null,null,null,null,null,null,null,null,null,null,null,null,null,583,0.83777999999999997,0.83609999999999995,0.83773799999999998,0.10242,0.873645,0.85302299999999998,null,0.95367999999999997,0.83777999999999997,1.5E-3,null,1.050244,0.84294740000000001,0,null,0.95367999999999997,0.83777999999999997,1.5E-3,null,null,null,null,1.0173430000000001,0.87364450000000005,1.603947E-4,2.81202,0.54242000000000001,-5.7419999999999997E-3]
[null,584,0.17649662896752372,3.5815664304815354E-3,null,null,null,null,null,null,null,null,null,null,555,0.44807616305329678,4.9910999999999997E-2,2.5905000000000001E-2,0.53587399999999996,0.20715800000000001,1.6000000000000001E-3,9.2199999999999997E-4,0.18810099999999999,0.681149,1.4442999999999999E-2,1.07E-3,null,null,null,null,null,null,null,null,null,null,null,null,null,null,null,null,null,null,null,null,null,null,584,0.82704,0.82479999999999998,0.82698400000000005,9.6159999999999995E-2,0.86637600000000003,0.84525300000000003,null,0.96614,0.82704,1.4499999999999999E-3,null,1.0622720000000001,0.83428519999999995,0,null,0.96614,0.82704,1.4499999999999999E-3,null,null,null,null,1.0347900000000001,0.86637549999999997,1.4630590000000001E-4,2.8635599999999997,0.52435999999999994,-5.5560000000000002E-3]
[null,585,0.17939412397563692,3.6403639889066065E-3,null,null,null,null,null,null,null,null,null,null,556,0.44832542908762379,4.8101999999999999E-2,2.4011000000000001E-2,0.53345600000000004,0.19483200000000001,1.3569999999999999E-3,1.1329999999999999E-3,0.177426,0.68267999999999995,1.5876999999999999E-2,9.2599999999999996E-4,null,null,null,null,null,null,null,null,null,null,null,null,null,null,null,null,null,null,null,null,null,null,585,0.81630000000000003,0.8135,0.81623000000000001,8.9899999999999994E-2,0.85872000000000004,0.83708400000000005,null,0.97860000000000003,0.81630000000000003,1.4E-3,null,1.0743,0.825623,0,null,0.97860000000000003,0.81630000000000003,1.4E-3,null,null,null,null,1.0510109999999999,0.85872029999999999,1.3350309999999999E-4,2.9150999999999998,0.50629999999999997,-5.3699999999999998E-3]
[null,586,0.18514454490309765,3.7570546853545345E-3,null,null,null,null,null,null,null,null,null,null,557,0.44857469512195075,4.6293000000000001E-2,2.2117999999999999E-2,0.53103699999999998,0.182505,1.114E-3,1.3439999999999999E-3,0.16675000000000001,0.67961700000000003,1.7311E-2,7.8200000000000003E-4,null,null,null,null,null,null,null,null,null,null,null,null,null,null,null,null,null,null,null,null,null,null,586,0.80444000000000004,0.80220000000000002,0.80438399999999999,8.5019999999999998E-2,0.85043000000000002,0.828241,null,0.98814000000000002,0.80444000000000004,1.34E-3,null,1.0831440000000001,0.81597940000000002,0,null,0.98814000000000002,0.80444000000000004,1.34E-3,null,null,null,null,1.0655220000000001,0.85042949999999995,1.21866E-4,2.9476599999999999,0.48909999999999998,-5.1859999999999996E-3]
[null,587,0.18907834503935489,3.8368815160122185E-3,null,null,null,null,null,null,null,null,null,null,558,0.44882396115627776,4.4706999999999997E-2,2.0773E-2,0.53130900000000003,0.17257,1.242E-3,1.3780000000000001E-3,0.157833,0.68223800000000001,1.9130999999999999E-2,9.5299999999999996E-4,null,null,null,null,null,null,null,null,null,null,null,null,null,null,null,null,null,null,null,null,null,null,587,0.79258000000000006,0.79090000000000005,0.79253799999999996,8.0140000000000003E-2,0.84150499999999995,0.81873200000000002,null,0.99768000000000001,0.79258000000000006,1.2800000000000001E-3,null,1.091988,0.80633580000000005,0,null,0.99768000000000001,0.79258000000000006,1.2800000000000001E-3,null,null,null,null,1.0784210000000001,0.84150469999999999,1.112857E-4,2.9802200000000001,0.47189999999999999,-5.0019999999999995E-3]
[null,588,0.19301210516431772,3.9167075347387639E-3,null,null,null,null,null,null,null,null,null,null,559,0.44907322719060472,4.3121E-2,1.9428000000000001E-2,0.53158000000000005,0.162634,1.3699999999999999E-3,1.3110000000000001E-3,0.14891699999999999,0.68485799999999997,2.0951000000000001E-2,1.124E-3,null,null,null,null,null,null,null,null,null,null,null,null,null,null,null,null,null,null,null,null,null,null,588,0.78071999999999997,0.77959999999999996,0.78069200000000005,7.5259999999999994E-2,0.83201099999999995,0.80863499999999999,null,1.00722,0.78071999999999997,1.2199999999999999E-3,null,1.100832,0.79669219999999996,0,null,1.00722,0.78071999999999997,1.2199999999999999E-3,null,null,null,null,1.089944,0.8320109,1.0166340000000001E-4,3.0127799999999998,0.45469999999999999,-4.8179999999999994E-3]
[null,589,0.19677213689705764,3.9930081616136523E-3,null,null,null,null,null,null,null,null,null,null,560,0.44861310377809527,3.9718999999999997E-2,1.6735E-2,0.52645399999999998,0.142623,1.3290000000000001E-3,1.021E-3,0.132355,0.68420000000000003,2.5472999999999999E-2,1.256E-3,null,null,null,null,null,null,null,null,null,null,null,null,null,null,null,null,null,null,null,null,null,null,589,0.76885999999999999,0.76829999999999998,0.76884600000000003,7.0379999999999998E-2,0.82201500000000005,0.79803000000000002,null,1.0167600000000001,0.76885999999999999,1.16E-3,null,1.1096759999999999,0.78704859999999999,0,null,1.0167600000000001,0.76885999999999999,1.16E-3,null,null,null,null,1.10032,0.82201539999999995,9.2910030000000005E-5,3.0453399999999999,0.4375,-4.6340000000000001E-3]
[null,590,0.20053172879608039,4.0692998631414352E-3,null,null,null,null,null,null,null,null,null,null,561,0.44755738880918083,3.8503999999999997E-2,1.5699999999999999E-2,0.52576000000000001,0.13430600000000001,1.366E-3,1.0059999999999999E-3,0.12531500000000001,0.68603000000000003,2.8646999999999999E-2,1.3860000000000001E-3,null,null,null,null,null,null,null,null,null,null,null,null,null,null,null,null,null,null,null,null,null,null,590,0.75700000000000001,0.75700000000000001,0.75700000000000001,6.5500000000000003E-2,0.81158699999999995,0.786995,null,1.0263,0.75700000000000001,1.1000000000000001E-3,null,1.11852,0.77740500000000001,0,null,1.0263,0.75700000000000001,1.1000000000000001E-3,null,null,null,null,1.1097669999999999,0.81158680000000005,8.4944679999999999E-5,3.0779000000000001,0.42030000000000001,-4.45E-3]
[null,591,0.20498996862920976,4.159768911863663E-3,null,null,null,null,null,null,null,null,null,null,562,0.44650167384026646,3.7289999999999997E-2,1.4666E-2,0.52506600000000003,0.12598799999999999,1.4040000000000001E-3,9.9099999999999991E-4,0.11827500000000001,0.68786099999999994,3.1821000000000002E-2,1.126E-3,null,null,null,null,null,null,null,null,null,null,null,null,null,null,null,null,null,null,null,null,null,null,591,0.74458000000000002,0.74439999999999995,0.74456599999999995,6.1780000000000002E-2,0.80078700000000003,0.77560399999999996,null,1.0323800000000001,0.74458000000000002,1.08E-3,null,1.1216759999999999,0.76599459999999997,0,null,1.0323800000000001,0.74458000000000002,1.08E-3,null,null,null,null,1.118438,0.80078740000000004,7.7694249999999996E-5,3.0945800000000001,0.40344000000000002,-4.274E-3]
[null,592,0.20944817068863747,4.2502371940612111E-3,null,null,null,null,null,null,null,null,null,null,563,0.44544595887135202,3.5910999999999998E-2,1.3715E-2,0.52267600000000003,0.11842999999999999,1.485E-3,1.0330000000000001E-3,0.11136699999999999,0.689079,3.5645999999999997E-2,9.6599999999999995E-4,null,null,null,null,null,null,null,null,null,null,null,null,null,null,null,null,null,null,null,null,null,null,592,0.73216000000000003,0.73180000000000001,0.73213200000000001,5.806E-2,0.78965200000000002,0.76390000000000002,null,1.0384599999999999,0.73216000000000003,1.06E-3,null,1.1248320000000001,0.75458420000000004,0,null,1.0384599999999999,0.73216000000000003,1.06E-3,null,null,null,null,1.126266,0.78965149999999995,7.1092469999999995E-5,3.1112600000000001,0.38658000000000003,-4.0980000000000001E-3]
[null,593,0.21590177329404298,4.3811972389210009E-3,null,null,null,null,null,null,null,null,null,null,564,0.44439024390243759,3.4532E-2,1.2763999999999999E-2,0.52028700000000005,0.110871,1.5659999999999999E-3,1.075E-3,0.104459,0.68664199999999997,3.9469999999999998E-2,8.0599999999999997E-4,null,null,null,null,null,null,null,null,null,null,null,null,null,null,null,null,null,null,null,null,null,null,593,0.71973999999999994,0.71920000000000006,0.71969799999999995,5.4339999999999999E-2,0.77820500000000004,0.75191600000000003,null,1.04454,0.71973999999999994,1.0400000000000001E-3,null,1.127988,0.7431738,0,null,1.04454,0.71973999999999994,1.0400000000000001E-3,null,null,null,null,1.133138,0.77820529999999999,6.5079360000000003E-5,3.1279400000000002,0.36972000000000005,-3.9220000000000001E-3]
[null,594,0.21862308292325583,4.4364195469727219E-3,null,null,null,null,null,null,null,null,null,null,565,0.44333452893352321,3.3432999999999997E-2,1.2274999999999999E-2,0.52071800000000001,0.105124,1.851E-3,8.03E-4,9.9287E-2,0.689751,4.3748000000000002E-2,8.7299999999999997E-4,null,null,null,null,null,null,null,null,null,null,null,null,null,null,null,null,null,null,null,null,null,null,594,0.70731999999999995,0.70660000000000001,0.707264,5.0619999999999998E-2,0.76647299999999996,0.73968299999999998,null,1.0506199999999999,0.70731999999999995,1.0200000000000001E-3,null,1.1311440000000001,0.73176340000000006,0,null,1.0506199999999999,0.70731999999999995,1.0200000000000001E-3,null,null,null,null,1.138952,0.76647330000000002,5.9600610000000001E-5,3.1446200000000002,0.35286000000000001,-3.7459999999999998E-3]
[null,595,0.22134452250685521,4.4916444921301547E-3,null,null,null,null,null,null,null,null,null,null,566,0.44227881396460877,3.2333000000000001E-2,1.1785E-2,0.52115,9.9376000000000006E-2,2.1359999999999999E-3,5.31E-4,9.4114000000000003E-2,0.69286000000000003,4.8024999999999998E-2,9.3999999999999997E-4,null,null,null,null,null,null,null,null,null,null,null,null,null,null,null,null,null,null,null,null,null,null,595,0.69489999999999996,0.69399999999999995,0.69482999999999995,4.6899999999999997E-2,0.75447900000000001,0.72723099999999996,null,1.0567,0.69489999999999996,1E-3,null,1.1343000000000001,0.72035300000000002,0,null,1.0567,0.69489999999999996,1E-3,null,null,null,null,1.1436200000000001,0.75447850000000005,5.4607059999999998E-5,3.1613000000000002,0.33600000000000002,-3.5699999999999998E-3]
[null,596,0.2222751065385786,4.5105284138699624E-3,null,null,null,null,null,null,null,null,null,null,567,0.4412230989956944,3.0259999999999999E-2,1.0609E-2,0.51452100000000001,8.7640999999999997E-2,2.31E-3,9.1500000000000001E-4,8.3016999999999994E-2,0.68996599999999997,5.8203999999999999E-2,9.4399999999999996E-4,null,null,null,null,null,null,null,null,null,null,null,null,null,null,null,null,null,null,null,null,null,null,596,0.68211999999999995,0.68140000000000001,0.682064,4.4149999999999995E-2,0.74224699999999999,0.714588,null,1.0578000000000001,0.68211999999999995,9.6000000000000002E-4,null,1.1322380000000001,0.70795059999999999,0,null,1.0578000000000001,0.68211999999999995,9.6000000000000002E-4,null,null,null,null,1.147095,0.74224730000000005,5.0054169999999997E-5,3.1625000000000001,0.32062000000000002,-3.4099999999999998E-3]
[null,597,0.22320603802006539,4.5294193862509989E-3,null,null,null,null,null,null,null,null,null,null,568,0.44016738402677996,2.9045999999999999E-2,9.979E-3,0.51475800000000005,8.3065E-2,2.4390000000000002E-3,1.016E-3,7.8728999999999993E-2,0.69354400000000005,6.5123E-2,1.0529999999999999E-3,null,null,null,null,null,null,null,null,null,null,null,null,null,null,null,null,null,null,null,null,null,null,597,0.66933999999999994,0.66880000000000006,0.66929799999999995,4.1399999999999999E-2,0.729823,0.701793,null,1.0589,0.66933999999999994,9.2000000000000003E-4,null,1.1301760000000001,0.69554819999999995,0,null,1.0589,0.66933999999999994,9.2000000000000003E-4,null,null,null,null,1.149464,0.72982290000000005,4.5901569999999999E-5,3.1637,0.30524000000000001,-3.2499999999999999E-3]
[null,598,0.22367143878982107,4.5388635540145874E-3,null,null,null,null,null,null,null,null,null,null,569,0.43911166905786558,2.7831999999999999E-2,9.3480000000000004E-3,0.51499499999999998,7.8489000000000003E-2,2.568E-3,1.1169999999999999E-3,7.4440999999999993E-2,0.69712099999999999,7.2040999999999994E-2,1.1620000000000001E-3,null,null,null,null,null,null,null,null,null,null,null,null,null,null,null,null,null,null,null,null,null,null,598,0.65656000000000003,0.65620000000000001,0.656532,3.8649999999999997E-2,0.717252,0.68888700000000003,null,1.06,0.65656000000000003,8.8000000000000003E-4,null,1.1281140000000001,0.68314580000000003,0,null,1.06,0.65656000000000003,8.8000000000000003E-4,null,null,null,null,1.150838,0.71725249999999996,4.2112679999999999E-5,3.1649000000000003,0.28986000000000001,-3.0899999999999999E-3]
[null,599,0.22235245554164321,4.5120980222779416E-3,null,null,null,null,null,null,null,null,null,null,570,0.43805595408895115,2.6759999999999999E-2,8.8649999999999996E-3,0.51407199999999997,7.4508000000000005E-2,2.6770000000000001E-3,1.212E-3,7.0725999999999997E-2,0.69903899999999997,8.0350000000000005E-2,1.2359999999999999E-3,null,null,null,null,null,null,null,null,null,null,null,null,null,null,null,null,null,null,null,null,null,null,599,0.64378000000000002,0.64359999999999995,0.64376599999999995,3.5900000000000001E-2,0.70458200000000004,0.67591000000000001,null,1.0610999999999999,0.64378000000000002,8.4000000000000003E-4,null,1.1260520000000001,0.67074339999999999,0,null,1.0610999999999999,0.64378000000000002,8.4000000000000003E-4,null,null,null,null,1.1513260000000001,0.70458180000000004,3.8654369999999998E-5,3.1661000000000001,0.27448,-2.9299999999999999E-3]
[null,600,0.221019036470117,4.4850395508936472E-3,null,null,null,null,null,null,null,null,null,null,571,0.43700023912003672,2.5687000000000001E-2,8.3820000000000006E-3,0.51315,7.0527000000000006E-2,2.7859999999999998E-3,1.023E-3,6.701E-2,0.70095700000000005,8.8658000000000001E-2,1.31E-3,null,null,null,null,null,null,null,null,null,null,null,null,null,null,null,null,null,null,null,null,null,null,600,0.63100000000000001,0.63100000000000001,0.63100000000000001,3.3149999999999999E-2,0.691855,0.66290400000000005,null,1.0622,0.63100000000000001,8.0000000000000004E-4,null,1.12399,0.65834099999999995,0,null,1.0622,0.63100000000000001,8.0000000000000004E-4,null,null,null,null,1.151033,0.69185529999999995,3.5496610000000002E-5,3.1673,0.2591,-2.7699999999999999E-3]
[null,601,0.21994981504192451,4.4633423230408115E-3,null,null,null,null,null,null,null,null,null,null,572,0.43594452415112234,2.4877E-2,7.8569999999999994E-3,0.51280000000000003,6.6755999999999996E-2,3.1849999999999999E-3,8.7600000000000004E-4,6.3823000000000005E-2,0.70360800000000001,9.9031999999999995E-2,1.4580000000000001E-3,null,null,null,null,null,null,null,null,null,null,null,null,null,null,null,null,null,null,null,null,null,null,601,0.61816000000000004,0.61819999999999997,0.61810799999999999,3.1143999999999998E-2,0.67910099999999995,0.649891,null,1.05888,0.61816000000000004,7.6000000000000004E-4,null,1.1170120000000001,0.64544839999999992,0,null,1.05888,0.61816000000000004,7.6000000000000004E-4,null,null,null,null,1.150002,0.67910090000000001,3.2612199999999999E-5,3.1547999999999998,0.24562,-2.6319999999999998E-3]
[null,602,0.21888053574947058,4.4416439209746354E-3,null,null,null,null,null,null,null,null,null,null,573,0.4348888091822079,2.4067000000000002E-2,7.332E-3,0.51244900000000004,6.2983999999999998E-2,3.5839999999999999E-3,7.2900000000000005E-4,6.0636000000000002E-2,0.70625800000000005,0.109405,1.6069999999999999E-3,null,null,null,null,null,null,null,null,null,null,null,null,null,null,null,null,null,null,null,null,null,null,602,0.60531999999999997,0.60540000000000005,0.60521599999999998,2.9138000000000001E-2,0.66628500000000002,0.63684099999999999,null,1.0555600000000001,0.60531999999999997,7.2000000000000005E-4,null,1.110034,0.6325558,0,null,1.0555600000000001,0.60531999999999997,7.2000000000000005E-4,null,null,null,null,1.148061,0.6662846,2.9976429999999999E-5,3.1423000000000001,0.23214000000000001,-2.4939999999999997E-3]
[null,603,0.21753271377833033,4.4142931780491741E-3,null,null,null,null,null,null,null,null,null,null,574,0.43383309421329352,2.2682000000000001E-2,6.5079999999999999E-3,0.50728499999999999,5.5553999999999999E-2,4.0940000000000004E-3,6.9300000000000004E-4,5.3503000000000002E-2,0.70374300000000001,0.13386600000000001,1.3569999999999999E-3,null,null,null,null,null,null,null,null,null,null,null,null,null,null,null,null,null,null,null,null,null,null,603,0.59248000000000001,0.59260000000000002,0.59232400000000007,2.7132E-2,0.65335900000000002,0.62370899999999996,null,1.0522400000000001,0.59248000000000001,6.7999999999999994E-4,null,1.103056,0.61966319999999997,0,null,1.0522400000000001,0.59248000000000001,6.7999999999999994E-4,null,null,null,null,1.144998,0.65335949999999998,2.7566930000000001E-5,3.1297999999999999,0.21866000000000002,-2.3559999999999996E-3]
[null,604,0.21618414399208458,4.3869272600492995E-3,null,null,null,null,null,null,null,null,null,null,575,0.43277737924437909,2.2148000000000001E-2,6.4019999999999997E-3,0.50751000000000002,5.28E-2,4.8669999999999998E-3,6.4999999999999997E-4,5.1088000000000001E-2,0.70717099999999999,0.14957000000000001,1.3990000000000001E-3,null,null,null,null,null,null,null,null,null,null,null,null,null,null,null,null,null,null,null,null,null,null,604,0.57963999999999993,0.57979999999999998,0.57943200000000006,2.5126000000000002E-2,0.64028099999999999,0.61045400000000005,null,1.0489200000000001,0.57963999999999993,6.3999999999999994E-4,null,1.0960779999999999,0.60677060000000005,0,null,1.0489200000000001,0.57963999999999993,6.3999999999999994E-4,null,null,null,null,1.140622,0.64028070000000004,2.5363390000000001E-5,3.1173000000000002,0.20518,-2.2179999999999999E-3]
[null,605,0.21570626115342212,4.3772297992951247E-3,null,null,null,null,null,null,null,null,null,null,576,0.43172166427546471,2.1613E-2,6.2950000000000002E-3,0.50773500000000005,5.0046E-2,5.64E-3,6.0700000000000001E-4,4.8673000000000001E-2,0.71059899999999998,0.16527500000000001,1.4400000000000001E-3,null,null,null,null,null,null,null,null,null,null,null,null,null,null,null,null,null,null,null,null,null,null,605,0.56679999999999997,0.56699999999999995,0.56654000000000004,2.3120000000000002E-2,0.62700699999999998,0.59703700000000004,null,1.0456000000000001,0.56679999999999997,5.9999999999999995E-4,null,1.0891,0.59387800000000002,0,null,1.0456000000000001,0.56679999999999997,5.9999999999999995E-4,null,null,null,null,1.134757,0.62700659999999997,2.3347380000000001E-5,3.1048,0.19170000000000001,-2.0799999999999998E-3]
[null,606,0.21706964819442345,4.4048963971580367E-3,null,null,null,null,null,null,null,null,null,null,577,0.43066594930655028,2.0728E-2,6.0629999999999998E-3,0.50727999999999995,4.7197999999999997E-2,5.9519999999999998E-3,5.6700000000000001E-4,4.5933000000000002E-2,0.71237399999999995,0.18421399999999999,1.24E-3,null,null,null,null,null,null,null,null,null,null,null,null,null,null,null,null,null,null,null,null,null,null,606,0.55403999999999998,0.55420000000000003,0.55383199999999999,2.1682E-2,0.61351500000000003,0.58343999999999996,null,1.0370000000000001,0.55403999999999998,5.4799999999999998E-4,null,1.0773759999999999,0.58069499999999996,0,null,1.0370000000000001,0.55403999999999998,5.4799999999999998E-4,null,null,null,null,1.1272979999999999,0.61351480000000003,2.150221E-5,3.07308,0.1807,-1.964E-3]
[null,607,0.21843340053815519,4.4325704079443773E-3,null,null,null,null,null,null,null,null,null,null,578,0.42961023433763584,1.9841999999999999E-2,5.8300000000000001E-3,0.50682499999999997,4.4350000000000001E-2,6.2639999999999996E-3,5.2800000000000004E-4,4.3194000000000003E-2,0.71414999999999995,0.203153,1.0399999999999999E-3,null,null,null,null,null,null,null,null,null,null,null,null,null,null,null,null,null,null,null,null,null,null,607,0.54127999999999998,0.54139999999999999,0.54112400000000005,2.0244000000000002E-2,0.59984899999999997,0.56970399999999999,null,1.0284,0.54127999999999998,4.9600000000000002E-4,null,1.065652,0.56751200000000002,0,null,1.0284,0.54127999999999998,4.9600000000000002E-4,null,null,null,null,1.1183419999999999,0.59984939999999998,1.981268E-5,3.0413600000000001,0.16969999999999999,-1.8479999999999998E-3]
[null,608,0.22184965983405719,4.5018950159190401E-3,null,null,null,null,null,null,null,null,null,null,579,0.42855451936872146,1.9054999999999999E-2,5.4939999999999998E-3,0.50547600000000004,4.2097999999999997E-2,6.8129999999999996E-3,7.36E-4,4.0939999999999997E-2,0.71531,0.226054,9.2100000000000005E-4,null,null,null,null,null,null,null,null,null,null,null,null,null,null,null,null,null,null,null,null,null,null,608,0.52851999999999999,0.52859999999999996,0.528416,1.8806E-2,0.58606800000000003,0.55588899999999997,null,1.0198,0.52851999999999999,4.44E-4,null,1.053928,0.55432899999999996,0,null,1.0198,0.52851999999999999,4.44E-4,null,null,null,null,1.108033,0.58606820000000004,1.8264999999999999E-5,3.0096400000000001,0.15870000000000001,-1.732E-3]
[null,609,0.22526570248117347,4.5712152275376779E-3,null,null,null,null,null,null,null,null,null,null,580,0.42749880439980703,1.8269000000000001E-2,5.1580000000000003E-3,0.50412800000000002,3.9845999999999999E-2,7.3629999999999998E-3,9.4399999999999996E-4,3.8685999999999998E-2,0.71646900000000002,0.24895600000000001,8.0099999999999995E-4,null,null,null,null,null,null,null,null,null,null,null,null,null,null,null,null,null,null,null,null,null,null,609,0.51576,0.51580000000000004,0.51570800000000006,1.7368000000000001E-2,0.57222600000000001,0.54204699999999995,null,1.0111999999999999,0.51576,3.9199999999999999E-4,null,1.0422040000000001,0.54114600000000002,0,null,1.0111999999999999,0.51576,3.9199999999999999E-4,null,null,null,null,1.0965149999999999,0.57222609999999996,1.684667E-5,2.9779200000000001,0.1477,-1.616E-3]
[null,610,0.23568973735594348,4.7827454623985081E-3,null,null,null,null,null,null,null,null,null,null,581,0.42644308943089265,1.6934000000000001E-2,4.6179999999999997E-3,0.49937500000000001,3.5588000000000002E-2,8.8489999999999992E-3,8.7799999999999998E-4,3.4953999999999999E-2,0.71565900000000005,0.30327700000000002,1.371E-3,null,null,null,null,null,null,null,null,null,null,null,null,null,null,null,null,null,null,null,null,null,null,610,0.503,0.503,0.503,1.593E-2,0.55837499999999995,0.52822999999999998,null,1.0025999999999999,0.503,3.4000000000000002E-4,null,1.0304800000000001,0.52796299999999996,0,null,1.0025999999999999,0.503,3.4000000000000002E-4,null,null,null,null,1.083928,0.55837460000000005,1.5546310000000001E-5,2.9462000000000002,0.13669999999999999,-1.5E-3]
[null,611,0.24419467266020292,4.9553322758540659E-3,null,null,null,null,null,null,null,null,null,null,582,0.42538737446197822,1.636E-2,4.679E-3,0.49881500000000001,3.3992000000000001E-2,9.8259999999999997E-3,7.5100000000000004E-4,3.3377999999999998E-2,0.71741100000000002,0.33723199999999998,1.511E-3,null,null,null,null,null,null,null,null,null,null,null,null,null,null,null,null,null,null,null,null,null,null,611,0.49064000000000002,0.49080000000000001,0.49074400000000001,1.4919999999999999E-2,0.54455399999999998,0.51447500000000002,null,0.98975999999999997,0.49064000000000002,3.2000000000000003E-4,null,1.014532,0.51473720000000001,0,null,0.98975999999999997,0.49064000000000002,3.2000000000000003E-4,null,null,null,null,1.070387,0.54455350000000002,1.4353599999999999E-5,2.9008400000000001,0.12811999999999998,-1.4060000000000001E-3]
[null,612,0.2527000824876971,5.1279287185954526E-3,null,null,null,null,null,null,null,null,null,null,583,0.42378019744482864,1.5786000000000001E-2,4.7390000000000002E-3,0.498255,3.2396000000000001E-2,1.0803E-2,6.2299999999999996E-4,3.1801999999999997E-2,0.719163,0.37118699999999999,1.65E-3,null,null,null,null,null,null,null,null,null,null,null,null,null,null,null,null,null,null,null,null,null,null,612,0.47827999999999998,0.47860000000000003,0.47848800000000002,1.391E-2,0.53076699999999999,0.50078800000000001,null,0.97692000000000001,0.47827999999999998,3.0000000000000003E-4,null,0.99858400000000003,0.50151139999999994,0,null,0.97692000000000001,0.47827999999999998,3.0000000000000003E-4,null,null,null,null,1.0559339999999999,0.53076730000000005,1.325915E-5,2.85548,0.11953999999999999,-1.312E-3]
[null,613,0.26359108152658584,5.3489348464760477E-3,null,null,null,null,null,null,null,null,null,null,584,0.42147270615563009,1.5445E-2,4.2700000000000004E-3,0.49747999999999998,3.0661999999999998E-2,1.1950000000000001E-2,6.0400000000000004E-4,3.0251E-2,0.72048199999999996,0.41202699999999998,1.8159999999999999E-3,null,null,null,null,null,null,null,null,null,null,null,null,null,null,null,null,null,null,null,null,null,null,613,0.46592,0.46639999999999998,0.46623199999999998,1.29E-2,0.51701299999999994,0.48716900000000002,null,0.96407999999999994,0.46592,2.8000000000000003E-4,null,0.98263600000000006,0.48828559999999999,0,null,0.96407999999999994,0.46592,2.8000000000000003E-4,null,null,null,null,1.040592,0.51701299999999994,1.2254429999999999E-5,2.81012,0.11095999999999999,-1.2180000000000001E-3]
[null,614,0.27448170103156422,5.5699332726463022E-3,null,null,null,null,null,null,null,null,null,null,585,0.41916521486643149,1.5103999999999999E-2,3.8E-3,0.49670599999999998,2.8929E-2,1.3096999999999999E-2,5.8399999999999999E-4,2.8701000000000001E-2,0.72180100000000003,0.45286599999999999,1.9819999999999998E-3,null,null,null,null,null,null,null,null,null,null,null,null,null,null,null,null,null,null,null,null,null,null,614,0.45355999999999996,0.45419999999999999,0.45397599999999999,1.1890000000000001E-2,0.50328899999999999,0.47361599999999998,null,0.95123999999999997,0.45355999999999996,2.6000000000000003E-4,null,0.96668799999999999,0.47505980000000003,0,null,0.95123999999999997,0.45355999999999996,2.6000000000000003E-4,null,null,null,null,1.0243850000000001,0.50328890000000004,1.133169E-5,2.7647599999999999,0.10238,-1.124E-3]
[null,615,0.30124026358598016,6.1129327051763762E-3,null,null,null,null,null,null,null,null,null,null,586,0.41685772357723294,1.3787000000000001E-2,3.8210000000000002E-3,0.49105500000000002,2.5711999999999999E-2,1.6213000000000002E-2,4.9399999999999997E-4,2.6116E-2,0.71845899999999996,0.54405899999999996,2.2330000000000002E-3,null,null,null,null,null,null,null,null,null,null,null,null,null,null,null,null,null,null,null,null,null,null,615,0.44119999999999998,0.442,0.44172,1.0880000000000001E-2,0.489595,0.46013100000000001,null,0.93840000000000001,0.44119999999999998,2.4000000000000001E-4,null,0.95074000000000003,0.46183400000000002,0,null,0.93840000000000001,0.44119999999999998,2.4000000000000001E-4,null,null,null,null,1.007344,0.489595,1.0483869999999999E-5,2.7193999999999998,9.3799999999999994E-2,-1.0300000000000001E-3]
[null,616,0.31769933138334977,6.4469291392438254E-3,null,null,null,null,null,null,null,null,null,null,587,0.41455023228803434,1.3390000000000001E-2,3.5669999999999999E-3,0.48958200000000002,2.4209999999999999E-2,1.821E-2,5.53E-4,2.4684999999999999E-2,0.71811100000000005,0.59630300000000003,2.5279999999999999E-3,null,null,null,null,null,null,null,null,null,null,null,null,null,null,null,null,null,null,null,null,null,null,616,0.42915999999999999,0.42980000000000002,0.42957600000000001,1.0178000000000001E-2,0.47594399999999998,0.44672600000000001,null,0.92161999999999999,0.42915999999999999,2.3000000000000001E-4,null,0.9318514,0.44907859999999999,0,null,0.92161999999999999,0.42915999999999999,2.3000000000000001E-4,null,null,null,null,0.98952680000000004,0.47594419999999998,0,2.6660399999999997,8.725999999999999E-2,-9.6000000000000013E-4]
[null,617,{"$f":"SUMPRODUCT($P$37:$AD$37,P299:AD299)","v":0.33415914597940838},{"$f":"C270/$C$12","v":6.780940727760006E-3},null,null,null,null,null,null,null,null,null,null,588,0.41224274099883573,1.2992E-2,3.3140000000000001E-3,0.48810799999999999,2.2709E-2,2.0206999999999999E-2,6.1300000000000005E-4,2.3254E-2,0.71776399999999996,0.64854800000000001,2.8240000000000001E-3,null,null,null,null,null,null,null,null,null,null,null,null,null,null,null,null,null,null,null,null,null,null,617,0.41711999999999999,0.41760000000000003,0.41743200000000003,9.476E-3,0.46239599999999997,0.43345899999999998,null,0.90483999999999998,0.41711999999999999,2.2000000000000001E-4,null,0.91296279999999996,0.43632320000000002,0,null,0.90483999999999998,0.41711999999999999,2.2000000000000001E-4,null,null,null,null,0.97112129999999997,0.46239580000000002,0,2.6126799999999997,8.072E-2,-8.9000000000000006E-4]
[null,618,0.35319385705436901,7.16720352835173E-3,null,null,null,null,null,null,null,null,null,null,589,0.40993524970963718,1.2295E-2,3.4150000000000001E-3,0.48516599999999999,2.1649999999999999E-2,2.2234E-2,5.6899999999999995E-4,2.2192E-2,0.71562300000000001,0.70270999999999995,3.4190000000000002E-3,null,null,null,null,null,null,null,null,null,null,null,null,null,null,null,null,null,null,null,null,null,null,618,0.40508,0.40539999999999998,0.40528799999999998,8.7740000000000005E-3,0.449015,0.42039199999999999,null,0.88806000000000007,0.40508,2.1000000000000001E-4,null,0.89407420000000004,0.42356779999999999,0,null,0.88806000000000007,0.40508,2.1000000000000001E-4,null,null,null,null,0.95232570000000005,0.44901540000000001,0,2.55932,7.4179999999999996E-2,-8.2000000000000009E-4]
[null,619,0.37222831577460991,7.5534612080230259E-3,null,null,null,null,null,null,null,null,null,null,590,0.40762775842043858,1.1597E-2,3.5170000000000002E-3,0.48222399999999999,2.0591000000000002E-2,2.426E-2,5.2499999999999997E-4,2.1129999999999999E-2,0.71348199999999995,0.75687199999999999,4.0140000000000002E-3,null,null,null,null,null,null,null,null,null,null,null,null,null,null,null,null,null,null,null,null,null,null,619,0.39304,0.39319999999999999,0.39314399999999999,8.0719999999999993E-3,0.43586200000000003,0.40758100000000003,null,0.87128000000000005,0.39304,2.0000000000000001E-4,null,0.87518560000000001,0.41081240000000002,0,null,0.87128000000000005,0.39304,2.0000000000000001E-4,null,null,null,null,0.93332479999999995,0.43586219999999998,0,2.50596,6.7640000000000006E-2,-7.5000000000000002E-4]
[null,620,0.41236308200065258,8.3678979043571439E-3,null,null,null,null,null,null,null,null,null,null,591,0.40532026713124003,1.1214999999999999E-2,3.3110000000000001E-3,0.48083599999999999,1.9861E-2,2.6838999999999998E-2,6.5899999999999997E-4,2.0233999999999999E-2,0.713395,0.81072699999999998,5.228E-3,null,null,null,null,null,null,null,null,null,null,null,null,null,null,null,null,null,null,null,null,null,null,620,0.38100000000000001,0.38100000000000001,0.38100000000000001,7.3699999999999998E-3,0.42298999999999998,0.39507599999999998,null,0.85450000000000004,0.38100000000000001,1.9000000000000001E-4,null,0.85629699999999997,0.39805699999999999,0,null,0.85450000000000004,0.38100000000000001,1.9000000000000001E-4,null,null,null,null,0.91428770000000004,0.42298970000000002,0,2.4525999999999999,6.1100000000000002E-2,-6.8000000000000005E-4]
[null,621,0.43227801266260141,8.7720226037434866E-3,null,null,null,null,null,null,null,null,null,null,592,0.40301277584204143,1.0832E-2,3.1050000000000001E-3,0.47944799999999999,1.9130999999999999E-2,2.9418E-2,7.94E-4,1.9337E-2,0.71330700000000002,0.86458199999999996,6.4429999999999999E-3,null,null,null,null,null,null,null,null,null,null,null,null,null,null,null,null,null,null,null,null,null,null,621,0.36899999999999999,0.36940000000000001,0.36890400000000001,6.8899999999999994E-3,0.41041499999999997,0.38288899999999998,null,0.83388000000000007,0.36899999999999999,1.7200000000000001E-4,null,0.83602359999999998,0.38635639999999999,0,null,0.83388000000000007,0.36899999999999999,1.7200000000000001E-4,null,null,null,null,0.89527979999999996,0.41041519999999998,0,2.39608,5.6300000000000003E-2,-6.3240000000000008E-4]
[null,622,0.4521809965704931,9.1759048730418735E-3,null,null,null,null,null,null,null,null,null,null,593,0.40070528455284282,1.0071E-2,2.8059999999999999E-3,0.47296700000000003,1.7096E-2,3.5853000000000003E-2,8.1999999999999998E-4,1.7479999999999999E-2,0.70720899999999998,0.94622200000000001,9.9559999999999996E-3,null,null,null,null,null,null,null,null,null,null,null,null,null,null,null,null,null,null,null,null,null,null,622,0.35699999999999998,0.35780000000000001,0.35680800000000001,6.4099999999999999E-3,0.398036,0.370919,null,0.81325999999999998,0.35699999999999998,1.54E-4,null,0.81575019999999998,0.37465579999999998,0,null,0.81325999999999998,0.35699999999999998,1.54E-4,null,null,null,null,0.87601569999999995,0.39803559999999999,0,2.3395600000000001,5.1500000000000004E-2,-5.8480000000000001E-4]
[null,623,0.46912034397737568,9.5196474044525938E-3,null,null,null,null,null,null,null,null,null,null,594,0.39839779326364427,9.9749999999999995E-3,2.5969999999999999E-3,0.47054200000000002,1.6358999999999999E-2,3.9896000000000001E-2,6.0400000000000004E-4,1.6823999999999999E-2,0.70508800000000005,0.97138899999999995,1.2682000000000001E-2,null,null,null,null,null,null,null,null,null,null,null,null,null,null,null,null,null,null,null,null,null,null,623,0.34500000000000003,0.34620000000000001,0.34471200000000002,5.9299999999999995E-3,0.38573000000000002,0.359045,null,0.79264000000000001,0.34500000000000003,1.36E-4,null,0.79547679999999998,0.36295520000000003,0,null,0.79264000000000001,0.34500000000000003,1.36E-4,null,null,null,null,0.8561607,0.38573000000000002,0,2.2830399999999997,4.6699999999999998E-2,-5.3720000000000005E-4]
[null,624,0.48605930887188326,9.8633821737123331E-3,null,null,null,null,null,null,null,null,null,null,595,0.39609030197444567,9.8779999999999996E-3,2.3879999999999999E-3,0.46811700000000001,1.5620999999999999E-2,4.394E-2,3.8699999999999997E-4,1.6167999999999998E-2,0.70296599999999998,0.99655499999999997,1.5407000000000001E-2,null,null,null,null,null,null,null,null,null,null,null,null,null,null,null,null,null,null,null,null,null,null,624,0.33300000000000002,0.33460000000000001,0.33261600000000002,5.45E-3,0.37339099999999997,0.34716200000000003,null,0.77201999999999993,0.33300000000000002,1.1800000000000001E-4,null,0.77520339999999999,0.35125460000000003,0,null,0.77201999999999993,0.33300000000000002,1.1800000000000001E-4,null,null,null,null,0.83542349999999999,0.37339070000000002,0,2.2265199999999998,4.19E-2,-4.8959999999999997E-4]
[null,625,0.50630004826997921,1.0274118362728638E-2,null,null,null,null,null,null,null,null,null,null,596,0.39378281068524712,9.5169999999999994E-3,2.2829999999999999E-3,0.46471000000000001,1.4602E-2,4.8541000000000001E-2,4.1599999999999997E-4,1.5262E-2,0.69829300000000005,0.998278,1.8898999999999999E-2,null,null,null,null,null,null,null,null,null,null,null,null,null,null,null,null,null,null,null,null,null,null,625,0.32100000000000001,0.32300000000000001,0.32052000000000003,4.9699999999999996E-3,0.36092400000000002,0.335179,null,0.75139999999999996,0.32100000000000001,1E-4,null,0.75492999999999999,0.33955400000000002,0,null,0.75139999999999996,0.32100000000000001,1E-4,null,null,null,null,0.81355650000000002,0.36092449999999998,0,2.17,3.7100000000000001E-2,-4.4200000000000001E-4]
[null,626,0.50866321499298373,1.0322073038431263E-2,null,null,null,null,null,null,null,null,null,null,597,0.39147531939604852,9.1559999999999992E-3,2.1779999999999998E-3,0.46130300000000002,1.3583E-2,5.3143000000000003E-2,4.4499999999999997E-4,1.4356000000000001E-2,0.69362000000000001,1,2.2391999999999999E-2,null,null,null,null,null,null,null,null,null,null,null,null,null,null,null,null,null,null,null,null,null,null,626,0.30980000000000002,0.31140000000000001,0.30941600000000002,4.6429999999999996E-3,0.34828599999999998,0.32305600000000001,null,0.72959999999999992,0.30980000000000002,1.8000000000000001E-4,null,0.73343740000000002,0.32834180000000002,0,null,0.72959999999999992,0.30980000000000002,1.8000000000000001E-4,null,null,null,null,0.79045650000000001,0.34828599999999998,0,2.1031599999999999,3.3980000000000003E-2,-4.08E-4]
[null,627,0.51102576422836332,1.0370015183736215E-2,null,null,null,null,null,null,null,null,null,null,598,0.38916782810684991,8.7139999999999995E-3,2.898E-3,0.45478000000000002,1.2477E-2,6.5517000000000006E-2,8.0400000000000003E-4,1.3032E-2,0.68737000000000004,0.96202299999999996,3.2349999999999997E-2,null,null,null,null,null,null,null,null,null,null,null,null,null,null,null,null,null,null,null,null,null,null,627,0.29860000000000003,0.29980000000000001,0.29831200000000002,4.3159999999999995E-3,0.33556999999999998,0.310886,null,0.70779999999999998,0.29860000000000003,2.6000000000000003E-4,null,0.71194480000000004,0.31712960000000001,0,null,0.70779999999999998,0.29860000000000003,2.6000000000000003E-4,null,null,null,null,0.76643640000000002,0.33557019999999999,0,2.0363199999999999,3.0859999999999999E-2,-3.7399999999999998E-4]
[null,628,0.50445763984273173,1.0236731200079315E-2,null,null,null,null,null,null,null,null,null,null,599,0.38686033681765136,8.2269999999999999E-3,3.1749999999999999E-3,0.450546,1.1682E-2,7.2456999999999994E-2,9.4399999999999996E-4,1.2618000000000001E-2,0.68176599999999998,0.92167100000000002,3.8558000000000002E-2,null,null,null,null,null,null,null,null,null,null,null,null,null,null,null,null,null,null,null,null,null,null,628,0.28739999999999999,0.28820000000000001,0.28720800000000002,3.9889999999999995E-3,0.32289600000000002,0.29878399999999999,null,0.68599999999999994,0.28739999999999999,3.4000000000000002E-4,null,0.69045219999999996,0.30591740000000001,0,null,0.68599999999999994,0.28739999999999999,3.4000000000000002E-4,null,null,null,null,0.74187769999999997,0.32289630000000002,0,1.9694799999999999,2.7740000000000001E-2,-3.4000000000000002E-4]
[null,629,0.49788960486258926,1.0103449030687654E-2,null,null,null,null,null,null,null,null,null,null,600,0.38455284552845276,7.7390000000000002E-3,2.6220000000000002E-3,0.44631199999999999,1.0887000000000001E-2,7.9397999999999996E-2,6.6299999999999996E-4,1.2204E-2,0.67616299999999996,0.88131899999999996,4.4764999999999999E-2,null,null,null,null,null,null,null,null,null,null,null,null,null,null,null,null,null,null,null,null,null,null,629,0.2762,0.27660000000000001,0.27610400000000002,3.6619999999999999E-3,0.31036999999999998,0.28685300000000002,null,0.66420000000000001,0.2762,4.2000000000000002E-4,null,0.66895959999999999,0.2947052,0,null,0.66420000000000001,0.2762,4.2000000000000002E-4,null,null,null,null,0.71712189999999998,0.31037039999999999,0,1.9026400000000001,2.462E-2,-3.0600000000000001E-4]
[null,630,0.46741102164128961,9.4849608977832529E-3,null,null,null,null,null,null,null,null,null,null,601,0.38224535423925421,7.3990000000000002E-3,2.4480000000000001E-3,0.443357,1.068E-2,8.8136000000000006E-2,6.8099999999999996E-4,1.1558000000000001E-2,0.67292200000000002,0.82776499999999997,5.2715999999999999E-2,null,null,null,null,null,null,null,null,null,null,null,null,null,null,null,null,null,null,null,null,null,null,630,0.26500000000000001,0.26500000000000001,0.26500000000000001,3.3349999999999999E-3,0.29808600000000002,0.27518100000000001,null,0.64239999999999997,0.26500000000000001,5.0000000000000001E-4,null,0.64746700000000001,0.28349299999999999,0,null,0.64239999999999997,0.26500000000000001,5.0000000000000001E-4,null,null,null,null,0.69247170000000002,0.29808649999999998,0,1.8358000000000001,2.1499999999999998E-2,-2.72E-4]
[null,631,0.44567734043780594,9.0439291145444477E-3,null,null,null,null,null,null,null,null,null,null,602,0.3799378629500556,7.058E-3,2.274E-3,0.44040099999999999,1.0474000000000001E-2,9.6874000000000002E-2,6.9899999999999997E-4,1.0911000000000001E-2,0.669682,0.77421200000000001,6.0665999999999998E-2,null,null,null,null,null,null,null,null,null,null,null,null,null,null,null,null,null,null,null,null,null,null,631,0.25540000000000002,0.25600000000000001,0.25540400000000002,3.1149999999999997E-3,0.28611599999999998,0.26383400000000001,null,0.62229999999999996,0.25540000000000002,4.6000000000000001E-4,null,0.62499559999999998,0.2724452,0,null,0.62229999999999996,0.25540000000000002,4.6000000000000001E-4,null,null,null,null,0.66815999999999998,0.28611599999999998,0,1.7722200000000001,1.9439999999999999E-2,-2.4580000000000001E-4]
[null,632,0.42381473608590947,8.6002811520439291E-3,null,null,null,null,null,null,null,null,null,null,603,0.377630371660857,6.8139999999999997E-3,2.2729999999999998E-3,0.43684699999999999,1.0044000000000001E-2,0.106931,6.2799999999999998E-4,1.0491E-2,0.66412899999999997,0.71188099999999999,7.0011000000000004E-2,null,null,null,null,null,null,null,null,null,null,null,null,null,null,null,null,null,null,null,null,null,null,632,0.24580000000000002,0.247,0.245808,2.895E-3,0.274482,0.25283299999999997,null,0.60219999999999996,0.24580000000000002,4.2000000000000002E-4,null,0.60252419999999995,0.2613974,0,null,0.60219999999999996,0.24580000000000002,4.2000000000000002E-4,null,null,null,null,0.64426969999999995,0.27448220000000001,0,1.7086400000000002,1.738E-2,-2.196E-4]
[null,633,0.39803346933581352,8.0771135421717662E-3,null,null,null,null,null,null,null,null,null,null,604,0.37532288037165845,6.5690000000000002E-3,2.271E-3,0.43329200000000001,9.6139999999999993E-3,0.11698699999999999,5.5699999999999999E-4,1.0071E-2,0.65857600000000005,0.64954999999999996,7.9354999999999995E-2,null,null,null,null,null,null,null,null,null,null,null,null,null,null,null,null,null,null,null,null,null,null,633,0.23619999999999999,0.23800000000000002,0.23621200000000001,2.6749999999999999E-3,0.26319500000000001,0.24218300000000001,null,0.58210000000000006,0.23619999999999999,3.7999999999999997E-4,null,0.58005280000000004,0.25034960000000001,0,null,0.58210000000000006,0.23619999999999999,3.7999999999999997E-4,null,null,null,null,0.62084499999999998,0.26319530000000002,0,1.64506,1.5319999999999999E-2,-1.9340000000000001E-4]
[null,634,0.37225225821238611,7.5539470611064802E-3,null,null,null,null,null,null,null,null,null,null,605,0.37301538908245985,6.4180000000000001E-3,1.6230000000000001E-3,0.425709,8.6929999999999993E-3,0.142707,7.3999999999999999E-4,9.5980000000000006E-3,0.64890499999999995,0.52492700000000003,0.10158399999999999,null,null,null,null,null,null,null,null,null,null,null,null,null,null,null,null,null,null,null,null,null,null,634,0.2266,0.22900000000000001,0.22661599999999998,2.4550000000000002E-3,0.25226300000000001,0.23189000000000001,null,0.56200000000000006,0.2266,3.3999999999999997E-4,null,0.5575814,0.23930180000000001,0,null,0.56200000000000006,0.2266,3.3999999999999997E-4,null,null,null,null,0.59792429999999996,0.25226280000000001,0,1.58148,1.3259999999999999E-2,-1.672E-4]
[null,635,0.31710769891942586,6.4349234086847288E-3,null,null,null,null,null,null,null,null,null,null,606,0.3707078977932613,6.2370000000000004E-3,1.6459999999999999E-3,0.421852,8.3730000000000002E-3,0.15817500000000001,9.1E-4,9.103E-3,0.64304899999999998,0.46948200000000001,0.114756,null,null,null,null,null,null,null,null,null,null,null,null,null,null,null,null,null,null,null,null,null,null,635,0.217,0.22,0.21701999999999999,2.235E-3,0.24168999999999999,0.22195599999999999,null,0.54190000000000005,0.217,2.9999999999999997E-4,null,0.53510999999999997,0.22825400000000001,0,null,0.54190000000000005,0.217,2.9999999999999997E-4,null,null,null,null,0.57554099999999997,0.24169019999999999,0,1.5179,1.12E-2,-1.4100000000000001E-4]
[null,636,0.29173057034532091,5.9199567924115518E-3,null,null,null,null,null,null,null,null,null,null,607,0.36766351908310446,6.0559999999999998E-3,1.67E-3,0.41799500000000001,8.0529999999999994E-3,0.17364399999999999,5.6999999999999998E-4,8.6079999999999993E-3,0.63719300000000001,0.41403600000000002,0.12792799999999999,null,null,null,null,null,null,null,null,null,null,null,null,null,null,null,null,null,null,null,null,null,null,636,0.20860000000000001,0.21099999999999999,0.208616,2.0874000000000001E-3,0.23148099999999999,0.21238299999999999,null,0.52310000000000001,0.20860000000000001,2.7999999999999998E-4,null,0.51440140000000001,0.21856880000000001,0,null,0.52310000000000001,0.20860000000000001,2.7999999999999998E-4,null,null,null,null,0.55372960000000004,0.23148089999999999,0,1.46288,9.8399999999999998E-3,-1.2378000000000001E-4]
[null,637,0.26635298184693895,5.404980843102607E-3,null,null,null,null,null,null,null,null,null,null,608,0.3642361111111081,6.1130000000000004E-3,1.9059999999999999E-3,0.41411300000000001,7.7099999999999998E-3,0.19242999999999999,5.5999999999999995E-4,8.4899999999999993E-3,0.63166999999999995,0.36766799999999999,0.14364399999999999,null,null,null,null,null,null,null,null,null,null,null,null,null,null,null,null,null,null,null,null,null,null,637,0.20019999999999999,0.20199999999999999,0.200212,1.9398E-3,0.221638,0.20316999999999999,null,0.50430000000000008,0.20019999999999999,2.5999999999999998E-4,null,0.49369279999999999,0.2088836,0,null,0.50430000000000008,0.20019999999999999,2.5999999999999998E-4,null,null,null,null,0.53254120000000005,0.2216378,0,1.4078599999999999,8.4799999999999997E-3,-1.0656000000000001E-4]
[null,638,0.24410212235669382,4.9534541943172224E-3,null,null,null,null,null,null,null,null,null,null,609,0.36080870313911179,6.1710000000000003E-3,2.1429999999999999E-3,0.41022999999999998,7.3670000000000003E-3,0.21121599999999999,5.5000000000000003E-4,8.3730000000000002E-3,0.62614700000000001,0.32129999999999997,0.15936,null,null,null,null,null,null,null,null,null,null,null,null,null,null,null,null,null,null,null,null,null,null,638,0.1918,0.193,0.19180799999999998,1.7922000000000001E-3,0.21216199999999999,0.19431799999999999,null,0.48550000000000004,0.1918,2.4000000000000001E-4,null,0.47298419999999997,0.1991984,0,null,0.48550000000000004,0.1918,2.4000000000000001E-4,null,null,null,null,0.51202179999999997,0.2121622,0,1.35284,7.1200000000000005E-3,-8.9340000000000009E-5]
[null,639,0.22185198974440312,4.501942295738093E-3,null,null,null,null,null,null,null,null,null,null,610,0.35738129516711542,4.5849999999999997E-3,1.7849999999999999E-3,0.400951,6.2110000000000004E-3,0.25581599999999999,1.6799999999999999E-4,7.0569999999999999E-3,0.61081700000000005,0.24535000000000001,0.19470000000000001,null,null,null,null,null,null,null,null,null,null,null,null,null,null,null,null,null,null,null,null,null,null,639,0.18339999999999998,0.184,0.18340399999999998,1.6446E-3,0.20305400000000001,0.18582499999999999,null,0.4667,0.18339999999999998,2.2000000000000001E-4,null,0.4522756,0.18951319999999999,0,null,0.4667,0.18339999999999998,2.2000000000000001E-4,null,null,null,null,0.49220700000000001,0.20305419999999999,0,1.29782,5.7600000000000004E-3,-7.2120000000000007E-5]
[null,640,0.18574674288166637,3.769274817133609E-3,null,null,null,null,null,null,null,null,null,null,611,0.35395388719511911,4.7140000000000003E-3,1.5889999999999999E-3,0.397343,6.1669999999999997E-3,0.28347299999999997,6.0099999999999997E-4,6.6990000000000001E-3,0.60558000000000001,0.21609800000000001,0.21630199999999999,null,null,null,null,null,null,null,null,null,null,null,null,null,null,null,null,null,null,null,null,null,null,640,0.17499999999999999,0.17499999999999999,0.17499999999999999,1.4970000000000001E-3,0.19431200000000001,0.17768800000000001,null,0.44790000000000002,0.17499999999999999,2.0000000000000001E-4,null,0.43156699999999998,0.17982799999999999,0,null,0.44790000000000002,0.17499999999999999,2.0000000000000001E-4,null,null,null,null,0.4731224,0.1943124,0,1.2427999999999999,4.4000000000000003E-3,-5.49E-5]
[null,641,0.17155711461083473,3.481331095074341E-3,null,null,null,null,null,null,null,null,null,null,612,0.35052647922312274,4.8430000000000001E-3,1.392E-3,0.393735,6.123E-3,0.31113099999999999,1.034E-3,6.3420000000000004E-3,0.60034299999999996,0.18684700000000001,0.237904,null,null,null,null,null,null,null,null,null,null,null,null,null,null,null,null,null,null,null,null,null,null,641,0.16763999999999998,0.16819999999999999,0.167624,1.3986000000000001E-3,0.185923,0.16989299999999999,null,0.43048000000000003,0.1676,1.8000000000000001E-4,null,0.41399159999999996,0.17190459999999999,0,null,0.43048000000000003,0.1676,1.8000000000000001E-4,null,null,null,null,0.45474170000000003,0.1859227,0,1.1956399999999998,3.5356000000000003E-3,-4.4360000000000002E-5]
[null,642,0.15736764820871135,3.1933906577437114E-3,null,null,null,null,null,null,null,null,null,null,613,0.34709907125112643,4.339E-3,1.48E-3,0.38992100000000002,5.9369999999999996E-3,0.34353,7.6900000000000004E-4,6.0780000000000001E-3,0.59451900000000002,0.16442999999999999,0.263102,null,null,null,null,null,null,null,null,null,null,null,null,null,null,null,null,null,null,null,null,null,null,642,0.16027999999999998,0.16139999999999999,0.160248,1.3002000000000001E-3,0.17782700000000001,0.162382,null,0.41306000000000004,0.16020000000000001,1.6000000000000001E-4,null,0.3964162,0.16398119999999999,0,null,0.41306000000000004,0.16020000000000001,1.6000000000000001E-4,null,null,null,null,0.43687189999999998,0.1778274,0,1.1484799999999999,2.6712000000000003E-3,-3.3819999999999998E-5]
[null,643,0.14623627860160568,2.9675067984127322E-3,null,null,null,null,null,null,null,null,null,null,614,0.34367166327913007,3.8349999999999999E-3,1.5679999999999999E-3,0.386106,5.7499999999999999E-3,0.37592900000000001,5.04E-4,5.8139999999999997E-3,0.58869499999999997,0.142014,0.28830099999999997,null,null,null,null,null,null,null,null,null,null,null,null,null,null,null,null,null,null,null,null,null,null,643,0.15292,0.15459999999999999,0.15287199999999998,1.2018E-3,0.169965,0.15509899999999999,null,0.39563999999999999,0.15279999999999999,1.4000000000000001E-4,null,0.37884079999999998,0.1560578,0,null,0.39563999999999999,0.15279999999999999,1.4000000000000001E-4,null,null,null,null,0.41931210000000002,0.16996539999999999,0,1.1013199999999999,1.8067999999999999E-3,-2.3280000000000001E-5]
[null,644,0.1350889748531742,2.7412995947436497E-3,null,null,null,null,null,null,null,null,null,null,615,0.34024425530713376,3.6939999999999998E-3,1.1609999999999999E-3,0.378052,5.6699999999999997E-3,0.45084000000000002,3.8400000000000001E-4,5.8069999999999997E-3,0.57561499999999999,0.107822,0.346553,null,null,null,null,null,null,null,null,null,null,null,null,null,null,null,null,null,null,null,null,null,null,644,0.14555999999999999,0.14779999999999999,0.14549599999999999,1.1034E-3,0.16228400000000001,0.14799200000000001,null,0.37822,0.1454,1.2E-4,null,0.36126540000000001,0.1481344,0,null,0.37822,0.1454,1.2E-4,null,null,null,null,0.40189799999999998,0.16228409999999999,0,1.05416,9.4239999999999992E-4,-1.2739999999999997E-5]
[null,645,0.11794873119788925,2.3934803664379428E-3,null,null,null,null,null,null,null,null,null,null,616,0.33681684733513739,3.6900000000000001E-3,1.3090000000000001E-3,0.37424299999999999,5.4400000000000004E-3,0.49474800000000002,3.8699999999999997E-4,5.5149999999999999E-3,0.56924600000000003,9.5366999999999993E-2,0.380187,null,null,null,null,null,null,null,null,null,null,null,null,null,null,null,null,null,null,null,null,null,null,645,0.13819999999999999,0.14099999999999999,0.13811999999999999,1.005E-3,0.15473999999999999,0.14102000000000001,null,0.36080000000000001,0.13800000000000001,1E-4,null,0.34369,0.140211,0,null,0.36080000000000001,0.13800000000000001,1E-4,null,null,null,null,0.38449860000000002,0.15473970000000001,0,1.0069999999999999,7.7999999999999999E-5,-2.2000000000000001E-6]
[null,646,0.11132208086857517,2.2590087422213819E-3,null,null,null,null,null,null,null,null,null,null,617,0.33338943936314108,3.686E-3,1.456E-3,0.37043500000000001,5.2100000000000002E-3,0.53865700000000005,3.8900000000000002E-4,5.2230000000000002E-3,0.56287699999999996,8.2913000000000001E-2,0.41382000000000002,null,null,null,null,null,null,null,null,null,null,null,null,null,null,null,null,null,null,null,null,null,null,646,0.13195999999999999,0.13419999999999999,0.13189599999999999,9.3940000000000007E-4,0.14730799999999999,0.134161,null,0.34533999999999998,0.1318,8.0000000000000007E-5,null,0.32861780000000002,0.13369539999999999,0,null,0.34533999999999998,0.1318,8.0000000000000007E-5,null,null,null,null,0.36705919999999997,0.1473081,0,0.96213999999999988,-2.1119999999999998E-4,2.9799999999999994E-6]
[null,647,0.10469592291546287,2.1245471095728504E-3,null,null,null,null,null,null,null,null,null,null,618,0.32996203139114472,3.5049999999999999E-3,1.299E-3,0.36673299999999998,4.8690000000000001E-3,0.588225,3.4600000000000001E-4,5.0130000000000001E-3,0.55624899999999999,7.3244000000000004E-2,0.45212999999999998,null,null,null,null,null,null,null,null,null,null,null,null,null,null,null,null,null,null,null,null,null,null,647,0.12572,0.12739999999999999,0.12567200000000001,8.7379999999999999E-4,0.140017,0.12744,null,0.32988000000000001,0.12560000000000002,6.0000000000000002E-5,null,0.31354559999999998,0.12717980000000001,0,null,0.32988000000000001,0.12560000000000002,6.0000000000000002E-5,null,null,null,null,0.34971669999999999,0.1400169,0,0.91727999999999987,-5.0040000000000002E-4,8.1599999999999998E-6]
[null,648,9.94468065305813E-2,2.0180291599453722E-3,null,null,null,null,null,null,null,null,null,null,619,0.32653462341914841,3.3249999999999998E-3,1.1410000000000001E-3,0.36303000000000002,4.5279999999999999E-3,0.63779300000000005,3.0299999999999999E-4,4.8019999999999998E-3,0.54962,6.3575000000000007E-2,0.49043900000000001,null,null,null,null,null,null,null,null,null,null,null,null,null,null,null,null,null,null,null,null,null,null,648,0.11947999999999999,0.1206,0.119448,8.0820000000000002E-4,0.13290099999999999,0.120889,null,0.31441999999999998,0.11940000000000001,4.0000000000000003E-5,null,0.2984734,0.1206642,0,null,0.31441999999999998,0.11940000000000001,4.0000000000000003E-5,null,null,null,null,0.3326305,0.1329013,0,0.87241999999999997,-7.8959999999999989E-4,1.3339999999999998E-5]
[null,649,9.4187800345122016E-2,1.9113105210584983E-3,null,null,null,null,null,null,null,null,null,null,620,0.32310721544715204,3.2720000000000002E-3,1.9780000000000002E-3,0.35465600000000003,4.0150000000000003E-3,0.74145300000000003,2.6600000000000001E-4,4.7879999999999997E-3,0.53637900000000005,4.9304000000000001E-2,0.57560199999999995,null,null,null,null,null,null,null,null,null,null,null,null,null,null,null,null,null,null,null,null,null,null,649,0.11323999999999999,0.1138,0.11322399999999999,7.4259999999999994E-4,0.12599099999999999,0.114534,null,0.29896,0.1132,2.0000000000000002E-5,null,0.28340119999999996,0.1141486,0,null,0.29896,0.1132,2.0000000000000002E-5,null,null,null,null,0.3159341,0.1259913,0,0.82755999999999996,-1.0788E-3,1.8519999999999999E-5]
[null,650,8.6039817889955697E-2,1.7459671906601259E-3,null,null,null,null,null,null,null,null,null,null,621,0.31967980747515568,3.2929999999999999E-3,2.199E-3,0.35115200000000002,4.1710000000000002E-3,0.79197600000000001,4.5800000000000002E-4,4.5560000000000002E-3,0.53030200000000005,4.4073000000000001E-2,0.62228700000000003,null,null,null,null,null,null,null,null,null,null,null,null,null,null,null,null,null,null,null,null,null,null,650,0.107,0.107,0.107,6.7699999999999998E-4,0.119312,0.1084,null,0.28349999999999997,0.107,0,null,0.26832899999999998,0.10763300000000001,0,null,0.28349999999999997,0.107,0,null,null,null,null,0.29973739999999999,0.119312,0,0.78269999999999995,-1.3680000000000001E-3,2.37E-5]
[null,651,8.2969193035354216E-2,1.6836563864018389E-3,null,null,null,null,null,null,null,null,null,null,622,0.31625239950315936,3.313E-3,1.7570000000000001E-3,0.34764800000000001,4.3270000000000001E-3,0.842499,6.4999999999999997E-4,4.3239999999999997E-3,0.52422400000000002,3.8841000000000001E-2,0.66897099999999998,null,null,null,null,null,null,null,null,null,null,null,null,null,null,null,null,null,null,null,null,null,null,651,0.10192,0.10239999999999999,0.1019304,6.334E-4,0.112882,0.10250099999999999,null,0.27054,0.10192,0,null,0.25552320000000001,0.1023438,0,null,0.27054,0.10192,0,null,null,null,null,0.28411890000000001,0.112882,0,0.74483999999999995,-1.4920000000000001E-3,2.4680000000000001E-5]
[null,652,7.9898715818281008E-2,1.6213485780852772E-3,null,null,null,null,null,null,null,null,null,null,623,0.31291483739837178,3.3E-3,1.7260000000000001E-3,0.34417599999999998,4.4640000000000001E-3,0.88582099999999997,5.4100000000000003E-4,4.3880000000000004E-3,0.51817500000000005,3.4282E-2,0.717364,null,null,null,null,null,null,null,null,null,null,null,null,null,null,null,null,null,null,null,null,null,null,652,9.6839999999999996E-2,9.7799999999999998E-2,9.6860799999999997E-2,5.8980000000000002E-4,0.106711,9.6845899999999999E-2,null,0.25757999999999998,9.6839999999999996E-2,0,null,0.2427174,9.7054600000000005E-2,0,null,0.25757999999999998,9.6839999999999996E-2,0,null,null,null,null,0.26910529999999999,0.1067113,0,0.70697999999999994,-1.6160000000000002E-3,2.5660000000000002E-5]
[null,653,7.7370837449314292E-2,1.5700514832931859E-3,null,null,null,null,null,null,null,null,null,null,624,0.30974417344173222,3.2859999999999999E-3,1.6949999999999999E-3,0.34070299999999998,4.6010000000000001E-3,0.92914300000000005,4.3300000000000001E-4,4.4510000000000001E-3,0.51212500000000005,2.9721999999999998E-2,0.76575700000000002,null,null,null,null,null,null,null,null,null,null,null,null,null,null,null,null,null,null,null,null,null,null,653,9.1760000000000008E-2,9.3200000000000005E-2,9.1791200000000003E-2,5.4619999999999994E-4,0.10080500000000001,9.1439400000000004E-2,null,0.24462,9.1760000000000008E-2,0,null,0.22991159999999999,9.1765399999999997E-2,0,null,0.24462,9.1760000000000008E-2,0,null,null,null,null,0.25470769999999998,0.1008052,0,0.66911999999999994,-1.7400000000000002E-3,2.6640000000000002E-5]
[null,654,7.4822855623062873E-2,1.5183464381160437E-3,null,null,null,null,null,null,null,null,null,null,625,0.3065735094850926,2.6610000000000002E-3,1.606E-3,0.33350000000000002,3.947E-3,0.983429,3.8999999999999999E-4,4.0730000000000002E-3,0.49975399999999998,2.3501999999999999E-2,0.85724800000000001,null,null,null,null,null,null,null,null,null,null,null,null,null,null,null,null,null,null,null,null,null,null,654,8.6680000000000007E-2,8.8599999999999998E-2,8.6721599999999996E-2,5.0259999999999997E-4,9.5166500000000001E-2,8.6283200000000004E-2,null,0.23166,8.6680000000000007E-2,0,null,0.21710580000000002,8.6476200000000003E-2,0,null,0.23166,8.6680000000000007E-2,0,null,null,null,null,0.2409319,9.5166529999999999E-2,0,0.63126000000000004,-1.8640000000000002E-3,2.762E-5]
[null,655,7.017335072589323E-2,1.4239961337760871E-3,null,null,null,null,null,null,null,null,null,null,626,0.30340284552845304,2.8119999999999998E-3,1.206E-3,0.33018799999999998,3.7290000000000001E-3,0.99171500000000001,3.7599999999999998E-4,3.947E-3,0.49406499999999998,2.1103E-2,0.89653300000000002,null,null,null,null,null,null,null,null,null,null,null,null,null,null,null,null,null,null,null,null,null,null,655,8.1600000000000006E-2,8.3999999999999991E-2,8.1652000000000002E-2,4.5899999999999999E-4,8.9795899999999998E-2,8.1376900000000002E-2,null,0.21870000000000001,8.1600000000000006E-2,0,null,0.20430000000000001,8.1186999999999995E-2,0,null,0.21870000000000001,8.1600000000000006E-2,0,null,null,null,null,0.22777919999999999,8.9795940000000005E-2,0,0.59340000000000004,-1.9880000000000002E-3,2.8600000000000001E-5]
[null,656,6.8423811677156582E-2,1.3884935275086053E-3,null,null,null,null,null,null,null,null,null,null,627,0.30023218157181342,2.9629999999999999E-3,8.0500000000000005E-4,0.326876,3.5100000000000001E-3,1,3.6099999999999999E-4,3.8210000000000002E-3,0.48837700000000001,1.8703999999999998E-2,0.93581700000000001,null,null,null,null,null,null,null,null,null,null,null,null,null,null,null,null,null,null,null,null,null,null,656,7.7480000000000007E-2,7.9399999999999998E-2,7.7521599999999996E-2,4.2977999999999999E-4,8.4690399999999999E-2,7.6717099999999996E-2,null,0.20794000000000001,7.7480000000000007E-2,0,null,0.1939536,7.7005799999999999E-2,0,null,0.20794000000000001,7.7480000000000007E-2,0,null,null,null,null,0.21524309999999999,8.4690440000000006E-2,0,0.56356000000000006,-2.0240000000000002E-3,2.8100000000000002E-5]
[null,657,6.6674927889746452E-2,1.3530042181634728E-3,null,null,null,null,null,null,null,null,null,null,628,0.29706151761517385,3.0790000000000001E-3,9.0399999999999996E-4,0.32385599999999998,3.179E-3,0.98675299999999999,4.0299999999999998E-4,3.6150000000000002E-3,0.48229899999999998,1.6910999999999999E-2,0.96132499999999999,null,null,null,null,null,null,null,null,null,null,null,null,null,null,null,null,null,null,null,null,null,null,657,7.3360000000000009E-2,7.4800000000000005E-2,7.3391200000000004E-2,4.0056E-4,7.9840099999999997E-2,7.2293999999999997E-2,null,0.19717999999999999,7.3360000000000009E-2,0,null,0.1836072,7.2824600000000003E-2,0,null,0.19717999999999999,7.3360000000000009E-2,0,null,null,null,null,0.20330100000000001,7.9840090000000002E-2,0,0.53371999999999997,-2.0600000000000002E-3,2.76E-5]
[null,658,6.3490100482367751E-2,1.2883759530466134E-3,null,null,null,null,null,null,null,null,null,null,629,0.29389085365853423,3.1949999999999999E-3,1.0020000000000001E-3,0.32083600000000001,2.849E-3,0.97350599999999998,4.44E-4,3.4090000000000001E-3,0.47622199999999998,1.5117E-2,0.98683399999999999,null,null,null,null,null,null,null,null,null,null,null,null,null,null,null,null,null,null,null,null,null,null,658,6.9239999999999996E-2,7.0199999999999999E-2,6.9260799999999997E-2,3.7134000000000001E-4,7.5233700000000001E-2,6.8097000000000005E-2,null,0.18642,6.9239999999999996E-2,0,null,0.17326080000000002,6.8643399999999993E-2,0,null,0.18642,6.9239999999999996E-2,0,null,null,null,null,0.1919276,7.5233720000000004E-2,0,0.50387999999999999,-2.0959999999999998E-3,2.7100000000000001E-5]
[null,659,6.2368939316089514E-2,1.2656247355316288E-3,null,null,null,null,null,null,null,null,null,null,630,0.29072018970189467,2.3289999999999999E-3,1.4549999999999999E-3,0.313693,3.307E-3,0.90579399999999999,2.1800000000000001E-4,3.2880000000000001E-3,0.46443499999999999,1.2933E-2,1,null,null,null,null,null,null,null,null,null,null,null,null,null,null,null,null,null,null,null,null,null,null,659,6.5119999999999997E-2,6.5599999999999992E-2,6.5130400000000005E-2,3.4212000000000001E-4,7.0860599999999996E-2,6.4115500000000006E-2,null,0.17565999999999998,6.5119999999999997E-2,0,null,0.16291440000000001,6.4462199999999997E-2,0,null,0.17565999999999998,6.5119999999999997E-2,0,null,null,null,null,0.1810987,7.0860610000000004E-2,0,0.47404000000000002,-2.1319999999999998E-3,2.6599999999999999E-5]
[null,660,6.1182896065419635E-2,1.2415568951623941E-3,null,null,null,null,null,null,null,null,null,null,631,0.28754952574525505,2.3839999999999998E-3,1.5250000000000001E-3,0.31052099999999999,3.545E-3,0.85624999999999996,1.6799999999999999E-4,3.0530000000000002E-3,0.45814899999999997,1.1388000000000001E-2,0.986788,null,null,null,null,null,null,null,null,null,null,null,null,null,null,null,null,null,null,null,null,null,null,660,6.0999999999999999E-2,6.0999999999999999E-2,6.0999999999999999E-2,3.1290000000000002E-4,6.6710400000000003E-2,6.0339799999999999E-2,null,0.16489999999999999,6.0999999999999999E-2,0,null,0.15256800000000001,6.0281000000000001E-2,0,null,0.16489999999999999,6.0999999999999999E-2,0,null,null,null,null,0.17079140000000001,6.6710450000000004E-2,0,0.44419999999999998,-2.1679999999999998E-3,2.6100000000000001E-5]
[null,661,5.9849550392165558E-2,1.2144999132161082E-3,null,null,null,null,null,null,null,null,null,null,632,0.28437886178861543,2.4390000000000002E-3,1.596E-3,0.30734800000000001,3.0690000000000001E-3,0.80670500000000001,1.18E-4,2.8189999999999999E-3,0.45186300000000001,9.8440000000000003E-3,0.973576,null,null,null,null,null,null,null,null,null,null,null,null,null,null,null,null,null,null,null,null,null,null,661,5.7715999999999996E-2,5.8099999999999999E-2,5.7665399999999999E-2,2.9324E-4,6.2773599999999999E-2,5.6760499999999998E-2,null,0.15615999999999999,5.7715999999999996E-2,0,null,0.1444964,5.7044000000000004E-2,0,null,0.15615999999999999,5.7715999999999996E-2,0,null,null,null,null,0.16098419999999999,6.2773599999999999E-2,0,0.42102000000000001,-2.1355999999999997E-3,2.5380000000000001E-5]
[null,662,5.8515764715369054E-2,1.1874340024765298E-3,null,null,null,null,null,null,null,null,null,null,633,0.28120819783197587,2.5230000000000001E-3,1.614E-3,0.30410799999999999,3.2269999999999998E-3,0.747444,2.32E-4,2.869E-3,0.44639000000000001,9.2020000000000001E-3,0.94117499999999998,null,null,null,null,null,null,null,null,null,null,null,null,null,null,null,null,null,null,null,null,null,null,662,5.4432000000000001E-2,5.5199999999999999E-2,5.4330799999999999E-2,2.7357999999999999E-4,5.9041799999999998E-2,5.3369899999999998E-2,null,0.14742,5.4432000000000001E-2,0,null,0.13642480000000001,5.3807000000000001E-2,0,null,0.14742,5.4432000000000001E-2,0,null,null,null,null,0.15165770000000001,5.9041789999999997E-2,0,0.39783999999999997,-2.1031999999999999E-3,2.4660000000000001E-5]
[null,663,5.6003211568020884E-2,1.1364478954897568E-3,null,null,null,null,null,null,null,null,null,null,634,0.27803753387533625,2.6080000000000001E-3,1.6329999999999999E-3,0.30086800000000002,3.385E-3,0.68818299999999999,3.4699999999999998E-4,2.9190000000000002E-3,0.44091599999999997,8.5599999999999999E-3,0.90877399999999997,null,null,null,null,null,null,null,null,null,null,null,null,null,null,null,null,null,null,null,null,null,null,663,5.1147999999999999E-2,5.2299999999999999E-2,5.0996199999999998E-2,2.5392000000000004E-4,5.5507000000000001E-2,5.0160299999999998E-2,null,0.13868,5.1147999999999999E-2,0,null,0.1283532,5.0570000000000004E-2,0,null,0.13868,5.1147999999999999E-2,0,null,null,null,null,0.14279359999999999,5.5507029999999999E-2,0,0.37465999999999999,-2.0707999999999998E-3,2.3940000000000001E-5]
[null,664,5.4863645874859528E-2,1.1133232032175542E-3,null,null,null,null,null,null,null,null,null,null,635,0.27486686991869669,2.1280000000000001E-3,9.1299999999999997E-4,0.29410199999999997,3.392E-3,0.56164899999999995,3.2299999999999999E-4,2.9260000000000002E-3,0.42962400000000001,6.6369999999999997E-3,0.81094299999999997,null,null,null,null,null,null,null,null,null,null,null,null,null,null,null,null,null,null,null,null,null,null,664,4.7864000000000004E-2,4.9399999999999999E-2,4.7661599999999998E-2,2.3426000000000002E-4,5.2161399999999997E-2,4.7124100000000002E-2,null,0.12994,4.7864000000000004E-2,0,null,0.1202816,4.7333E-2,0,null,0.12994,4.7864000000000004E-2,0,null,null,null,null,0.13437370000000001,5.2161390000000002E-2,0,0.35148000000000001,-2.0384000000000001E-3,2.3220000000000001E-5]
[null,665,5.3723625579197978E-2,1.0901892859019983E-3,null,null,null,null,null,null,null,null,null,null,636,0.27169620596205707,1.9880000000000002E-3,9.1500000000000001E-4,0.29144199999999998,3.0620000000000001E-3,0.50314899999999996,1.6100000000000001E-4,2.8570000000000002E-3,0.42442400000000002,6.3140000000000002E-3,0.75267499999999998,null,null,null,null,null,null,null,null,null,null,null,null,null,null,null,null,null,null,null,null,null,null,665,4.4580000000000002E-2,4.65E-2,4.4326999999999998E-2,2.1460000000000001E-4,4.8996999999999999E-2,4.4253800000000003E-2,null,0.1212,4.4580000000000002E-2,0,null,0.11221,4.4096000000000003E-2,0,null,0.1212,4.4580000000000002E-2,0,null,null,null,null,0.12638079999999999,4.8996989999999997E-2,0,0.32829999999999998,-2.006E-3,2.2500000000000001E-5]
[null,666,5.177271786464524E-2,1.0506003961861768E-3,null,null,null,null,null,null,null,null,null,null,637,0.26852554200541751,1.8469999999999999E-3,9.1799999999999998E-4,0.28878100000000001,2.7330000000000002E-3,0.44464799999999999,1.9000000000000001E-5,2.7889999999999998E-3,0.41922399999999999,5.9919999999999999E-3,0.694407,null,null,null,null,null,null,null,null,null,null,null,null,null,null,null,null,null,null,null,null,null,null,666,4.2064000000000004E-2,4.36E-2,4.1861599999999999E-2,2.0128E-4,4.6005799999999999E-2,4.1542099999999998E-2,null,0.11444,4.2064000000000004E-2,0,null,0.10602012000000001,4.1636880000000001E-2,0,null,0.11444,4.2064000000000004E-2,0,null,null,null,null,0.1187979,4.6005780000000003E-2,0,0.31051999999999996,-1.9331999999999999E-3,2.1639999999999999E-5]
[null,667,5.0946243324487779E-2,1.0338291213692495E-3,null,null,null,null,null,null,null,null,null,null,638,0.26535487804877789,2.1909999999999998E-3,8.0099999999999995E-4,0.28553899999999999,2.7320000000000001E-3,0.39376800000000001,1.9000000000000001E-5,2.5600000000000002E-3,0.41351599999999999,5.803E-3,0.631436,null,null,null,null,null,null,null,null,null,null,null,null,null,null,null,null,null,null,null,null,null,null,667,3.9548E-2,4.07E-2,3.9396199999999999E-2,1.8796000000000001E-4,4.3178800000000003E-2,3.8980399999999998E-2,null,0.10768,3.9548E-2,0,null,9.9830240000000001E-2,3.9177759999999999E-2,0,null,0.10768,3.9548E-2,0,null,null,null,null,0.11160879999999999,4.3178849999999998E-2,0,0.29274,-1.8603999999999999E-3,2.0780000000000001E-5]
[null,668,5.0098412055401893E-2,1.0166244640914647E-3,null,null,null,null,null,null,null,null,null,null,639,0.26218421409213832,2.5339999999999998E-3,6.8400000000000004E-4,0.28229799999999999,2.7309999999999999E-3,0.342889,3.8999999999999999E-5,2.3310000000000002E-3,0.40780699999999998,5.6150000000000002E-3,0.56846600000000003,null,null,null,null,null,null,null,null,null,null,null,null,null,null,null,null,null,null,null,null,null,null,668,3.7032000000000002E-2,3.78E-2,3.69308E-2,1.7463999999999999E-4,4.0507500000000002E-2,3.65609E-2,null,0.10092000000000001,3.7032000000000002E-2,0,null,9.3640360000000006E-2,3.6718640000000004E-2,0,null,0.10092000000000001,3.7032000000000002E-2,0,null,null,null,null,0.1047975,4.0507550000000003E-2,0,0.27495999999999998,-1.7875999999999999E-3,1.9919999999999999E-5]
[null,669,4.9161555697028368E-2,9.9761326085793882E-4,null,null,null,null,null,null,null,null,null,null,640,0.25863513180586017,1.859E-3,9.2199999999999997E-4,0.27602399999999999,1.9689999999999998E-3,0.26151200000000002,4.5000000000000003E-5,2.6220000000000002E-3,0.395903,4.6829999999999997E-3,0.44927699999999998,null,null,null,null,null,null,null,null,null,null,null,null,null,null,null,null,null,null,null,null,null,null,669,3.4515999999999998E-2,3.49E-2,3.44654E-2,1.6132000000000001E-4,3.7983799999999998E-2,3.4276000000000001E-2,null,9.4160000000000008E-2,3.4515999999999998E-2,0,null,8.7450479999999997E-2,3.4259520000000002E-2,0,null,9.4160000000000008E-2,3.4515999999999998E-2,0,null,null,null,null,9.8348350000000001E-2,3.7983759999999998E-2,0,0.25717999999999996,-1.7148E-3,1.906E-5]
[null,670,4.8224751343536459E-2,9.7860311293600341E-4,null,null,null,null,null,null,null,null,null,null,641,0.25442026977087634,1.8439999999999999E-3,1.3910000000000001E-3,0.27279399999999998,2.3809999999999999E-3,0.22967499999999999,1.7799999999999999E-4,2.6459999999999999E-3,0.390129,4.3620000000000004E-3,0.396872,null,null,null,null,null,null,null,null,null,null,null,null,null,null,null,null,null,null,null,null,null,null,670,3.2000000000000001E-2,3.2000000000000001E-2,3.2000000000000001E-2,1.4799999999999999E-4,3.5599800000000001E-2,3.2118500000000001E-2,null,8.7400000000000005E-2,3.2000000000000001E-2,0,null,8.1260600000000002E-2,3.18004E-2,0,null,8.7400000000000005E-2,3.2000000000000001E-2,0,null,null,null,null,9.2245969999999997E-2,3.5599819999999997E-2,0,0.2394,-1.642E-3,1.8199999999999999E-5]
[null,671,4.695268152973061E-2,9.5278957434884865E-4,null,null,null,null,null,null,null,null,null,null,642,0.2502054077358925,1.8289999999999999E-3,1.859E-3,0.26956400000000003,2.794E-3,0.19783800000000001,3.1100000000000002E-4,2.598E-3,0.384355,4.0410000000000003E-3,0.34446700000000002,null,null,null,null,null,null,null,null,null,null,null,null,null,null,null,null,null,null,null,null,null,null,671,3.024E-2,3.0499999999999999E-2,3.02908E-2,1.3892E-4,3.3348599999999999E-2,3.0081900000000002E-2,null,8.2640000000000005E-2,3.024E-2,0,null,7.6594480000000006E-2,2.996066E-2,0,null,8.2640000000000005E-2,3.024E-2,0,null,null,null,null,8.6475060000000006E-2,3.3348559999999999E-2,0,0.22595999999999999,-1.5679999999999999E-3,1.734E-5]
[null,672,4.6226172075418376E-2,9.3804684590007503E-4,null,null,null,null,null,null,null,null,null,null,643,0.24599054570090867,1.753E-3,2.1489999999999999E-3,0.26654099999999997,2.8700000000000002E-3,0.173265,3.5399999999999999E-4,2.4190000000000001E-3,0.37920199999999998,3.9620000000000002E-3,0.30215900000000001,null,null,null,null,null,null,null,null,null,null,null,null,null,null,null,null,null,null,null,null,null,null,672,2.8479999999999998E-2,2.9000000000000001E-2,2.8581599999999999E-2,1.2983999999999999E-4,3.1223299999999999E-2,2.8160000000000001E-2,null,7.7880000000000005E-2,2.8479999999999998E-2,0,null,7.1928359999999997E-2,2.8120920000000001E-2,0,null,7.7880000000000005E-2,2.8479999999999998E-2,0,null,null,null,null,8.1019859999999999E-2,3.1223319999999999E-2,0,0.21251999999999999,-1.4939999999999999E-3,1.6479999999999998E-5]
[null,673,4.5183505918928016E-2,9.1688849219025864E-4,null,null,null,null,null,null,null,null,null,null,644,0.24177568366592483,1.6770000000000001E-3,1.57E-3,0.26351799999999997,2.9459999999999998E-3,0.14869099999999999,2.6800000000000001E-4,2.2409999999999999E-3,0.37404900000000002,3.8830000000000002E-3,0.259851,null,null,null,null,null,null,null,null,null,null,null,null,null,null,null,null,null,null,null,null,null,null,673,2.6720000000000001E-2,2.75E-2,2.6872400000000001E-2,1.2076E-4,2.9217799999999999E-2,2.6346999999999999E-2,null,7.3120000000000004E-2,2.6720000000000001E-2,0,null,6.7262240000000001E-2,2.6281179999999998E-2,0,null,7.3120000000000004E-2,2.6720000000000001E-2,0,null,null,null,null,7.5865139999999998E-2,2.9217799999999999E-2,0,0.19907999999999998,-1.4199999999999998E-3,1.562E-5]
[null,674,4.4298949851489619E-2,8.9893859515512002E-4,null,null,null,null,null,null,null,null,null,null,645,0.237560821630941,1.3569999999999999E-3,1.041E-3,0.25730900000000001,3.0200000000000001E-3,0.112054,5.1400000000000003E-4,2.666E-3,0.36308200000000002,3.0950000000000001E-3,0.19476499999999999,null,null,null,null,null,null,null,null,null,null,null,null,null,null,null,null,null,null,null,null,null,null,674,2.496E-2,2.6000000000000002E-2,2.51632E-2,1.1168E-4,2.7326E-2,2.4637300000000001E-2,null,6.8360000000000004E-2,2.496E-2,0,null,6.2596120000000005E-2,2.4441439999999998E-2,0,null,6.8360000000000004E-2,2.496E-2,0,null,null,null,null,7.0996329999999996E-2,2.7326010000000001E-2,0,0.18564,-1.346E-3,1.4760000000000001E-5]
[null,675,4.3414975565742107E-2,8.810005039532493E-4,null,null,null,null,null,null,null,null,null,null,646,0.23334595959595716,1.4630000000000001E-3,8.9099999999999997E-4,0.25446000000000002,2.722E-3,9.8239000000000007E-2,3.5599999999999998E-4,2.9940000000000001E-3,0.35819800000000002,3.1280000000000001E-3,0.17038500000000001,null,null,null,null,null,null,null,null,null,null,null,null,null,null,null,null,null,null,null,null,null,null,675,2.3199999999999998E-2,2.4500000000000001E-2,2.3453999999999999E-2,1.026E-4,2.5542200000000001E-2,2.30257E-2,null,6.3600000000000004E-2,2.3199999999999998E-2,0,null,5.7930000000000002E-2,2.2601699999999999E-2,0,null,6.3600000000000004E-2,2.3199999999999998E-2,0,null,null,null,null,6.6399600000000003E-2,2.5542229999999999E-2,0,0.17219999999999999,-1.2719999999999999E-3,1.3900000000000001E-5]
[null,676,4.19256185117549E-2,8.5077765347295494E-4,null,null,null,null,null,null,null,null,null,null,647,0.22913109756097333,1.5690000000000001E-3,7.4100000000000001E-4,0.25161099999999997,2.4239999999999999E-3,8.4425E-2,1.9799999999999999E-4,2.3389999999999999E-3,0.35331499999999999,3.1619999999999999E-3,0.146006,null,null,null,null,null,null,null,null,null,null,null,null,null,null,null,null,null,null,null,null,null,null,676,2.196E-2,2.3E-2,2.2163200000000001E-2,9.6379999999999995E-5,2.3861199999999999E-2,2.1507399999999999E-2,null,6.0234000000000003E-2,2.196E-2,0,null,5.4514159999999999E-2,2.1262379999999997E-2,0,null,6.0234000000000003E-2,2.196E-2,0,null,null,null,null,6.2062249999999999E-2,2.3861210000000001E-2,0,0.16217999999999999,-1.207E-3,1.3180000000000001E-5]
[null,677,4.1378345054840608E-2,8.3967208022181657E-4,null,null,null,null,null,null,null,null,null,null,648,0.22491623552598952,1.655E-3,7.9699999999999997E-4,0.24875,2.4020000000000001E-3,7.3761999999999994E-2,3.3100000000000002E-4,2.4290000000000002E-3,0.34765600000000002,3.2599999999999999E-3,0.12756200000000001,null,null,null,null,null,null,null,null,null,null,null,null,null,null,null,null,null,null,null,null,null,null,677,2.0719999999999999E-2,2.1500000000000002E-2,2.0872399999999999E-2,9.0160000000000004E-5,2.2278599999999999E-2,2.00784E-2,null,5.6868000000000002E-2,2.0719999999999999E-2,0,null,5.1098320000000003E-2,1.9923059999999999E-2,0,null,5.6868000000000002E-2,2.0719999999999999E-2,0,null,null,null,null,5.7974089999999999E-2,2.2278590000000001E-2,0,0.15215999999999999,-1.142E-3,1.2460000000000001E-5]
[null,678,4.0514100812724135E-2,8.2213436189026209E-4,null,null,null,null,null,null,null,null,null,null,649,0.22070137349100569,1.4840000000000001E-3,8.5400000000000005E-4,0.245888,2.3800000000000002E-3,6.3099000000000002E-2,4.64E-4,2.5200000000000001E-3,0.341997,3.359E-3,0.10911700000000001,null,null,null,null,null,null,null,null,null,null,null,null,null,null,null,null,null,null,null,null,null,null,678,1.9480000000000001E-2,0.02,1.9581600000000001E-2,8.3939999999999999E-5,2.0790200000000002E-2,1.87347E-2,null,5.3502000000000001E-2,1.9480000000000001E-2,0,null,4.7682479999999999E-2,1.8583739999999998E-2,0,null,5.3502000000000001E-2,1.9480000000000001E-2,0,null,null,null,null,5.4125329999999999E-2,2.0790200000000002E-2,0,0.14213999999999999,-1.077E-3,1.1739999999999999E-5]
[null,679,3.8832624878139509E-2,7.8801292967821119E-4,null,null,null,null,null,null,null,null,null,null,650,0.21648651145602185,1.1280000000000001E-3,7.6499999999999995E-4,0.239949,1.7179999999999999E-3,4.7829000000000003E-2,3.1000000000000001E-5,2.0960000000000002E-3,0.33195200000000002,3.568E-3,8.1778000000000003E-2,null,null,null,null,null,null,null,null,null,null,null,null,null,null,null,null,null,null,null,null,null,null,679,1.8239999999999999E-2,1.8500000000000003E-2,1.8290799999999999E-2,7.7720000000000008E-5,1.93919E-2,1.7472700000000001E-2,null,5.0136E-2,1.8239999999999999E-2,0,null,4.4266640000000003E-2,1.724442E-2,0,null,5.0136E-2,1.8239999999999999E-2,0,null,null,null,null,5.0506000000000002E-2,1.9391849999999999E-2,0,0.13212000000000002,-1.0119999999999999E-3,1.102E-5]
[null,680,3.841781141058246E-2,7.7959530720573135E-4,null,null,null,null,null,null,null,null,null,null,651,0.21227164942103802,1.3159999999999999E-3,1.147E-3,0.23661499999999999,1.8079999999999999E-3,4.2632999999999997E-2,3.1000000000000001E-5,2.2130000000000001E-3,0.32661800000000002,3.4150000000000001E-3,7.1568999999999994E-2,null,null,null,null,null,null,null,null,null,null,null,null,null,null,null,null,null,null,null,null,null,null,680,1.7000000000000001E-2,1.7000000000000001E-2,1.7000000000000001E-2,7.1500000000000003E-5,1.8079399999999999E-2,1.6288400000000001E-2,null,4.6769999999999999E-2,1.7000000000000001E-2,0,null,4.08508E-2,1.5905099999999998E-2,0,null,4.6769999999999999E-2,1.7000000000000001E-2,0,null,null,null,null,4.7106059999999998E-2,1.8079390000000001E-2,0,0.1221,-9.4700000000000003E-4,1.03E-5]
[null,681,{"$f":"SUMPRODUCT($P$37:$AD$37,P363:AD363)","v":3.8002360534665935E-2},{"$f":"C334/$C$12","v":7.7116475009310467E-4},null,null,null,null,null,null,null,null,null,null,652,0.20805678738605418,1.5039999999999999E-3,1.529E-3,0.23327999999999999,1.8979999999999999E-3,3.7437999999999999E-2,6.2000000000000003E-5,2.33E-3,0.32128400000000001,3.2620000000000001E-3,6.1360999999999999E-2,null,null,null,null,null,null,null,null,null,null,null,null,null,null,null,null,null,null,null,null,null,null,681,1.5984000000000002E-2,1.6120000000000002E-2,1.59744E-2,6.7219999999999997E-5,1.6848200000000001E-2,1.5177700000000001E-2,null,4.3996E-2,1.5984000000000002E-2,0,null,3.840524E-2,1.4950139999999999E-2,0,null,4.3996E-2,1.5984000000000002E-2,0,null,null,null,null,4.3914109999999999E-2,1.6848169999999999E-2,0,0.11473999999999999,-8.9420000000000005E-4,9.7159999999999998E-6]
[null,682,3.7557175527924265E-2,7.6213081168404276E-4,null,null,null,null,null,null,null,null,null,null,653,0.20384192535107035,1.5280000000000001E-3,1.905E-3,0.230185,1.836E-3,3.3466000000000003E-2,3.1000000000000001E-5,2.4069999999999999E-3,0.31609300000000001,3.0720000000000001E-3,5.3920000000000003E-2,null,null,null,null,null,null,null,null,null,null,null,null,null,null,null,null,null,null,null,null,null,null,682,1.4968E-2,1.5240000000000002E-2,1.4948800000000002E-2,6.2940000000000004E-5,1.5691900000000002E-2,1.41347E-2,null,4.1222000000000002E-2,1.4968E-2,0,null,3.5959680000000001E-2,1.3995179999999999E-2,0,null,4.1222000000000002E-2,1.4968E-2,0,null,null,null,null,4.0914109999999997E-2,1.5691879999999998E-2,0,0.10738,-8.4140000000000007E-4,9.132E-6]
[null,683,3.7112045301260006E-2,7.5309798490236701E-4,null,null,null,null,null,null,null,null,null,null,654,0.19962706331608654,1.5510000000000001E-3,1.1529999999999999E-3,0.22708999999999999,1.774E-3,2.9493999999999999E-2,2.63E-4,2.2529999999999998E-3,0.31090200000000001,2.8830000000000001E-3,4.6477999999999998E-2,null,null,null,null,null,null,null,null,null,null,null,null,null,null,null,null,null,null,null,null,null,null,683,1.3952000000000001E-2,1.4360000000000001E-2,1.39232E-2,5.8659999999999997E-5,1.4604499999999999E-2,1.31541E-2,null,3.8447999999999996E-2,1.3952000000000001E-2,0,null,3.3514120000000001E-2,1.3040219999999998E-2,0,null,3.8447999999999996E-2,1.3952000000000001E-2,0,null,null,null,null,3.809067E-2,1.460446E-2,0,0.10002,-7.8859999999999998E-4,8.5480000000000002E-6]
[null,684,3.5715630771512137E-2,7.247611751171676E-4,null,null,null,null,null,null,null,null,null,null,655,0.19593734120934864,7.9600000000000005E-4,1.2019999999999999E-3,0.220723,2.369E-3,2.2418E-2,5.2599999999999999E-4,1.8779999999999999E-3,0.30004999999999998,2.5530000000000001E-3,3.6125999999999998E-2,null,null,null,null,null,null,null,null,null,null,null,null,null,null,null,null,null,null,null,null,null,null,684,1.2936E-2,1.3480000000000001E-2,1.28976E-2,5.4379999999999998E-5,1.35806E-2,1.2230899999999999E-2,null,3.5673999999999997E-2,1.2936E-2,0,null,3.1068559999999999E-2,1.2085259999999999E-2,0,null,3.5673999999999997E-2,1.2936E-2,0,null,null,null,null,3.5430339999999998E-2,1.358062E-2,0,9.2659999999999992E-2,-7.358E-4,7.9640000000000003E-6]
[null,685,3.5021651616785887E-2,7.1067856935545174E-4,null,null,null,null,null,null,null,null,null,null,656,0.19299288617886068,8.3699999999999996E-4,9.7499999999999996E-4,0.21800800000000001,2.4299999999999999E-3,2.0039999999999999E-2,6.5300000000000004E-4,2.042E-3,0.29555599999999999,2.274E-3,3.1877999999999997E-2,null,null,null,null,null,null,null,null,null,null,null,null,null,null,null,null,null,null,null,null,null,null,685,1.192E-2,1.26E-2,1.1872000000000001E-2,5.0099999999999998E-5,1.2615700000000001E-2,1.1361100000000001E-2,null,3.2899999999999999E-2,1.192E-2,0,null,2.8622999999999999E-2,1.1130299999999999E-2,0,null,3.2899999999999999E-2,1.192E-2,0,null,null,null,null,3.292138E-2,1.261573E-2,0,8.5300000000000001E-2,-6.8300000000000001E-4,7.3799999999999996E-6]
[null,686,3.4327747162871632E-2,6.9659747946359759E-4,null,null,null,null,null,null,null,null,null,null,657,0.19004843114837275,8.7900000000000001E-4,7.4899999999999999E-4,0.21529300000000001,2.4919999999999999E-3,1.7663000000000002E-2,3.9899999999999999E-4,2.2049999999999999E-3,0.29106100000000001,1.9949999999999998E-3,2.7629999999999998E-2,null,null,null,null,null,null,null,null,null,null,null,null,null,null,null,null,null,null,null,null,null,null,686,1.1178E-2,1.1720000000000001E-2,1.1139600000000001E-2,4.7145999999999999E-5,1.1707E-2,1.05419E-2,null,3.0859999999999999E-2,1.1178E-2,0,null,2.688666E-2,1.0454E-2,0,null,3.0859999999999999E-2,1.1178E-2,0,null,null,null,null,3.0556719999999999E-2,1.1706960000000001E-2,0,7.9960000000000003E-2,-6.4199999999999999E-4,6.9479999999999994E-6]
[null,687,3.3185555944014483E-2,6.7341950858347229E-4,null,null,null,null,null,null,null,null,null,null,658,0.18710397611788479,1.7799999999999999E-3,7.8899999999999999E-4,0.20905399999999999,2.7100000000000002E-3,1.3776E-2,2.5999999999999998E-4,2.0530000000000001E-3,0.28121600000000002,2.9910000000000002E-3,2.1985999999999999E-2,null,null,null,null,null,null,null,null,null,null,null,null,null,null,null,null,null,null,null,null,null,null,687,1.0436000000000001E-2,1.0840000000000001E-2,1.04072E-2,4.4192E-5,1.08561E-2,9.7750500000000004E-3,null,2.8819999999999998E-2,1.0436000000000001E-2,0,null,2.515032E-2,9.7777000000000003E-3,0,null,2.8819999999999998E-2,1.0436000000000001E-2,0,null,null,null,null,2.8341459999999999E-2,1.0856080000000001E-2,0,7.4620000000000006E-2,-6.0099999999999997E-4,6.516E-6]
[null,688,3.2713901362386215E-2,6.6384843503818969E-4,null,null,null,null,null,null,null,null,null,null,659,0.18415952108739683,2.0449999999999999E-3,9.6199999999999996E-4,0.20654600000000001,2.5769999999999999E-3,1.273E-2,2.5500000000000002E-4,2.1359999999999999E-3,0.27607900000000002,3.153E-3,1.9418999999999999E-2,null,null,null,null,null,null,null,null,null,null,null,null,null,null,null,null,null,null,null,null,null,null,688,9.6939999999999995E-3,9.9600000000000001E-3,9.6748000000000008E-3,4.1238000000000001E-5,1.00648E-2,9.0619600000000008E-3,null,2.6780000000000002E-2,9.6939999999999995E-3,0,null,2.3413979999999997E-2,9.1013999999999991E-3,0,null,2.6780000000000002E-2,9.6939999999999995E-3,0,null,null,null,null,2.6280330000000001E-2,1.0064760000000001E-2,0,6.9280000000000008E-2,-5.5999999999999995E-4,6.0839999999999997E-6]
[null,689,3.2210109158523841E-2,6.5362520723011752E-4,null,null,null,null,null,null,null,null,null,null,660,0.18121506605690887,1.516E-3,1.1349999999999999E-3,0.204037,2.4450000000000001E-3,1.1684999999999999E-2,2.5000000000000001E-4,2.2190000000000001E-3,0.27094099999999999,2.8289999999999999E-3,1.6851999999999999E-2,null,null,null,null,null,null,null,null,null,null,null,null,null,null,null,null,null,null,null,null,null,null,689,8.9519999999999999E-3,9.0800000000000013E-3,8.9423999999999997E-3,3.8284000000000001E-5,9.3333800000000005E-3,8.4029599999999992E-3,null,2.4740000000000002E-2,8.9519999999999999E-3,0,null,2.1677639999999998E-2,8.4250999999999996E-3,0,null,2.4740000000000002E-2,8.9519999999999999E-3,0,null,null,null,null,2.4374650000000001E-2,9.3333760000000009E-3,0,6.3939999999999997E-2,-5.1900000000000004E-4,5.6519999999999994E-6]
[null,690,3.1532929596462686E-2,6.3988350801991503E-4,null,null,null,null,null,null,null,null,null,null,661,0.17827061102642094,1.302E-3,1.307E-3,0.20073099999999999,2.0699999999999998E-3,1.0871E-2,2.1599999999999999E-4,2.1080000000000001E-3,0.26570500000000002,2.5669999999999998E-3,1.5166000000000001E-2,null,null,null,null,null,null,null,null,null,null,null,null,null,null,null,null,null,null,null,null,null,null,690,8.2100000000000003E-3,8.2000000000000007E-3,8.2100000000000003E-3,3.5330000000000002E-5,8.6612800000000004E-3,7.79746E-3,null,2.2700000000000001E-2,8.2100000000000003E-3,0,null,1.9941299999999999E-2,7.7488000000000001E-3,0,null,2.2700000000000001E-2,8.2100000000000003E-3,0,null,null,null,null,2.262306E-2,8.661284E-3,0,5.8599999999999999E-2,-4.7800000000000002E-4,5.22E-6]
[null,691,3.0925497942180389E-2,6.2755717162178671E-4,null,null,null,null,null,null,null,null,null,null,662,0.17532615599593299,1.088E-3,1.4790000000000001E-3,0.19742399999999999,1.696E-3,1.0056000000000001E-2,1.8100000000000001E-4,1.9970000000000001E-3,0.26046900000000001,2.3059999999999999E-3,1.3480000000000001E-2,null,null,null,null,null,null,null,null,null,null,null,null,null,null,null,null,null,null,null,null,null,null,691,7.7126E-3,7.7900000000000009E-3,7.7224600000000004E-3,3.3266000000000003E-5,8.0460500000000008E-3,7.2432299999999998E-3,null,2.1328E-2,7.7126E-3,0,null,1.8721439999999999E-2,7.2740599999999997E-3,0,null,2.1328E-2,7.7126E-3,0,null,null,null,null,2.1019349999999999E-2,8.0460480000000001E-3,0,5.5039999999999999E-2,-4.4980000000000004E-4,4.9100000000000004E-6]
[null,692,3.0318010661229491E-2,6.1522970641677936E-4,null,null,null,null,null,null,null,null,null,null,663,0.17238170096544503,1.207E-3,1.6410000000000001E-3,0.19128700000000001,2.294E-3,7.737E-3,1.17E-4,2.1540000000000001E-3,0.251276,2.545E-3,1.0292000000000001E-2,null,null,null,null,null,null,null,null,null,null,null,null,null,null,null,null,null,null,null,null,null,null,692,7.2151999999999997E-3,7.3800000000000003E-3,7.2349200000000006E-3,3.1202000000000004E-5,7.4811299999999999E-3,6.7343799999999999E-3,null,1.9956000000000002E-2,7.2151999999999997E-3,0,null,1.7501579999999999E-2,6.7993200000000002E-3,0,null,1.9956000000000002E-2,7.2151999999999997E-3,0,null,null,null,null,1.954647E-2,7.4811299999999999E-3,0,5.1479999999999998E-2,-4.216E-4,4.6E-6]
[null,693,2.9697982222293799E-2,6.0264774915319585E-4,null,null,null,null,null,null,null,null,null,null,664,0.16943724593495707,9.7300000000000002E-4,1.2539999999999999E-3,0.18833900000000001,2.4949999999999998E-3,6.9249999999999997E-3,2.9599999999999998E-4,2.0110000000000002E-3,0.24673300000000001,2.32E-3,9.6769999999999998E-3,null,null,null,null,null,null,null,null,null,null,null,null,null,null,null,null,null,null,null,null,null,null,693,6.7178000000000003E-3,6.9700000000000005E-3,6.7473799999999999E-3,2.9138000000000001E-5,6.9599900000000001E-3,6.2649999999999997E-3,null,1.8584E-2,6.7178000000000003E-3,0,null,1.628172E-2,6.3245799999999998E-3,0,null,1.8584E-2,6.7178000000000003E-3,0,null,null,null,null,1.8187269999999998E-2,6.9599869999999999E-3,0,4.7920000000000004E-2,-3.9340000000000002E-4,4.2899999999999996E-6]
[null,694,2.90662612819629E-2,5.8982852123617025E-4,null,null,null,null,null,null,null,null,null,null,665,0.16649279090446914,7.3999999999999999E-4,8.6700000000000004E-4,0.185391,2.696E-3,6.1120000000000002E-3,4.7600000000000002E-4,1.867E-3,0.24218899999999999,2.0939999999999999E-3,9.0609999999999996E-3,null,null,null,null,null,null,null,null,null,null,null,null,null,null,null,null,null,null,null,null,null,null,694,6.2204000000000001E-3,6.5600000000000007E-3,6.25984E-3,2.7073999999999999E-5,6.4770699999999997E-3,5.8300899999999996E-3,null,1.7212000000000002E-2,6.2204000000000001E-3,0,null,1.506186E-2,5.8498400000000002E-3,0,null,1.7212000000000002E-2,6.2204000000000001E-3,0,null,null,null,null,1.6927270000000001E-2,6.4770699999999997E-3,0,4.4360000000000004E-2,-3.6519999999999999E-4,3.98E-6]
[null,695,2.8164607307711427E-2,5.7153166409515627E-4,null,null,null,null,null,null,null,null,null,null,666,0.16354833587398118,7.8399999999999997E-4,1.1820000000000001E-3,0.17982000000000001,3.1359999999999999E-3,4.8149999999999998E-3,1.8100000000000001E-4,2.0999999999999999E-3,0.233599,2.428E-3,7.5719999999999997E-3,null,null,null,null,null,null,null,null,null,null,null,null,null,null,null,null,null,null,null,null,null,null,695,5.7229999999999998E-3,6.150000000000001E-3,5.7723000000000002E-3,2.5009999999999999E-5,6.0276799999999997E-3,5.4253900000000004E-3,null,1.584E-2,5.7229999999999998E-3,0,null,1.3842E-2,5.3750999999999998E-3,0,null,1.584E-2,5.7229999999999998E-3,0,null,null,null,null,1.5754170000000001E-2,6.0276770000000004E-3,0,4.0800000000000003E-2,-3.3700000000000001E-4,3.67E-6]
[null,696,2.7734834529411459E-2,5.6281047908160464E-4,null,null,null,null,null,null,null,null,null,null,667,0.16060388084349322,7.1299999999999998E-4,9.1799999999999998E-4,0.17730399999999999,2.8249999999999998E-3,4.6119999999999998E-3,1.8100000000000001E-4,2.4559999999999998E-3,0.22950400000000001,2.526E-3,6.7980000000000002E-3,null,null,null,null,null,null,null,null,null,null,null,null,null,null,null,null,null,null,null,null,null,null,696,5.3987999999999996E-3,5.7400000000000003E-3,5.4382400000000004E-3,2.3567999999999999E-5,5.60817E-3,5.04763E-3,null,1.49438E-2,5.3987999999999996E-3,0,null,1.2988975999999999E-2,5.0436279999999997E-3,0,null,1.49438E-2,5.3987999999999996E-3,0,null,null,null,null,1.4658539999999999E-2,5.6081689999999997E-3,0,3.832E-2,-3.166E-4,3.4479999999999999E-6]
[null,697,2.73052036990852E-2,5.5409217455421576E-4,null,null,null,null,null,null,null,null,null,null,668,0.15765942581300527,6.4300000000000002E-4,6.5300000000000004E-4,0.174788,2.5140000000000002E-3,4.4089999999999997E-3,3.6200000000000002E-4,2.813E-3,0.225409,2.3289999999999999E-3,6.025E-3,null,null,null,null,null,null,null,null,null,null,null,null,null,null,null,null,null,null,null,null,null,null,697,5.0745999999999994E-3,5.3300000000000005E-3,5.1041799999999998E-3,2.2125999999999998E-5,5.2166900000000004E-3,4.6951400000000004E-3,null,1.40476E-2,5.0745999999999994E-3,0,null,1.2135952E-2,4.7121560000000003E-3,0,null,1.40476E-2,5.0745999999999994E-3,0,null,null,null,null,1.3635710000000001E-2,5.2166909999999999E-3,0,3.5840000000000004E-2,-2.9619999999999999E-4,3.2260000000000001E-6]
[null,698,2.6478462326584341E-2,5.373154850289775E-4,null,null,null,null,null,null,null,null,null,null,669,0.15471497078251734,1.0319999999999999E-3,6.1700000000000004E-4,0.172261,2.2100000000000002E-3,3.8709999999999999E-3,1.8100000000000001E-4,2.5890000000000002E-3,0.221334,2.5730000000000002E-3,5.5970000000000004E-3,null,null,null,null,null,null,null,null,null,null,null,null,null,null,null,null,null,null,null,null,null,null,698,4.7504000000000001E-3,4.9200000000000008E-3,4.7701200000000001E-3,2.0684000000000001E-5,4.8517899999999999E-3,4.3665900000000001E-3,null,1.3151399999999999E-2,4.7504000000000001E-3,0,null,1.1282927999999999E-2,4.3806840000000001E-3,0,null,1.3151399999999999E-2,4.7504000000000001E-3,0,null,null,null,null,1.268205E-2,4.851785E-3,0,3.3360000000000001E-2,-2.7579999999999998E-4,3.004E-6]
[null,699,2.6303008414181719E-2,5.3375507797512095E-4,null,null,null,null,null,null,null,null,null,null,670,0.15177051575202938,1.4220000000000001E-3,5.8E-4,0.169735,1.9070000000000001E-3,3.3319999999999999E-3,1.21E-4,2.3640000000000002E-3,0.21725900000000001,2.8170000000000001E-3,5.169E-3,null,null,null,null,null,null,null,null,null,null,null,null,null,null,null,null,null,null,null,null,null,null,699,4.4261999999999999E-3,4.5100000000000001E-3,4.4360599999999995E-3,1.9242E-5,4.5120100000000003E-3,4.0606899999999996E-3,null,1.2255199999999999E-2,4.4261999999999999E-3,0,null,1.0429904E-2,4.049212E-3,0,null,1.2255199999999999E-2,4.4261999999999999E-3,0,null,null,null,null,1.1793939999999999E-2,4.5120079999999996E-3,0,3.0880000000000001E-2,-2.5540000000000003E-4,2.7819999999999998E-6]
[null,700,2.6127832466787976E-2,5.3020031153973106E-4,null,null,null,null,null,null,null,null,null,null,671,0.14882606072154142,9.68E-4,7.85E-4,0.16403599999999999,1.8860000000000001E-3,4.0039999999999997E-3,2.43E-4,2.2049999999999999E-3,0.20735300000000001,3.0200000000000001E-3,4.2700000000000004E-3,null,null,null,null,null,null,null,null,null,null,null,null,null,null,null,null,null,null,null,null,null,null,700,4.1019999999999997E-3,4.1000000000000003E-3,4.1019999999999997E-3,1.7799999999999999E-5,4.1959400000000004E-3,3.7761399999999999E-3,null,1.1358999999999999E-2,4.1019999999999997E-3,0,null,9.5768799999999994E-3,3.7177400000000002E-3,0,null,1.1358999999999999E-2,4.1019999999999997E-3,0,null,null,null,null,1.096778E-2,4.1959409999999999E-3,0,2.8400000000000002E-2,-2.3499999999999999E-4,2.5600000000000001E-6]
[null,701,2.5053719831854997E-2,5.0840382863614022E-4,null,null,null,null,null,null,null,null,null,null,672,0.14588160569105346,8.52E-4,1.108E-3,0.16103300000000001,1.884E-3,4.2550000000000001E-3,1.21E-4,2.0460000000000001E-3,0.20313500000000001,2.8089999999999999E-3,3.8080000000000002E-3,null,null,null,null,null,null,null,null,null,null,null,null,null,null,null,null,null,null,null,null,null,null,701,3.8674E-3,3.9000000000000003E-3,3.8674199999999999E-3,1.6785999999999998E-5,3.9020600000000002E-3,3.5115799999999998E-3,null,1.0709399999999999E-2,3.8674E-3,0,null,8.9825440000000003E-3,3.487104E-3,0,null,1.0709399999999999E-2,3.8674E-3,0,null,null,null,null,1.0199639999999999E-2,3.902057E-3,0,2.666E-2,-2.206E-4,2.3999999999999999E-6]
[null,702,2.46791938730162E-2,5.0080374239444916E-4,null,null,null,null,null,null,null,null,null,null,673,0.14293715066056553,7.3700000000000002E-4,1.431E-3,0.15803,1.882E-3,3.7529999999999998E-3,5.8E-5,1.8879999999999999E-3,0.19891600000000001,2.598E-3,3.3449999999999999E-3,null,null,null,null,null,null,null,null,null,null,null,null,null,null,null,null,null,null,null,null,null,null,702,3.6327999999999998E-3,3.7000000000000002E-3,3.63284E-3,1.5772000000000001E-5,3.6283700000000001E-3,3.2652100000000002E-3,null,1.0059799999999999E-2,3.6327999999999998E-3,0,null,8.3882079999999994E-3,3.2564680000000002E-3,0,null,1.0059799999999999E-2,3.6327999999999998E-3,0,null,null,null,null,9.4843170000000008E-3,3.628371E-3,0,2.4920000000000001E-2,-2.062E-4,2.2400000000000002E-6]
[null,703,2.4304723540846021E-2,4.9320478495963735E-4,null,null,null,null,null,null,null,null,null,null,674,0.13999269563007757,9.9700000000000006E-4,1.2130000000000001E-3,0.15522,1.8979999999999999E-3,3.5000000000000001E-3,5.8E-5,1.8569999999999999E-3,0.194771,2.294E-3,3.2339999999999999E-3,null,null,null,null,null,null,null,null,null,null,null,null,null,null,null,null,null,null,null,null,null,null,703,3.3982000000000001E-3,3.5000000000000001E-3,3.3982599999999997E-3,1.4758E-5,3.3730100000000001E-3,3.0353400000000001E-3,null,9.4102000000000005E-3,3.3982000000000001E-3,0,null,7.7938720000000003E-3,3.025832E-3,0,null,9.4102000000000005E-3,3.3982000000000001E-3,0,null,null,null,null,8.8168510000000005E-3,3.3730050000000001E-3,0,2.3179999999999999E-2,-1.918E-4,2.08E-6]
[null,704,2.3999954124282585E-2,4.8702023674596068E-4,null,null,null,null,null,null,null,null,null,null,675,0.13704824059958962,1.2570000000000001E-3,9.9400000000000009E-4,0.15240999999999999,1.915E-3,3.248E-3,1.15E-4,1.8259999999999999E-3,0.19062599999999999,1.99E-3,3.1229999999999999E-3,null,null,null,null,null,null,null,null,null,null,null,null,null,null,null,null,null,null,null,null,null,null,704,3.1635999999999999E-3,3.3E-3,3.1636799999999999E-3,1.3743999999999999E-5,3.1343199999999999E-3,2.8205000000000001E-3,null,8.7606000000000003E-3,3.1635999999999999E-3,0,null,7.1995360000000003E-3,2.7951960000000002E-3,0,null,8.7606000000000003E-3,3.1635999999999999E-3,0,null,null,null,null,8.1929210000000006E-3,3.1343149999999999E-3,0,2.1440000000000001E-2,-1.774E-4,1.9200000000000003E-6]
[null,705,2.3685325388973315E-2,4.8063561782694502E-4,null,null,null,null,null,null,null,null,null,null,676,0.13410378556910166,3.5E-4,1.3389999999999999E-3,0.147427,2.6210000000000001E-3,2.63E-3,2.6699999999999998E-4,2.1180000000000001E-3,0.18429999999999999,2.3779999999999999E-3,2.7490000000000001E-3,null,null,null,null,null,null,null,null,null,null,null,null,null,null,null,null,null,null,null,null,null,null,705,2.9290000000000002E-3,3.1000000000000003E-3,2.9291E-3,1.273E-5,2.9108599999999999E-3,2.6193700000000002E-3,null,8.1110000000000002E-3,2.9290000000000002E-3,0,null,6.6052000000000003E-3,2.56456E-3,0,null,8.1110000000000002E-3,2.9290000000000002E-3,0,null,null,null,null,7.6087500000000001E-3,2.910864E-3,0,1.9699999999999999E-2,-1.63E-4,1.7600000000000001E-6]
[null,706,2.2725882799832311E-2,4.611660824066736E-4,null,null,null,null,null,null,null,null,null,null,677,0.13167145760742999,5.9599999999999996E-4,1.6559999999999999E-3,0.14532999999999999,3.0980000000000001E-3,2.4130000000000002E-3,3.4499999999999998E-4,2.3969999999999998E-3,0.180837,2.5730000000000002E-3,2.6340000000000001E-3,null,null,null,null,null,null,null,null,null,null,null,null,null,null,null,null,null,null,null,null,null,null,706,2.7614000000000002E-3,2.9000000000000002E-3,2.7614800000000002E-3,1.2012E-5,2.7015300000000002E-3,2.4309599999999998E-3,null,7.6468000000000005E-3,2.7614000000000002E-3,0,null,6.1946860000000005E-3,2.405342E-3,0,null,7.6468000000000005E-3,2.7614000000000002E-3,0,null,null,null,null,7.0613910000000002E-3,2.7015279999999999E-3,0,1.8459999999999997E-2,-1.526E-4,1.6480000000000001E-6]
[null,707,2.2398669283963273E-2,4.5452608621585668E-4,null,null,null,null,null,null,null,null,null,null,678,0.12949216027874247,8.4199999999999998E-4,1.0219999999999999E-3,0.143233,2.1440000000000001E-3,2.1949999999999999E-3,1.9000000000000001E-4,2.676E-3,0.177374,2.183E-3,2.5200000000000001E-3,null,null,null,null,null,null,null,null,null,null,null,null,null,null,null,null,null,null,null,null,null,null,707,2.5938000000000003E-3,2.7000000000000001E-3,2.5938599999999999E-3,1.1294000000000001E-5,2.5057999999999999E-3,2.2547999999999999E-3,null,7.1825999999999999E-3,2.5938000000000003E-3,0,null,5.7841720000000006E-3,2.246124E-3,0,null,7.1825999999999999E-3,2.5938000000000003E-3,0,null,null,null,null,6.5495090000000002E-3,2.5057959999999998E-3,0,1.7219999999999999E-2,-1.4220000000000001E-4,1.536E-6]
[null,708,2.1966211499414474E-2,4.4575041558236601E-4,null,null,null,null,null,null,null,null,null,null,679,0.12731286295005495,8.12E-4,8.25E-4,0.138462,1.7049999999999999E-3,1.395E-3,4.8999999999999998E-5,1.931E-3,0.17024,2.6940000000000002E-3,2.2899999999999999E-3,null,null,null,null,null,null,null,null,null,null,null,null,null,null,null,null,null,null,null,null,null,null,708,2.4261999999999999E-3,2.5000000000000001E-3,2.4262400000000001E-3,1.0576E-5,2.3232299999999999E-3,2.09049E-3,null,6.7184000000000002E-3,2.4261999999999999E-3,0,null,5.3736579999999999E-3,2.0869059999999999E-3,0,null,6.7184000000000002E-3,2.4261999999999999E-3,0,null,null,null,null,6.0719700000000003E-3,2.3232309999999998E-3,0,1.5980000000000001E-2,-1.3180000000000001E-4,1.424E-6]
[null,709,2.1801611911911909E-2,4.4241027044464347E-4,null,null,null,null,null,null,null,null,null,null,680,0.12513356562136746,9.1600000000000004E-4,7.2000000000000005E-4,0.13609199999999999,1.8220000000000001E-3,1.877E-3,2.5000000000000001E-5,2.0929999999999998E-3,0.16669,2.7629999999999998E-3,2.4610000000000001E-3,null,null,null,null,null,null,null,null,null,null,null,null,null,null,null,null,null,null,null,null,null,null,709,2.2585999999999999E-3,2.3E-3,2.2586199999999998E-3,9.8580000000000012E-6,2.1533300000000002E-3,1.9375900000000001E-3,null,6.2541999999999997E-3,2.2585999999999999E-3,0,null,4.9631440000000001E-3,1.9276880000000001E-3,0,null,6.2541999999999997E-3,2.2585999999999999E-3,0,null,null,null,null,5.6274760000000002E-3,2.1533329999999999E-3,0,1.474E-2,-1.214E-4,1.3119999999999999E-6]
[null,710,2.1399019650718807E-2,4.3424064739690704E-4,null,null,null,null,null,null,null,null,null,null,681,0.12295426829267994,1.0189999999999999E-3,6.1499999999999999E-4,0.13372200000000001,1.9380000000000001E-3,2.3579999999999999E-3,0,2.2539999999999999E-3,0.16314000000000001,2.8319999999999999E-3,2.6310000000000001E-3,null,null,null,null,null,null,null,null,null,null,null,null,null,null,null,null,null,null,null,null,null,null,710,2.091E-3,2.0999999999999999E-3,2.091E-3,9.1400000000000006E-6,1.99556E-3,1.7956000000000001E-3,null,5.79E-3,2.091E-3,0,null,4.5526300000000002E-3,1.7684700000000001E-3,0,null,5.79E-3,2.091E-3,0,null,null,null,null,5.2146079999999999E-3,1.9955569999999998E-3,0,1.35E-2,-1.11E-4,1.1999999999999999E-6]
[null,711,2.0979488743481413E-2,4.2572729605019438E-4,null,null,null,null,null,null,null,null,null,null,682,0.12077497096399244,1.446E-3,1.1950000000000001E-3,0.13156100000000001,2.1159999999999998E-3,2.542E-3,0,1.9910000000000001E-3,0.15996099999999999,2.9350000000000001E-3,2.415E-3,null,null,null,null,null,null,null,null,null,null,null,null,null,null,null,null,null,null,null,null,null,null,711,1.9696000000000002E-3,2E-3,1.9692400000000001E-3,8.6320000000000014E-6,1.84932E-3,1.66399E-3,null,5.4538E-3,1.9696000000000002E-3,0,null,4.2710439999999999E-3,1.659254E-3,0,null,5.4538E-3,1.9696000000000002E-3,0,null,null,null,null,4.8318479999999997E-3,1.8493159999999999E-3,0,1.2648E-2,-1.0376E-4,1.1233999999999999E-6]
[null,712,2.0254272218581299E-2,4.1101080443442159E-4,null,null,null,null,null,null,null,null,null,null,683,0.11859567363530492,1.872E-3,1.7750000000000001E-3,0.12940099999999999,2.2929999999999999E-3,2.7260000000000001E-3,0,1.7279999999999999E-3,0.156782,3.0379999999999999E-3,2.2000000000000001E-3,null,null,null,null,null,null,null,null,null,null,null,null,null,null,null,null,null,null,null,null,null,null,712,1.8481999999999999E-3,1.9E-3,1.8474799999999999E-3,8.1240000000000005E-6,1.7139799999999999E-3,1.5422000000000001E-3,null,5.1175999999999999E-3,1.8481999999999999E-3,0,null,3.9894580000000004E-3,1.5500380000000001E-3,0,null,5.1175999999999999E-3,1.8481999999999999E-3,0,null,null,null,null,4.4775789999999998E-3,1.7139760000000001E-3,0,1.1795999999999999E-2,-9.6520000000000004E-5,1.0467999999999999E-6]
[null,713,1.9989761600766029E-2,4.0564320985306886E-4,null,null,null,null,null,null,null,null,null,null,684,0.11641637630661741,1.549E-3,2.0479999999999999E-3,0.124682,2.4859999999999999E-3,2.477E-3,6.3999999999999997E-5,1.9419999999999999E-3,0.150701,2.5639999999999999E-3,1.9870000000000001E-3,null,null,null,null,null,null,null,null,null,null,null,null,null,null,null,null,null,null,null,null,null,null,713,1.7268000000000001E-3,1.8E-3,1.72572E-3,7.6160000000000004E-6,1.5889000000000001E-3,1.42964E-3,null,4.7813999999999999E-3,1.7268000000000001E-3,0,null,3.7078720000000001E-3,1.440822E-3,0,null,4.7813999999999999E-3,1.7268000000000001E-3,0,null,null,null,null,4.1501660000000003E-3,1.588899E-3,0,1.0943999999999999E-2,-8.9279999999999999E-5,9.7020000000000005E-7]
[null,714,1.9725906244277253E-2,4.002889121940647E-4,null,null,null,null,null,null,null,null,null,null,685,0.1142370789779299,1.1529999999999999E-3,1.583E-3,0.122643,2.264E-3,2.3210000000000001E-3,6.3999999999999997E-5,1.9580000000000001E-3,0.147483,2.4239999999999999E-3,1.83E-3,null,null,null,null,null,null,null,null,null,null,null,null,null,null,null,null,null,null,null,null,null,null,714,1.6054000000000001E-3,1.6999999999999999E-3,1.60396E-3,7.1080000000000004E-6,1.4734500000000001E-3,1.3257500000000001E-3,null,4.4451999999999998E-3,1.6054000000000001E-3,0,null,3.4262859999999997E-3,1.3316060000000002E-3,0,null,4.4451999999999998E-3,1.6054000000000001E-3,0,null,null,null,null,3.8479880000000001E-3,1.473453E-3,0,1.0092E-2,-8.2039999999999994E-5,8.9360000000000001E-7]
[null,715,1.9025676040707113E-2,3.8607945671954944E-4,null,null,null,null,null,null,null,null,null,null,686,0.11205778164924239,7.5699999999999997E-4,1.1169999999999999E-3,0.120605,2.0409999999999998E-3,2.1649999999999998E-3,1.2799999999999999E-4,1.926E-3,0.14426600000000001,2.284E-3,1.6739999999999999E-3,null,null,null,null,null,null,null,null,null,null,null,null,null,null,null,null,null,null,null,null,null,null,715,1.4840000000000001E-3,1.5999999999999999E-3,1.4821999999999999E-3,6.6000000000000003E-6,1.36702E-3,1.2299800000000001E-3,null,4.1089999999999998E-3,1.4840000000000001E-3,0,null,3.1446999999999998E-3,1.2223900000000001E-3,0,null,4.1089999999999998E-3,1.4840000000000001E-3,0,null,null,null,null,3.5694519999999999E-3,1.3670220000000001E-3,0,9.2399999999999999E-3,-7.4800000000000002E-5,8.1699999999999997E-7]
[null,716,1.8592781751110406E-2,3.7729492828613668E-4,null,null,null,null,null,null,null,null,null,null,687,0.10987848432055487,2.7799999999999998E-4,1.338E-3,0.11629399999999999,2.4789999999999999E-3,2.078E-3,2.4000000000000001E-5,2.467E-3,0.13907800000000001,2.333E-3,2.2279999999999999E-3,null,null,null,null,null,null,null,null,null,null,null,null,null,null,null,null,null,null,null,null,null,null,716,1.3966E-3,1.5E-3,1.3951599999999999E-3,6.2360000000000001E-6,1.26895E-3,1.1417300000000001E-3,null,3.8669999999999998E-3,1.3966E-3,0,null,2.9507520000000001E-3,1.14715E-3,0,null,3.8669999999999998E-3,1.3966E-3,0,null,null,null,null,3.3128570000000002E-3,1.2689540000000001E-3,0,8.6680000000000004E-3,-7.0000000000000007E-5,7.6459999999999995E-7]
[null,717,1.816031953790874E-2,3.685191677839922E-4,null,null,null,null,null,null,null,null,null,null,688,0.10769918699186737,6.9899999999999997E-4,1.127E-3,0.11461,2.5379999999999999E-3,1.957E-3,2.4000000000000001E-5,2.6909999999999998E-3,0.13685600000000001,2.539E-3,2.2430000000000002E-3,null,null,null,null,null,null,null,null,null,null,null,null,null,null,null,null,null,null,null,null,null,null,717,1.3091999999999999E-3,1.4E-3,1.3081199999999999E-3,5.8719999999999999E-6,1.1784199999999999E-3,1.0602700000000001E-3,null,3.6249999999999998E-3,1.3091999999999999E-3,0,null,2.7568039999999999E-3,1.0719100000000001E-3,0,null,3.6249999999999998E-3,1.3091999999999999E-3,0,null,null,null,null,3.0760219999999999E-3,1.178421E-3,0,8.0960000000000008E-3,-6.5199999999999999E-5,7.1219999999999993E-7]
[null,718,1.8041889389512917E-2,3.6611591823564266E-4,null,null,null,null,null,null,null,null,null,null,689,0.10551988966317986,1.1199999999999999E-3,9.1699999999999995E-4,0.112925,2.4199999999999998E-3,1.836E-3,4.8000000000000001E-5,2.9139999999999999E-3,0.134633,2.7439999999999999E-3,2.258E-3,null,null,null,null,null,null,null,null,null,null,null,null,null,null,null,null,null,null,null,null,null,null,718,1.2218000000000001E-3,1.2999999999999999E-3,1.22108E-3,5.5080000000000005E-6,1.09464E-3,9.8488500000000001E-4,null,3.3830000000000002E-3,1.2218000000000001E-3,0,null,2.5628560000000001E-3,9.9667000000000006E-4,0,null,3.3830000000000002E-3,1.2218000000000001E-3,0,null,null,null,null,2.856894E-3,1.0946440000000001E-3,0,7.5240000000000003E-3,-6.0400000000000004E-5,6.5980000000000002E-7]
[null,719,1.7508018908877442E-2,3.5528232553274237E-4,null,null,null,null,null,null,null,null,null,null,690,0.10334059233449235,1.7060000000000001E-3,8.8099999999999995E-4,0.10996,2.147E-3,2.2009999999999998E-3,0,2.1949999999999999E-3,0.128245,2.8050000000000002E-3,2.457E-3,null,null,null,null,null,null,null,null,null,null,null,null,null,null,null,null,null,null,null,null,null,null,719,1.1344E-3,1.2000000000000001E-3,1.13404E-3,5.1440000000000002E-6,1.01694E-3,9.1496999999999998E-4,null,3.1410000000000001E-3,1.1344E-3,0,null,2.3689079999999999E-3,9.2142999999999999E-4,0,null,3.1410000000000001E-3,1.1344E-3,0,null,null,null,null,2.6536810000000002E-3,1.016943E-3,0,6.9519999999999998E-3,-5.5600000000000003E-5,6.074E-7]
[null,720,1.6970035870127399E-2,3.4436527854421239E-4,null,null,null,null,null,null,null,null,null,null,691,0.10116129500580484,1.317E-3,1.1609999999999999E-3,0.10775999999999999,1.717E-3,2.3570000000000002E-3,0,1.9980000000000002E-3,0.12590399999999999,2.9849999999999998E-3,1.9090000000000001E-3,null,null,null,null,null,null,null,null,null,null,null,null,null,null,null,null,null,null,null,null,null,null,720,1.047E-3,1.1000000000000001E-3,1.047E-3,4.78E-6,9.4472700000000002E-4,8.4999000000000001E-4,null,2.8990000000000001E-3,1.047E-3,0,null,2.1749600000000001E-3,8.4619000000000003E-4,0,null,2.8990000000000001E-3,1.047E-3,0,null,null,null,null,2.4648209999999999E-3,9.4472689999999999E-4,0,6.3800000000000003E-3,-5.0800000000000002E-5,5.5499999999999998E-7]
[null,721,1.7220394332696207E-2,3.4944568982667607E-4,null,null,null,null,null,null,null,null,null,null,692,9.8981997677117323E-2,9.2699999999999998E-4,1.4400000000000001E-3,0.10556,1.2869999999999999E-3,2.513E-3,0,1.8E-3,0.12356300000000001,3.1649999999999998E-3,1.361E-3,null,null,null,null,null,null,null,null,null,null,null,null,null,null,null,null,null,null,null,null,null,null,721,9.8559999999999989E-4,1.0400000000000001E-3,9.8562999999999993E-4,4.5204E-6,8.7751699999999997E-4,7.8951599999999998E-4,null,2.7290000000000001E-3,9.8559999999999989E-4,0,null,2.0411080000000002E-3,7.9423999999999999E-4,0,null,2.7290000000000001E-3,9.8559999999999989E-4,0,null,null,null,null,2.2890599999999999E-3,8.775171E-4,0,5.986E-3,-4.7519999999999999E-5,5.1900000000000003E-7]
[null,722,1.743183797061915E-2,3.5373642013667562E-4,null,null,null,null,null,null,null,null,null,null,693,9.6802700348429818E-2,9.9599999999999992E-4,1.6620000000000001E-3,0.10366599999999999,1.374E-3,2.1879999999999998E-3,1.06E-4,1.9530000000000001E-3,0.12053,3.3019999999999998E-3,1.4530000000000001E-3,null,null,null,null,null,null,null,null,null,null,null,null,null,null,null,null,null,null,null,null,null,null,722,9.2420000000000002E-4,9.7999999999999997E-4,9.2425999999999999E-4,4.2607999999999999E-6,8.1504400000000001E-4,7.3330400000000005E-4,null,2.5590000000000001E-3,9.2420000000000002E-4,0,null,1.907256E-3,7.4229000000000005E-4,0,null,2.5590000000000001E-3,9.2420000000000002E-4,0,null,null,null,null,2.125694E-3,8.1504380000000005E-4,0,5.5919999999999997E-3,-4.4240000000000003E-5,4.8299999999999997E-7]
[null,723,1.6803975072436497E-2,3.409954817276502E-4,null,null,null,null,null,null,null,null,null,null,694,9.4623403019742314E-2,1.065E-3,1.219E-3,0.101772,1.462E-3,1.8630000000000001E-3,1.06E-4,2.1069999999999999E-3,0.117497,3.4390000000000002E-3,1.5449999999999999E-3,null,null,null,null,null,null,null,null,null,null,null,null,null,null,null,null,null,null,null,null,null,null,723,8.6279999999999994E-4,9.2000000000000003E-4,8.6288999999999995E-4,4.0011999999999999E-6,7.5707599999999997E-4,6.8114599999999999E-4,null,2.3890000000000001E-3,8.6279999999999994E-4,0,null,1.7734040000000001E-3,6.9034000000000001E-4,0,null,2.3890000000000001E-3,8.6279999999999994E-4,0,null,null,null,null,1.9741210000000001E-3,7.5707550000000002E-4,0,5.1979999999999995E-3,-4.0960000000000001E-5,4.4700000000000002E-7]
[null,724,1.6366520711206308E-2,3.3211841781875204E-4,null,null,null,null,null,null,null,null,null,null,695,9.2444105691054795E-2,6.1200000000000002E-4,1.175E-3,9.8186999999999997E-2,2.6069999999999999E-3,1.7769999999999999E-3,2.12E-4,1.691E-3,0.11371199999999999,2.372E-3,1.5169999999999999E-3,null,null,null,null,null,null,null,null,null,null,null,null,null,null,null,null,null,null,null,null,null,null,724,8.0139999999999996E-4,8.6000000000000009E-4,8.0152000000000001E-4,3.7415999999999999E-6,7.0337600000000002E-4,6.3282900000000001E-4,null,2.2190000000000001E-3,8.0139999999999996E-4,0,null,1.6395520000000001E-3,6.3839000000000007E-4,0,null,2.2190000000000001E-3,8.0139999999999996E-4,0,null,null,null,null,1.833723E-3,7.0337549999999996E-4,0,4.8040000000000001E-3,-3.7680000000000005E-5,4.1100000000000001E-7]
[null,725,1.5927411696996976E-2,3.2320777678377022E-4,null,null,null,null,null,null,null,null,null,null,696,9.0264808362367291E-2,4.3800000000000002E-4,1.07E-3,9.6838999999999995E-2,2.892E-3,1.539E-3,1.06E-4,1.8339999999999999E-3,0.11167100000000001,2.2950000000000002E-3,1.565E-3,null,null,null,null,null,null,null,null,null,null,null,null,null,null,null,null,null,null,null,null,null,null,725,7.3999999999999999E-4,8.0000000000000004E-4,7.4014999999999997E-4,3.4819999999999999E-6,6.5370499999999998E-4,5.8813799999999999E-4,null,2.049E-3,7.3999999999999999E-4,0,null,1.5057E-3,5.8644000000000003E-4,0,null,2.049E-3,7.3999999999999999E-4,0,null,null,null,null,1.703876E-3,6.5370499999999998E-4,0,4.4099999999999999E-3,-3.4400000000000003E-5,3.7500000000000001E-7]
[null,726,1.5685537680477774E-2,3.1829953653556519E-4,null,null,null,null,null,null,null,null,null,null,697,8.8085511033679773E-2,2.63E-4,9.6500000000000004E-4,9.5491000000000006E-2,3.1779999999999998E-3,1.3010000000000001E-3,0,1.9759999999999999E-3,0.10963000000000001,2.2179999999999999E-3,1.6119999999999999E-3,null,null,null,null,null,null,null,null,null,null,null,null,null,null,null,null,null,null,null,null,null,null,726,6.96E-4,7.3999999999999999E-4,6.9611999999999994E-4,3.2947999999999998E-6,6.07805E-4,5.4683900000000003E-4,null,1.9272E-3,6.96E-4,0,null,1.413512E-3,5.5063400000000004E-4,0,null,1.9272E-3,6.96E-4,0,null,null,null,null,1.5839039999999999E-3,6.0780480000000004E-4,0,4.1419999999999998E-3,-3.2200000000000003E-5,3.5079999999999999E-7]
[null,727,1.5686598537048707E-2,3.1832106401914512E-4,null,null,null,null,null,null,null,null,null,null,698,8.5906213704992268E-2,1.005E-3,5.5099999999999995E-4,9.2885999999999996E-2,2.0950000000000001E-3,1.4120000000000001E-3,0,2.4329999999999998E-3,0.106589,2.3549999999999999E-3,2.32E-3,null,null,null,null,null,null,null,null,null,null,null,null,null,null,null,null,null,null,null,null,null,null,727,6.5200000000000002E-4,6.8000000000000005E-4,6.5208999999999992E-4,3.1075999999999997E-6,5.6534399999999996E-4,5.0863500000000001E-4,null,1.8054E-3,6.5200000000000002E-4,0,null,1.321324E-3,5.1482800000000005E-4,0,null,1.8054E-3,6.5200000000000002E-4,0,null,null,null,null,1.4729389999999999E-3,5.6534350000000001E-4,0,3.8739999999999998E-3,-3.0000000000000001E-5,3.2660000000000003E-7]
[null,728,1.5705852867085958E-2,3.1871178344821429E-4,null,null,null,null,null,null,null,null,null,null,699,8.372691637630475E-2,1.219E-3,5.5400000000000002E-4,9.1586000000000001E-2,2.0890000000000001E-3,1.768E-3,0,2.4650000000000002E-3,0.104286,2.6580000000000002E-3,2.7399999999999998E-3,null,null,null,null,null,null,null,null,null,null,null,null,null,null,null,null,null,null,null,null,null,null,728,6.0799999999999993E-4,6.2E-4,6.0806E-4,2.9204E-6,5.2600499999999996E-4,4.7323999999999999E-4,null,1.6836000000000002E-3,6.0799999999999993E-4,0,null,1.229136E-3,4.7902200000000001E-4,0,null,1.6836000000000002E-3,6.0799999999999993E-4,0,null,null,null,null,1.370151E-3,5.2600460000000004E-4,0,3.6059999999999998E-3,-2.7800000000000001E-5,3.0240000000000001E-7]
[null,729,1.5187864912894568E-2,3.0820048768591927E-4,null,null,null,null,null,null,null,null,null,null,700,8.1547619047617245E-2,1.4339999999999999E-3,5.5699999999999999E-4,9.0286000000000005E-2,2.0820000000000001E-3,2.1250000000000002E-3,0,2.4979999999999998E-3,0.101983,2.9610000000000001E-3,1.9E-3,null,null,null,null,null,null,null,null,null,null,null,null,null,null,null,null,null,null,null,null,null,null,729,5.6399999999999994E-4,5.6000000000000006E-4,5.6402999999999998E-4,2.7331999999999999E-6,4.8950600000000001E-4,4.40402E-4,null,1.5618000000000001E-3,5.6399999999999994E-4,0,null,1.136948E-3,4.4321599999999997E-4,0,null,1.5618000000000001E-3,5.6399999999999994E-4,0,null,null,null,null,1.2748029999999999E-3,4.8950610000000005E-4,0,3.3379999999999998E-3,-2.5599999999999999E-5,2.7820000000000004E-7]
[null,730,1.5136794702692268E-2,3.071641429606506E-4,null,null,null,null,null,null,null,null,null,null,701,8.0037746806038271E-2,6.0499999999999996E-4,1.622E-3,8.5991999999999999E-2,2.032E-3,2.3770000000000002E-3,0,1.7290000000000001E-3,9.7939999999999999E-2,3.1059999999999998E-3,1.5529999999999999E-3,null,null,null,null,null,null,null,null,null,null,null,null,null,null,null,null,null,null,null,null,null,null,730,0,5.0000000000000001E-4,5.1999999999999995E-4,2.5459999999999998E-6,4.5559700000000002E-4,4.0989299999999999E-4,null,1.4400000000000001E-3,5.1999999999999995E-4,0,null,1.04476E-3,4.0740999999999998E-4,0,null,1.4400000000000001E-3,5.1999999999999995E-4,0,null,null,null,null,1.186238E-3,4.5559700000000002E-4,0,3.0699999999999998E-3,-2.34E-5,2.5400000000000002E-7]
[null,731,1.5050579196027009E-2,3.054146105969698E-4,null,null,null,null,null,null,null,null,null,null,702,7.861336946702685E-2,8.4199999999999998E-4,1.8190000000000001E-3,8.4926000000000001E-2,1.949E-3,2.1640000000000001E-3,0,1.756E-3,9.5782999999999993E-2,3.2109999999999999E-3,1.5950000000000001E-3,null,null,null,null,null,null,null,null,null,null,null,null,null,null,null,null,null,null,null,null,null,null,731,0,4.6999999999999999E-4,4.8818599999999994E-4,2.4107999999999999E-6,4.24055E-4,3.8151400000000001E-4,null,1.3520000000000001E-3,4.8819999999999994E-4,0,null,9.8129800000000002E-4,3.8273619999999996E-4,0,null,1.3520000000000001E-3,4.8819999999999994E-4,0,null,null,null,null,1.103871E-3,4.2405479999999999E-4,0,2.8839999999999998E-3,-2.19E-5,2.3740000000000002E-7]
[null,732,1.4411515775638482E-2,2.9244638504613834E-4,null,null,null,null,null,null,null,null,null,null,703,7.718899212801543E-2,1.08E-3,2.0170000000000001E-3,8.3860000000000004E-2,1.866E-3,1.951E-3,0,1.7830000000000001E-3,9.3627000000000002E-2,3.3159999999999999E-3,1.637E-3,null,null,null,null,null,null,null,null,null,null,null,null,null,null,null,null,null,null,null,null,null,null,732,0,4.4000000000000002E-4,4.5637199999999997E-4,2.2755999999999999E-6,3.94686E-4,3.5509000000000002E-4,null,1.2640000000000001E-3,4.5639999999999998E-4,0,null,9.17836E-4,3.580624E-4,0,null,1.2640000000000001E-3,4.5639999999999998E-4,0,null,null,null,null,1.0271939999999999E-3,3.94686E-4,0,2.6979999999999999E-3,-2.0400000000000001E-5,2.2080000000000002E-7]
[null,733,1.4247183860612207E-2,2.8911167166516407E-4,null,null,null,null,null,null,null,null,null,null,704,7.5764614789004009E-2,8.8999999999999995E-4,2.196E-3,8.2361000000000004E-2,2.2179999999999999E-3,2.0950000000000001E-3,0,1.8129999999999999E-3,9.2087000000000002E-2,3.0899999999999999E-3,2.042E-3,null,null,null,null,null,null,null,null,null,null,null,null,null,null,null,null,null,null,null,null,null,null,733,0,4.0999999999999999E-4,4.2455799999999996E-4,2.1403999999999999E-6,3.67318E-4,3.3046699999999998E-4,null,1.176E-3,4.2459999999999997E-4,0,null,8.5437400000000008E-4,3.3338859999999999E-4,0,null,1.176E-3,4.2459999999999997E-4,0,null,null,null,null,9.5574929999999998E-4,3.6731779999999998E-4,0,2.5119999999999999E-3,-1.8899999999999999E-5,2.0420000000000002E-7]
[null,734,1.4083291949128326E-2,2.857858870774815E-4,null,null,null,null,null,null,null,null,null,null,705,7.4340237449992602E-2,6.9999999999999999E-4,1.838E-3,8.0861000000000002E-2,2.5699999999999998E-3,2.2390000000000001E-3,0,1.843E-3,9.0548000000000003E-2,2.8639999999999998E-3,2.447E-3,null,null,null,null,null,null,null,null,null,null,null,null,null,null,null,null,null,null,null,null,null,null,734,0,3.8000000000000002E-4,3.9274399999999999E-4,2.0051999999999999E-6,3.4179399999999997E-4,3.0750299999999999E-4,null,1.088E-3,3.9280000000000001E-4,0,null,7.9091200000000006E-4,3.0871480000000003E-4,0,null,1.088E-3,3.9280000000000001E-4,0,null,null,null,null,8.8912620000000003E-4,3.4179410000000001E-4,0,2.3259999999999999E-3,-1.7399999999999999E-5,1.8760000000000001E-7]
[null,735,1.4042543339529418E-2,2.8495899393463797E-4,null,null,null,null,null,null,null,null,null,null,706,7.2915860110981182E-2,4.1800000000000002E-4,1.018E-3,7.8375E-2,2.9610000000000001E-3,1.572E-3,0,2.3210000000000001E-3,8.7186E-2,2.209E-3,1.7060000000000001E-3,null,null,null,null,null,null,null,null,null,null,null,null,null,null,null,null,null,null,null,null,null,null,735,0,3.5E-4,3.6092999999999997E-4,1.8700000000000001E-6,3.17974E-4,2.8607200000000001E-4,null,1E-3,3.6099999999999999E-4,0,null,7.2745000000000004E-4,2.8404100000000001E-4,0,null,1E-3,3.6099999999999999E-4,0,null,null,null,null,8.2695350000000002E-4,3.1797379999999999E-4,0,2.14E-3,-1.59E-5,1.7100000000000001E-7]
[null,736,1.3535454759296789E-2,2.7466887424869253E-4,null,null,null,null,null,null,null,null,null,null,707,7.1491482771969761E-2,6.2E-4,9.5100000000000002E-4,7.7030000000000001E-2,3.1570000000000001E-3,1.6000000000000001E-3,0,2.3379999999999998E-3,8.5948999999999998E-2,2.0100000000000001E-3,1.8929999999999999E-3,null,null,null,null,null,null,null,null,null,null,null,null,null,null,null,null,null,null,null,null,null,null,736,0,3.2000000000000003E-4,3.3858399999999996E-4,1.7718000000000001E-6,2.9574400000000002E-4,2.6607200000000001E-4,null,9.3800000000000003E-4,3.3859999999999999E-4,0,null,6.8361160000000008E-4,2.6697880000000002E-4,0,null,9.3800000000000003E-4,3.3859999999999999E-4,0,null,null,null,null,7.6893510000000003E-4,2.957441E-4,0,2.0100000000000001E-3,-1.486E-5,1.6E-7]
[null,737,1.3047156545306953E-2,2.6476005898394382E-4,null,null,null,null,null,null,null,null,null,null,708,7.006710543295834E-2,8.2100000000000001E-4,8.8500000000000004E-4,7.5686000000000003E-2,2.7659999999999998E-3,1.6280000000000001E-3,0,2.3549999999999999E-3,8.4712999999999997E-2,1.8109999999999999E-3,2.0799999999999998E-3,null,null,null,null,null,null,null,null,null,null,null,null,null,null,null,null,null,null,null,null,null,null,737,0,2.9E-4,3.1623799999999999E-4,1.6736000000000002E-6,2.7505599999999998E-4,2.47459E-4,null,8.7600000000000004E-4,3.1619999999999999E-4,0,null,6.3977320000000002E-4,2.4991660000000003E-4,0,null,8.7600000000000004E-4,3.1619999999999999E-4,0,null,null,null,null,7.1494250000000005E-4,2.7505580000000002E-4,0,1.8799999999999999E-3,-1.382E-5,1.49E-7]
[null,738,1.3067104546482513E-2,2.6516485476833659E-4,null,null,null,null,null,null,null,null,null,null,709,6.864272809394692E-2,7.2999999999999996E-4,6.9200000000000002E-4,7.4133000000000004E-2,3.7599999999999999E-3,1.65E-3,2.5999999999999998E-5,2.4719999999999998E-3,8.0860000000000001E-2,2.8770000000000002E-3,1.866E-3,null,null,null,null,null,null,null,null,null,null,null,null,null,null,null,null,null,null,null,null,null,null,738,0,2.6000000000000003E-4,2.9389199999999997E-4,1.5754E-6,2.5586400000000002E-4,2.3019199999999999E-4,null,8.1399999999999994E-4,2.9379999999999999E-4,0,null,5.9593480000000006E-4,2.328544E-4,0,null,8.1399999999999994E-4,2.9379999999999999E-4,0,null,null,null,null,6.6485899999999996E-4,2.5586400000000002E-4,0,1.75E-3,-1.278E-5,1.3799999999999999E-7]
[null,739,1.3095986748110416E-2,2.6575094825008764E-4,null,null,null,null,null,null,null,null,null,null,710,6.7218350754935499E-2,1.2130000000000001E-3,1.0280000000000001E-3,7.2804999999999995E-2,2.9640000000000001E-3,1.8220000000000001E-3,2.5999999999999998E-5,2.6540000000000001E-3,7.9588999999999993E-2,2.954E-3,1.818E-3,null,null,null,null,null,null,null,null,null,null,null,null,null,null,null,null,null,null,null,null,null,null,739,0,2.3000000000000001E-4,2.7154600000000001E-4,1.4772E-6,2.3811399999999999E-4,2.1422300000000001E-4,null,7.5199999999999996E-4,2.7139999999999998E-4,0,null,5.5209639999999999E-4,2.1579219999999998E-4,0,null,7.5199999999999996E-4,2.7139999999999998E-4,0,null,null,null,null,6.1854209999999995E-4,2.381142E-4,0,1.6199999999999999E-3,-1.1739999999999999E-5,1.2700000000000001E-7]
[null,740,1.3125178455974849E-2,2.6634332240220199E-4,null,null,null,null,null,null,null,null,null,null,711,6.5793973415924079E-2,1.6949999999999999E-3,1.3649999999999999E-3,7.1476999999999999E-2,2.1670000000000001E-3,1.9940000000000001E-3,5.1E-5,2.836E-3,7.8317999999999999E-2,2.8E-3,1.7700000000000001E-3,null,null,null,null,null,null,null,null,null,null,null,null,null,null,null,null,null,null,null,null,null,null,740,0,2.0000000000000001E-4,2.4919999999999999E-4,1.3790000000000001E-6,2.21745E-4,1.99495E-4,null,6.8999999999999997E-4,2.4899999999999998E-4,0,null,5.0825800000000004E-4,1.9872999999999999E-4,0,null,6.8999999999999997E-4,2.4899999999999998E-4,0,null,null,null,null,5.7583030000000004E-4,2.2174449999999999E-4,0,1.49E-3,-1.0699999999999999E-5,1.1600000000000001E-7]
[null,741,1.3510178541337622E-2,2.7415595536598261E-4,null,null,null,null,null,null,null,null,null,null,712,6.4369596076912658E-2,3.3500000000000001E-4,1.4270000000000001E-3,6.9366999999999998E-2,1.73E-3,1.913E-3,0,1.7570000000000001E-3,7.4732999999999994E-2,2.967E-3,2.0660000000000001E-3,null,null,null,null,null,null,null,null,null,null,null,null,null,null,null,null,null,null,null,null,null,null,741,0,1.9000000000000001E-4,2.3382199999999998E-4,1.3076E-6,2.0667099999999999E-4,1.8593400000000001E-4,null,6.4720000000000001E-4,2.3358E-4,0,null,4.7788240000000003E-4,1.86894E-4,0,null,6.4720000000000001E-4,2.3358E-4,0,null,null,null,null,5.3650460000000003E-4,2.0667109999999999E-4,0,1.402E-3,-1.0005999999999999E-5,1.085E-7]
[null,742,1.3347572995743882E-2,2.7085627442071178E-4,null,null,null,null,null,null,null,null,null,null,713,6.2945218737901237E-2,7.4700000000000005E-4,1.7719999999999999E-3,6.7875000000000005E-2,2.2469999999999999E-3,1.9919999999999998E-3,0,1.668E-3,7.3526999999999995E-2,2.8830000000000001E-3,2.2910000000000001E-3,null,null,null,null,null,null,null,null,null,null,null,null,null,null,null,null,null,null,null,null,null,null,742,0,1.8000000000000001E-4,2.1844399999999998E-4,1.2361999999999999E-6,1.92747E-4,1.7340699999999999E-4,null,6.0439999999999995E-4,2.1815999999999998E-4,0,null,4.4750680000000002E-4,1.7505799999999999E-4,0,null,6.0439999999999995E-4,2.1815999999999998E-4,0,null,null,null,null,5.0018420000000005E-4,1.927474E-4,0,1.3140000000000001E-3,-9.312E-6,1.01E-7]
[null,743,1.2883897533956131E-2,2.6144711755300411E-4,null,null,null,null,null,null,null,null,null,null,714,6.152084139888981E-2,1.16E-3,2.1180000000000001E-3,6.6382999999999998E-2,2.7650000000000001E-3,2.0720000000000001E-3,0,1.5790000000000001E-3,7.2321999999999997E-2,2.7989999999999998E-3,1.8420000000000001E-3,null,null,null,null,null,null,null,null,null,null,null,null,null,null,null,null,null,null,null,null,null,null,743,0,1.7000000000000001E-4,2.0306600000000001E-4,1.1648000000000001E-6,1.7983100000000001E-4,1.61786E-4,null,5.6159999999999999E-4,2.0274E-4,0,null,4.1713120000000002E-4,1.63222E-4,0,null,5.6159999999999999E-4,2.0274E-4,0,null,null,null,null,4.6650050000000002E-4,1.7983149999999999E-4,0,1.2260000000000001E-3,-8.6179999999999995E-6,9.3499999999999997E-8]
[null,744,1.2690479746881497E-2,2.5752217769836242E-4,null,null,null,null,null,null,null,null,null,null,715,6.0096464059878389E-2,2.9999999999999997E-4,1.098E-3,6.4184000000000005E-2,2.418E-3,2.1570000000000001E-3,0,1.5590000000000001E-3,6.9282999999999997E-2,2.4659999999999999E-3,1.8730000000000001E-3,null,null,null,null,null,null,null,null,null,null,null,null,null,null,null,null,null,null,null,null,null,null,744,0,1.6000000000000001E-4,1.8768800000000001E-4,1.0934E-6,1.6780199999999999E-4,1.5096400000000001E-4,null,5.1880000000000003E-4,1.8731999999999999E-4,0,null,3.8675560000000001E-4,1.5138599999999999E-4,0,null,5.1880000000000003E-4,1.8731999999999999E-4,0,null,null,null,null,4.3513859999999999E-4,1.6780230000000001E-4,0,1.1379999999999999E-3,-7.9240000000000007E-6,8.6000000000000002E-8]
[null,745,{"$f":"SUMPRODUCT($P$37:$AD$37,P427:AD427)","v":1.2426379190357256E-2},{"$f":"C398/$C$12","v":2.5216290430570877E-4},null,null,null,null,null,null,null,null,null,null,716,5.8672086720866976E-2,5.8600000000000004E-4,1.284E-3,6.3084000000000001E-2,2.3800000000000002E-3,1.8619999999999999E-3,0,2.0309999999999998E-3,6.8655999999999995E-2,2.2339999999999999E-3,2.104E-3,null,null,null,null,null,null,null,null,null,null,null,null,null,null,null,null,null,null,null,null,null,null,745,0,1.5000000000000001E-4,1.7231000000000001E-4,1.0219999999999999E-6,1.5655700000000001E-4,1.4084699999999999E-4,null,4.7600000000000002E-4,1.719E-4,0,null,3.5638E-4,1.3955E-4,0,null,4.7600000000000002E-4,1.719E-4,0,null,null,null,null,4.0583029999999998E-4,1.5655660000000001E-4,0,1.0499999999999999E-3,-7.2300000000000002E-6,7.8499999999999995E-8]
[null,746,1.1983537045253945E-2,2.4317650853043142E-4,null,null,null,null,null,null,null,null,null,null,717,5.7247709381855555E-2,8.7100000000000003E-4,1.4710000000000001E-3,6.1984999999999998E-2,2.343E-3,1.567E-3,0,2.5019999999999999E-3,6.8028000000000005E-2,2.0019999999999999E-3,2.3340000000000001E-3,null,null,null,null,null,null,null,null,null,null,null,null,null,null,null,null,null,null,null,null,null,null,746,0,1.4000000000000001E-4,1.61848E-4,9.696E-7,1.4601699999999999E-4,1.31364E-4,null,4.4720000000000003E-4,1.6152000000000001E-4,0,null,3.3529779999999997E-4,1.313256E-4,0,null,4.4720000000000003E-4,1.6152000000000001E-4,0,null,null,null,null,3.7837329999999998E-4,1.4601680000000001E-4,0,9.8780000000000005E-4,-6.7580000000000003E-6,7.3419999999999992E-8]
[null,747,1.2241351718316739E-2,2.4840822532711416E-4,null,null,null,null,null,null,null,null,null,null,718,5.5823332042844134E-2,9.9200000000000004E-4,6.8499999999999995E-4,6.1194999999999999E-2,2.6059999999999998E-3,1.5460000000000001E-3,0,2.8379999999999998E-3,6.6610000000000003E-2,2.9359999999999998E-3,2.075E-3,null,null,null,null,null,null,null,null,null,null,null,null,null,null,null,null,null,null,null,null,null,null,747,0,1.3000000000000002E-4,1.5138600000000002E-4,9.1719999999999998E-7,1.36153E-4,1.2249E-4,null,4.1840000000000003E-4,1.5113999999999999E-4,0,null,3.142156E-4,1.2310120000000001E-4,0,null,4.1840000000000003E-4,1.5113999999999999E-4,0,null,null,null,null,3.5268920000000001E-4,1.361535E-4,0,9.2559999999999995E-4,-6.2860000000000005E-6,6.8340000000000002E-8]
[null,748,1.2620743228305848E-2,2.5610704600224855E-4,null,null,null,null,null,null,null,null,null,null,719,5.4398954703832714E-2,1.031E-3,7.7200000000000001E-4,5.9848999999999999E-2,1.99E-3,1.341E-3,0,2.601E-3,6.4707000000000001E-2,3.3E-3,1.9599999999999999E-3,null,null,null,null,null,null,null,null,null,null,null,null,null,null,null,null,null,null,null,null,null,null,748,0,1.2E-4,1.4092400000000001E-4,8.6479999999999996E-7,1.26945E-4,1.14206E-4,null,3.8959999999999998E-4,1.4076E-4,0,null,2.9313339999999997E-4,1.148768E-4,0,null,3.8959999999999998E-4,1.4076E-4,0,null,null,null,null,3.2871989999999998E-4,1.2694510000000001E-4,0,8.6339999999999995E-4,-5.8140000000000006E-6,6.3259999999999999E-8]
[null,749,1.2752211210338487E-2,2.5877486642400792E-4,null,null,null,null,null,null,null,null,null,null,720,5.2974577364821293E-2,9.5200000000000005E-4,8.5899999999999995E-4,5.8504E-2,1.374E-3,1.1360000000000001E-3,0,2.3630000000000001E-3,6.2803999999999999E-2,3.6649999999999999E-3,1.8439999999999999E-3,null,null,null,null,null,null,null,null,null,null,null,null,null,null,null,null,null,null,null,null,null,null,749,0,1.1E-4,1.30462E-4,8.1240000000000005E-7,1.18367E-4,1.06489E-4,null,3.6079999999999999E-4,1.3038000000000001E-4,0,null,2.720512E-4,1.066524E-4,0,null,3.6079999999999999E-4,1.3038000000000001E-4,0,null,null,null,null,3.0639980000000001E-4,1.1836709999999999E-4,0,8.0119999999999996E-4,-5.3419999999999998E-6,5.8179999999999996E-8]
[null,750,1.2577837417671139E-2,2.5523637775243089E-4,null,null,null,null,null,null,null,null,null,null,721,5.1550200025809872E-2,9.5699999999999995E-4,1.0549999999999999E-3,5.7918999999999998E-2,1.459E-3,2.036E-3,2.4699999999999999E-4,2.3990000000000001E-3,6.2111E-2,3.8409999999999998E-3,1.789E-3,null,null,null,null,null,null,null,null,null,null,null,null,null,null,null,null,null,null,null,null,null,null,750,0,1E-4,1.2E-4,7.6000000000000003E-7,1.10393E-4,9.9314400000000006E-5,null,3.3199999999999999E-4,1.2E-4,0,null,2.5096899999999998E-4,9.8428E-5,0,null,3.3199999999999999E-4,1.2E-4,0,null,null,null,null,2.856577E-4,1.103928E-4,0,7.3899999999999997E-4,-4.87E-6,5.3099999999999999E-8]
[null,751,1.2472590142707596E-2,2.5310064230459723E-4,null,null,null,null,null,null,null,null,null,null,722,5.0125822686798452E-2,9.6199999999999996E-4,1.2520000000000001E-3,5.7334000000000003E-2,1.5430000000000001E-3,2.9350000000000001E-3,2.4699999999999999E-4,2.4350000000000001E-3,6.1418E-2,3.4880000000000002E-3,1.7329999999999999E-3,null,null,null,null,null,null,null,null,null,null,null,null,null,null,null,null,null,null,null,null,null,null,751,0,1E-4,1.1292400000000001E-4,7.2139999999999999E-7,1.02991E-4,9.2655100000000007E-5,null,3.1260000000000001E-4,1.1296E-4,0,null,2.3632119999999999E-4,9.2706200000000004E-5,0,null,3.1260000000000001E-4,1.1296E-4,0,null,null,null,null,2.6641080000000002E-4,1.029908E-4,0,6.958E-4,-4.5539999999999999E-6,4.9679999999999999E-8]
[null,752,1.228049691267641E-2,2.4920258108820394E-4,null,null,null,null,null,null,null,null,null,null,723,4.8701445347787031E-2,1.2290000000000001E-3,1.75E-3,5.5279000000000002E-2,2.4069999999999999E-3,2.3930000000000002E-3,4.9299999999999995E-4,2.1919999999999999E-3,5.8175999999999999E-2,3.2810000000000001E-3,2.1719999999999999E-3,null,null,null,null,null,null,null,null,null,null,null,null,null,null,null,null,null,null,null,null,null,null,752,0,1E-4,1.0584800000000001E-4,6.8280000000000005E-7,9.6118400000000005E-5,8.6472199999999995E-5,null,2.9319999999999997E-4,1.0592E-4,0,null,2.2167339999999998E-4,8.6984400000000007E-5,0,null,2.9319999999999997E-4,1.0592E-4,0,null,null,null,null,2.485462E-4,9.6118360000000002E-5,0,6.5260000000000003E-4,-4.2379999999999999E-6,4.6259999999999999E-8]
[null,753,1.1712355595385802E-2,2.3767354576508722E-4,null,null,null,null,null,null,null,null,null,null,724,4.7277068008775611E-2,7.9500000000000003E-4,1.789E-3,5.3932000000000001E-2,2.5660000000000001E-3,2.1949999999999999E-3,6.6100000000000002E-4,2.3059999999999999E-3,5.7165000000000001E-2,3.2750000000000001E-3,2.2030000000000001E-3,null,null,null,null,null,null,null,null,null,null,null,null,null,null,null,null,null,null,null,null,null,null,753,0,1E-4,9.8771999999999996E-5,6.4420000000000001E-7,8.9733200000000003E-5,8.0727800000000003E-5,null,2.7379999999999999E-4,9.8880000000000002E-5,0,null,2.0702559999999999E-4,8.1262599999999997E-5,0,null,2.7379999999999999E-4,9.8880000000000002E-5,0,null,null,null,null,2.3195290000000001E-4,8.9733230000000006E-5,0,6.0939999999999996E-4,-3.9219999999999999E-6,4.2839999999999998E-8]
[null,754,1.1458786107119661E-2,2.3252797458743317E-4,null,null,null,null,null,null,null,null,null,null,725,4.585269066976419E-2,3.6099999999999999E-4,1.7099999999999999E-3,5.2586000000000001E-2,2.7260000000000001E-3,1.9970000000000001E-3,8.3000000000000001E-4,2.4199999999999998E-3,5.6154000000000003E-2,3.2690000000000002E-3,2.235E-3,null,null,null,null,null,null,null,null,null,null,null,null,null,null,null,null,null,null,null,null,null,null,754,0,1E-4,9.1695999999999998E-5,6.0560000000000008E-7,8.3796900000000004E-5,7.5387200000000002E-5,null,2.544E-4,9.1840000000000002E-5,0,null,1.9237779999999998E-4,7.55408E-5,0,null,2.544E-4,9.1840000000000002E-5,0,null,null,null,null,2.1652999999999999E-4,8.3796939999999993E-5,0,5.6619999999999999E-4,-3.6059999999999999E-6,3.9419999999999998E-8]
[null,755,1.120496443395903E-2,2.2737728593553801E-4,null,null,null,null,null,null,null,null,null,null,726,4.4428313330752769E-2,4.7100000000000001E-4,9.5600000000000004E-4,5.1506999999999997E-2,3.5929999999999998E-3,1.902E-3,9.0000000000000006E-5,2.2030000000000001E-3,5.5051999999999997E-2,2.5140000000000002E-3,1.7060000000000001E-3,null,null,null,null,null,null,null,null,null,null,null,null,null,null,null,null,null,null,null,null,null,null,755,0,1E-4,8.462E-5,5.6700000000000003E-7,7.8274400000000004E-5,7.0418800000000004E-5,null,2.3499999999999999E-4,8.4800000000000001E-5,0,null,1.7772999999999999E-4,6.9819000000000004E-5,0,null,2.3499999999999999E-4,8.4800000000000001E-5,0,null,null,null,null,2.0218530000000001E-4,7.8274420000000005E-5,0,5.2300000000000003E-4,-3.2899999999999998E-6,3.5999999999999998E-8]
[null,756,1.1052201877060016E-2,2.2427734431724962E-4,null,null,null,null,null,null,null,null,null,null,727,4.3003935991741349E-2,4.7100000000000001E-4,1.0430000000000001E-3,5.1246E-2,3.6589999999999999E-3,1.9789999999999999E-3,6.8099999999999996E-4,2.5279999999999999E-3,5.4514E-2,2.8779999999999999E-3,2.1310000000000001E-3,null,null,null,null,null,null,null,null,null,null,null,null,null,null,null,null,null,null,null,null,null,null,756,0,1E-4,7.9696000000000004E-5,5.3860000000000002E-7,7.3133099999999999E-5,6.5793399999999999E-5,null,2.2119999999999998E-4,7.9839999999999995E-5,0,null,1.67462E-4,6.5802600000000006E-5,0,null,2.2119999999999998E-4,7.9839999999999995E-5,0,null,null,null,null,1.8883379999999999E-4,7.3133120000000001E-5,0,4.9280000000000005E-4,-3.0759999999999999E-6,3.3680000000000001E-8]
[null,757,1.1326678238129455E-2,2.2984716922845469E-4,null,null,null,null,null,null,null,null,null,null,728,4.1579558652729928E-2,9.4200000000000002E-4,1.129E-3,5.0985000000000003E-2,3.725E-3,2.0569999999999998E-3,1.273E-3,2.8519999999999999E-3,5.3976000000000003E-2,3.2420000000000001E-3,2.5560000000000001E-3,null,null,null,null,null,null,null,null,null,null,null,null,null,null,null,null,null,null,null,null,null,null,757,0,1E-4,7.4771999999999995E-5,5.102E-7,6.8341400000000003E-5,6.14825E-5,null,2.074E-4,7.4880000000000001E-5,0,null,1.5719399999999999E-4,6.1786200000000008E-5,0,null,2.074E-4,7.4880000000000001E-5,0,null,null,null,null,1.7639350000000001E-4,6.8341420000000004E-5,0,4.6260000000000002E-4,-2.8619999999999999E-6,3.1359999999999998E-8]
[null,758,1.1600426874653208E-2,2.3540222675391017E-4,null,null,null,null,null,null,null,null,null,null,729,4.039497456378139E-2,1.294E-3,7.94E-4,4.9526000000000001E-2,2.8830000000000001E-3,1.9880000000000002E-3,1.45E-4,3.2650000000000001E-3,5.1943999999999997E-2,3.9630000000000004E-3,2.454E-3,null,null,null,null,null,null,null,null,null,null,null,null,null,null,null,null,null,null,null,null,null,null,758,0,1E-4,6.9847999999999999E-5,4.8179999999999999E-7,6.3870399999999998E-5,5.7460100000000002E-5,null,1.9359999999999999E-4,6.9920000000000008E-5,0,null,1.46926E-4,5.7769800000000004E-5,0,null,1.9359999999999999E-4,6.9920000000000008E-5,0,null,null,null,null,1.6478949999999999E-4,6.3870349999999994E-5,0,4.3239999999999999E-4,-2.6479999999999999E-6,2.9040000000000001E-8]
[null,759,1.1317041595292388E-2,2.2965161718482824E-4,null,null,null,null,null,null,null,null,null,null,730,3.9660295725764919E-2,1.328E-3,1.5269999999999999E-3,4.8848000000000003E-2,2.5500000000000002E-3,2.3860000000000001E-3,7.2999999999999999E-5,3.5660000000000002E-3,5.0792999999999998E-2,4.1269999999999996E-3,2.4399999999999999E-3,null,null,null,null,null,null,null,null,null,null,null,null,null,null,null,null,null,null,null,null,null,null,759,0,1E-4,6.4924000000000004E-5,4.5340000000000002E-7,5.9693900000000001E-5,5.3702700000000003E-5,null,1.7980000000000001E-4,6.4960000000000001E-5,0,null,1.3665799999999998E-4,5.3753399999999999E-5,0,null,1.7980000000000001E-4,6.4960000000000001E-5,0,null,null,null,null,1.539542E-4,5.969389E-5,0,4.0220000000000002E-4,-2.4339999999999999E-6,2.672E-8]
[null,760,0,0,null,null,null,null,null,null,null,null,null,null,731,3.8925616887748447E-2,1.3619999999999999E-3,2.2590000000000002E-3,4.8170999999999999E-2,2.2179999999999999E-3,2.784E-3,0,2.9629999999999999E-3,4.9643E-2,3.8E-3,2.4260000000000002E-3,null,null,null,null,null,null,null,null,null,null,null,null,null,null,null,null,null,null,null,null,null,null,760,0,1E-4,6.0000000000000002E-5,4.2500000000000001E-7,5.5788600000000003E-5,5.0189299999999997E-5,null,1.66E-4,6.0000000000000002E-5,0,null,1.2638999999999999E-4,4.9737000000000002E-5,0,null,1.66E-4,6.0000000000000002E-5,0,null,null,null,null,1.4382699999999999E-4,5.5788619999999998E-5,0,3.7199999999999999E-4,-2.2199999999999999E-6,2.44E-8]
[null,null,null,null,null,null,null,null,null,null,null,null,null,null,732,3.8190938049731976E-2,7.3999999999999999E-4,2.2880000000000001E-3,4.5429999999999998E-2,2.4090000000000001E-3,3.065E-3,0,2.454E-3,4.8510999999999999E-2,3.4949999999999998E-3,1.7260000000000001E-3,null,null,null,null,null,null,null,null,null,null,null,null,null,null,null,null,null,null,null,null,null,null,null,null,null,null,null,null,null,null,null,null,null,null,null,null,null,null,1.682E-4,5.6480000000000001E-5,0]
[null,null,null,null,null,null,null,null,null,null,null,null,null,null,733,3.7456259211715505E-2,7.1299999999999998E-4,2.1180000000000001E-3,4.4971999999999998E-2,2.7490000000000001E-3,2.7929999999999999E-3,0,2.4629999999999999E-3,4.7827000000000001E-2,3.7369999999999999E-3,1.8940000000000001E-3,null,null,null,null,null,null,null,null,null,null,null,null,null,null,null,null,null,null,null,null,null,null,null,null,null,null,null,null,null,null,null,null,null,null,null,null,null,null,1.7039999999999999E-4,5.2960000000000001E-5,0]
[null,null,null,null,null,null,null,null,null,null,null,null,null,null,734,3.6721580373699034E-2,6.8599999999999998E-4,1.9480000000000001E-3,4.4514999999999999E-2,3.088E-3,2.5219999999999999E-3,0,2.4719999999999998E-3,4.7142999999999997E-2,3.9779999999999998E-3,2.0609999999999999E-3,null,null,null,null,null,null,null,null,null,null,null,null,null,null,null,null,null,null,null,null,null,null,null,null,null,null,null,null,null,null,null,null,null,null,null,null,null,null,1.7259999999999999E-4,4.9440000000000001E-5,0]
[null,null,null,null,null,null,null,null,null,null,null,null,null,null,735,3.5986901535682563E-2,4.9600000000000002E-4,1.802E-3,4.4215999999999998E-2,3.656E-3,2.5590000000000001E-3,3.8200000000000002E-4,2.4030000000000002E-3,4.6136000000000003E-2,3.0509999999999999E-3,2.1440000000000001E-3,null,null,null,null,null,null,null,null,null,null,null,null,null,null,null,null,null,null,null,null,null,null,null,null,null,null,null,null,null,null,null,null,null,null,null,null,null,null,1.7479999999999999E-4,4.5920000000000001E-5,0]
[null,null,null,null,null,null,null,null,null,null,null,null,null,null,736,3.5252222697666084E-2,4.9600000000000002E-4,1.436E-3,4.3129000000000001E-2,3.2789999999999998E-3,2.2390000000000001E-3,3.8200000000000002E-4,2.8289999999999999E-3,4.5693999999999999E-2,3.0170000000000002E-3,2.264E-3,null,null,null,null,null,null,null,null,null,null,null,null,null,null,null,null,null,null,null,null,null,null,null,null,null,null,null,null,null,null,null,null,null,null,null,null,null,null,1.7699999999999999E-4,4.2400000000000001E-5,0]
[null,null,null,null,null,null,null,null,null,null,null,null,null,null,737,3.4517543859649613E-2,9.9200000000000004E-4,1.0690000000000001E-3,4.2042000000000003E-2,2.9020000000000001E-3,1.9189999999999999E-3,7.6499999999999995E-4,3.2550000000000001E-3,4.5251E-2,2.9840000000000001E-3,2.3839999999999998E-3,null,null,null,null,null,null,null,null,null,null,null,null,null,null,null,null,null,null,null,null,null,null,null,null,null,null,null,null,null,null,null,null,null,null,null,null,null,null,1.582E-4,3.9919999999999997E-5,0]
[null,null,null,null,null,null,null,null,null,null,null,null,null,null,738,3.3782865021633142E-2,8.9999999999999998E-4,1.12E-4,4.2297000000000001E-2,2.6819999999999999E-3,1.8190000000000001E-3,0,2.7430000000000002E-3,4.4159999999999998E-2,3.7100000000000002E-3,2.431E-3,null,null,null,null,null,null,null,null,null,null,null,null,null,null,null,null,null,null,null,null,null,null,null,null,null,null,null,null,null,null,null,null,null,null,null,null,null,null,1.394E-4,3.7440000000000001E-5,0]
[null,null,null,null,null,null,null,null,null,null,null,null,null,null,739,3.3048186183616671E-2,7.7999999999999999E-4,7.3499999999999998E-4,4.1485000000000001E-2,2.6570000000000001E-3,2.3080000000000002E-3,0,2.7829999999999999E-3,4.3147999999999999E-2,4.2969999999999996E-3,2.392E-3,null,null,null,null,null,null,null,null,null,null,null,null,null,null,null,null,null,null,null,null,null,null,null,null,null,null,null,null,null,null,null,null,null,null,null,null,null,null,1.2059999999999999E-4,3.4960000000000004E-5,0]
[null,null,null,null,null,null,null,null,null,null,null,null,null,null,740,3.2313507345600199E-2,6.6E-4,1.3569999999999999E-3,4.0672E-2,2.6329999999999999E-3,2.7980000000000001E-3,0,2.823E-3,4.2136E-2,4.8840000000000003E-3,2.3540000000000002E-3,null,null,null,null,null,null,null,null,null,null,null,null,null,null,null,null,null,null,null,null,null,null,null,null,null,null,null,null,null,null,null,null,null,null,null,null,null,null,1.0179999999999999E-4,3.2480000000000001E-5,0]
[null,null,null,null,null,null,null,null,null,null,null,null,null,null,741,3.1578828507583728E-2,1.5449999999999999E-3,1.1280000000000001E-3,4.0814999999999997E-2,2.748E-3,3.5360000000000001E-3,1.95E-4,2.6340000000000001E-3,4.2228000000000002E-2,4.6930000000000001E-3,2.9810000000000001E-3,null,null,null,null,null,null,null,null,null,null,null,null,null,null,null,null,null,null,null,null,null,null,null,null,null,null,null,null,null,null,null,null,null,null,null,null,null,null,8.2999999999999998E-5,3.0000000000000001E-5,0]
[null,null,null,null,null,null,null,null,null,null,null,null,null,null,742,3.0844149669567257E-2,2.359E-3,1.7329999999999999E-3,3.9809999999999998E-2,2.9789999999999999E-3,3.702E-3,1.95E-4,2.996E-3,4.1555000000000002E-2,4.117E-3,3.0140000000000002E-3,null,null,null,null,null,null,null,null,null,null,null,null,null,null,null,null,null,null,null,null,null,null,null,null,null,null,null,null,null,null,null,null,null,null,null,null,null,null,7.8200000000000003E-5,2.8200000000000001E-5,0]
[null,null,null,null,null,null,null,null,null,null,null,null,null,null,743,3.0109470831550786E-2,7.3099999999999999E-4,2.3389999999999999E-3,3.8806E-2,3.2100000000000002E-3,3.3700000000000002E-3,3.8999999999999999E-4,3.3579999999999999E-3,4.0882000000000002E-2,3.5409999999999999E-3,3.0469999999999998E-3,null,null,null,null,null,null,null,null,null,null,null,null,null,null,null,null,null,null,null,null,null,null,null,null,null,null,null,null,null,null,null,null,null,null,null,null,null,null,7.3399999999999995E-5,2.6400000000000001E-5,0]
[null,null,null,null,null,null,null,null,null,null,null,null,null,null,744,2.9374791993534315E-2,6.7199999999999996E-4,2.8860000000000001E-3,3.7168E-2,4.483E-3,3.2910000000000001E-3,0,3.7629999999999999E-3,4.0150999999999999E-2,4.2230000000000002E-3,2.8869999999999998E-3,null,null,null,null,null,null,null,null,null,null,null,null,null,null,null,null,null,null,null,null,null,null,null,null,null,null,null,null,null,null,null,null,null,null,null,null,null,null,6.86E-5,2.4599999999999998E-5,0]
[null,null,null,null,null,null,null,null,null,null,null,null,null,null,745,2.864011315551784E-2,3.5300000000000002E-4,2.5049999999999998E-3,3.7199000000000003E-2,4.8139999999999997E-3,2.6080000000000001E-3,7.2000000000000002E-5,3.96E-3,3.9556000000000001E-2,3.859E-3,3.0500000000000002E-3,null,null,null,null,null,null,null,null,null,null,null,null,null,null,null,null,null,null,null,null,null,null,null,null,null,null,null,null,null,null,null,null,null,null,null,null,null,null,6.3799999999999992E-5,2.2799999999999999E-5,0]
[null,null,null,null,null,null,null,null,null,null,null,null,null,null,746,2.7905434317501369E-2,3.3000000000000003E-5,2.124E-3,3.7229999999999999E-2,4.1529999999999996E-3,1.9239999999999999E-3,7.2000000000000002E-5,4.1570000000000001E-3,3.8961999999999997E-2,3.4949999999999998E-3,3.2130000000000001E-3,null,null,null,null,null,null,null,null,null,null,null,null,null,null,null,null,null,null,null,null,null,null,null,null,null,null,null,null,null,null,null,null,null,null,null,null,null,null,5.8999999999999998E-5,2.0999999999999999E-5,0]
[null,null,null,null,null,null,null,null,null,null,null,null,null,null,747,2.7170755479484898E-2,1.6080000000000001E-3,1.036E-3,3.6694999999999998E-2,5.0229999999999997E-3,2.2390000000000001E-3,1.45E-4,4.4790000000000003E-3,3.8976999999999998E-2,4.5269999999999998E-3,3.6840000000000002E-3,null,null,null,null,null,null,null,null,null,null,null,null,null,null,null,null,null,null,null,null,null,null,null,null,null,null,null,null,null,null,null,null,null,null,null,null,null,null,5.5599999999999996E-5,1.98E-5,0]
[null,null,null,null,null,null,null,null,null,null,null,null,null,null,748,2.6436076641468426E-2,1.621E-3,1.3159999999999999E-3,3.6762999999999997E-2,5.483E-3,2.8800000000000002E-3,7.2000000000000002E-5,4.2560000000000002E-3,3.8370000000000001E-2,4.5760000000000002E-3,3.6930000000000001E-3,null,null,null,null,null,null,null,null,null,null,null,null,null,null,null,null,null,null,null,null,null,null,null,null,null,null,null,null,null,null,null,null,null,null,null,null,null,null,5.2199999999999995E-5,1.8599999999999998E-5,0]
[null,null,null,null,null,null,null,null,null,null,null,null,null,null,749,2.5701397803451955E-2,1.635E-3,1.5950000000000001E-3,3.6831000000000003E-2,4.5630000000000002E-3,3.5209999999999998E-3,0,4.0330000000000001E-3,3.7762999999999998E-2,4.6259999999999999E-3,3.6749999999999999E-3,null,null,null,null,null,null,null,null,null,null,null,null,null,null,null,null,null,null,null,null,null,null,null,null,null,null,null,null,null,null,null,null,null,null,null,null,null,null,4.88E-5,1.7399999999999999E-5,0]
[null,null,null,null,null,null,null,null,null,null,null,null,null,null,750,2.4966718965435484E-2,1.923E-3,2.977E-3,3.4945999999999998E-2,3.813E-3,4.4720000000000003E-3,0,4.1580000000000002E-3,3.5672000000000002E-2,5.1609999999999998E-3,3.362E-3,null,null,null,null,null,null,null,null,null,null,null,null,null,null,null,null,null,null,null,null,null,null,null,null,null,null,null,null,null,null,null,null,null,null,null,null,null,null,4.5399999999999999E-5,1.6200000000000001E-5,0]
[null,null,null,null,null,null,null,null,null,null,null,null,null,null,751,2.4232040127419013E-2,1.655E-3,3.5799999999999998E-3,3.4382999999999997E-2,3.96E-3,4.4790000000000003E-3,3.1999999999999999E-5,3.8210000000000002E-3,3.5131000000000003E-2,5.4099999999999999E-3,3.16E-3,null,null,null,null,null,null,null,null,null,null,null,null,null,null,null,null,null,null,null,null,null,null,null,null,null,null,null,null,null,null,null,null,null,null,null,null,null,null,4.1999999999999998E-5,1.5E-5,0]
[null,null,null,null,null,null,null,null,null,null,null,null,null,null,752,2.3497361289402538E-2,1.387E-3,2.3739999999999998E-3,3.3820000000000003E-2,4.1070000000000004E-3,4.4850000000000003E-3,3.1999999999999999E-5,3.4840000000000001E-3,3.4590000000000003E-2,4.9119999999999997E-3,2.9589999999999998E-3,null,null,null,null,null,null,null,null,null,null,null,null,null,null,null,null,null,null,null,null,null,null,null,null,null,null,null,null,null,null,null,null,null,null,null,null,null,null,3.947E-5,1.412E-5,0]
[null,null,null,null,null,null,null,null,null,null,null,null,null,null,753,2.2762682451386067E-2,6.6699999999999995E-4,2.2200000000000002E-3,3.2534E-2,5.3359999999999996E-3,3.5599999999999998E-3,6.4999999999999994E-5,3.6229999999999999E-3,3.3744000000000003E-2,4.6290000000000003E-3,3.0219999999999999E-3,null,null,null,null,null,null,null,null,null,null,null,null,null,null,null,null,null,null,null,null,null,null,null,null,null,null,null,null,null,null,null,null,null,null,null,null,null,null,3.6939999999999995E-5,1.324E-5,0]
[null,null,null,null,null,null,null,null,null,null,null,null,null,null,754,2.2028003613369596E-2,6.3299999999999999E-4,1.9449999999999999E-3,3.2350999999999998E-2,5.3920000000000001E-3,3.1120000000000002E-3,3.1999999999999999E-5,3.8999999999999998E-3,3.3894000000000001E-2,4.3600000000000002E-3,3.0330000000000001E-3,null,null,null,null,null,null,null,null,null,null,null,null,null,null,null,null,null,null,null,null,null,null,null,null,null,null,null,null,null,null,null,null,null,null,null,null,null,null,3.4409999999999998E-5,1.236E-5,0]
[null,null,null,null,null,null,null,null,null,null,null,null,null,null,755,2.1293324775353124E-2,5.9900000000000003E-4,1.67E-3,3.2168000000000002E-2,5.4469999999999996E-3,2.6640000000000001E-3,2.05E-4,4.1770000000000002E-3,3.4043999999999998E-2,4.0899999999999999E-3,3.045E-3,null,null,null,null,null,null,null,null,null,null,null,null,null,null,null,null,null,null,null,null,null,null,null,null,null,null,null,null,null,null,null,null,null,null,null,null,null,null,3.188E-5,1.148E-5,0]
[null,null,null,null,null,null,null,null,null,null,null,null,null,null,756,2.0558645937336653E-2,7.5699999999999997E-4,9.1299999999999997E-4,3.2119000000000002E-2,4.6030000000000003E-3,2.5890000000000002E-3,4.0900000000000002E-4,4.8549999999999999E-3,3.4890999999999998E-2,4.7980000000000002E-3,2.7680000000000001E-3,null,null,null,null,null,null,null,null,null,null,null,null,null,null,null,null,null,null,null,null,null,null,null,null,null,null,null,null,null,null,null,null,null,null,null,null,null,null,2.9349999999999999E-5,1.06E-5,0]
[null,null,null,null,null,null,null,null,null,null,null,null,null,null,757,1.9823967099320182E-2,1.503E-3,1.274E-3,3.2291E-2,4.797E-3,2.947E-3,2.7099999999999997E-4,4.8999999999999998E-3,3.4209000000000003E-2,4.9059999999999998E-3,3.166E-3,null,null,null,null,null,null,null,null,null,null,null,null,null,null,null,null,null,null,null,null,null,null,null,null,null,null,null,null,null,null,null,null,null,null,null,null,null,null,2.7614E-5,9.9739999999999997E-6,0]
[null,null,null,null,null,null,null,null,null,null,null,null,null,null,758,1.9089288261303707E-2,2.248E-3,1.634E-3,3.2462999999999999E-2,4.9899999999999996E-3,3.3040000000000001E-3,1.3300000000000001E-4,4.9449999999999997E-3,3.3526E-2,5.0130000000000001E-3,3.5639999999999999E-3,null,null,null,null,null,null,null,null,null,null,null,null,null,null,null,null,null,null,null,null,null,null,null,null,null,null,null,null,null,null,null,null,null,null,null,null,null,null,2.5877999999999999E-5,9.3479999999999993E-6,0]
[null,null,null,null,null,null,null,null,null,null,null,null,null,null,759,1.8354609423287236E-2,1.495E-3,1.9610000000000001E-3,3.1151999999999999E-2,4.1130000000000003E-3,3.7460000000000002E-3,0,4.7580000000000001E-3,3.3444000000000002E-2,5.9540000000000001E-3,3.5130000000000001E-3,null,null,null,null,null,null,null,null,null,null,null,null,null,null,null,null,null,null,null,null,null,null,null,null,null,null,null,null,null,null,null,null,null,null,null,null,null,null,2.4142E-5,8.7220000000000005E-6,0]
[null,null,null,null,null,null,null,null,null,null,null,null,null,null,760,1.7619930585270765E-2,0,0,0,0,0,0,0,0,0,0,null,null,null,null,null,null,null,null,null,null,null,null,null,null,null,null,null,null,null,null,null,null,null,null,null,null,null,null,null,null,null,null,null,null,null,null,null,null,2.2405999999999999E-5,8.0960000000000001E-6,0]
[null,null,null,null,null,null,null,null,null,null,null,null,null,null,null,null,null,null,null,null,null,null,null,null,null,null,null,null,null,null,null,null,null,null,null,null,null,null,null,null,null,null,null,null,null,null,null,null,null,null,null,null,null,null,null,null,null,null,null,null,null,null,null,null,2.067E-5,7.4699999999999996E-6,0]
[null,null,null,null,null,null,null,null,null,null,null,null,null,null,null,null,null,null,null,null,null,null,null,null,null,null,null,null,null,null,null,null,null,null,null,null,null,null,null,null,null,null,null,null,null,null,null,null,null,null,null,null,null,null,null,null,null,null,null,null,null,null,null,null,1.9448000000000001E-5,7.0279999999999995E-6,0]
[null,null,null,null,null,null,null,null,null,null,null,null,null,null,null,null,null,null,null,null,null,null,null,null,null,null,null,null,null,null,null,null,null,null,null,null,null,null,null,null,null,null,null,null,null,null,null,null,null,null,null,null,null,null,null,null,null,null,null,null,null,null,null,null,1.8226000000000001E-5,6.5859999999999993E-6,0]
[null,null,null,null,null,null,null,null,null,null,null,null,null,null,null,null,null,null,null,null,null,null,null,null,null,null,null,null,null,null,null,null,null,null,null,null,null,null,null,null,null,null,null,null,null,null,null,null,null,null,null,null,null,null,null,null,null,null,null,null,null,null,null,null,1.7003999999999998E-5,6.144E-6,0]
[null,null,null,null,null,null,null,null,null,null,null,null,null,null,null,null,null,null,null,null,null,null,null,null,null,null,null,null,null,null,null,null,null,null,null,null,null,null,null,null,null,null,null,null,null,null,null,null,null,null,null,null,null,null,null,null,null,null,null,null,null,null,null,null,1.5781999999999999E-5,5.7019999999999998E-6,0]
[null,null,null,null,null,null,null,null,null,null,null,null,null,null,null,null,null,null,null,null,null,null,null,null,null,null,null,null,null,null,null,null,null,null,null,null,null,null,null,null,null,null,null,null,null,null,null,null,null,null,null,null,null,null,null,null,null,null,null,null,null,null,null,null,1.456E-5,5.2599999999999996E-6,0]
[null,null,null,null,null,null,null,null,null,null,null,null,null,null,null,null,null,null,null,null,null,null,null,null,null,null,null,null,null,null,null,null,null,null,null,null,null,null,null,null,null,null,null,null,null,null,null,null,null,null,null,null,null,null,null,null,null,null,null,null,null,null,null,null,1.3698E-5,4.9479999999999999E-6,0]
[null,null,null,null,null,null,null,null,null,null,null,null,null,null,null,null,null,null,null,null,null,null,null,null,null,null,null,null,null,null,null,null,null,null,null,null,null,null,null,null,null,null,null,null,null,null,null,null,null,null,null,null,null,null,null,null,null,null,null,null,null,null,null,null,1.2836E-5,4.6360000000000002E-6,0]
[null,null,null,null,null,null,null,null,null,null,null,null,null,null,null,null,null,null,null,null,null,null,null,null,null,null,null,null,null,null,null,null,null,null,null,null,null,null,null,null,null,null,null,null,null,null,null,null,null,null,null,null,null,null,null,null,null,null,null,null,null,null,null,null,1.1973999999999999E-5,4.3239999999999996E-6,0]
[null,null,null,null,null,null,null,null,null,null,null,null,null,null,null,null,null,null,null,null,null,null,null,null,null,null,null,null,null,null,null,null,null,null,null,null,null,null,null,null,null,null,null,null,null,null,null,null,null,null,null,null,null,null,null,null,null,null,null,null,null,null,null,null,1.1112E-5,4.0119999999999999E-6,0]
[null,null,null,null,null,null,null,null,null,null,null,null,null,null,null,null,null,null,null,null,null,null,null,null,null,null,null,null,null,null,null,null,null,null,null,null,null,null,null,null,null,null,null,null,null,null,null,null,null,null,null,null,null,null,null,null,null,null,null,null,null,null,null,null,1.025E-5,3.7000000000000002E-6,0]
[]
[]
[]
[]
[]
[]
[]
[]
[]
[]
[]
[]
[]
[]
[]
[]
[]
[]
[]
[]
[]
[]
[]
[]
[]
[]
[]
[]
[]
[]
[]
[]
[]
[]
[]
[]
[]
[]
[]
[]
[]
[]
[]
[]
[]
[]
[]
[null,null,null,null,null,null,null,null,null,null,null,null,null,null,null,null,null,null,null,null,null,null,null,null,null,null,null,null,null,null,null,null,null,0]
[null,null,null,null,null,null,null,null,null,null,null,null,null,null,null,null,null,null,null,null,null,null,null,null,null,null,null,null,null,null,null,null,null,0]
[null,null,null,null,null,null,null,null,null,null,null,null,null,null,null,null,null,null,null,null,null,null,null,null,null,null,null,null,null,null,null,null,null,0]
[null,null,null,null,null,null,null,null,null,null,null,null,null,null,null,null,null,null,null,null,null,null,null,null,null,null,null,null,null,null,null,null,null,0]
[null,null,null,null,null,null,null,null,null,null,null,null,null,null,null,null,null,null,null,null,null,null,null,null,null,null,null,null,null,null,null,null,null,0]
[null,null,null,null,null,null,null,null,null,null,null,null,null,null,null,null,null,null,null,null,null,null,null,null,null,null,null,null,null,null,null,null,null,0]
[null,null,null,null,null,null,null,null,null,null,null,null,null,null,null,null,null,null,null,null,null,null,null,null,null,null,null,null,null,null,null,null,null,0]
[null,null,null,null,null,null,null,null,null,null,null,null,null,null,null,null,null,null,null,null,null,null,null,null,null,null,null,null,null,null,null,null,null,0]
[null,null,null,null,null,null,null,null,null,null,null,null,null,null,null,null,null,null,null,null,null,null,null,null,null,null,null,null,null,null,null,null,null,0]
[null,null,null,null,null,null,null,null,null,null,null,null,null,null,null,null,null,null,null,null,null,null,null,null,null,null,null,null,null,null,null,null,null,0]
[null,null,null,null,null,null,null,null,null,null,null,null,null,null,null,null,null,null,null,null,null,null,null,null,null,null,null,null,null,null,null,null,null,0]
[null,null,null,null,null,null,null,null,null,null,null,null,null,null,null,null,null,null,null,null,null,null,null,null,null,null,null,null,null,null,null,null,null,0]
[null,null,null,null,null,null,null,null,null,null,null,null,null,null,null,null,null,null,null,null,null,null,null,null,null,null,null,null,null,null,null,null,null,0]
[null,null,null,null,null,null,null,null,null,null,null,null,null,null,null,null,null,null,null,null,null,null,null,null,null,null,null,null,null,null,null,null,null,0]
[null,null,null,null,null,null,null,null,null,null,null,null,null,null,null,null,null,null,null,null,null,null,null,null,null,null,null,null,null,null,null,null,null,0]
[null,null,null,null,null,null,null,null,null,null,null,null,null,null,null,null,null,null,null,null,null,null,null,null,null,null,null,null,null,null,null,null,null,0]
[null,null,null,null,null,null,null,null,null,null,null,null,null,null,null,null,null,null,null,null,null,null,null,null,null,null,null,null,null,null,null,null,null,0]
[null,null,null,null,null,null,null,null,null,null,null,null,null,null,null,null,null,null,null,null,null,null,null,null,null,null,null,null,null,null,null,null,null,0]
[null,null,null,null,null,null,null,null,null,null,null,null,null,null,null,null,null,null,null,null,null,null,null,null,null,null,null,null,null,null,null,null,null,0]
[null,null,null,null,null,null,null,null,null,null,null,null,null,null,null,null,null,null,null,null,null,null,null,null,null,null,null,null,null,null,null,null,null,0]
[null,null,null,null,null,null,null,null,null,null,null,null,null,null,null,null,null,null,null,null,null,null,null,null,null,null,null,null,null,null,null,null,null,0]
[null,null,null,null,null,null,null,null,null,null,null,null,null,null,null,null,null,null,null,null,null,null,null,null,null,null,null,null,null,null,null,null,null,0]
[null,null,null,null,null,null,null,null,null,null,null,null,null,null,null,null,null,null,null,null,null,null,null,null,null,null,null,null,null,null,null,null,null,0]
[null,null,null,null,null,null,null,null,null,null,null,null,null,null,null,null,null,null,null,null,null,null,null,null,null,null,null,null,null,null,null,null,null,0]
[null,null,null,null,null,null,null,null,null,null,null,null,null,null,null,null,null,null,null,null,null,null,null,null,null,null,null,null,null,null,null,null,null,0]
[null,null,null,null,null,null,null,null,null,null,null,null,null,null,null,null,null,null,null,null,null,null,null,null,null,null,null,null,null,null,null,null,null,0]
[null,null,null,null,null,null,null,null,null,null,null,null,null,null,null,null,null,null,null,null,null,null,null,null,null,null,null,null,null,null,null,null,null,0]
[null,null,null,null,null,null,null,null,null,null,null,null,null,null,null,null,null,null,null,null,null,null,null,null,null,null,null,null,null,null,null,null,null,0]
[null,null,null,null,null,null,null,null,null,null,null,null,null,null,null,null,null,null,null,null,null,null,null,null,null,null,null,null,null,null,null,null,null,0]
[null,null,null,null,null,null,null,null,null,null,null,null,null,null,null,null,null,null,null,null,null,null,null,null,null,null,null,null,null,null,null,null,null,0]
[null,null,null,null,null,null,null,null,null,null,null,null,null,null,null,null,null,null,null,null,null,null,null,null,null,null,null,null,null,null,null,null,null,0]
[null,null,null,null,null,null,null,null,null,null,null,null,null,null,null,null,null,null,null,null,null,null,null,null,null,null,null,null,null,null,null,null,null,0]
[null,null,null,null,null,null,null,null,null,null,null,null,null,null,null,null,null,null,null,null,null,null,null,null,null,null,null,null,null,null,null,null,null,0]
[null,null,null,null,null,null,null,null,null,null,null,null,null,null,null,null,null,null,null,null,null,null,null,null,null,null,null,null,null,null,null,null,null,0]
[null,null,null,null,null,null,null,null,null,null,null,null,null,null,null,null,null,null,null,null,null,null,null,null,null,null,null,null,null,null,null,null,null,0]
[null,null,null,null,null,null,null,null,null,null,null,null,null,null,null,null,null,null,null,null,null,null,null,null,null,null,null,null,null,null,null,null,null,0]
[null,null,null,null,null,null,null,null,null,null,null,null,null,null,null,null,null,null,null,null,null,null,null,null,null,null,null,null,null,null,null,null,null,0]
[null,null,null,null,null,null,null,null,null,null,null,null,null,null,null,null,null,null,null,null,null,null,null,null,null,null,null,null,null,null,null,null,null,0]
[null,null,null,null,null,null,null,null,null,null,null,null,null,null,null,null,null,null,null,null,null,null,null,null,null,null,null,null,null,null,null,null,null,0]
[null,null,null,null,null,null,null,null,null,null,null,null,null,null,null,null,null,null,null,null,null,null,null,null,null,null,null,null,null,null,null,null,null,0]
[null,null,null,null,null,null,null,null,null,null,null,null,null,null,null,null,null,null,null,null,null,null,null,null,null,null,null,null,null,null,null,null,null,0]

{"sheet":"Database","index":3,"n_rows":409,"n_cols":16,"rows_kept":409,"cut":false,"hidden":false,"merged":[]}
["Spectrum collect"]
[null,1,2,3,4,5,6,7,8,9,10,11,12,13,14,15]
["Name","In development","LCB CRBP(blue)","LV CQBP(verde)","LUW CRBP(white)","LT CQBP(green)","LJ CKBP(red)","SZB(blue)","SZG(green)","SZ5M2","SZA(amber) ","SZR(red)"]
["x",0.30190342985606361,0.15941250711922395,7.6478564127056947E-2,0.33614944254203721,0.17924531488072146,0.68438008519198867,0.14659189448616783,0.16502817650858403,0.35390021683095246,0.58800545116307001,0.69163716430524202]
["y",0.30070378005741016,0.11638349231305288,0.5132111749781606,0.33997830312219285,0.72085092641298287,0.31157120114663078,3.575623594085614E-2,0.70103136826753454,0.36234199398901401,0.40740290476537211,0.30398775511803083]
["CCT",7575.3017583814499,19458.829894202045,14081.016430423701,5336.23729949875,7684.8432065709821,4198.7762828499926,20066.44392519338,8029.5811793181247,4724.801494465125,1557.7753587070376,4746.0501360828403]
[]
["wd"]
[360,0,1.5449999999999999E-3,2.1649999999999998E-3,6.8360000000000001E-3,2.3579999999999999E-3,1.188E-3,1.5690000000000001E-3,2.4369999999999999E-3,7.7660000000000003E-3,2.2680000000000001E-3,1.2600000000000001E-3]
[361,0,1.5709999999999999E-3,2.2629999999999998E-3,8.0020000000000004E-3,2.5669999999999998E-3,1.4790000000000001E-3,1.701E-3,2.5070000000000001E-3,7.8340000000000007E-3,2.8739999999999998E-3,1.5679999999999999E-3]
[362,0,1.596E-3,2.0669999999999998E-3,5.6709999999999998E-3,2.777E-3,1.7700000000000001E-3,1.436E-3,2.3670000000000002E-3,7.6990000000000001E-3,1.6620000000000001E-3,1.877E-3]
[363,0,1.191E-3,1.735E-3,5.7920000000000003E-3,3.0000000000000001E-3,7.5100000000000004E-4,1.4859999999999999E-3,2.4759999999999999E-3,7.9570000000000005E-3,1.9070000000000001E-3,9.4799999999999995E-4]
[364,0,1.5839999999999999E-3,1.967E-3,5.9659999999999999E-3,3.0709999999999999E-3,8.1700000000000002E-4,1.2340000000000001E-3,2.715E-3,8.1469999999999997E-3,1.97E-3,1.2409999999999999E-3]
[365,0,1.9759999999999999E-3,2.1979999999999999E-3,6.1390000000000004E-3,2.928E-3,8.8199999999999997E-4,9.810000000000001E-4,2.954E-3,7.7679999999999997E-3,2.0339999999999998E-3,1.5349999999999999E-3]
[366,0,1.9880000000000002E-3,1.8140000000000001E-3,5.9480000000000002E-3,2.7179999999999999E-3,9.3800000000000003E-4,7.4299999999999995E-4,2.5379999999999999E-3,7.5890000000000003E-3,2.1519999999999998E-3,1.7309999999999999E-3]
[367,0,1.9989999999999999E-3,1.4289999999999999E-3,5.757E-3,2.5089999999999999E-3,9.9400000000000009E-4,5.0500000000000002E-4,2.1210000000000001E-3,7.4099999999999999E-3,2.2699999999999999E-3,1.34E-3]
[368,9.0334236676254688E-6,1.9789999999999999E-3,1.7440000000000001E-3,5.7600000000000004E-3,2.2520000000000001E-3,1.3979999999999999E-3,8.1300000000000003E-4,2.0820000000000001E-3,7.4619999999999999E-3,2.614E-3,1.356E-3]
[369,6.4425875740297357E-5,1.9580000000000001E-3,2.0590000000000001E-3,5.7619999999999998E-3,1.9949999999999998E-3,1.802E-3,1.122E-3,2.0430000000000001E-3,7.5129999999999997E-3,2.9580000000000001E-3,1.372E-3]
[370,1.1981832781296924E-4,1.7570000000000001E-3,2.1679999999999998E-3,5.7629999999999999E-3,2.176E-3,1.9430000000000001E-3,9.4700000000000003E-4,2.0899999999999998E-3,7.2009999999999999E-3,2.6090000000000002E-3,1.41E-3]
[371,1.7521077988564112E-4,1.555E-3,2.2769999999999999E-3,5.764E-3,2.3570000000000002E-3,2.0839999999999999E-3,7.7300000000000003E-4,2.1380000000000001E-3,6.888E-3,2.2599999999999999E-3,1.4480000000000001E-3]
[372,2.30603231958313E-4,1.4649999999999999E-3,2.4880000000000002E-3,5.6270000000000001E-3,2.4130000000000002E-3,1.688E-3,1.0950000000000001E-3,2.0479999999999999E-3,6.9719999999999999E-3,2.307E-3,1.421E-3]
[373,2.8599568403098489E-4,1.3749999999999999E-3,2.699E-3,5.4900000000000001E-3,2.3010000000000001E-3,1.292E-3,1.418E-3,1.957E-3,7.0559999999999998E-3,2.3540000000000002E-3,1.3929999999999999E-3]
[374,3.4138813610365681E-4,1.5460000000000001E-3,2.4399999999999999E-3,5.5700000000000003E-3,2.6619999999999999E-3,1.3339999999999999E-3,1.188E-3,2.153E-3,7.156E-3,2.1710000000000002E-3,1.457E-3]
[375,3.9678058817632867E-4,1.717E-3,2.1810000000000002E-3,5.6509999999999998E-3,3.0240000000000002E-3,1.3760000000000001E-3,9.5799999999999998E-4,2.3500000000000001E-3,7.2570000000000004E-3,1.9889999999999999E-3,1.521E-3]
[376,4.5217304024900058E-4,1.9070000000000001E-3,1.853E-3,5.8710000000000004E-3,3.0639999999999999E-3,1.2290000000000001E-3,1.181E-3,2.7079999999999999E-3,7.7419999999999998E-3,2.2239999999999998E-3,1.5610000000000001E-3]
[377,5.0756549232167244E-4,2.0960000000000002E-3,1.5250000000000001E-3,6.0910000000000001E-3,2.983E-3,1.083E-3,1.4040000000000001E-3,3.0669999999999998E-3,8.2269999999999999E-3,2.4589999999999998E-3,1.601E-3]
[378,5.629579443943443E-4,1.9350000000000001E-3,1.7539999999999999E-3,5.6540000000000002E-3,2.7360000000000002E-3,1.0560000000000001E-3,1.3159999999999999E-3,2.258E-3,7.6049999999999998E-3,2.0539999999999998E-3,1.8190000000000001E-3]
[379,6.1835039646701627E-4,2.1570000000000001E-3,2.0019999999999999E-3,5.7860000000000003E-3,2.709E-3,1.3860000000000001E-3,1.3320000000000001E-3,2.372E-3,7.5560000000000002E-3,2.1700000000000001E-3,1.5740000000000001E-3]
[380,6.7374284853968813E-4,2.3800000000000002E-3,2.251E-3,5.9179999999999996E-3,2.6830000000000001E-3,1.717E-3,1.348E-3,2.4870000000000001E-3,7.5069999999999998E-3,2.2859999999999998E-3,1.3290000000000001E-3]
[381,7.2913530061235999E-4,2.2360000000000001E-3,2.284E-3,5.7580000000000001E-3,2.4520000000000002E-3,1.9040000000000001E-3,1.0510000000000001E-3,2.3879999999999999E-3,7.711E-3,2.3410000000000002E-3,1.449E-3]
[382,7.8452775268503185E-4,2.0920000000000001E-3,2.317E-3,5.5989999999999998E-3,2.222E-3,1.5299999999999999E-3,7.54E-4,2.2880000000000001E-3,7.9139999999999992E-3,2.2309999999999999E-3,1.5679999999999999E-3]
[383,8.3992020475770371E-4,1.684E-3,2.2200000000000002E-3,5.4819999999999999E-3,2.4910000000000002E-3,1.5430000000000001E-3,1.041E-3,2.2300000000000002E-3,7.306E-3,2.1289999999999998E-3,1.469E-3]
[384,8.9531265683037568E-4,1.276E-3,2.1220000000000002E-3,5.3639999999999998E-3,2.7590000000000002E-3,1.557E-3,1.3290000000000001E-3,2.1710000000000002E-3,6.6969999999999998E-3,2.0279999999999999E-3,1.3699999999999999E-3]
[385,9.5070510890304754E-4,1.389E-3,1.933E-3,5.3959999999999998E-3,2.8189999999999999E-3,1.5299999999999999E-3,1.5629999999999999E-3,2.101E-3,6.9459999999999999E-3,1.8259999999999999E-3,1.4E-3]
[386,1.0060975609757195E-3,1.5009999999999999E-3,1.745E-3,5.4270000000000004E-3,2.7000000000000001E-3,1.503E-3,1.0939999999999999E-3,2.0300000000000001E-3,7.1939999999999999E-3,1.6249999999999999E-3,1.4300000000000001E-3]
[387,1.0614900130483914E-3,1.547E-3,1.8029999999999999E-3,5.2680000000000001E-3,2.7039999999999998E-3,1.305E-3,1.168E-3,2.1900000000000001E-3,7.0689999999999998E-3,1.65E-3,1.4530000000000001E-3]
[388,1.1168824651210632E-3,1.593E-3,1.8619999999999999E-3,5.1079999999999997E-3,2.7079999999999999E-3,1.108E-3,1.2409999999999999E-3,2.3500000000000001E-3,6.9439999999999997E-3,1.6750000000000001E-3,1.4059999999999999E-3]
[389,1.1722749171937351E-3,1.6659999999999999E-3,1.4530000000000001E-3,5.2170000000000003E-3,2.539E-3,1.132E-3,1.346E-3,2.4750000000000002E-3,7.2630000000000004E-3,1.686E-3,1.5610000000000001E-3]
[390,1.2276673692664069E-3,1.7390000000000001E-3,1.044E-3,5.3270000000000001E-3,2.3700000000000001E-3,1.155E-3,1.451E-3,2.225E-3,7.5810000000000001E-3,1.696E-3,1.7160000000000001E-3]
[391,1.2830598213390788E-3,1.9059999999999999E-3,1.725E-3,5.7720000000000002E-3,2.3159999999999999E-3,1.1800000000000001E-3,1.1479999999999999E-3,2.1350000000000002E-3,6.9699999999999996E-3,2.0449999999999999E-3,1.3550000000000001E-3]
[392,1.3384522734117507E-3,1.73E-3,1.7340000000000001E-3,5.5490000000000001E-3,2.0500000000000002E-3,1.047E-3,1.098E-3,1.9680000000000001E-3,6.9680000000000002E-3,2.2369999999999998E-3,1.2830000000000001E-3]
[393,1.3938447254844225E-3,1.554E-3,1.7440000000000001E-3,5.3249999999999999E-3,1.7830000000000001E-3,9.1299999999999997E-4,1.0480000000000001E-3,1.8E-3,6.966E-3,1.853E-3,1.2110000000000001E-3]
[394,1.4492371775570946E-3,1.7799999999999999E-3,1.8029999999999999E-3,5.2310000000000004E-3,1.8959999999999999E-3,1.145E-3,1.1559999999999999E-3,1.9959999999999999E-3,6.6340000000000001E-3,1.9589999999999998E-3,1.323E-3]
[395,1.5046296296297665E-3,2.0049999999999998E-3,1.8630000000000001E-3,5.1359999999999999E-3,2.0079999999999998E-3,1.377E-3,1.2639999999999999E-3,2.1930000000000001E-3,6.3020000000000003E-3,2.065E-3,1.4350000000000001E-3]
[396,1.5600220817024383E-3,1.6850000000000001E-3,1.7769999999999999E-3,5.2909999999999997E-3,2.1480000000000002E-3,1.3990000000000001E-3,1.32E-3,1.8450000000000001E-3,6.2509999999999996E-3,1.823E-3,1.1689999999999999E-3]
[397,1.6154145337751102E-3,1.3649999999999999E-3,1.6900000000000001E-3,5.4460000000000003E-3,2.2880000000000001E-3,1.356E-3,1.3760000000000001E-3,1.4970000000000001E-3,6.1989999999999996E-3,1.58E-3,9.0300000000000005E-4]
[398,1.670806985847782E-3,1.459E-3,1.7329999999999999E-3,5.4559999999999999E-3,2.4610000000000001E-3,1.3389999999999999E-3,1.3339999999999999E-3,1.9170000000000001E-3,6.4450000000000002E-3,1.456E-3,1.083E-3]
[399,1.7261994379204539E-3,1.5529999999999999E-3,1.7769999999999999E-3,5.437E-3,2.6329999999999999E-3,1.323E-3,1.292E-3,2.3370000000000001E-3,6.692E-3,1.333E-3,1.263E-3]
[400,1.7815918899931258E-3,1.709E-3,1.408E-3,6.2570000000000004E-3,2.526E-3,1.243E-3,1.271E-3,2.6649999999999998E-3,7.5680000000000001E-3,1.797E-3,1.3600000000000001E-3]
[401,1.8369843420657976E-3,1.8649999999999999E-3,1.039E-3,7.0780000000000001E-3,2.4190000000000001E-3,1.1640000000000001E-3,1.25E-3,2.0100000000000001E-3,8.4449999999999994E-3,2.261E-3,1.456E-3]
[402,1.8923767941384697E-3,2.1250000000000002E-3,1.2390000000000001E-3,7.587E-3,2.3600000000000001E-3,9.6199999999999996E-4,1.1169999999999999E-3,2.1410000000000001E-3,8.8039999999999993E-3,1.9499999999999999E-3,1.485E-3]
[403,1.9477692462111416E-3,2.385E-3,1.4400000000000001E-3,8.0960000000000008E-3,2.3E-3,7.6000000000000004E-4,9.8499999999999998E-4,2.271E-3,8.0870000000000004E-3,1.64E-3,1.5139999999999999E-3]
[404,2.0031616982838134E-3,2.428E-3,2.1080000000000001E-3,9.639E-3,1.647E-3,1.7910000000000001E-3,1.14E-3,2.444E-3,7.8239999999999994E-3,2.4299999999999999E-3,9.9299999999999996E-4]
[405,3.4383468834699484E-3,2.3219999999999998E-3,2.1789999999999999E-3,1.0746E-2,1.743E-3,2.6459999999999999E-3,1.3179999999999999E-3,2.2130000000000001E-3,7.5389999999999997E-3,2.0330000000000001E-3,1.1460000000000001E-3]
[406,6.4295392953941273E-3,2.2160000000000001E-3,2.0370000000000002E-3,1.1853000000000001E-2,1.838E-3,9.3599999999999998E-4,1.4970000000000001E-3,1.9819999999999998E-3,7.254E-3,1.6360000000000001E-3,1.2999999999999999E-3]
[407,9.4207317073183063E-3,2.5860000000000002E-3,1.9610000000000001E-3,1.4097E-2,2.0509999999999999E-3,1.0120000000000001E-3,1.753E-3,1.9759999999999999E-3,7.9810000000000002E-3,1.797E-3,1.2019999999999999E-3]
[408,1.2411924119242485E-2,2.957E-3,1.8860000000000001E-3,1.634E-2,2.2650000000000001E-3,1.088E-3,2.0100000000000001E-3,1.9710000000000001E-3,8.7069999999999995E-3,1.9589999999999998E-3,1.1039999999999999E-3]
[409,1.5403116531166664E-2,3.0530000000000002E-3,1.663E-3,1.9517E-2,2.405E-3,1.1709999999999999E-3,1.8760000000000001E-3,1.9750000000000002E-3,9.1020000000000007E-3,1.735E-3,1.2359999999999999E-3]
[410,1.8394308943090843E-2,2.8609999999999998E-3,1.4400000000000001E-3,2.2693000000000001E-2,2.5460000000000001E-3,1.2539999999999999E-3,1.743E-3,1.98E-3,9.4970000000000002E-3,1.5100000000000001E-3,1.3669999999999999E-3]
[411,2.1385501355015022E-2,3.7829999999999999E-3,1.6479999999999999E-3,2.8487999999999999E-2,2.5739999999999999E-3,1.008E-3,1.9689999999999998E-3,2.0820000000000001E-3,1.1209999999999999E-2,1.343E-3,1.485E-3]
[412,2.4376693766939201E-2,4.7039999999999998E-3,1.856E-3,3.4283000000000001E-2,2.6020000000000001E-3,7.6199999999999998E-4,2.196E-3,2.1849999999999999E-3,1.2921999999999999E-2,1.1770000000000001E-3,1.25E-3]
[413,2.736788617886338E-2,5.8339999999999998E-3,1.3029999999999999E-3,4.1875999999999997E-2,2.1789999999999999E-3,9.0499999999999999E-4,2.568E-3,1.823E-3,1.4564000000000001E-2,1.4090000000000001E-3,1.1720000000000001E-3]
[414,3.0359078590787559E-2,6.9639999999999997E-3,7.5000000000000002E-4,4.9468999999999999E-2,1.756E-3,1.0480000000000001E-3,2.9399999999999999E-3,1.462E-3,1.6205000000000001E-2,1.642E-3,1.0950000000000001E-3]
[415,3.3350271002711734E-2,8.5299999999999994E-3,1.2440000000000001E-3,6.132E-2,1.8730000000000001E-3,1.199E-3,3.5850000000000001E-3,1.743E-3,1.9106999999999999E-2,1.748E-3,1.243E-3]
[416,3.6341463414635913E-2,1.0096000000000001E-2,1.738E-3,7.3172000000000001E-2,1.99E-3,1.3500000000000001E-3,4.2300000000000003E-3,2.0249999999999999E-3,2.2009000000000001E-2,1.854E-3,1.3910000000000001E-3]
[417,3.9332655826560092E-2,1.4581999999999999E-2,1.7639999999999999E-3,0.100122,1.748E-3,1.9469999999999999E-3,5.476E-3,1.745E-3,2.7675000000000002E-2,1.6459999999999999E-3,9.8700000000000003E-4]
[418,4.2323848238484271E-2,1.7974E-2,1.8619999999999999E-3,0.12031600000000001,1.738E-3,1.606E-3,6.5250000000000004E-3,1.7099999999999999E-3,3.2475999999999998E-2,1.5939999999999999E-3,8.61E-4]
[419,4.531504065040845E-2,2.1366E-2,1.9610000000000001E-3,0.140509,1.7279999999999999E-3,1.2650000000000001E-3,7.574E-3,1.6739999999999999E-3,3.7276999999999998E-2,1.542E-3,7.3499999999999998E-4]
[420,4.8306233062332629E-2,2.6001E-2,1.753E-3,0.16264999999999999,1.9559999999999998E-3,1.157E-3,9.3240000000000007E-3,1.6620000000000001E-3,4.3227000000000002E-2,1.1980000000000001E-3,8.7200000000000005E-4]
[421,5.1297425474256808E-2,3.0634999999999999E-2,1.5449999999999999E-3,0.18479100000000001,2.183E-3,1.049E-3,1.1073E-2,1.65E-3,4.9175999999999997E-2,8.5400000000000005E-4,1.0089999999999999E-3]
[422,5.4288617886180987E-2,3.814E-2,1.5250000000000001E-3,0.217751,2.3470000000000001E-3,1.0120000000000001E-3,1.3753E-2,1.861E-3,5.7883999999999998E-2,1.0499999999999999E-3,1.026E-3]
[423,6.6486562782303457E-2,4.5645999999999999E-2,1.506E-3,0.25071199999999999,2.0200000000000001E-3,9.7400000000000004E-4,1.6433E-2,2.0730000000000002E-3,6.6590999999999997E-2,1.2459999999999999E-3,1.044E-3]
[424,8.0943992773268317E-2,5.5208E-2,1.449E-3,0.28291899999999998,1.828E-3,7.94E-4,1.9392E-2,1.918E-3,7.5242000000000003E-2,1.1050000000000001E-3,1.059E-3]
[425,9.5401422764233162E-2,6.4770999999999995E-2,1.3929999999999999E-3,0.31512699999999999,1.635E-3,6.1300000000000005E-4,2.2350999999999999E-2,1.7619999999999999E-3,8.3892999999999995E-2,9.6500000000000004E-4,1.075E-3]
[426,0.10985885275519801,7.9555000000000001E-2,1.459E-3,0.35960900000000001,1.6479999999999999E-3,6.5899999999999997E-4,2.7282000000000001E-2,1.7309999999999999E-3,9.6932000000000004E-2,1.2769999999999999E-3,9.4700000000000003E-4]
[427,0.12467818428184729,9.4339000000000006E-2,1.526E-3,0.40409200000000001,1.66E-3,7.0399999999999998E-4,3.2214E-2,1.699E-3,0.109971,1.588E-3,8.1899999999999996E-4]
[428,0.13963414634146934,0.112386,1.817E-3,0.44766800000000001,1.7849999999999999E-3,1.0870000000000001E-3,3.8523000000000002E-2,1.812E-3,0.12420100000000001,1.8259999999999999E-3,9.8499999999999998E-4]
[429,0.15459010840109136,0.13043399999999999,2.1090000000000002E-3,0.49124499999999999,1.9090000000000001E-3,1.47E-3,4.4832999999999998E-2,1.9250000000000001E-3,0.138431,1.3500000000000001E-3,1.1509999999999999E-3]
[430,0.16954607046071341,0.17676900000000001,1.9499999999999999E-3,0.58367899999999995,2.0569999999999998E-3,1.0089999999999999E-3,6.1081000000000003E-2,1.949E-3,0.16944200000000001,1.6280000000000001E-3,8.1599999999999999E-4]
[431,0.18644308943090576,0.205508,1.9759999999999999E-3,0.62867300000000004,2.3040000000000001E-3,1.206E-3,7.1709999999999996E-2,2.0010000000000002E-3,0.18656200000000001,1.6869999999999999E-3,7.1400000000000001E-4]
[432,0.20439024390245072,0.23424700000000001,2.0019999999999999E-3,0.67366599999999999,2.5500000000000002E-3,1.403E-3,8.2339999999999997E-2,2.052E-3,0.203682,1.5690000000000001E-3,6.1200000000000002E-4]
[433,0.22233739837399569,0.27493200000000001,1.861E-3,0.72979700000000003,2.4069999999999999E-3,1.0640000000000001E-3,9.7631999999999997E-2,2.085E-3,0.22512099999999999,1.4350000000000001E-3,8.1700000000000002E-4]
[434,0.23935636856369491,0.31561699999999998,1.72E-3,0.78592799999999996,2.2629999999999998E-3,7.2599999999999997E-4,0.112925,2.019E-3,0.246559,1.3010000000000001E-3,1.0219999999999999E-3]
[435,0.25630645889792947,0.36138700000000001,1.707E-3,0.83013099999999995,2.3700000000000001E-3,7.6599999999999997E-4,0.130384,2.1840000000000002E-3,0.266237,1.5280000000000001E-3,1.085E-3]
[436,0.27325654923216403,0.40715699999999999,1.694E-3,0.87433499999999997,2.477E-3,8.0699999999999999E-4,0.147844,2.3479999999999998E-3,0.285916,1.755E-3,1.147E-3]
[437,0.29020663956639858,0.46359600000000001,1.7279999999999999E-3,0.91354999999999997,2.3700000000000001E-3,7.6300000000000001E-4,0.17069799999999999,2.114E-3,0.30833300000000002,1.9740000000000001E-3,1.026E-3]
[438,0.31503218157181984,0.52003500000000003,1.7619999999999999E-3,0.95276499999999997,2.2629999999999998E-3,7.1900000000000002E-4,0.193553,1.8799999999999999E-3,0.33075100000000002,1.536E-3,9.0499999999999999E-4]
[439,0.34120511517615576,0.58241200000000004,1.9189999999999999E-3,0.97638199999999997,2.1099999999999999E-3,8.6499999999999999E-4,0.221247,2.2529999999999998E-3,0.35520299999999999,1.655E-3,9.6299999999999999E-4]
[440,0.36788617886179309,0.64478899999999995,2.0760000000000002E-3,1,1.957E-3,1.011E-3,0.248941,2.6259999999999999E-3,0.37965500000000002,1.7730000000000001E-3,1.0200000000000001E-3]
[441,0.39779810298103407,0.75942699999999996,2.3730000000000001E-3,0.99146299999999998,2.3749999999999999E-3,1.681E-3,0.31043999999999999,2.2790000000000002E-3,0.42971700000000002,1.7279999999999999E-3,7.27E-4]
[442,0.42771002710027506,0.80847800000000003,2.4269999999999999E-3,0.96487699999999998,2.4290000000000002E-3,2.3470000000000001E-3,0.34624300000000002,2.3280000000000002E-3,0.45940199999999998,1.4660000000000001E-3,7.8799999999999996E-4]
[443,0.45918445121951645,0.85752899999999999,2.48E-3,0.93828999999999996,2.3219999999999998E-3,1.0150000000000001E-3,0.382046,2.3770000000000002E-3,0.48908600000000002,1.2030000000000001E-3,8.4900000000000004E-4]
[444,0.4928353658536625,0.90802700000000003,2.826E-3,0.91071899999999995,2.5000000000000001E-3,8.8800000000000001E-4,0.43157800000000002,2.5209999999999998E-3,0.53523699999999996,1.31E-3,8.52E-4]
[445,0.52648628048780854,0.95852599999999999,3.1719999999999999E-3,0.88314800000000004,2.6779999999999998E-3,7.6000000000000004E-4,0.48110900000000001,2.666E-3,0.58138699999999999,1.4159999999999999E-3,8.5499999999999997E-4]
[446,0.65092189314750692,0.97792599999999996,3.2889999999999998E-3,0.83033900000000005,2.4949999999999998E-3,8.5099999999999998E-4,0.53164599999999995,2.9260000000000002E-3,0.62819899999999995,1.4630000000000001E-3,9.0899999999999998E-4]
[447,0.66908270421990612,0.99732600000000005,3.4069999999999999E-3,0.77753000000000005,2.313E-3,9.41E-4,0.58218199999999998,3.1870000000000002E-3,0.67501100000000003,1.3699999999999999E-3,9.6299999999999999E-4]
[448,0.68724351529230532,0.99866299999999997,3.8630000000000001E-3,0.72323400000000004,2.2950000000000002E-3,6.9099999999999999E-4,0.63886500000000002,3.3149999999999998E-3,0.72865800000000003,1.5839999999999999E-3,9.9200000000000004E-4]
[449,0.70540432636470451,1,4.3200000000000001E-3,0.66893899999999995,2.2769999999999999E-3,4.4000000000000002E-4,0.69554800000000006,3.4429999999999999E-3,0.78230500000000003,1.797E-3,1.021E-3]
[450,0.72356513743710382,0.97982599999999997,4.9880000000000002E-3,0.61509199999999997,2.1480000000000002E-3,6.7900000000000002E-4,0.75241899999999995,3.7420000000000001E-3,0.83477000000000001,1.8289999999999999E-3,9.9099999999999991E-4]
[451,0.77867829719968051,0.95965100000000003,5.6569999999999997E-3,0.56124600000000002,2.0179999999999998E-3,9.1699999999999995E-4,0.80928999999999995,4.0419999999999996E-3,0.88723600000000002,1.8600000000000001E-3,9.6100000000000005E-4]
[452,0.83600948509488515,0.91274,6.221E-3,0.50832500000000003,2.124E-3,7.7200000000000001E-4,0.85090299999999996,4.2449999999999996E-3,0.92012099999999997,1.756E-3,7.6999999999999996E-4]
[453,0.93779369918699818,0.86582899999999996,6.7840000000000001E-3,0.45540399999999998,2.2309999999999999E-3,6.2699999999999995E-4,0.89251599999999998,3.8379999999999998E-3,0.95300600000000002,1.652E-3,5.8E-4]
[454,0.94766463414634838,0.76369600000000004,9.6170000000000005E-3,0.37423400000000001,2.6930000000000001E-3,9.9400000000000009E-4,0.95425199999999999,5.0289999999999996E-3,0.99298900000000001,1.0939999999999999E-3,9.2100000000000005E-4]
[455,0.95753556910569859,0.71306099999999994,1.0859000000000001E-2,0.34414299999999998,2.9719999999999998E-3,1.003E-3,0.96979499999999996,5.1240000000000001E-3,0.99649399999999999,1.0870000000000001E-3,1.193E-3]
[456,0.9674065040650488,0.66242599999999996,1.2101000000000001E-2,0.31405300000000003,3.2499999999999999E-3,1.013E-3,0.98533800000000005,5.2180000000000004E-3,1,1.08E-3,6.4999999999999997E-4]
[457,0.97727743902439901,0.61439999999999995,1.3781E-2,0.29054099999999999,3.3159999999999999E-3,7.4899999999999999E-4,1,5.6649999999999999E-3,0.98133899999999996,1.1820000000000001E-3,7.9000000000000001E-4]
[458,0.98714837398374922,0.56637300000000002,1.5461000000000001E-2,0.26702900000000002,3.1849999999999999E-3,4.8500000000000003E-4,0.97067599999999998,6.1130000000000004E-3,0.96267899999999995,1.2830000000000001E-3,9.3099999999999997E-4]
[459,0.9944891598915846,0.52348799999999995,1.7652999999999999E-2,0.24693999999999999,3.3709999999999999E-3,6.1300000000000005E-4,0.93937599999999999,6.7879999999999998E-3,0.92334899999999998,1.488E-3,9.4499999999999998E-4]
[460,0.9813279132791195,0.48060199999999997,1.9845999999999999E-2,0.226851,3.5569999999999998E-3,7.3999999999999999E-4,0.90807499999999997,7.463E-3,0.88401799999999997,1.6919999999999999E-3,9.59E-4]
[461,0.96816666666665441,0.447237,2.3234000000000001E-2,0.21045800000000001,3.7699999999999999E-3,9.1500000000000001E-4,0.86486399999999997,8.1300000000000001E-3,0.83830899999999997,1.8519999999999999E-3,9.2400000000000002E-4]
[462,0.95500542005418942,0.41387099999999999,2.6623000000000001E-2,0.19406499999999999,3.9830000000000004E-3,1.0889999999999999E-3,0.82165299999999997,8.7980000000000003E-3,0.79259900000000005,1.5330000000000001E-3,8.8800000000000001E-4]
[463,0.94184417344172433,0.38230700000000001,3.0228999999999999E-2,0.178846,4.2690000000000002E-3,1.214E-3,0.76295000000000002,9.4809999999999998E-3,0.73838499999999996,1.732E-3,9.4899999999999997E-4]
[464,0.92868292682925935,0.350742,3.3834000000000003E-2,0.163628,4.5539999999999999E-3,1.34E-3,0.70424600000000004,1.0163E-2,0.68417099999999997,1.9319999999999999E-3,1.0089999999999999E-3]
[465,0.91552168021679425,0.30383599999999999,4.4123000000000002E-2,0.13989599999999999,5.2729999999999999E-3,5.9000000000000003E-4,0.60069600000000001,1.2355E-2,0.59983799999999998,1.7459999999999999E-3,7.6099999999999996E-4]
[466,0.89300587172536305,0.28198899999999999,5.0562999999999997E-2,0.12973100000000001,6.1339999999999997E-3,6.4199999999999999E-4,0.55114700000000005,1.3658E-2,0.56276499999999996,1.5410000000000001E-3,8.1300000000000003E-4]
[467,0.85013211382112175,0.26014100000000001,5.7002999999999998E-2,0.11956600000000001,6.9950000000000003E-3,6.9399999999999996E-4,0.50159699999999996,1.4961E-2,0.52569100000000002,1.3370000000000001E-3,8.6499999999999999E-4]
[468,0.80846375338752197,0.24224799999999999,6.5098000000000003E-2,0.11226999999999999,7.7790000000000003E-3,5.6899999999999995E-4,0.46132600000000001,1.6747999999999999E-2,0.498224,1.3760000000000001E-3,8.1300000000000003E-4]
[469,0.76995215108399939,0.224355,7.3193999999999995E-2,0.104974,8.5620000000000002E-3,4.4499999999999997E-4,0.42105599999999999,1.8533999999999998E-2,0.47075600000000001,1.4139999999999999E-3,7.6199999999999998E-4]
[470,0.73144054878047682,0.20854900000000001,8.3089999999999997E-2,9.8531999999999995E-2,9.2999999999999992E-3,5.9299999999999999E-4,0.38506899999999999,2.0549000000000001E-2,0.44509100000000001,1.4270000000000001E-3,8.5800000000000004E-4]
[471,0.6945990006774968,0.192743,9.2985999999999999E-2,9.2091000000000006E-2,1.0037000000000001E-2,7.4100000000000001E-4,0.349082,2.2565000000000002E-2,0.41942699999999999,1.4400000000000001E-3,9.5299999999999996E-4]
[472,0.65907859078589781,0.18226999999999999,0.106889,8.9046E-2,1.1199000000000001E-2,8.6899999999999998E-4,0.32381799999999999,2.5198999999999999E-2,0.40284900000000001,1.683E-3,1.0300000000000001E-3]
[473,0.62355818089429893,0.17179800000000001,0.120793,8.6001999999999995E-2,1.2359999999999999E-2,6.1200000000000002E-4,0.29855399999999999,2.7834000000000001E-2,0.38627099999999998,1.9269999999999999E-3,1.106E-3]
[474,0.59746358401083344,0.15312400000000001,0.15287400000000001,7.8785999999999995E-2,1.5292E-2,9.68E-4,0.24785399999999999,3.3647000000000003E-2,0.34499999999999997,1.7329999999999999E-3,6.4899999999999995E-4]
[475,0.57316014566395035,0.147729,0.17360700000000001,7.6837000000000003E-2,1.6952999999999999E-2,1.018E-3,0.227937,3.7534999999999999E-2,0.32889800000000002,1.554E-3,5.44E-4]
[476,0.54749999999999188,0.14233299999999999,0.19434000000000001,7.4886999999999995E-2,1.8615E-2,9.1799999999999998E-4,0.20802100000000001,4.1424000000000002E-2,0.31279600000000002,1.3749999999999999E-3,4.4000000000000002E-4]
[477,0.51210422312556081,0.137796,0.21723600000000001,7.3317999999999994E-2,2.1107000000000001E-2,9.7499999999999996E-4,0.189167,4.5726000000000003E-2,0.29615599999999997,1.3680000000000001E-3,6.6100000000000002E-4]
[478,0.47766937669376619,0.13325799999999999,0.24013300000000001,7.1748000000000006E-2,2.3598000000000001E-2,1.0319999999999999E-3,0.17031399999999999,5.0027000000000002E-2,0.27951599999999999,1.361E-3,8.8099999999999995E-4]
[479,0.45373983739836443,0.132081,0.27027499999999999,7.1697999999999998E-2,2.6641000000000001E-2,8.6799999999999996E-4,0.15625900000000001,5.5878999999999998E-2,0.26938800000000002,1.292E-3,9.3300000000000002E-4]
[480,0.42981029810296262,0.13090299999999999,0.30041699999999999,7.1647000000000002E-2,2.9683999999999999E-2,7.0299999999999996E-4,0.142205,6.173E-2,0.25925999999999999,1.224E-3,9.8400000000000007E-4]
[481,0.40861619241190833,0.12958600000000001,0.332538,7.1877999999999997E-2,3.3217000000000003E-2,5.3600000000000002E-4,0.128964,6.8289000000000002E-2,0.24967700000000001,1.132E-3,9.9599999999999992E-4]
[482,0.39216463414632791,0.12826899999999999,0.36465900000000001,7.2109000000000006E-2,3.6749999999999998E-2,3.68E-4,0.11572399999999999,7.4848999999999999E-2,0.240093,1.039E-3,1.008E-3]
[483,0.37571307588074748,0.12842600000000001,0.40118599999999999,7.3637999999999995E-2,4.1172E-2,5.13E-4,0.105351,8.2758999999999999E-2,0.23388400000000001,1.2130000000000001E-3,8.4900000000000004E-4]
[484,0.35926151761516711,0.128583,0.43771199999999999,7.5165999999999997E-2,4.5594999999999997E-2,6.5899999999999997E-4,9.4978000000000007E-2,9.0670000000000001E-2,0.22767499999999999,1.3860000000000001E-3,6.8999999999999997E-4]
[485,0.34309789972898974,0.12718499999999999,0.50677700000000003,7.8522999999999996E-2,5.5106000000000002E-2,5.9500000000000004E-4,7.7037999999999995E-2,0.10682899999999999,0.21592600000000001,1.66E-3,6.5300000000000004E-4]
[486,0.3276434056007132,0.129105,0.55008500000000005,8.2369999999999999E-2,6.2302999999999997E-2,6.8199999999999999E-4,7.0899000000000004E-2,0.118419,0.215693,1.7440000000000001E-3,5.6700000000000001E-4]
[487,0.31218891147243671,0.131025,0.59339399999999998,8.6218000000000003E-2,6.9500000000000006E-2,7.6800000000000002E-4,6.4760999999999999E-2,0.13000900000000001,0.21546000000000001,1.5759999999999999E-3,4.8099999999999998E-4]
[488,0.29673441734416017,0.13186,0.632768,9.0325000000000003E-2,7.7336000000000002E-2,7.7499999999999997E-4,5.9393000000000001E-2,0.142646,0.215533,1.372E-3,5.5500000000000005E-4]
[489,0.28360264227641829,0.13269400000000001,0.67214200000000002,9.4432000000000002E-2,8.5170999999999997E-2,7.8100000000000001E-4,5.4024999999999997E-2,0.155282,0.21560599999999999,1.168E-3,6.2799999999999998E-4]
[490,0.27911585365853214,0.13481000000000001,0.71283799999999997,9.9954000000000001E-2,9.5372999999999999E-2,7.5299999999999998E-4,4.9896000000000003E-2,0.17116300000000001,0.21778800000000001,1.1119999999999999E-3,5.8100000000000003E-4]
[491,0.27462906504064599,0.13692699999999999,0.75353400000000004,0.105477,0.105575,7.2499999999999995E-4,4.5766000000000001E-2,0.18704299999999999,0.21997,1.0560000000000001E-3,5.3300000000000005E-4]
[492,0.27014227642275984,0.13924300000000001,0.79235100000000003,0.112286,0.117932,6.5200000000000002E-4,4.2021999999999997E-2,0.205868,0.22382199999999999,1.173E-3,6.7599999999999995E-4]
[493,0.26565548780487369,0.14155999999999999,0.83116800000000002,0.11909599999999999,0.13028799999999999,5.7899999999999998E-4,3.8278E-2,0.224693,0.22767399999999999,1.289E-3,8.1800000000000004E-4]
[494,0.26116869918698754,0.14412900000000001,0.88720900000000003,0.13274900000000001,0.157633,3.5100000000000002E-4,3.1754999999999999E-2,0.26515699999999998,0.23513800000000001,1.2949999999999999E-3,9.4300000000000004E-4]
[495,0.25668191056910139,0.14574300000000001,0.91156899999999996,0.140684,0.17424899999999999,4.7399999999999997E-4,2.8979999999999999E-2,0.28898200000000002,0.240699,1.3760000000000001E-3,8.4999999999999995E-4]
[496,0.25219512195121524,0.14735599999999999,0.93592799999999998,0.14862,0.19086500000000001,5.9800000000000001E-4,2.6204999999999999E-2,0.31280599999999997,0.24625900000000001,1.457E-3,7.5799999999999999E-4]
[497,0.24770833333332912,0.149009,0.95454300000000003,0.157578,0.21121100000000001,6.2299999999999996E-4,2.3931000000000001E-2,0.34115299999999998,0.254131,1.4959999999999999E-3,7.3200000000000001E-4]
[498,0.24322154471544297,0.15066199999999999,0.97315799999999997,0.16653599999999999,0.23155600000000001,6.4800000000000003E-4,2.1656000000000002E-2,0.3695,0.26200299999999999,1.536E-3,7.0600000000000003E-4]
[499,0.23873475609755682,0.152059,0.98248599999999997,0.176176,0.25557299999999999,6.1399999999999996E-4,1.9980000000000001E-2,0.40176800000000001,0.27146700000000001,1.5629999999999999E-3,6.0499999999999996E-4]
[500,0.23712737127371594,0.15345700000000001,0.99181399999999997,0.18581600000000001,0.27959099999999998,5.8100000000000003E-4,1.8303E-2,0.43403599999999998,0.28093200000000002,1.5889999999999999E-3,5.0500000000000002E-4]
[501,0.24111562782294807,0.15450700000000001,1,0.19581699999999999,0.30668099999999998,6.9899999999999997E-4,1.6759E-2,0.468802,0.29100399999999998,1.5529999999999999E-3,5.7200000000000003E-4]
[502,0.2451038843721802,0.155557,0.98362899999999998,0.205818,0.33377099999999998,8.1700000000000002E-4,1.5214E-2,0.50356800000000002,0.30107499999999998,1.516E-3,6.3900000000000003E-4]
[503,0.24909214092141235,0.156559,0.97256799999999999,0.21732499999999999,0.365008,5.5099999999999995E-4,1.4067E-2,0.54224899999999998,0.31323299999999998,1.271E-3,5.9699999999999998E-4]
[504,0.25308039747064448,0.15756000000000001,0.961507,0.22883200000000001,0.39624500000000001,2.8600000000000001E-4,1.2919999999999999E-2,0.58092900000000003,0.32539000000000001,1.0269999999999999E-3,5.5500000000000005E-4]
[505,0.25706865401987661,0.157143,0.90573000000000004,0.248249,0.46023799999999998,5.5000000000000003E-4,1.0878000000000001E-2,0.65341099999999996,0.34524899999999997,1.1280000000000001E-3,1.1980000000000001E-3]
[506,0.26105691056910874,0.15743699999999999,0.87688900000000003,0.259739,0.49746099999999999,6.8599999999999998E-4,1.0219000000000001E-2,0.69350999999999996,0.35809600000000003,1.3940000000000001E-3,1.74E-3]
[507,0.26504516711834086,0.15773100000000001,0.848047,0.27123000000000003,0.53468499999999997,4.1399999999999998E-4,9.5600000000000008E-3,0.73360800000000004,0.37094300000000002,1.66E-3,6.5600000000000001E-4]
[508,0.26903342366757299,0.15753900000000001,0.81133699999999997,0.28177999999999997,0.57215000000000005,5.7899999999999998E-4,8.8620000000000001E-3,0.76995000000000002,0.382579,1.7030000000000001E-3,7.4100000000000001E-4]
[509,0.27302168021680512,0.15734699999999999,0.77462600000000004,0.29232999999999998,0.60961500000000002,7.45E-4,8.1630000000000001E-3,0.80629300000000004,0.39421499999999998,1.745E-3,8.2700000000000004E-4]
[510,0.27700993676603725,0.15682599999999999,0.73816999999999999,0.30364000000000002,0.65016499999999999,9.4300000000000004E-4,7.7219999999999997E-3,0.84111400000000003,0.406779,1.7160000000000001E-3,8.8400000000000002E-4]
[511,0.28099819331526937,0.156305,0.70171399999999995,0.31495000000000001,0.69071499999999997,1.142E-3,7.28E-3,0.87593500000000002,0.41934300000000002,1.6869999999999999E-3,7.6999999999999996E-4]
[512,0.2849864498645015,0.15452199999999999,0.66113,0.32368799999999998,0.72512500000000002,9.68E-4,6.7330000000000003E-3,0.89895999999999998,0.42835800000000002,1.57E-3,6.7000000000000002E-4]
[513,0.28897470641373363,0.15273900000000001,0.62054600000000004,0.33242500000000003,0.75953400000000004,7.94E-4,6.1859999999999997E-3,0.92198500000000005,0.43737300000000001,1.454E-3,5.6999999999999998E-4]
[514,0.29296296296296576,0.150393,0.55169699999999999,0.35252499999999998,0.83251799999999998,5.0299999999999997E-4,5.378E-3,0.96597599999999995,0.46055200000000002,1.255E-3,7.4600000000000003E-4]
[515,0.29695121951219788,0.14818200000000001,0.51739400000000002,0.36006500000000002,0.85924900000000004,6.0499999999999996E-4,5.1479999999999998E-3,0.97457000000000005,0.468634,1.3339999999999999E-3,7.7399999999999995E-4]
[516,0.30104420731707848,0.14597099999999999,0.48309000000000002,0.36760399999999999,0.88597999999999999,7.0600000000000003E-4,4.9179999999999996E-3,0.98316300000000001,0.476717,1.413E-3,7.1900000000000002E-4]
[517,0.3083352388211435,0.14492099999999999,0.45682299999999998,0.37804300000000002,0.914385,5.5000000000000003E-4,4.6169999999999996E-3,0.99158199999999996,0.48790600000000001,1.485E-3,6.9399999999999996E-4]
[518,0.31562627032520851,0.143871,0.43055500000000002,0.38848100000000002,0.94279100000000005,3.9300000000000001E-4,4.3169999999999997E-3,1,0.49909500000000001,1.557E-3,6.6799999999999997E-4]
[519,0.32291730182927353,0.141123,0.40435700000000002,0.39508399999999999,0.95651900000000001,6.3699999999999998E-4,3.9979999999999998E-3,0.99314800000000003,0.50604199999999999,1.694E-3,7.6099999999999996E-4]
[520,0.33020833333333854,0.138376,0.37815900000000002,0.40168599999999999,0.97024600000000005,8.8000000000000003E-4,3.679E-3,0.98629599999999995,0.51298900000000003,1.8309999999999999E-3,8.5300000000000003E-4]
[521,0.33749936483740356,0.134796,0.33567599999999997,0.41824499999999998,0.99235700000000004,9.5600000000000004E-4,3.2039999999999998E-3,0.96965699999999999,0.53087300000000004,1.818E-3,7.7399999999999995E-4]
[522,0.34479039634146857,0.13195499999999999,0.31476700000000002,0.423759,1,1E-3,3.1909999999999998E-3,0.95009299999999997,0.53634300000000001,1.6850000000000001E-3,6.02E-4]
[523,0.35208142784553353,0.12911300000000001,0.29385699999999998,0.42927300000000002,0.98471399999999998,1.0449999999999999E-3,3.179E-3,0.93052999999999997,0.54181400000000002,1.5510000000000001E-3,4.2900000000000002E-4]
[524,0.35937245934959855,0.12717800000000001,0.27699600000000002,0.43711899999999998,0.98023400000000005,8.0800000000000002E-4,3.1719999999999999E-3,0.91349599999999997,0.55059000000000002,1.5629999999999999E-3,5.2499999999999997E-4]
[525,0.36666349085366357,0.12524399999999999,0.26013500000000001,0.44496599999999997,0.97575400000000001,5.71E-4,3.166E-3,0.89646300000000001,0.55936600000000003,1.5740000000000001E-3,6.2100000000000002E-4]
[526,0.37395452235772858,0.12282800000000001,0.24388899999999999,0.45086399999999999,0.95895600000000003,5.9599999999999996E-4,3.003E-3,0.87235700000000005,0.565577,1.58E-3,6.5799999999999995E-4]
[527,0.38071815718157448,0.12041200000000001,0.22764400000000001,0.456762,0.94215800000000005,6.2E-4,2.8389999999999999E-3,0.84825200000000001,0.57178799999999996,1.5870000000000001E-3,6.9499999999999998E-4]
[528,0.38470641373080666,0.11840199999999999,0.213614,0.46312199999999998,0.92186199999999996,6.7299999999999999E-4,2.6740000000000002E-3,0.82453900000000002,0.57894100000000004,1.6800000000000001E-3,9.0300000000000005E-4]
[529,0.38869467028003879,0.116392,0.19958400000000001,0.46948200000000001,0.90156700000000001,7.2599999999999997E-4,2.5079999999999998E-3,0.80082600000000004,0.58609299999999998,1.774E-3,1.111E-3]
[530,0.39268292682927097,0.110378,0.171963,0.474912,0.83847400000000005,9.3099999999999997E-4,2.4130000000000002E-3,0.73841100000000004,0.59026999999999996,1.753E-3,7.9699999999999997E-4]
[531,0.3966711833785031,0.108538,0.16173399999999999,0.481715,0.81281800000000004,1.077E-3,2.2750000000000001E-3,0.71484899999999996,0.59813099999999997,2.0470000000000002E-3,8.7799999999999998E-4]
[532,0.40065943992773528,0.106698,0.151504,0.48851800000000001,0.78716200000000003,7.85E-4,2.137E-3,0.69128699999999998,0.60599099999999995,2.3419999999999999E-3,9.59E-4]
[533,0.40464769647696741,0.10397000000000001,0.14116799999999999,0.49227100000000001,0.75593200000000005,7.76E-4,2.0830000000000002E-3,0.66421300000000005,0.61000500000000002,2.6069999999999999E-3,7.2499999999999995E-4]
[534,0.40863595302619959,0.101241,0.130833,0.49602299999999999,0.72470199999999996,7.6800000000000002E-4,2.029E-3,0.63713900000000001,0.61401899999999998,2.0760000000000002E-3,4.9200000000000003E-4]
[535,0.41262420957543172,9.8999000000000004E-2,0.122457,0.50067099999999998,0.69515499999999997,7.4100000000000001E-4,1.9599999999999999E-3,0.61232299999999995,0.61944699999999997,2.1510000000000001E-3,4.66E-4]
[536,0.4166124661246639,9.6756999999999996E-2,0.114081,0.50531800000000004,0.66560799999999998,7.1400000000000001E-4,1.8910000000000001E-3,0.587507,0.62487499999999996,2.2260000000000001E-3,4.4000000000000002E-4]
[537,0.42060072267389609,9.4677999999999998E-2,0.107015,0.51000999999999996,0.63711499999999999,6.3100000000000005E-4,1.714E-3,0.56386199999999997,0.630162,2.4039999999999999E-3,6.5799999999999995E-4]
[538,0.42458897922312822,9.2599000000000001E-2,9.9947999999999995E-2,0.51470199999999999,0.608622,5.4799999999999998E-4,1.5380000000000001E-3,0.54021699999999995,0.63544999999999996,2.5820000000000001E-3,8.7600000000000004E-4]
[539,0.4285772357723604,8.7543999999999997E-2,8.6528999999999995E-2,0.51756000000000002,0.55005800000000005,6.7400000000000001E-4,1.835E-3,0.49026900000000001,0.63989600000000002,3.029E-3,1.083E-3]
[540,0.43256549232159253,8.5125000000000006E-2,8.0700999999999995E-2,0.52012199999999997,0.52368700000000001,7.3800000000000005E-4,1.923E-3,0.46728399999999998,0.64265000000000005,3.3140000000000001E-3,1.126E-3]
[541,0.43655374887082471,8.2707000000000003E-2,7.4871999999999994E-2,0.52268300000000001,0.49731700000000001,8.0199999999999998E-4,1.7470000000000001E-3,0.444299,0.64540500000000001,3.5990000000000002E-3,1.0399999999999999E-3]
[542,0.44054200542005684,8.0567E-2,7.0598999999999995E-2,0.52601200000000004,0.47425600000000001,1.0820000000000001E-3,1.7910000000000001E-3,0.42426000000000003,0.64985400000000004,4.1619999999999999E-3,1.181E-3]
[543,0.44453026196928902,7.8426999999999997E-2,6.6326999999999997E-2,0.52934199999999998,0.45119599999999999,1.361E-3,1.835E-3,0.40422000000000002,0.65430299999999997,4.7260000000000002E-3,1.3209999999999999E-3]
[544,0.44533423667570005,7.6412999999999995E-2,6.2281999999999997E-2,0.53161800000000003,0.429813,1.402E-3,1.738E-3,0.38507799999999998,0.65777699999999995,5.019E-3,1.1969999999999999E-3]
[545,0.445583502710027,7.4399999999999994E-2,5.8236999999999997E-2,0.53389399999999998,0.40842899999999999,1.4430000000000001E-3,1.6410000000000001E-3,0.36593500000000001,0.66125199999999995,5.313E-3,1.072E-3]
[546,0.44583276874435401,6.9667999999999994E-2,5.0807999999999999E-2,0.53328799999999998,0.36579,8.5899999999999995E-4,1.2589999999999999E-3,0.32774199999999998,0.66273499999999996,5.5459999999999997E-3,8.9099999999999997E-4]
[547,0.44608203477868097,6.7546999999999996E-2,4.7710000000000002E-2,0.53515500000000005,0.34809800000000002,9.8700000000000003E-4,1.2999999999999999E-3,0.31157800000000002,0.66661700000000002,6.1999999999999998E-3,9.7300000000000002E-4]
[548,0.44633130081300793,6.5425999999999998E-2,4.4613E-2,0.53702099999999997,0.330405,1.116E-3,1.34E-3,0.29541499999999998,0.67049999999999998,6.8529999999999997E-3,1.0549999999999999E-3]
[549,0.44658056684733494,6.3329999999999997E-2,4.1570999999999997E-2,0.53607800000000005,0.312087,1.0349999999999999E-3,1.3500000000000001E-3,0.27948099999999998,0.67108500000000004,7.4009999999999996E-3,1.0660000000000001E-3]
[550,0.44682983288166189,6.1233000000000003E-2,3.8529000000000001E-2,0.53513500000000003,0.29376999999999998,9.5500000000000001E-4,1.3309999999999999E-3,0.26354699999999998,0.66991400000000001,7.9480000000000002E-3,1.078E-3]
[551,0.4470790989159889,5.9313999999999999E-2,3.6013999999999997E-2,0.53733900000000001,0.27871899999999999,1.0529999999999999E-3,1.372E-3,0.25017800000000001,0.67414300000000005,8.9779999999999999E-3,9.9299999999999996E-4]
[552,0.44732836495031586,5.7394000000000001E-2,3.3499000000000001E-2,0.53954400000000002,0.26366699999999998,1.1509999999999999E-3,1.4120000000000001E-3,0.23680899999999999,0.678373,1.0008E-2,9.0799999999999995E-4]
[553,0.44757763098464282,5.3703000000000001E-2,2.8669E-2,0.53567799999999999,0.23278599999999999,1.206E-3,1.077E-3,0.21045,0.67701900000000004,1.2224E-2,1.1900000000000001E-3]
[554,0.44782689701896983,5.1806999999999999E-2,2.7286999999999999E-2,0.53577600000000003,0.219972,1.403E-3,1E-3,0.19927600000000001,0.67908400000000002,1.3334E-2,1.31E-3]
[555,0.44807616305329678,4.9910999999999997E-2,2.5905000000000001E-2,0.53587399999999996,0.20715800000000001,1.6000000000000001E-3,9.2199999999999997E-4,0.18810099999999999,0.681149,1.4442999999999999E-2,1.07E-3]
[556,0.44832542908762379,4.8101999999999999E-2,2.4011000000000001E-2,0.53345600000000004,0.19483200000000001,1.3569999999999999E-3,1.1329999999999999E-3,0.177426,0.68267999999999995,1.5876999999999999E-2,9.2599999999999996E-4]
[557,0.44857469512195075,4.6293000000000001E-2,2.2117999999999999E-2,0.53103699999999998,0.182505,1.114E-3,1.3439999999999999E-3,0.16675000000000001,0.67961700000000003,1.7311E-2,7.8200000000000003E-4]
[558,0.44882396115627776,4.4706999999999997E-2,2.0773E-2,0.53130900000000003,0.17257,1.242E-3,1.3780000000000001E-3,0.157833,0.68223800000000001,1.9130999999999999E-2,9.5299999999999996E-4]
[559,0.44907322719060472,4.3121E-2,1.9428000000000001E-2,0.53158000000000005,0.162634,1.3699999999999999E-3,1.3110000000000001E-3,0.14891699999999999,0.68485799999999997,2.0951000000000001E-2,1.124E-3]
[560,0.44861310377809527,3.9718999999999997E-2,1.6735E-2,0.52645399999999998,0.142623,1.3290000000000001E-3,1.021E-3,0.132355,0.68420000000000003,2.5472999999999999E-2,1.256E-3]
[561,0.44755738880918083,3.8503999999999997E-2,1.5699999999999999E-2,0.52576000000000001,0.13430600000000001,1.366E-3,1.0059999999999999E-3,0.12531500000000001,0.68603000000000003,2.8646999999999999E-2,1.3860000000000001E-3]
[562,0.44650167384026646,3.7289999999999997E-2,1.4666E-2,0.52506600000000003,0.12598799999999999,1.4040000000000001E-3,9.9099999999999991E-4,0.11827500000000001,0.68786099999999994,3.1821000000000002E-2,1.126E-3]
[563,0.44544595887135202,3.5910999999999998E-2,1.3715E-2,0.52267600000000003,0.11842999999999999,1.485E-3,1.0330000000000001E-3,0.11136699999999999,0.689079,3.5645999999999997E-2,9.6599999999999995E-4]
[564,0.44439024390243759,3.4532E-2,1.2763999999999999E-2,0.52028700000000005,0.110871,1.5659999999999999E-3,1.075E-3,0.104459,0.68664199999999997,3.9469999999999998E-2,8.0599999999999997E-4]
[565,0.44333452893352321,3.3432999999999997E-2,1.2274999999999999E-2,0.52071800000000001,0.105124,1.851E-3,8.03E-4,9.9287E-2,0.689751,4.3748000000000002E-2,8.7299999999999997E-4]
[566,0.44227881396460877,3.2333000000000001E-2,1.1785E-2,0.52115,9.9376000000000006E-2,2.1359999999999999E-3,5.31E-4,9.4114000000000003E-2,0.69286000000000003,4.8024999999999998E-2,9.3999999999999997E-4]
[567,0.4412230989956944,3.0259999999999999E-2,1.0609E-2,0.51452100000000001,8.7640999999999997E-2,2.31E-3,9.1500000000000001E-4,8.3016999999999994E-2,0.68996599999999997,5.8203999999999999E-2,9.4399999999999996E-4]
[568,0.44016738402677996,2.9045999999999999E-2,9.979E-3,0.51475800000000005,8.3065E-2,2.4390000000000002E-3,1.016E-3,7.8728999999999993E-2,0.69354400000000005,6.5123E-2,1.0529999999999999E-3]
[569,0.43911166905786558,2.7831999999999999E-2,9.3480000000000004E-3,0.51499499999999998,7.8489000000000003E-2,2.568E-3,1.1169999999999999E-3,7.4440999999999993E-2,0.69712099999999999,7.2040999999999994E-2,1.1620000000000001E-3]
[570,0.43805595408895115,2.6759999999999999E-2,8.8649999999999996E-3,0.51407199999999997,7.4508000000000005E-2,2.6770000000000001E-3,1.212E-3,7.0725999999999997E-2,0.69903899999999997,8.0350000000000005E-2,1.2359999999999999E-3]
[571,0.43700023912003672,2.5687000000000001E-2,8.3820000000000006E-3,0.51315,7.0527000000000006E-2,2.7859999999999998E-3,1.023E-3,6.701E-2,0.70095700000000005,8.8658000000000001E-2,1.31E-3]
[572,0.43594452415112234,2.4877E-2,7.8569999999999994E-3,0.51280000000000003,6.6755999999999996E-2,3.1849999999999999E-3,8.7600000000000004E-4,6.3823000000000005E-2,0.70360800000000001,9.9031999999999995E-2,1.4580000000000001E-3]
[573,0.4348888091822079,2.4067000000000002E-2,7.332E-3,0.51244900000000004,6.2983999999999998E-2,3.5839999999999999E-3,7.2900000000000005E-4,6.0636000000000002E-2,0.70625800000000005,0.109405,1.6069999999999999E-3]
[574,0.43383309421329352,2.2682000000000001E-2,6.5079999999999999E-3,0.50728499999999999,5.5553999999999999E-2,4.0940000000000004E-3,6.9300000000000004E-4,5.3503000000000002E-2,0.70374300000000001,0.13386600000000001,1.3569999999999999E-3]
[575,0.43277737924437909,2.2148000000000001E-2,6.4019999999999997E-3,0.50751000000000002,5.28E-2,4.8669999999999998E-3,6.4999999999999997E-4,5.1088000000000001E-2,0.70717099999999999,0.14957000000000001,1.3990000000000001E-3]
[576,0.43172166427546471,2.1613E-2,6.2950000000000002E-3,0.50773500000000005,5.0046E-2,5.64E-3,6.0700000000000001E-4,4.8673000000000001E-2,0.71059899999999998,0.16527500000000001,1.4400000000000001E-3]
[577,0.43066594930655028,2.0728E-2,6.0629999999999998E-3,0.50727999999999995,4.7197999999999997E-2,5.9519999999999998E-3,5.6700000000000001E-4,4.5933000000000002E-2,0.71237399999999995,0.18421399999999999,1.24E-3]
[578,0.42961023433763584,1.9841999999999999E-2,5.8300000000000001E-3,0.50682499999999997,4.4350000000000001E-2,6.2639999999999996E-3,5.2800000000000004E-4,4.3194000000000003E-2,0.71414999999999995,0.203153,1.0399999999999999E-3]
[579,0.42855451936872146,1.9054999999999999E-2,5.4939999999999998E-3,0.50547600000000004,4.2097999999999997E-2,6.8129999999999996E-3,7.36E-4,4.0939999999999997E-2,0.71531,0.226054,9.2100000000000005E-4]
[580,0.42749880439980703,1.8269000000000001E-2,5.1580000000000003E-3,0.50412800000000002,3.9845999999999999E-2,7.3629999999999998E-3,9.4399999999999996E-4,3.8685999999999998E-2,0.71646900000000002,0.24895600000000001,8.0099999999999995E-4]
[581,0.42644308943089265,1.6934000000000001E-2,4.6179999999999997E-3,0.49937500000000001,3.5588000000000002E-2,8.8489999999999992E-3,8.7799999999999998E-4,3.4953999999999999E-2,0.71565900000000005,0.30327700000000002,1.371E-3]
[582,0.42538737446197822,1.636E-2,4.679E-3,0.49881500000000001,3.3992000000000001E-2,9.8259999999999997E-3,7.5100000000000004E-4,3.3377999999999998E-2,0.71741100000000002,0.33723199999999998,1.511E-3]
[583,0.42378019744482864,1.5786000000000001E-2,4.7390000000000002E-3,0.498255,3.2396000000000001E-2,1.0803E-2,6.2299999999999996E-4,3.1801999999999997E-2,0.719163,0.37118699999999999,1.65E-3]
[584,0.42147270615563009,1.5445E-2,4.2700000000000004E-3,0.49747999999999998,3.0661999999999998E-2,1.1950000000000001E-2,6.0400000000000004E-4,3.0251E-2,0.72048199999999996,0.41202699999999998,1.8159999999999999E-3]
[585,0.41916521486643149,1.5103999999999999E-2,3.8E-3,0.49670599999999998,2.8929E-2,1.3096999999999999E-2,5.8399999999999999E-4,2.8701000000000001E-2,0.72180100000000003,0.45286599999999999,1.9819999999999998E-3]
[586,0.41685772357723294,1.3787000000000001E-2,3.8210000000000002E-3,0.49105500000000002,2.5711999999999999E-2,1.6213000000000002E-2,4.9399999999999997E-4,2.6116E-2,0.71845899999999996,0.54405899999999996,2.2330000000000002E-3]
[587,0.41455023228803434,1.3390000000000001E-2,3.5669999999999999E-3,0.48958200000000002,2.4209999999999999E-2,1.821E-2,5.53E-4,2.4684999999999999E-2,0.71811100000000005,0.59630300000000003,2.5279999999999999E-3]
[588,0.41224274099883573,1.2992E-2,3.3140000000000001E-3,0.48810799999999999,2.2709E-2,2.0206999999999999E-2,6.1300000000000005E-4,2.3254E-2,0.71776399999999996,0.64854800000000001,2.8240000000000001E-3]
[589,0.40993524970963718,1.2295E-2,3.4150000000000001E-3,0.48516599999999999,2.1649999999999999E-2,2.2234E-2,5.6899999999999995E-4,2.2192E-2,0.71562300000000001,0.70270999999999995,3.4190000000000002E-3]
[590,0.40762775842043858,1.1597E-2,3.5170000000000002E-3,0.48222399999999999,2.0591000000000002E-2,2.426E-2,5.2499999999999997E-4,2.1129999999999999E-2,0.71348199999999995,0.75687199999999999,4.0140000000000002E-3]
[591,0.40532026713124003,1.1214999999999999E-2,3.3110000000000001E-3,0.48083599999999999,1.9861E-2,2.6838999999999998E-2,6.5899999999999997E-4,2.0233999999999999E-2,0.713395,0.81072699999999998,5.228E-3]
[592,0.40301277584204143,1.0832E-2,3.1050000000000001E-3,0.47944799999999999,1.9130999999999999E-2,2.9418E-2,7.94E-4,1.9337E-2,0.71330700000000002,0.86458199999999996,6.4429999999999999E-3]
[593,0.40070528455284282,1.0071E-2,2.8059999999999999E-3,0.47296700000000003,1.7096E-2,3.5853000000000003E-2,8.1999999999999998E-4,1.7479999999999999E-2,0.70720899999999998,0.94622200000000001,9.9559999999999996E-3]
[594,0.39839779326364427,9.9749999999999995E-3,2.5969999999999999E-3,0.47054200000000002,1.6358999999999999E-2,3.9896000000000001E-2,6.0400000000000004E-4,1.6823999999999999E-2,0.70508800000000005,0.97138899999999995,1.2682000000000001E-2]
[595,0.39609030197444567,9.8779999999999996E-3,2.3879999999999999E-3,0.46811700000000001,1.5620999999999999E-2,4.394E-2,3.8699999999999997E-4,1.6167999999999998E-2,0.70296599999999998,0.99655499999999997,1.5407000000000001E-2]
[596,0.39378281068524712,9.5169999999999994E-3,2.2829999999999999E-3,0.46471000000000001,1.4602E-2,4.8541000000000001E-2,4.1599999999999997E-4,1.5262E-2,0.69829300000000005,0.998278,1.8898999999999999E-2]
[597,0.39147531939604852,9.1559999999999992E-3,2.1779999999999998E-3,0.46130300000000002,1.3583E-2,5.3143000000000003E-2,4.4499999999999997E-4,1.4356000000000001E-2,0.69362000000000001,1,2.2391999999999999E-2]
[598,0.38916782810684991,8.7139999999999995E-3,2.898E-3,0.45478000000000002,1.2477E-2,6.5517000000000006E-2,8.0400000000000003E-4,1.3032E-2,0.68737000000000004,0.96202299999999996,3.2349999999999997E-2]
[599,0.38686033681765136,8.2269999999999999E-3,3.1749999999999999E-3,0.450546,1.1682E-2,7.2456999999999994E-2,9.4399999999999996E-4,1.2618000000000001E-2,0.68176599999999998,0.92167100000000002,3.8558000000000002E-2]
[600,0.38455284552845276,7.7390000000000002E-3,2.6220000000000002E-3,0.44631199999999999,1.0887000000000001E-2,7.9397999999999996E-2,6.6299999999999996E-4,1.2204E-2,0.67616299999999996,0.88131899999999996,4.4764999999999999E-2]
[601,0.38224535423925421,7.3990000000000002E-3,2.4480000000000001E-3,0.443357,1.068E-2,8.8136000000000006E-2,6.8099999999999996E-4,1.1558000000000001E-2,0.67292200000000002,0.82776499999999997,5.2715999999999999E-2]
[602,0.3799378629500556,7.058E-3,2.274E-3,0.44040099999999999,1.0474000000000001E-2,9.6874000000000002E-2,6.9899999999999997E-4,1.0911000000000001E-2,0.669682,0.77421200000000001,6.0665999999999998E-2]
[603,0.377630371660857,6.8139999999999997E-3,2.2729999999999998E-3,0.43684699999999999,1.0044000000000001E-2,0.106931,6.2799999999999998E-4,1.0491E-2,0.66412899999999997,0.71188099999999999,7.0011000000000004E-2]
[604,0.37532288037165845,6.5690000000000002E-3,2.271E-3,0.43329200000000001,9.6139999999999993E-3,0.11698699999999999,5.5699999999999999E-4,1.0071E-2,0.65857600000000005,0.64954999999999996,7.9354999999999995E-2]
[605,0.37301538908245985,6.4180000000000001E-3,1.6230000000000001E-3,0.425709,8.6929999999999993E-3,0.142707,7.3999999999999999E-4,9.5980000000000006E-3,0.64890499999999995,0.52492700000000003,0.10158399999999999]
[606,0.3707078977932613,6.2370000000000004E-3,1.6459999999999999E-3,0.421852,8.3730000000000002E-3,0.15817500000000001,9.1E-4,9.103E-3,0.64304899999999998,0.46948200000000001,0.114756]
[607,0.36766351908310446,6.0559999999999998E-3,1.67E-3,0.41799500000000001,8.0529999999999994E-3,0.17364399999999999,5.6999999999999998E-4,8.6079999999999993E-3,0.63719300000000001,0.41403600000000002,0.12792799999999999]
[608,0.3642361111111081,6.1130000000000004E-3,1.9059999999999999E-3,0.41411300000000001,7.7099999999999998E-3,0.19242999999999999,5.5999999999999995E-4,8.4899999999999993E-3,0.63166999999999995,0.36766799999999999,0.14364399999999999]
[609,0.36080870313911179,6.1710000000000003E-3,2.1429999999999999E-3,0.41022999999999998,7.3670000000000003E-3,0.21121599999999999,5.5000000000000003E-4,8.3730000000000002E-3,0.62614700000000001,0.32129999999999997,0.15936]
[610,0.35738129516711542,4.5849999999999997E-3,1.7849999999999999E-3,0.400951,6.2110000000000004E-3,0.25581599999999999,1.6799999999999999E-4,7.0569999999999999E-3,0.61081700000000005,0.24535000000000001,0.19470000000000001]
[611,0.35395388719511911,4.7140000000000003E-3,1.5889999999999999E-3,0.397343,6.1669999999999997E-3,0.28347299999999997,6.0099999999999997E-4,6.6990000000000001E-3,0.60558000000000001,0.21609800000000001,0.21630199999999999]
[612,0.35052647922312274,4.8430000000000001E-3,1.392E-3,0.393735,6.123E-3,0.31113099999999999,1.034E-3,6.3420000000000004E-3,0.60034299999999996,0.18684700000000001,0.237904]
[613,0.34709907125112643,4.339E-3,1.48E-3,0.38992100000000002,5.9369999999999996E-3,0.34353,7.6900000000000004E-4,6.0780000000000001E-3,0.59451900000000002,0.16442999999999999,0.263102]
[614,0.34367166327913007,3.8349999999999999E-3,1.5679999999999999E-3,0.386106,5.7499999999999999E-3,0.37592900000000001,5.04E-4,5.8139999999999997E-3,0.58869499999999997,0.142014,0.28830099999999997]
[615,0.34024425530713376,3.6939999999999998E-3,1.1609999999999999E-3,0.378052,5.6699999999999997E-3,0.45084000000000002,3.8400000000000001E-4,5.8069999999999997E-3,0.57561499999999999,0.107822,0.346553]
[616,0.33681684733513739,3.6900000000000001E-3,1.3090000000000001E-3,0.37424299999999999,5.4400000000000004E-3,0.49474800000000002,3.8699999999999997E-4,5.5149999999999999E-3,0.56924600000000003,9.5366999999999993E-2,0.380187]
[617,0.33338943936314108,3.686E-3,1.456E-3,0.37043500000000001,5.2100000000000002E-3,0.53865700000000005,3.8900000000000002E-4,5.2230000000000002E-3,0.56287699999999996,8.2913000000000001E-2,0.41382000000000002]
[618,0.32996203139114472,3.5049999999999999E-3,1.299E-3,0.36673299999999998,4.8690000000000001E-3,0.588225,3.4600000000000001E-4,5.0130000000000001E-3,0.55624899999999999,7.3244000000000004E-2,0.45212999999999998]
[619,0.32653462341914841,3.3249999999999998E-3,1.1410000000000001E-3,0.36303000000000002,4.5279999999999999E-3,0.63779300000000005,3.0299999999999999E-4,4.8019999999999998E-3,0.54962,6.3575000000000007E-2,0.49043900000000001]
[620,0.32310721544715204,3.2720000000000002E-3,1.9780000000000002E-3,0.35465600000000003,4.0150000000000003E-3,0.74145300000000003,2.6600000000000001E-4,4.7879999999999997E-3,0.53637900000000005,4.9304000000000001E-2,0.57560199999999995]
[621,0.31967980747515568,3.2929999999999999E-3,2.199E-3,0.35115200000000002,4.1710000000000002E-3,0.79197600000000001,4.5800000000000002E-4,4.5560000000000002E-3,0.53030200000000005,4.4073000000000001E-2,0.62228700000000003]
[622,0.31625239950315936,3.313E-3,1.7570000000000001E-3,0.34764800000000001,4.3270000000000001E-3,0.842499,6.4999999999999997E-4,4.3239999999999997E-3,0.52422400000000002,3.8841000000000001E-2,0.66897099999999998]
[623,0.31291483739837178,3.3E-3,1.7260000000000001E-3,0.34417599999999998,4.4640000000000001E-3,0.88582099999999997,5.4100000000000003E-4,4.3880000000000004E-3,0.51817500000000005,3.4282E-2,0.717364]
[624,0.30974417344173222,3.2859999999999999E-3,1.6949999999999999E-3,0.34070299999999998,4.6010000000000001E-3,0.92914300000000005,4.3300000000000001E-4,4.4510000000000001E-3,0.51212500000000005,2.9721999999999998E-2,0.76575700000000002]
[625,0.3065735094850926,2.6610000000000002E-3,1.606E-3,0.33350000000000002,3.947E-3,0.983429,3.8999999999999999E-4,4.0730000000000002E-3,0.49975399999999998,2.3501999999999999E-2,0.85724800000000001]
[626,0.30340284552845304,2.8119999999999998E-3,1.206E-3,0.33018799999999998,3.7290000000000001E-3,0.99171500000000001,3.7599999999999998E-4,3.947E-3,0.49406499999999998,2.1103E-2,0.89653300000000002]
[627,0.30023218157181342,2.9629999999999999E-3,8.0500000000000005E-4,0.326876,3.5100000000000001E-3,1,3.6099999999999999E-4,3.8210000000000002E-3,0.48837700000000001,1.8703999999999998E-2,0.93581700000000001]
[628,0.29706151761517385,3.0790000000000001E-3,9.0399999999999996E-4,0.32385599999999998,3.179E-3,0.98675299999999999,4.0299999999999998E-4,3.6150000000000002E-3,0.48229899999999998,1.6910999999999999E-2,0.96132499999999999]
[629,0.29389085365853423,3.1949999999999999E-3,1.0020000000000001E-3,0.32083600000000001,2.849E-3,0.97350599999999998,4.44E-4,3.4090000000000001E-3,0.47622199999999998,1.5117E-2,0.98683399999999999]
[630,0.29072018970189467,2.3289999999999999E-3,1.4549999999999999E-3,0.313693,3.307E-3,0.90579399999999999,2.1800000000000001E-4,3.2880000000000001E-3,0.46443499999999999,1.2933E-2,1]
[631,0.28754952574525505,2.3839999999999998E-3,1.5250000000000001E-3,0.31052099999999999,3.545E-3,0.85624999999999996,1.6799999999999999E-4,3.0530000000000002E-3,0.45814899999999997,1.1388000000000001E-2,0.986788]
[632,0.28437886178861543,2.4390000000000002E-3,1.596E-3,0.30734800000000001,3.0690000000000001E-3,0.80670500000000001,1.18E-4,2.8189999999999999E-3,0.45186300000000001,9.8440000000000003E-3,0.973576]
[633,0.28120819783197587,2.5230000000000001E-3,1.614E-3,0.30410799999999999,3.2269999999999998E-3,0.747444,2.32E-4,2.869E-3,0.44639000000000001,9.2020000000000001E-3,0.94117499999999998]
[634,0.27803753387533625,2.6080000000000001E-3,1.6329999999999999E-3,0.30086800000000002,3.385E-3,0.68818299999999999,3.4699999999999998E-4,2.9190000000000002E-3,0.44091599999999997,8.5599999999999999E-3,0.90877399999999997]
[635,0.27486686991869669,2.1280000000000001E-3,9.1299999999999997E-4,0.29410199999999997,3.392E-3,0.56164899999999995,3.2299999999999999E-4,2.9260000000000002E-3,0.42962400000000001,6.6369999999999997E-3,0.81094299999999997]
[636,0.27169620596205707,1.9880000000000002E-3,9.1500000000000001E-4,0.29144199999999998,3.0620000000000001E-3,0.50314899999999996,1.6100000000000001E-4,2.8570000000000002E-3,0.42442400000000002,6.3140000000000002E-3,0.75267499999999998]
[637,0.26852554200541751,1.8469999999999999E-3,9.1799999999999998E-4,0.28878100000000001,2.7330000000000002E-3,0.44464799999999999,1.9000000000000001E-5,2.7889999999999998E-3,0.41922399999999999,5.9919999999999999E-3,0.694407]
[638,0.26535487804877789,2.1909999999999998E-3,8.0099999999999995E-4,0.28553899999999999,2.7320000000000001E-3,0.39376800000000001,1.9000000000000001E-5,2.5600000000000002E-3,0.41351599999999999,5.803E-3,0.631436]
[639,0.26218421409213832,2.5339999999999998E-3,6.8400000000000004E-4,0.28229799999999999,2.7309999999999999E-3,0.342889,3.8999999999999999E-5,2.3310000000000002E-3,0.40780699999999998,5.6150000000000002E-3,0.56846600000000003]
[640,0.25863513180586017,1.859E-3,9.2199999999999997E-4,0.27602399999999999,1.9689999999999998E-3,0.26151200000000002,4.5000000000000003E-5,2.6220000000000002E-3,0.395903,4.6829999999999997E-3,0.44927699999999998]
[641,0.25442026977087634,1.8439999999999999E-3,1.3910000000000001E-3,0.27279399999999998,2.3809999999999999E-3,0.22967499999999999,1.7799999999999999E-4,2.6459999999999999E-3,0.390129,4.3620000000000004E-3,0.396872]
[642,0.2502054077358925,1.8289999999999999E-3,1.859E-3,0.26956400000000003,2.794E-3,0.19783800000000001,3.1100000000000002E-4,2.598E-3,0.384355,4.0410000000000003E-3,0.34446700000000002]
[643,0.24599054570090867,1.753E-3,2.1489999999999999E-3,0.26654099999999997,2.8700000000000002E-3,0.173265,3.5399999999999999E-4,2.4190000000000001E-3,0.37920199999999998,3.9620000000000002E-3,0.30215900000000001]
[644,0.24177568366592483,1.6770000000000001E-3,1.57E-3,0.26351799999999997,2.9459999999999998E-3,0.14869099999999999,2.6800000000000001E-4,2.2409999999999999E-3,0.37404900000000002,3.8830000000000002E-3,0.259851]
[645,0.237560821630941,1.3569999999999999E-3,1.041E-3,0.25730900000000001,3.0200000000000001E-3,0.112054,5.1400000000000003E-4,2.666E-3,0.36308200000000002,3.0950000000000001E-3,0.19476499999999999]
[646,0.23334595959595716,1.4630000000000001E-3,8.9099999999999997E-4,0.25446000000000002,2.722E-3,9.8239000000000007E-2,3.5599999999999998E-4,2.9940000000000001E-3,0.35819800000000002,3.1280000000000001E-3,0.17038500000000001]
[647,0.22913109756097333,1.5690000000000001E-3,7.4100000000000001E-4,0.25161099999999997,2.4239999999999999E-3,8.4425E-2,1.9799999999999999E-4,2.3389999999999999E-3,0.35331499999999999,3.1619999999999999E-3,0.146006]
[648,0.22491623552598952,1.655E-3,7.9699999999999997E-4,0.24875,2.4020000000000001E-3,7.3761999999999994E-2,3.3100000000000002E-4,2.4290000000000002E-3,0.34765600000000002,3.2599999999999999E-3,0.12756200000000001]
[649,0.22070137349100569,1.4840000000000001E-3,8.5400000000000005E-4,0.245888,2.3800000000000002E-3,6.3099000000000002E-2,4.64E-4,2.5200000000000001E-3,0.341997,3.359E-3,0.10911700000000001]
[650,0.21648651145602185,1.1280000000000001E-3,7.6499999999999995E-4,0.239949,1.7179999999999999E-3,4.7829000000000003E-2,3.1000000000000001E-5,2.0960000000000002E-3,0.33195200000000002,3.568E-3,8.1778000000000003E-2]
[651,0.21227164942103802,1.3159999999999999E-3,1.147E-3,0.23661499999999999,1.8079999999999999E-3,4.2632999999999997E-2,3.1000000000000001E-5,2.2130000000000001E-3,0.32661800000000002,3.4150000000000001E-3,7.1568999999999994E-2]
[652,0.20805678738605418,1.5039999999999999E-3,1.529E-3,0.23327999999999999,1.8979999999999999E-3,3.7437999999999999E-2,6.2000000000000003E-5,2.33E-3,0.32128400000000001,3.2620000000000001E-3,6.1360999999999999E-2]
[653,0.20384192535107035,1.5280000000000001E-3,1.905E-3,0.230185,1.836E-3,3.3466000000000003E-2,3.1000000000000001E-5,2.4069999999999999E-3,0.31609300000000001,3.0720000000000001E-3,5.3920000000000003E-2]
[654,0.19962706331608654,1.5510000000000001E-3,1.1529999999999999E-3,0.22708999999999999,1.774E-3,2.9493999999999999E-2,2.63E-4,2.2529999999999998E-3,0.31090200000000001,2.8830000000000001E-3,4.6477999999999998E-2]
[655,0.19593734120934864,7.9600000000000005E-4,1.2019999999999999E-3,0.220723,2.369E-3,2.2418E-2,5.2599999999999999E-4,1.8779999999999999E-3,0.30004999999999998,2.5530000000000001E-3,3.6125999999999998E-2]
[656,0.19299288617886068,8.3699999999999996E-4,9.7499999999999996E-4,0.21800800000000001,2.4299999999999999E-3,2.0039999999999999E-2,6.5300000000000004E-4,2.042E-3,0.29555599999999999,2.274E-3,3.1877999999999997E-2]
[657,0.19004843114837275,8.7900000000000001E-4,7.4899999999999999E-4,0.21529300000000001,2.4919999999999999E-3,1.7663000000000002E-2,3.9899999999999999E-4,2.2049999999999999E-3,0.29106100000000001,1.9949999999999998E-3,2.7629999999999998E-2]
[658,0.18710397611788479,1.7799999999999999E-3,7.8899999999999999E-4,0.20905399999999999,2.7100000000000002E-3,1.3776E-2,2.5999999999999998E-4,2.0530000000000001E-3,0.28121600000000002,2.9910000000000002E-3,2.1985999999999999E-2]
[659,0.18415952108739683,2.0449999999999999E-3,9.6199999999999996E-4,0.20654600000000001,2.5769999999999999E-3,1.273E-2,2.5500000000000002E-4,2.1359999999999999E-3,0.27607900000000002,3.153E-3,1.9418999999999999E-2]
[660,0.18121506605690887,1.516E-3,1.1349999999999999E-3,0.204037,2.4450000000000001E-3,1.1684999999999999E-2,2.5000000000000001E-4,2.2190000000000001E-3,0.27094099999999999,2.8289999999999999E-3,1.6851999999999999E-2]
[661,0.17827061102642094,1.302E-3,1.307E-3,0.20073099999999999,2.0699999999999998E-3,1.0871E-2,2.1599999999999999E-4,2.1080000000000001E-3,0.26570500000000002,2.5669999999999998E-3,1.5166000000000001E-2]
[662,0.17532615599593299,1.088E-3,1.4790000000000001E-3,0.19742399999999999,1.696E-3,1.0056000000000001E-2,1.8100000000000001E-4,1.9970000000000001E-3,0.26046900000000001,2.3059999999999999E-3,1.3480000000000001E-2]
[663,0.17238170096544503,1.207E-3,1.6410000000000001E-3,0.19128700000000001,2.294E-3,7.737E-3,1.17E-4,2.1540000000000001E-3,0.251276,2.545E-3,1.0292000000000001E-2]
[664,0.16943724593495707,9.7300000000000002E-4,1.2539999999999999E-3,0.18833900000000001,2.4949999999999998E-3,6.9249999999999997E-3,2.9599999999999998E-4,2.0110000000000002E-3,0.24673300000000001,2.32E-3,9.6769999999999998E-3]
[665,0.16649279090446914,7.3999999999999999E-4,8.6700000000000004E-4,0.185391,2.696E-3,6.1120000000000002E-3,4.7600000000000002E-4,1.867E-3,0.24218899999999999,2.0939999999999999E-3,9.0609999999999996E-3]
[666,0.16354833587398118,7.8399999999999997E-4,1.1820000000000001E-3,0.17982000000000001,3.1359999999999999E-3,4.8149999999999998E-3,1.8100000000000001E-4,2.0999999999999999E-3,0.233599,2.428E-3,7.5719999999999997E-3]
[667,0.16060388084349322,7.1299999999999998E-4,9.1799999999999998E-4,0.17730399999999999,2.8249999999999998E-3,4.6119999999999998E-3,1.8100000000000001E-4,2.4559999999999998E-3,0.22950400000000001,2.526E-3,6.7980000000000002E-3]
[668,0.15765942581300527,6.4300000000000002E-4,6.5300000000000004E-4,0.174788,2.5140000000000002E-3,4.4089999999999997E-3,3.6200000000000002E-4,2.813E-3,0.225409,2.3289999999999999E-3,6.025E-3]
[669,0.15471497078251734,1.0319999999999999E-3,6.1700000000000004E-4,0.172261,2.2100000000000002E-3,3.8709999999999999E-3,1.8100000000000001E-4,2.5890000000000002E-3,0.221334,2.5730000000000002E-3,5.5970000000000004E-3]
[670,0.15177051575202938,1.4220000000000001E-3,5.8E-4,0.169735,1.9070000000000001E-3,3.3319999999999999E-3,1.21E-4,2.3640000000000002E-3,0.21725900000000001,2.8170000000000001E-3,5.169E-3]
[671,0.14882606072154142,9.68E-4,7.85E-4,0.16403599999999999,1.8860000000000001E-3,4.0039999999999997E-3,2.43E-4,2.2049999999999999E-3,0.20735300000000001,3.0200000000000001E-3,4.2700000000000004E-3]
[672,0.14588160569105346,8.52E-4,1.108E-3,0.16103300000000001,1.884E-3,4.2550000000000001E-3,1.21E-4,2.0460000000000001E-3,0.20313500000000001,2.8089999999999999E-3,3.8080000000000002E-3]
[673,0.14293715066056553,7.3700000000000002E-4,1.431E-3,0.15803,1.882E-3,3.7529999999999998E-3,5.8E-5,1.8879999999999999E-3,0.19891600000000001,2.598E-3,3.3449999999999999E-3]
[674,0.13999269563007757,9.9700000000000006E-4,1.2130000000000001E-3,0.15522,1.8979999999999999E-3,3.5000000000000001E-3,5.8E-5,1.8569999999999999E-3,0.194771,2.294E-3,3.2339999999999999E-3]
[675,0.13704824059958962,1.2570000000000001E-3,9.9400000000000009E-4,0.15240999999999999,1.915E-3,3.248E-3,1.15E-4,1.8259999999999999E-3,0.19062599999999999,1.99E-3,3.1229999999999999E-3]
[676,0.13410378556910166,3.5E-4,1.3389999999999999E-3,0.147427,2.6210000000000001E-3,2.63E-3,2.6699999999999998E-4,2.1180000000000001E-3,0.18429999999999999,2.3779999999999999E-3,2.7490000000000001E-3]
[677,0.13167145760742999,5.9599999999999996E-4,1.6559999999999999E-3,0.14532999999999999,3.0980000000000001E-3,2.4130000000000002E-3,3.4499999999999998E-4,2.3969999999999998E-3,0.180837,2.5730000000000002E-3,2.6340000000000001E-3]
[678,0.12949216027874247,8.4199999999999998E-4,1.0219999999999999E-3,0.143233,2.1440000000000001E-3,2.1949999999999999E-3,1.9000000000000001E-4,2.676E-3,0.177374,2.183E-3,2.5200000000000001E-3]
[679,0.12731286295005495,8.12E-4,8.25E-4,0.138462,1.7049999999999999E-3,1.395E-3,4.8999999999999998E-5,1.931E-3,0.17024,2.6940000000000002E-3,2.2899999999999999E-3]
[680,0.12513356562136746,9.1600000000000004E-4,7.2000000000000005E-4,0.13609199999999999,1.8220000000000001E-3,1.877E-3,2.5000000000000001E-5,2.0929999999999998E-3,0.16669,2.7629999999999998E-3,2.4610000000000001E-3]
[681,0.12295426829267994,1.0189999999999999E-3,6.1499999999999999E-4,0.13372200000000001,1.9380000000000001E-3,2.3579999999999999E-3,0,2.2539999999999999E-3,0.16314000000000001,2.8319999999999999E-3,2.6310000000000001E-3]
[682,0.12077497096399244,1.446E-3,1.1950000000000001E-3,0.13156100000000001,2.1159999999999998E-3,2.542E-3,0,1.9910000000000001E-3,0.15996099999999999,2.9350000000000001E-3,2.415E-3]
[683,0.11859567363530492,1.872E-3,1.7750000000000001E-3,0.12940099999999999,2.2929999999999999E-3,2.7260000000000001E-3,0,1.7279999999999999E-3,0.156782,3.0379999999999999E-3,2.2000000000000001E-3]
[684,0.11641637630661741,1.549E-3,2.0479999999999999E-3,0.124682,2.4859999999999999E-3,2.477E-3,6.3999999999999997E-5,1.9419999999999999E-3,0.150701,2.5639999999999999E-3,1.9870000000000001E-3]
[685,0.1142370789779299,1.1529999999999999E-3,1.583E-3,0.122643,2.264E-3,2.3210000000000001E-3,6.3999999999999997E-5,1.9580000000000001E-3,0.147483,2.4239999999999999E-3,1.83E-3]
[686,0.11205778164924239,7.5699999999999997E-4,1.1169999999999999E-3,0.120605,2.0409999999999998E-3,2.1649999999999998E-3,1.2799999999999999E-4,1.926E-3,0.14426600000000001,2.284E-3,1.6739999999999999E-3]
[687,0.10987848432055487,2.7799999999999998E-4,1.338E-3,0.11629399999999999,2.4789999999999999E-3,2.078E-3,2.4000000000000001E-5,2.467E-3,0.13907800000000001,2.333E-3,2.2279999999999999E-3]
[688,0.10769918699186737,6.9899999999999997E-4,1.127E-3,0.11461,2.5379999999999999E-3,1.957E-3,2.4000000000000001E-5,2.6909999999999998E-3,0.13685600000000001,2.539E-3,2.2430000000000002E-3]
[689,0.10551988966317986,1.1199999999999999E-3,9.1699999999999995E-4,0.112925,2.4199999999999998E-3,1.836E-3,4.8000000000000001E-5,2.9139999999999999E-3,0.134633,2.7439999999999999E-3,2.258E-3]
[690,0.10334059233449235,1.7060000000000001E-3,8.8099999999999995E-4,0.10996,2.147E-3,2.2009999999999998E-3,0,2.1949999999999999E-3,0.128245,2.8050000000000002E-3,2.457E-3]
[691,0.10116129500580484,1.317E-3,1.1609999999999999E-3,0.10775999999999999,1.717E-3,2.3570000000000002E-3,0,1.9980000000000002E-3,0.12590399999999999,2.9849999999999998E-3,1.9090000000000001E-3]
[692,9.8981997677117323E-2,9.2699999999999998E-4,1.4400000000000001E-3,0.10556,1.2869999999999999E-3,2.513E-3,0,1.8E-3,0.12356300000000001,3.1649999999999998E-3,1.361E-3]
[693,9.6802700348429818E-2,9.9599999999999992E-4,1.6620000000000001E-3,0.10366599999999999,1.374E-3,2.1879999999999998E-3,1.06E-4,1.9530000000000001E-3,0.12053,3.3019999999999998E-3,1.4530000000000001E-3]
[694,9.4623403019742314E-2,1.065E-3,1.219E-3,0.101772,1.462E-3,1.8630000000000001E-3,1.06E-4,2.1069999999999999E-3,0.117497,3.4390000000000002E-3,1.5449999999999999E-3]
[695,9.2444105691054795E-2,6.1200000000000002E-4,1.175E-3,9.8186999999999997E-2,2.6069999999999999E-3,1.7769999999999999E-3,2.12E-4,1.691E-3,0.11371199999999999,2.372E-3,1.5169999999999999E-3]
[696,9.0264808362367291E-2,4.3800000000000002E-4,1.07E-3,9.6838999999999995E-2,2.892E-3,1.539E-3,1.06E-4,1.8339999999999999E-3,0.11167100000000001,2.2950000000000002E-3,1.565E-3]
[697,8.8085511033679773E-2,2.63E-4,9.6500000000000004E-4,9.5491000000000006E-2,3.1779999999999998E-3,1.3010000000000001E-3,0,1.9759999999999999E-3,0.10963000000000001,2.2179999999999999E-3,1.6119999999999999E-3]
[698,8.5906213704992268E-2,1.005E-3,5.5099999999999995E-4,9.2885999999999996E-2,2.0950000000000001E-3,1.4120000000000001E-3,0,2.4329999999999998E-3,0.106589,2.3549999999999999E-3,2.32E-3]
[699,8.372691637630475E-2,1.219E-3,5.5400000000000002E-4,9.1586000000000001E-2,2.0890000000000001E-3,1.768E-3,0,2.4650000000000002E-3,0.104286,2.6580000000000002E-3,2.7399999999999998E-3]
[700,8.1547619047617245E-2,1.4339999999999999E-3,5.5699999999999999E-4,9.0286000000000005E-2,2.0820000000000001E-3,2.1250000000000002E-3,0,2.4979999999999998E-3,0.101983,2.9610000000000001E-3,1.9E-3]
[701,8.0037746806038271E-2,6.0499999999999996E-4,1.622E-3,8.5991999999999999E-2,2.032E-3,2.3770000000000002E-3,0,1.7290000000000001E-3,9.7939999999999999E-2,3.1059999999999998E-3,1.5529999999999999E-3]
[702,7.861336946702685E-2,8.4199999999999998E-4,1.8190000000000001E-3,8.4926000000000001E-2,1.949E-3,2.1640000000000001E-3,0,1.756E-3,9.5782999999999993E-2,3.2109999999999999E-3,1.5950000000000001E-3]
[703,7.718899212801543E-2,1.08E-3,2.0170000000000001E-3,8.3860000000000004E-2,1.866E-3,1.951E-3,0,1.7830000000000001E-3,9.3627000000000002E-2,3.3159999999999999E-3,1.637E-3]
[704,7.5764614789004009E-2,8.8999999999999995E-4,2.196E-3,8.2361000000000004E-2,2.2179999999999999E-3,2.0950000000000001E-3,0,1.8129999999999999E-3,9.2087000000000002E-2,3.0899999999999999E-3,2.042E-3]
[705,7.4340237449992602E-2,6.9999999999999999E-4,1.838E-3,8.0861000000000002E-2,2.5699999999999998E-3,2.2390000000000001E-3,0,1.843E-3,9.0548000000000003E-2,2.8639999999999998E-3,2.447E-3]
[706,7.2915860110981182E-2,4.1800000000000002E-4,1.018E-3,7.8375E-2,2.9610000000000001E-3,1.572E-3,0,2.3210000000000001E-3,8.7186E-2,2.209E-3,1.7060000000000001E-3]
[707,7.1491482771969761E-2,6.2E-4,9.5100000000000002E-4,7.7030000000000001E-2,3.1570000000000001E-3,1.6000000000000001E-3,0,2.3379999999999998E-3,8.5948999999999998E-2,2.0100000000000001E-3,1.8929999999999999E-3]
[708,7.006710543295834E-2,8.2100000000000001E-4,8.8500000000000004E-4,7.5686000000000003E-2,2.7659999999999998E-3,1.6280000000000001E-3,0,2.3549999999999999E-3,8.4712999999999997E-2,1.8109999999999999E-3,2.0799999999999998E-3]
[709,6.864272809394692E-2,7.2999999999999996E-4,6.9200000000000002E-4,7.4133000000000004E-2,3.7599999999999999E-3,1.65E-3,2.5999999999999998E-5,2.4719999999999998E-3,8.0860000000000001E-2,2.8770000000000002E-3,1.866E-3]
[710,6.7218350754935499E-2,1.2130000000000001E-3,1.0280000000000001E-3,7.2804999999999995E-2,2.9640000000000001E-3,1.8220000000000001E-3,2.5999999999999998E-5,2.6540000000000001E-3,7.9588999999999993E-2,2.954E-3,1.818E-3]
[711,6.5793973415924079E-2,1.6949999999999999E-3,1.3649999999999999E-3,7.1476999999999999E-2,2.1670000000000001E-3,1.9940000000000001E-3,5.1E-5,2.836E-3,7.8317999999999999E-2,2.8E-3,1.7700000000000001E-3]
[712,6.4369596076912658E-2,3.3500000000000001E-4,1.4270000000000001E-3,6.9366999999999998E-2,1.73E-3,1.913E-3,0,1.7570000000000001E-3,7.4732999999999994E-2,2.967E-3,2.0660000000000001E-3]
[713,6.2945218737901237E-2,7.4700000000000005E-4,1.7719999999999999E-3,6.7875000000000005E-2,2.2469999999999999E-3,1.9919999999999998E-3,0,1.668E-3,7.3526999999999995E-2,2.8830000000000001E-3,2.2910000000000001E-3]
[714,6.152084139888981E-2,1.16E-3,2.1180000000000001E-3,6.6382999999999998E-2,2.7650000000000001E-3,2.0720000000000001E-3,0,1.5790000000000001E-3,7.2321999999999997E-2,2.7989999999999998E-3,1.8420000000000001E-3]
[715,6.0096464059878389E-2,2.9999999999999997E-4,1.098E-3,6.4184000000000005E-2,2.418E-3,2.1570000000000001E-3,0,1.5590000000000001E-3,6.9282999999999997E-2,2.4659999999999999E-3,1.8730000000000001E-3]
[716,5.8672086720866976E-2,5.8600000000000004E-4,1.284E-3,6.3084000000000001E-2,2.3800000000000002E-3,1.8619999999999999E-3,0,2.0309999999999998E-3,6.8655999999999995E-2,2.2339999999999999E-3,2.104E-3]
[717,5.7247709381855555E-2,8.7100000000000003E-4,1.4710000000000001E-3,6.1984999999999998E-2,2.343E-3,1.567E-3,0,2.5019999999999999E-3,6.8028000000000005E-2,2.0019999999999999E-3,2.3340000000000001E-3]
[718,5.5823332042844134E-2,9.9200000000000004E-4,6.8499999999999995E-4,6.1194999999999999E-2,2.6059999999999998E-3,1.5460000000000001E-3,0,2.8379999999999998E-3,6.6610000000000003E-2,2.9359999999999998E-3,2.075E-3]
[719,5.4398954703832714E-2,1.031E-3,7.7200000000000001E-4,5.9848999999999999E-2,1.99E-3,1.341E-3,0,2.601E-3,6.4707000000000001E-2,3.3E-3,1.9599999999999999E-3]
[720,5.2974577364821293E-2,9.5200000000000005E-4,8.5899999999999995E-4,5.8504E-2,1.374E-3,1.1360000000000001E-3,0,2.3630000000000001E-3,6.2803999999999999E-2,3.6649999999999999E-3,1.8439999999999999E-3]
[721,5.1550200025809872E-2,9.5699999999999995E-4,1.0549999999999999E-3,5.7918999999999998E-2,1.459E-3,2.036E-3,2.4699999999999999E-4,2.3990000000000001E-3,6.2111E-2,3.8409999999999998E-3,1.789E-3]
[722,5.0125822686798452E-2,9.6199999999999996E-4,1.2520000000000001E-3,5.7334000000000003E-2,1.5430000000000001E-3,2.9350000000000001E-3,2.4699999999999999E-4,2.4350000000000001E-3,6.1418E-2,3.4880000000000002E-3,1.7329999999999999E-3]
[723,4.8701445347787031E-2,1.2290000000000001E-3,1.75E-3,5.5279000000000002E-2,2.4069999999999999E-3,2.3930000000000002E-3,4.9299999999999995E-4,2.1919999999999999E-3,5.8175999999999999E-2,3.2810000000000001E-3,2.1719999999999999E-3]
[724,4.7277068008775611E-2,7.9500000000000003E-4,1.789E-3,5.3932000000000001E-2,2.5660000000000001E-3,2.1949999999999999E-3,6.6100000000000002E-4,2.3059999999999999E-3,5.7165000000000001E-2,3.2750000000000001E-3,2.2030000000000001E-3]
[725,4.585269066976419E-2,3.6099999999999999E-4,1.7099999999999999E-3,5.2586000000000001E-2,2.7260000000000001E-3,1.9970000000000001E-3,8.3000000000000001E-4,2.4199999999999998E-3,5.6154000000000003E-2,3.2690000000000002E-3,2.235E-3]
[726,4.4428313330752769E-2,4.7100000000000001E-4,9.5600000000000004E-4,5.1506999999999997E-2,3.5929999999999998E-3,1.902E-3,9.0000000000000006E-5,2.2030000000000001E-3,5.5051999999999997E-2,2.5140000000000002E-3,1.7060000000000001E-3]
[727,4.3003935991741349E-2,4.7100000000000001E-4,1.0430000000000001E-3,5.1246E-2,3.6589999999999999E-3,1.9789999999999999E-3,6.8099999999999996E-4,2.5279999999999999E-3,5.4514E-2,2.8779999999999999E-3,2.1310000000000001E-3]
[728,4.1579558652729928E-2,9.4200000000000002E-4,1.129E-3,5.0985000000000003E-2,3.725E-3,2.0569999999999998E-3,1.273E-3,2.8519999999999999E-3,5.3976000000000003E-2,3.2420000000000001E-3,2.5560000000000001E-3]
[729,4.039497456378139E-2,1.294E-3,7.94E-4,4.9526000000000001E-2,2.8830000000000001E-3,1.9880000000000002E-3,1.45E-4,3.2650000000000001E-3,5.1943999999999997E-2,3.9630000000000004E-3,2.454E-3]
[730,3.9660295725764919E-2,1.328E-3,1.5269999999999999E-3,4.8848000000000003E-2,2.5500000000000002E-3,2.3860000000000001E-3,7.2999999999999999E-5,3.5660000000000002E-3,5.0792999999999998E-2,4.1269999999999996E-3,2.4399999999999999E-3]
[731,3.8925616887748447E-2,1.3619999999999999E-3,2.2590000000000002E-3,4.8170999999999999E-2,2.2179999999999999E-3,2.784E-3,0,2.9629999999999999E-3,4.9643E-2,3.8E-3,2.4260000000000002E-3]
[732,3.8190938049731976E-2,7.3999999999999999E-4,2.2880000000000001E-3,4.5429999999999998E-2,2.4090000000000001E-3,3.065E-3,0,2.454E-3,4.8510999999999999E-2,3.4949999999999998E-3,1.7260000000000001E-3]
[733,3.7456259211715505E-2,7.1299999999999998E-4,2.1180000000000001E-3,4.4971999999999998E-2,2.7490000000000001E-3,2.7929999999999999E-3,0,2.4629999999999999E-3,4.7827000000000001E-2,3.7369999999999999E-3,1.8940000000000001E-3]
[734,3.6721580373699034E-2,6.8599999999999998E-4,1.9480000000000001E-3,4.4514999999999999E-2,3.088E-3,2.5219999999999999E-3,0,2.4719999999999998E-3,4.7142999999999997E-2,3.9779999999999998E-3,2.0609999999999999E-3]
[735,3.5986901535682563E-2,4.9600000000000002E-4,1.802E-3,4.4215999999999998E-2,3.656E-3,2.5590000000000001E-3,3.8200000000000002E-4,2.4030000000000002E-3,4.6136000000000003E-2,3.0509999999999999E-3,2.1440000000000001E-3]
[736,3.5252222697666084E-2,4.9600000000000002E-4,1.436E-3,4.3129000000000001E-2,3.2789999999999998E-3,2.2390000000000001E-3,3.8200000000000002E-4,2.8289999999999999E-3,4.5693999999999999E-2,3.0170000000000002E-3,2.264E-3]
[737,3.4517543859649613E-2,9.9200000000000004E-4,1.0690000000000001E-3,4.2042000000000003E-2,2.9020000000000001E-3,1.9189999999999999E-3,7.6499999999999995E-4,3.2550000000000001E-3,4.5251E-2,2.9840000000000001E-3,2.3839999999999998E-3]
[738,3.3782865021633142E-2,8.9999999999999998E-4,1.12E-4,4.2297000000000001E-2,2.6819999999999999E-3,1.8190000000000001E-3,0,2.7430000000000002E-3,4.4159999999999998E-2,3.7100000000000002E-3,2.431E-3]
[739,3.3048186183616671E-2,7.7999999999999999E-4,7.3499999999999998E-4,4.1485000000000001E-2,2.6570000000000001E-3,2.3080000000000002E-3,0,2.7829999999999999E-3,4.3147999999999999E-2,4.2969999999999996E-3,2.392E-3]
[740,3.2313507345600199E-2,6.6E-4,1.3569999999999999E-3,4.0672E-2,2.6329999999999999E-3,2.7980000000000001E-3,0,2.823E-3,4.2136E-2,4.8840000000000003E-3,2.3540000000000002E-3]
[741,3.1578828507583728E-2,1.5449999999999999E-3,1.1280000000000001E-3,4.0814999999999997E-2,2.748E-3,3.5360000000000001E-3,1.95E-4,2.6340000000000001E-3,4.2228000000000002E-2,4.6930000000000001E-3,2.9810000000000001E-3]
[742,3.0844149669567257E-2,2.359E-3,1.7329999999999999E-3,3.9809999999999998E-2,2.9789999999999999E-3,3.702E-3,1.95E-4,2.996E-3,4.1555000000000002E-2,4.117E-3,3.0140000000000002E-3]
[743,3.0109470831550786E-2,7.3099999999999999E-4,2.3389999999999999E-3,3.8806E-2,3.2100000000000002E-3,3.3700000000000002E-3,3.8999999999999999E-4,3.3579999999999999E-3,4.0882000000000002E-2,3.5409999999999999E-3,3.0469999999999998E-3]
[744,2.9374791993534315E-2,6.7199999999999996E-4,2.8860000000000001E-3,3.7168E-2,4.483E-3,3.2910000000000001E-3,0,3.7629999999999999E-3,4.0150999999999999E-2,4.2230000000000002E-3,2.8869999999999998E-3]
[745,2.864011315551784E-2,3.5300000000000002E-4,2.5049999999999998E-3,3.7199000000000003E-2,4.8139999999999997E-3,2.6080000000000001E-3,7.2000000000000002E-5,3.96E-3,3.9556000000000001E-2,3.859E-3,3.0500000000000002E-3]
[746,2.7905434317501369E-2,3.3000000000000003E-5,2.124E-3,3.7229999999999999E-2,4.1529999999999996E-3,1.9239999999999999E-3,7.2000000000000002E-5,4.1570000000000001E-3,3.8961999999999997E-2,3.4949999999999998E-3,3.2130000000000001E-3]
[747,2.7170755479484898E-2,1.6080000000000001E-3,1.036E-3,3.6694999999999998E-2,5.0229999999999997E-3,2.2390000000000001E-3,1.45E-4,4.4790000000000003E-3,3.8976999999999998E-2,4.5269999999999998E-3,3.6840000000000002E-3]
[748,2.6436076641468426E-2,1.621E-3,1.3159999999999999E-3,3.6762999999999997E-2,5.483E-3,2.8800000000000002E-3,7.2000000000000002E-5,4.2560000000000002E-3,3.8370000000000001E-2,4.5760000000000002E-3,3.6930000000000001E-3]
[749,2.5701397803451955E-2,1.635E-3,1.5950000000000001E-3,3.6831000000000003E-2,4.5630000000000002E-3,3.5209999999999998E-3,0,4.0330000000000001E-3,3.7762999999999998E-2,4.6259999999999999E-3,3.6749999999999999E-3]
[750,2.4966718965435484E-2,1.923E-3,2.977E-3,3.4945999999999998E-2,3.813E-3,4.4720000000000003E-3,0,4.1580000000000002E-3,3.5672000000000002E-2,5.1609999999999998E-3,3.362E-3]
[751,2.4232040127419013E-2,1.655E-3,3.5799999999999998E-3,3.4382999999999997E-2,3.96E-3,4.4790000000000003E-3,3.1999999999999999E-5,3.8210000000000002E-3,3.5131000000000003E-2,5.4099999999999999E-3,3.16E-3]
[752,2.3497361289402538E-2,1.387E-3,2.3739999999999998E-3,3.3820000000000003E-2,4.1070000000000004E-3,4.4850000000000003E-3,3.1999999999999999E-5,3.4840000000000001E-3,3.4590000000000003E-2,4.9119999999999997E-3,2.9589999999999998E-3]
[753,2.2762682451386067E-2,6.6699999999999995E-4,2.2200000000000002E-3,3.2534E-2,5.3359999999999996E-3,3.5599999999999998E-3,6.4999999999999994E-5,3.6229999999999999E-3,3.3744000000000003E-2,4.6290000000000003E-3,3.0219999999999999E-3]
[754,2.2028003613369596E-2,6.3299999999999999E-4,1.9449999999999999E-3,3.2350999999999998E-2,5.3920000000000001E-3,3.1120000000000002E-3,3.1999999999999999E-5,3.8999999999999998E-3,3.3894000000000001E-2,4.3600000000000002E-3,3.0330000000000001E-3]
[755,2.1293324775353124E-2,5.9900000000000003E-4,1.67E-3,3.2168000000000002E-2,5.4469999999999996E-3,2.6640000000000001E-3,2.05E-4,4.1770000000000002E-3,3.4043999999999998E-2,4.0899999999999999E-3,3.045E-3]
[756,2.0558645937336653E-2,7.5699999999999997E-4,9.1299999999999997E-4,3.2119000000000002E-2,4.6030000000000003E-3,2.5890000000000002E-3,4.0900000000000002E-4,4.8549999999999999E-3,3.4890999999999998E-2,4.7980000000000002E-3,2.7680000000000001E-3]
[757,1.9823967099320182E-2,1.503E-3,1.274E-3,3.2291E-2,4.797E-3,2.947E-3,2.7099999999999997E-4,4.8999999999999998E-3,3.4209000000000003E-2,4.9059999999999998E-3,3.166E-3]
[758,1.9089288261303707E-2,2.248E-3,1.634E-3,3.2462999999999999E-2,4.9899999999999996E-3,3.3040000000000001E-3,1.3300000000000001E-4,4.9449999999999997E-3,3.3526E-2,5.0130000000000001E-3,3.5639999999999999E-3]
[759,1.8354609423287236E-2,1.495E-3,1.9610000000000001E-3,3.1151999999999999E-2,4.1130000000000003E-3,3.7460000000000002E-3,0,4.7580000000000001E-3,3.3444000000000002E-2,5.9540000000000001E-3,3.5130000000000001E-3]
[760,1.7619930585270765E-2,0,0,0,0,0,0,0,0,0,0]

{"sheet":"EXP_Tool","index":4,"n_rows":452,"n_cols":5,"rows_kept":452,"cut":false,"hidden":false,"merged":[]}
["Spectrum mapping ",null,null,"EXP"]
[null,null,null,350,0]
["count",{"$f":"COUNT(B7:B452)","v":95},null,351,0]
[null,null,null,352,0]
["RAW",null,null,353,0]
["wd","sp",null,354,0]
[360,6.0610000000000004E-4,null,355,0]
[365,1.0859999999999999E-3,null,356,0]
[370,1.946E-3,null,357,0]
[375,3.4859999999999999E-3,null,358,0]
[380,6.4499999999999996E-4,null,359,0]
[385,1.055E-2,null,360,0]
[390,2.0049999999999998E-2,null,361,7.0208E-4]
[395,3.6209999999999999E-2,null,362,7.9805999999999996E-4]
[400,6.7849999999999994E-2,null,363,8.9404000000000003E-4]
[405,0.11020000000000001,null,364,9.9001999999999988E-4]
[410,0.2074,null,365,1.0859999999999999E-3]
[415,0.37130000000000002,null,366,1.258E-3]
[420,0.64559999999999995,null,367,1.4300000000000001E-3]
[425,1.03905,null,368,1.6019999999999999E-3]
[430,1.3855999999999999,null,369,1.774E-3]
[435,1.62296,null,370,1.946E-3]
[440,1.7470600000000001,null,371,2.2539999999999999E-3]
[445,1.7826,null,372,2.562E-3]
[450,1.7721100000000001,null,373,2.8700000000000002E-3]
[455,1.7441,null,374,3.1779999999999998E-3]
[460,1.6692,null,375,3.4859999999999999E-3]
[465,1.5281,null,376,2.9177999999999999E-3]
[470,1.2876399999999999,null,377,2.3495999999999999E-3]
[475,1.0419,null,378,1.7814E-3]
[480,0.81294999999999995,null,379,1.2132E-3]
[485,0.61619999999999997,null,380,6.4499999999999996E-4]
[490,0.46517999999999998,null,381,2.6259999999999999E-3]
[495,0.3533,null,382,4.607E-3]
[500,0.27200000000000002,null,383,6.5880000000000001E-3]
[505,0.21229999999999999,null,384,8.5690000000000002E-3]
[510,0.15820000000000001,null,385,1.055E-2]
[515,0.11169999999999999,null,386,1.2449999999999999E-2]
[520,7.825E-2,null,387,1.435E-2]
[525,5.7250000000000002E-2,null,388,1.6250000000000001E-2]
[530,4.2160000000000003E-2,null,389,1.8149999999999999E-2]
[535,2.9839999999999998E-2,null,390,2.0049999999999998E-2]
[540,2.0299999999999999E-2,null,391,2.3281999999999997E-2]
[545,1.34E-2,null,392,2.6513999999999999E-2]
[550,8.7500000000000008E-3,null,393,2.9745999999999998E-2]
[555,5.7499999999999999E-3,null,394,3.2978E-2]
[560,3.8999999999999998E-3,null,395,3.6209999999999999E-2]
[565,2.7499999999999998E-3,null,396,4.2537999999999999E-2]
[570,2.0999999999999999E-3,null,397,4.8866E-2]
[575,1.8E-3,null,398,5.5193999999999993E-2]
[580,1.65E-3,null,399,6.1521999999999993E-2]
[585,1.4E-3,null,400,6.7849999999999994E-2]
[590,1.1000000000000001E-3,null,401,7.6319999999999999E-2]
[595,1E-3,null,402,8.4790000000000004E-2]
[600,8.0000000000000004E-4,null,403,9.3259999999999996E-2]
[605,5.9999999999999995E-4,null,404,0.10173]
[610,3.4000000000000002E-4,null,405,0.11020000000000001]
[615,2.4000000000000001E-4,null,406,0.12964000000000001]
[620,1.9000000000000001E-4,null,407,0.14907999999999999]
[625,1E-4,null,408,0.16852]
[630,5.0000000000000001E-4,null,409,0.18796000000000002]
[635,2.9999999999999997E-4,null,410,0.2074]
[640,2.0000000000000001E-4,null,411,0.24018]
[645,1E-4,null,412,0.27295999999999998]
[650,0,null,413,0.30574000000000001]
[655,0,null,414,0.33852000000000004]
[660,0,null,415,0.37130000000000002]
[665,0,null,416,0.42615999999999998]
[670,0,null,417,0.48102]
[675,0,null,418,0.53588000000000002]
[680,0,null,419,0.59073999999999993]
[685,0,null,420,0.64559999999999995]
[690,0,null,421,0.72428999999999999]
[695,0,null,422,0.80298000000000003]
[700,0,null,423,0.88166999999999995]
[705,0,null,424,0.96035999999999999]
[710,0,null,425,1.03905]
[715,0,null,426,1.10836]
[720,0,null,427,1.17767]
[725,0,null,428,1.24698]
[730,0,null,429,1.31629]
[735,0,null,430,1.3855999999999999]
[740,0,null,431,1.4330719999999999]
[745,0,null,432,1.4805439999999999]
[750,0,null,433,1.528016]
[755,0,null,434,1.575488]
[760,0,null,435,1.62296]
[765,0,null,436,1.64778]
[770,0,null,437,1.6726000000000001]
[775,0,null,438,1.6974199999999999]
[780,0,null,439,1.72224]
[785,0,null,440,1.7470600000000001]
[790,0,null,441,1.7541679999999999]
[795,0,null,442,1.7612760000000001]
[800,0,null,443,1.768384]
[805,0,null,444,1.7754920000000001]
[810,0,null,445,1.7826]
[815,0,null,446,1.780502]
[820,0,null,447,1.7784040000000001]
[825,0,null,448,1.7763059999999999]
[830,0,null,449,1.774208]
[null,null,null,450,1.7721100000000001]
[null,null,null,451,1.766508]
[null,null,null,452,1.7609060000000001]
[null,null,null,453,1.755304]
[null,null,null,454,1.7497020000000001]
[null,null,null,455,1.7441]
[null,null,null,456,1.72912]
[null,null,null,457,1.71414]
[null,null,null,458,1.69916]
[null,null,null,459,1.68418]
[null,null,null,460,1.6692]
[null,null,null,461,1.6409800000000001]
[null,null,null,462,1.61276]
[null,null,null,463,1.5845400000000001]
[null,null,null,464,1.5563199999999999]
[null,null,null,465,1.5281]
[null,null,null,466,1.480008]
[null,null,null,467,1.431916]
[null,null,null,468,1.3838239999999999]
[null,null,null,469,1.3357319999999999]
[null,null,null,470,1.2876399999999999]
[null,null,null,471,1.2384919999999999]
[null,null,null,472,1.189344]
[null,null,null,473,1.140196]
[null,null,null,474,1.091048]
[null,null,null,475,1.0419]
[null,null,null,476,0.99611000000000005]
[null,null,null,477,0.95032000000000005]
[null,null,null,478,0.90452999999999995]
[null,null,null,479,0.85873999999999995]
[null,null,null,480,0.81294999999999995]
[null,null,null,481,0.77359999999999995]
[null,null,null,482,0.73424999999999996]
[null,null,null,483,0.69489999999999996]
[null,null,null,484,0.65554999999999997]
[null,null,null,485,0.61619999999999997]
[null,null,null,486,0.58599599999999996]
[null,null,null,487,0.55579199999999995]
[null,null,null,488,0.52558799999999994]
[null,null,null,489,0.49538399999999999]
[null,null,null,490,0.46517999999999998]
[null,null,null,491,0.44280399999999998]
[null,null,null,492,0.42042799999999997]
[null,null,null,493,0.39805200000000002]
[null,null,null,494,0.37567600000000001]
[null,null,null,495,0.3533]
[null,null,null,496,0.33704000000000001]
[null,null,null,497,0.32078000000000001]
[null,null,null,498,0.30452000000000001]
[null,null,null,499,0.28826000000000002]
[null,null,null,500,0.27200000000000002]
[null,null,null,501,0.26006000000000001]
[null,null,null,502,0.24812000000000001]
[null,null,null,503,0.23618]
[null,null,null,504,0.22423999999999999]
[null,null,null,505,0.21229999999999999]
[null,null,null,506,0.20147999999999999]
[null,null,null,507,0.19066]
[null,null,null,508,0.17984]
[null,null,null,509,0.16902]
[null,null,null,510,0.15820000000000001]
[null,null,null,511,0.1489]
[null,null,null,512,0.1396]
[null,null,null,513,0.1303]
[null,null,null,514,0.121]
[null,null,null,515,0.11169999999999999]
[null,null,null,516,0.10500999999999999]
[null,null,null,517,9.8319999999999991E-2]
[null,null,null,518,9.1630000000000003E-2]
[null,null,null,519,8.4940000000000002E-2]
[null,null,null,520,7.825E-2]
[null,null,null,521,7.4050000000000005E-2]
[null,null,null,522,6.9849999999999995E-2]
[null,null,null,523,6.565E-2]
[null,null,null,524,6.1450000000000005E-2]
[null,null,null,525,5.7250000000000002E-2]
[null,null,null,526,5.4232000000000002E-2]
[null,null,null,527,5.1214000000000003E-2]
[null,null,null,528,4.8196000000000003E-2]
[null,null,null,529,4.5178000000000003E-2]
[null,null,null,530,4.2160000000000003E-2]
[null,null,null,531,3.9696000000000002E-2]
[null,null,null,532,3.7232000000000001E-2]
[null,null,null,533,3.4768E-2]
[null,null,null,534,3.2303999999999999E-2]
[null,null,null,535,2.9839999999999998E-2]
[null,null,null,536,2.7931999999999998E-2]
[null,null,null,537,2.6023999999999999E-2]
[null,null,null,538,2.4115999999999999E-2]
[null,null,null,539,2.2207999999999999E-2]
[null,null,null,540,2.0299999999999999E-2]
[null,null,null,541,1.8919999999999999E-2]
[null,null,null,542,1.754E-2]
[null,null,null,543,1.6160000000000001E-2]
[null,null,null,544,1.478E-2]
[null,null,null,545,1.34E-2]
[null,null,null,546,1.247E-2]
[null,null,null,547,1.154E-2]
[null,null,null,548,1.0610000000000001E-2]
[null,null,null,549,9.6800000000000011E-3]
[null,null,null,550,8.7500000000000008E-3]
[null,null,null,551,8.150000000000001E-3]
[null,null,null,552,7.5500000000000003E-3]
[null,null,null,553,6.9500000000000004E-3]
[null,null,null,554,6.3499999999999997E-3]
[null,null,null,555,5.7499999999999999E-3]
[null,null,null,556,5.3800000000000002E-3]
[null,null,null,557,5.0099999999999997E-3]
[null,null,null,558,4.64E-3]
[null,null,null,559,4.2699999999999995E-3]
[null,null,null,560,3.8999999999999998E-3]
[null,null,null,561,3.6699999999999997E-3]
[null,null,null,562,3.4399999999999999E-3]
[null,null,null,563,3.2099999999999997E-3]
[null,null,null,564,2.98E-3]
[null,null,null,565,2.7499999999999998E-3]
[null,null,null,566,2.6199999999999999E-3]
[null,null,null,567,2.49E-3]
[null,null,null,568,2.3599999999999997E-3]
[null,null,null,569,2.2299999999999998E-3]
[null,null,null,570,2.0999999999999999E-3]
[null,null,null,571,2.0399999999999997E-3]
[null,null,null,572,1.98E-3]
[null,null,null,573,1.9199999999999998E-3]
[null,null,null,574,1.8599999999999999E-3]
[null,null,null,575,1.8E-3]
[null,null,null,576,1.7699999999999999E-3]
[null,null,null,577,1.74E-3]
[null,null,null,578,1.7099999999999999E-3]
[null,null,null,579,1.6800000000000001E-3]
[null,null,null,580,1.65E-3]
[null,null,null,581,1.6000000000000001E-3]
[null,null,null,582,1.5499999999999999E-3]
[null,null,null,583,1.5E-3]
[null,null,null,584,1.4499999999999999E-3]
[null,null,null,585,1.4E-3]
[null,null,null,586,1.34E-3]
[null,null,null,587,1.2800000000000001E-3]
[null,null,null,588,1.2199999999999999E-3]
[null,null,null,589,1.16E-3]
[null,null,null,590,1.1000000000000001E-3]
[null,null,null,591,1.08E-3]
[null,null,null,592,1.06E-3]
[null,null,null,593,1.0400000000000001E-3]
[null,null,null,594,1.0200000000000001E-3]
[null,null,null,595,1E-3]
[null,null,null,596,9.6000000000000002E-4]
[null,null,null,597,9.2000000000000003E-4]
[null,null,null,598,8.8000000000000003E-4]
[null,null,null,599,8.4000000000000003E-4]
[null,null,null,600,8.0000000000000004E-4]
[null,null,null,601,7.6000000000000004E-4]
[null,null,null,602,7.2000000000000005E-4]
[null,null,null,603,6.7999999999999994E-4]
[null,null,null,604,6.3999999999999994E-4]
[null,null,null,605,5.9999999999999995E-4]
[null,null,null,606,5.4799999999999998E-4]
[null,null,null,607,4.9600000000000002E-4]
[null,null,null,608,4.44E-4]
[null,null,null,609,3.9199999999999999E-4]
[null,null,null,610,3.4000000000000002E-4]
[null,null,null,611,3.2000000000000003E-4]
[null,null,null,612,3.0000000000000003E-4]
[null,null,null,613,2.8000000000000003E-4]
[null,null,null,614,2.6000000000000003E-4]
[null,null,null,615,2.4000000000000001E-4]
[null,null,null,616,2.3000000000000001E-4]
[null,null,null,617,2.2000000000000001E-4]
[null,null,null,618,2.1000000000000001E-4]
[null,null,null,619,2.0000000000000001E-4]
[null,null,null,620,1.9000000000000001E-4]
[null,null,null,621,1.7200000000000001E-4]
[null,null,null,622,1.54E-4]
[null,null,null,623,1.36E-4]
[null,null,null,624,1.1800000000000001E-4]
[null,null,null,625,1E-4]
[null,null,null,626,1.8000000000000001E-4]
[null,null,null,627,2.6000000000000003E-4]
[null,null,null,628,3.4000000000000002E-4]
[null,null,null,629,4.2000000000000002E-4]
[null,null,null,630,5.0000000000000001E-4]
[null,null,null,631,4.6000000000000001E-4]
[null,null,null,632,4.2000000000000002E-4]
[null,null,null,633,3.7999999999999997E-4]
[null,null,null,634,3.3999999999999997E-4]
[null,null,null,635,2.9999999999999997E-4]
[null,null,null,636,2.7999999999999998E-4]
[null,null,null,637,2.5999999999999998E-4]
[null,null,null,638,2.4000000000000001E-4]
[null,null,null,639,2.2000000000000001E-4]
[null,null,null,640,2.0000000000000001E-4]
[null,null,null,641,1.8000000000000001E-4]
[null,null,null,642,1.6000000000000001E-4]
[null,null,null,643,1.4000000000000001E-4]
[null,null,null,644,1.2E-4]
[null,null,null,645,1E-4]
[null,null,null,646,8.0000000000000007E-5]
[null,null,null,647,6.0000000000000002E-5]
[null,null,null,648,4.0000000000000003E-5]
[null,null,null,649,2.0000000000000002E-5]
[null,null,null,650,0]
[null,null,null,651,0]
[null,null,null,652,0]
[null,null,null,653,0]
[null,null,null,654,0]
[null,null,null,655,0]
[null,null,null,656,0]
[null,null,null,657,0]
[null,null,null,658,0]
[null,null,null,659,0]
[null,null,null,660,0]
[null,null,null,661,0]
[null,null,null,662,0]
[null,null,null,663,0]
[null,null,null,664,0]
[null,null,null,665,0]
[null,null,null,666,0]
[null,null,null,667,0]
[null,null,null,668,0]
[null,null,null,669,0]
[null,null,null,670,0]
[null,null,null,671,0]
[null,null,null,672,0]
[null,null,null,673,0]
[null,null,null,674,0]
[null,null,null,675,0]
[null,null,null,676,0]
[null,null,null,677,0]
[null,null,null,678,0]
[null,null,null,679,0]
[null,null,null,680,0]
[null,null,null,681,0]
[null,null,null,682,0]
[null,null,null,683,0]
[null,null,null,684,0]
[null,null,null,685,0]
[null,null,null,686,0]
[null,null,null,687,0]
[null,null,null,688,0]
[null,null,null,689,0]
[null,null,null,690,0]
[null,null,null,691,0]
[null,null,null,692,0]
[null,null,null,693,0]
[null,null,null,694,0]
[null,null,null,695,0]
[null,null,null,696,0]
[null,null,null,697,0]
[null,null,null,698,0]
[null,null,null,699,0]
[null,null,null,700,0]
[null,null,null,701,0]
[null,null,null,702,0]
[null,null,null,703,0]
[null,null,null,704,0]
[null,null,null,705,0]
[null,null,null,706,0]
[null,null,null,707,0]
[null,null,null,708,0]
[null,null,null,709,0]
[null,null,null,710,0]
[null,null,null,711,0]
[null,null,null,712,0]
[null,null,null,713,0]
[null,null,null,714,0]
[null,null,null,715,0]
[null,null,null,716,0]
[null,null,null,717,0]
[null,null,null,718,0]
[null,null,null,719,0]
[null,null,null,720,0]
[null,null,null,721,0]
[null,null,null,722,0]
[null,null,null,723,0]
[null,null,null,724,0]
[null,null,null,725,0]
[null,null,null,726,0]
[null,null,null,727,0]
[null,null,null,728,0]
[null,null,null,729,0]
[null,null,null,730,0]
[null,null,null,731,0]
[null,null,null,732,0]
[null,null,null,733,0]
[null,null,null,734,0]
[null,null,null,735,0]
[null,null,null,736,0]
[null,null,null,737,0]
[null,null,null,738,0]
[null,null,null,739,0]
[null,null,null,740,0]
[null,null,null,741,0]
[null,null,null,742,0]
[null,null,null,743,0]
[null,null,null,744,0]
[null,null,null,745,0]
[null,null,null,746,0]
[null,null,null,747,0]
[null,null,null,748,0]
[null,null,null,749,0]
[null,null,null,750,0]
[null,null,null,751,0]
[null,null,null,752,0]
[null,null,null,753,0]
[null,null,null,754,0]
[null,null,null,755,0]
[null,null,null,756,0]
[null,null,null,757,0]
[null,null,null,758,0]
[null,null,null,759,0]
[null,null,null,760,0]
[null,null,null,761,0]
[null,null,null,762,0]
[null,null,null,763,0]
[null,null,null,764,0]
[null,null,null,765,0]
[null,null,null,766,0]
[null,null,null,767,0]
[null,null,null,768,0]
[null,null,null,769,0]
[null,null,null,770,0]
[null,null,null,771,0]
[null,null,null,772,0]
[null,null,null,773,0]
[null,null,null,774,0]
[null,null,null,775,0]
[null,null,null,776,0]
[null,null,null,777,0]
[null,null,null,778,0]
[null,null,null,779,0]
[null,null,null,780,0]
[null,null,null,781,0]
[null,null,null,782,0]
[null,null,null,783,0]
[null,null,null,784,0]
[null,null,null,785,0]
[null,null,null,786,0]
[null,null,null,787,0]
[null,null,null,788,0]
[null,null,null,789,0]
[null,null,null,790,0]
[null,null,null,791,0]
[null,null,null,792,0]
[null,null,null,793,0]
[null,null,null,794,0]
[null,null,null,795,0]
[null,null,null,796,0]
[null,null,null,797,0]
[null,null,null,798,0]
[null,null,null,799,0]
[null,null,null,800,0]

{"sheet":"Work","index":5,"n_rows":11,"n_cols":3,"rows_kept":11,"cut":false,"hidden":false,"merged":[]}
[]
[]
[]
[]
[null,"1. documentation "]
[null,null,"a. theory of the CCT optimization "]
[null,null,"b. theory of Gaussian function fitting"]
[null,null,"c. write the help file"]
[null,"2.","Cleaning of the tool sheet"]
[null,null,"a. hide sheets"]
[null,null,"b. how to integrate the exp sheet and Gaussian fitting sheet?"]

{"sheet":"Plot1","index":6,"n_rows":20,"n_cols":5,"rows_kept":20,"cut":false,"hidden":true,"merged":[]}
["CIE1931 CIE1960 Plot"]
[]
[]
["DataCount",{"$f":"COUNT(B6:B29)","v":3}]
["Name","x","y","u","v"]
["Sample1",0.30190342985606361,0.30070378005741016,{"$f":"4*B6/(-2*B6+12*C6+3)","v":0.20111347572844027},{"$f":"6*C6/(-2*B6+12*C6+3)","v":0.30047149050704086}]
["Sample2",0.33614944254203721,0.33997830312219285,{"$f":"4*B7/(-2*B7+12*C7+3)","v":0.20984942696009123},{"$f":"6*C7/(-2*B7+12*C7+3)","v":0.31835952879856882}]
["Sample3",0.35390021683095246,0.36234199398901401,{"$f":"4*B8/(-2*B8+12*C8+3)","v":0.21318315775159027},{"$f":"6*C8/(-2*B8+12*C8+3)","v":0.32740249987533976}]
["Sample4",null,null,0.22510917909058201,0.33438633879882312]
["Sample5"]
["Sample6"]
["Sample7"]
["Sample8"]
["Sample9"]
["Sample10"]
["Sample11"]
["Sample12"]
["Sample13"]
["Sample14"]
["Sample15"]

{"sheet":"CCT","index":7,"n_rows":1221,"n_cols":16,"rows_kept":1221,"cut":false,"hidden":true,"merged":[]}
["CCT calculation",null,null,"X",{"$f":"Photonic!L14","v":227.52138948382861},"u",{"$f":"4*E1/(E1+15*E2+3*E3)","v":0.52550238065230126},"Set initial dm",9.9999999999999998E+100,null,"Index",{"$f":"MAX(F5:F1221)","v":1}]
[null,null,null,"Y",{"$f":"Photonic!L15","v":100},"v",{"$f":"6*E2/(E1+15*E2+3*E3)","v":0.34645251277989314},null,null,null,"Col",{"$f":"IF(L1<>1,L1+4,L1+5)","v":6}]
[null,null,null,"Z",{"$f":"Photonic!L16","v":1.4392292133702655}]
["CCT","u","v","dc(i)","modify dm",null,null,null,"Tm=",{"$f":"INDIRECT(\"a\"&$L$2)","v":1000}]
[997.50623441396499,0.44859066043344298,0.35457467034460699,{"$f":"SQRT(($G$1-B5)^2+($G$2-C5)^2)","v":7.7339395850562292E-2},{"$f":"IF((D5-$I$1)<0,D5,0)","v":7.7339395850562292E-2},{"$f":"IF(E5<>0,1,0)","v":1},null,null,"dm=",{"$f":"INDIRECT(\"d\"&$L$2)","v":7.7926303836071548E-2}]
[1000,0.44800584882864802,0.354625418313254,{"$f":"SQRT(($G$1-B6)^2+($G$2-C6)^2)","v":7.7926303836071548E-2},{"$f":"IF((D6-E5)<0,D6,0)","v":0},{"$f":"IF(E6<>0,F5+1,0)","v":0},null,null,"T1=",{"$f":"INDIRECT(\"a\"&($L$2+1))","v":1002.5},"d1=",{"$f":"INDIRECT(\"d\"&($L$2+1))","v":7.8513114750467072E-2},"u1=",{"$f":"INDIRECT(\"b\"&($L$2+1))","v":0.447421125440153},"v1=",{"$f":"INDIRECT(\"c\"&($L$2+1))","v":0.35467606264083401}]
[1002.5,0.447421125440153,0.35467606264083401,7.8513114750467072E-2,{"$f":"IF((D7-E6)<0,D7,0)","v":0},{"$f":"IF(E7<>0,F6+1,0)","v":0},null,null,"T0=",{"$f":"INDIRECT(\"a\"&($L$2-1))","v":997.50623441396499},"d0=",{"$f":"INDIRECT(\"d\"&($L$2-1))","v":7.7339395850562292E-2},"u0=",{"$f":"INDIRECT(\"b\"&($L$2-1))","v":0.44859066043344298},"v0=",{"$f":"INDIRECT(\"c\"&($L$2-1))","v":0.35457467034460699}]
[1005.00625,0.44683649643810303,0.35472660177716497,7.9099822300283437E-2,0,0]
[1007.518765625,0.44625196797001898,0.35477703416879902,7.9686420214904866E-2,0,0,null,null,"a=",{"$f":"L7/(J7-J4)/(J7-J6)","v":6.2103631421550742E-3},"b=",{"$f":"J5/(J4-J7)/(J4-J6)","v":-1.2499379135305386E-2},"c=",{"$f":"L6/(J6-J7)/(J6-J4)","v":6.288890689625304E-3}]
[1010.03756253906,0.44566754616069898,0.35482735825904999,8.0272902246656577E-2,0,0]
[1012.56265644541,0.44508323711209202,0.35487757248802598,8.0859262170924984E-2,0,0,null,null,"AA=",{"$f":"J9+L9+N9","v":-1.253035250082038E-7},"BB=",{"$f":"-(J9*(J6+J4)+L9*(J7+J6)+N9*(J4+J7))","v":4.8564467458867E-4},"CC=",{"$f":"J9*J4*J6+L9*J7*J6+N9*J7*J4","v":-0.28241484574209608}]
[1015.09406308652,0.44449904690317898,0.35492767529265601,8.1445493786270542E-2,0,0]
[1017.63179824424,0.44391498158985998,0.35497766510671702,8.2031590914534838E-2,0,0,null,null,"Tp=",{"$f":"-L11/(2*J11)","v":1937.8731546334159}]
[1020.17587773985,0.443331047204851,0.35502754036086898,8.261754740093992E-2,0,0]
[1022.7263174342,0.44274724975756702,0.35507729948268402,8.3203357114200849E-2,0,0,null,null,"duv=",{"$f":"J11*J13^2+L11*J13+N11","v":0.18814404304593618}]
[1025.2831332277899,0.44216359523401699,0.35512694089667701,8.3789013946627161E-2,0,0,null,null,"p=",{"$f":"SQRT((N6-N7)^2+(P6-P7)^2)","v":1.1739218450407918E-3}]
[1027.8463410608499,0.44158008959670098,0.35517646302433398,8.4374511814222466E-2,0,0,null,null,"p1=",{"$f":"(L7^2+J16^2-L6^2)/(2*J16)","v":-7.7325822651109252E-2}]
[1030.4159569135099,0.44099673878450701,0.35522586428415198,8.4959844656785827E-2,0,0,null,null,"Pt",{"$f":"J7+J17*(J6-J7)/J16","v":668.56863631216129}]
[1032.99199680579,0.44041354871261201,0.35527514309166502,8.5545006438008275E-2,0,0,null,null,"p3=",{"$f":"SQRT(L7^2-J17^2)","v":1.448896773124528E-3}]
[1035.5744767977999,0.43983052527238398,0.355324297859481,8.6129991145569379E-2,0,0,null,null,"LS=",{"$f":"J18+(J13-J18)*J19*100","v":852.47775838296616}]
[1038.1634129898,0.43924767433128198,0.355373326997312,8.6714792791235951E-2,0,0]
[1040.75882152227,0.43866500173277401,0.35542222891201303,8.7299405410944053E-2,0,0]
[1043.36071857608,0.43808251329623299,0.355471002007614,8.78838230649025E-2,0,0,null,null,"CCT=",{"$f":"IF(J18<0,J20,J13)","v":1937.8731546334159}]
[1045.9691203725199,0.43750021481686002,0.35551964468535502,8.8468039837669876E-2,0,0]
[1048.58404317345,0.43691811206558501,0.35556815534372299,8.9052049838254654E-2,0,0,null,null,null,{"$f":"IF(ISERROR(J23),IF(ERROR.TYPE(J23)<=3,1,0),2)","v":2}]
[1051.2055032813801,0.43633621078899598,0.355616532378489,8.9635847200186927E-2,0,0]
[1053.8335170395901,0.43575451670924797,0.35566477418274201,9.0219426081610737E-2,0,0]
[1056.46810083219,0.43517303552398501,0.355712879146931,9.0802780665364194E-2,0,0]
[1059.1092710842699,0.434591772906264,0.35576084565889898,9.1385905159057382E-2,0,0]
[1061.7570442619799,0.43401073450447702,0.35580867210392397,9.196879379515277E-2,0,0]
[1064.41143687263,0.43342992594228102,0.35585635686475497,9.2551440831037946E-2,0,0]
[1067.07246546481,0.43284935281852499,0.35590389832165797,9.3133840549102245E-2,0,0]
[1069.74014662848,0.43226902070718198,0.35595129485244698,9.3715987256807159E-2,0,0]
[1072.4144969950501,0.43168893515727602,0.35599854483253301,9.4297875286764005E-2,0,0]
[1075.0955332375399,0.43110910169282901,0.35604564663496302,9.4879498996790837E-2,0,0]
[4.8254200123489302E-4,0.43052952581278903,0.356092598630458,9.5460852769987989E-2,0,0]
[1080.4777302508101,0.42995021299097202,0.35613939918746002,9.6041931014801421E-2,0,0]
[1083.1789245764301,0.429371168676007,0.35618604667217402,9.6622728165082369E-2,0,0]
[1085.88687188787,0.42879239829127602,0.35623253944861,9.720323868015214E-2,0,0]
[1088.6015890675901,0.42821390723485803,0.356278875878627,9.778345704486377E-2,0,0]
[1091.3230930402599,0.42763570087948499,0.35632505432197997,9.8363377769651622E-2,0,0]
[1094.05140077286,0.427057784572485,0.35637107313636401,9.8942995390594132E-2,0,0]
[1096.7865292747899,0.42648016363573599,0.356416930677458,9.9522304469465833E-2,0,0]
[1099.5284955979801,0.42590284336562001,0.35646262529897499,0.10010129959378994,0,0]
[1102.2773168369799,0.425325829032981,0.35650815535270503,0.10067997537688655,0,0]
[1105.0330101290699,0.424749125883081,0.35655351918856398,0.10125832645792353,0,0]
[1107.79559265439,0.42417273913556303,0.35659871515464497,0.10183634750196072,0,0]
[1110.5650816360301,0.42359667398440798,0.35664374159725998,0.10241403319999969,0,0]
[1113.3414943401201,0.42302093559790599,0.35668859686099602,0.1029913782690204,0,0]
[1116.12484807597,0.42244552911861699,0.35673327928875898,0.1035683774520276,0,0]
[1118.9151601961601,0.42187045966334102,0.35677778722182901,0.10414502551808892,0,0]
[1121.71244809665,0.42129573232308998,0.35682211899990901,0.10472131726237072,0,0]
[1124.5167292168901,0.42072135216305601,0.35686627296117301,0.10529724750617765,0,0]
[1127.32802103993,0.42014732422258999,0.35691024744232502,0.10587281109698314,0,0]
[1130.1463410925301,0.41957365351517101,0.35695404077864401,0.10644800290846768,0,0]
[1132.9717069452599,0.41900034502839201,0.35699765130404498,0.10702281784054271,0,0]
[1135.8041362126301,0.418427403723932,0.357041077351123,0.10759725081938624,0,0]
[1138.6436465531599,0.41785483453754402,0.35708431725121698,0.10817129679746494,0,0]
[1141.4902556695399,0.41728264237903301,0.35712736933445799,0.10874495075356472,0,0]
[1144.34398130871,0.41671083213224502,0.357170231929828,0.10931820769281131,0,0]
[1147.2048412619899,0.41613940865505,0.357212903365212,0.10989106264669653,0,0]
[1150.07285336514,0.415568376779337,0.35725538196745998,0.11046351067309332,0,0]
[1152.9480354985501,0.41499774131099598,0.35729766606243901,0.11103554685628324,0,0]
[1155.8304055873,0.41442750702991898,0.35733975397509199,0.11160716630696538,0,0]
[1158.7199816012701,0.41385767868998602,0.35738164402950001,0.112178364162281,0,0]
[1161.6167815552701,0.41328826101906802,0.35742333454893299,0.11274913558581999,0,0]
[1164.52082350916,0.41271925871902099,0.35746482385591599,0.11331947576763785,0,0]
[1167.4321255679299,0.41215067646568398,0.35750611027228502,0.11388937992426774,0,0]
[1170.35070588185,0.41158251890888098,0.35754719211924901,0.11445884329872953,0,0]
[1173.27658264656,0.41101479067242302,0.35758806771745,{"$f":"SQRT(($G$1-B70)^2+($G$2-C70)^2)","v":0.11502786116053824},0,0]
[1176.20977410317,0.41044749635411698,0.357628735387026,0.11559642880570645,{"$f":"IF((D71-E70)<0,D71,0)","v":0},{"$f":"IF(E71<>0,F70+1,0)","v":0}]
[1179.15029853843,0.40988064052576201,0.35766919344767001,0.11616454155675843,0,0]
[1182.09817428478,0.409314227733164,0.357709440218694,0.1167321947627271,0,0]
[1185.05341972049,0.40874826249614499,0.35774947401909402,0.11729938379915603,0,0]
[1188.0160532697901,0.40818274930854798,0.35778929316760899,0.11786610406810549,0,0]
[1190.98609340296,0.40761769263825598,0.35782889598279,0.11843235099814554,0,0]
[1193.96355863647,0.40705309692719899,0.35786828078306099,0.11899812004436007,0,0]
[1196.94846753306,0.40648896659136902,0.35790744588678602,0.11956340668834381,0,0]
[1199.9408387019,0.40592530602084997,0.35794638961233199,0.12012820643818396,0,0]
[1202.9406907986499,0.40536211957981499,0.35798511027814001,0.12069251482847529,0,0]
[1205.94804252565,0.40479941160656302,0.358023606202787,0.12125632742029499,0,0]
[1208.9629126319601,0.40423718641353001,0.35806187570505499,0.12181963980120381,0,0]
[1211.98531991354,0.403675448287316,0.35809991710399802,0.12238244758523124,0,0]
[1215.0152832133199,0.40311420148870603,0.35813772871901201,0.1229447464128668,0,0]
[1218.05282142136,0.40255345025270001,0.35817530886990201,0.12350653195104265,0,0]
[1221.0979534749099,0.40199319878853101,0.35821265587695,0.1240677998931275,0,0]
[1224.1506983586,0.40143345127970298,0.35824976806098902,0.12462854595890191,0,0]
[1227.21107510449,0.40087421188401301,0.35828664374346803,0.12518876589454814,0,0]
[1230.2791027922599,0.40031548473358203,0.35832328124652502,0.12574845547263244,0,0]
[1233.3548005492401,0.39975727393489202,0.35835967889305798,0.12630761049208056,0,0]
[1236.4381875506101,0.39919958356881402,0.358395835006799,0.12686622677816289,0,0]
[1239.5292830194901,0.39864241769064301,0.35843174791238003,0.12742430018247189,0,0]
[1242.62810622703,0.39808578033013597,0.35846741593541098,0.12798182658289764,0,0]
[1245.7346764926001,0.397529675491547,0.35850283740255101,0.12853880188360547,0,0]
[1248.84901318383,0.39697410715366399,0.35853801064158097,0.12909522201501247,0,0]
[1251.9711357167901,0.39641907926984998,0.35857293398147699,0.12965108293375938,0,0]
[1255.1010635560799,0.39586459576808303,0.35860760575248801,0.13020638062268403,0,0]
[1258.23881621497,0.39531066055099501,0.35864202428620701,0.13076111109079575,0,0]
[1261.38441325551,0.39475727749591799,0.35867618791564598,0.13131527037324228,0,0]
[1264.5378742886501,0.39420445045492802,0.35871009497531597,0.13186885453127983,0,0]
[1267.6992189743701,0.39365218325488199,0.35874374380129798,0.13242185965224915,0,0]
[1270.8684670218099,0.39310047969747502,0.358777132731321,0.13297428184953189,0,0]
[1274.04563818936,0.39254934355927801,0.35881026010484002,0.13352611726252678,0,0]
[1277.23075228484,0.39199877859179,0.35884312426311199,0.13407736205661053,0,0]
[1280.4238291655499,0.39144878852148501,0.35887572354927599,0.13462801242310513,0,0]
[1283.62488873846,0.39089937704986299,0.35890805630842598,0.13517806457924003,0,0]
[1286.8339509603099,0.39035054785349899,0.358940120887695,0.13572751476811709,0,0]
[1290.0510358377101,0.38980230458409898,0.35897191563632902,0.13627635925866827,0,0]
[1293.2761634272999,0.38925465086854599,0.35900343890576902,0.13682459434562336,0,0]
[1296.5093538358699,0.38870759030895602,0.35903468904973301,0.13737221634946822,0,0]
[1299.75062722046,0.38816112648273798,0.359065664424287,0.13791922161639783,0,0]
[1303.00000378851,0.38761526294263798,0.35909636338793599,0.13846560651828685,0,0]
[1306.25750379798,0.38707000321680701,0.35912678430169698,0.13901136745263512,0,0]
[1309.5231475574799,0.38652535080884998,0.35915692552918199,0.13955650084253274,0,0]
[1312.79695542637,0.38598130919788498,0.35918678543668098,0.14010100313661478,0,0]
[1316.07894781494,0.385437881838603,0.35921636239324101,0.14064487080901544,0,0]
[1319.36914518447,0.38489507216132801,0.35924565477075099,0.14118810035932197,0,0]
[1322.66756804744,0.38435288357207498,0.359274660944019,0.14173068831253027,0,0]
[1325.97423696755,0.38381131945261099,0.35930337929085898,0.14227263121899811,0,0]
[1329.28917255997,0.38327038316051698,0.35933180819217297,0.14281392565439724,0,0]
[1332.6123954913701,0.38273007802925002,0.35935994603203403,0.14335456821966502,0,0]
[1335.9439264800999,0.38219040736820697,0.35938779119776398,0.14389455554095432,0,0]
[1339.2837862962999,0.38165137446278302,0.35941534208002901,0.14443388426958984,0,0]
[1342.6319957620401,0.38111298257444598,0.35944259707290999,0.14497255108200671,0,0]
[1345.9885757514501,0.38057523494079099,0.35946955457399699,0.14551055267971041,0,0]
[1349.3535471908301,0.38003813477560999,0.35949621298446799,0.14604788578922093,0,0]
[1352.7269310587999,0.37950168526896,0.35952257070917398,0.1465845471620183,0,0]
[1356.1087483864501,0.37896588958722299,0.359548626156726,0.14712053357449675,0,0]
[1359.4990202574199,0.37843075087317901,0.35957437773958001,0.14765584182790553,0,0]
[1362.8977678080601,0.37789627224607403,0.35959982387411699,0.14819046874829436,0,0]
[1366.3050122275799,0.37736245680168101,0.35962496298073598,0.14872441118646679,0,0]
[1369.7207747581499,0.37682930761237898,0.359649793483934,0.14925766601791451,0,0]
[1373.14507669504,0.37629682772721301,0.35967431381239501,0.14979023014277124,0,0]
[1376.5779393867799,0.375765020171969,0.35969852239907302,{"$f":"SQRT(($G$1-B134)^2+($G$2-C134)^2)","v":0.15032210048575151},0,0]
[1380.0193842352501,0.37523388794924001,0.35972241768128199,0.15085327399609819,{"$f":"IF((D135-E134)<0,D135,0)","v":0},{"$f":"IF(E135<>0,F134+1,0)","v":0}]
[1383.4694326958399,0.37470343403850198,0.35974599810077801,0.15138374764752016,0,0]
[1386.9281062775799,0.37417366139618002,0.35976926210384802,0.15191351843813969,0,0]
[1390.3954265432701,0.37364457295572101,0.35979220814139701,0.15244258339043351,0,0]
[1393.8714151096301,0.37311617162766703,0.35981483466903103,0.15297093955117244,0,0]
[1397.3560936474,0.37258846029972398,0.35983714014715101,0.15349858399136682,0,0]
[1400.84948388152,0.37206144183683898,0.35985912304103002,0.15402551380620177,0,0]
[1404.35160759122,0.37153511908126702,0.35988078182090999,0.15455172611498458,0,0]
[1407.8624866102,0.37100949485265,0.35990211496208102,0.15507721806107819,0,0]
[1411.3821428267299,0.37048457194808698,0.35992312094497497,0.15560198681184484,0,0]
[1414.9105981837899,0.36996035314220799,0.35994379825524597,0.15612602955858476,0,0]
[1418.4478746792499,0.36943684118724901,0.35996414538386501,0.15664934351647472,0,0]
[1421.9939943659499,0.36891403881312301,0.35998416082720203,0.15717192592450974,0,0]
[1425.54897935187,0.36839194872750503,0.36000384308711297,0.15769377404543086,0,0]
[1429.1128518002499,0.36787057361589098,0.360023190671033,0.15821488516567953,0,0]
[1432.6856339297501,0.367349916141684,0.36004220209205701,0.1587352565953235,0,0]
[1436.26734801457,0.36682997894626801,0.36006087586903301,0.15925488566799653,0,0]
[1439.85801638461,0.36631076464907902,0.36007921052664299,0.15977376974083901,0,0]
[1443.45766142557,0.36579227584768698,0.36009720459549799,0.16029190619442926,0,0]
[1447.0663055791299,0.36527451511786602,0.36011485661221998,0.16080929243272535,0,0]
[1450.68397134308,0.364757485013672,0.360132165119531,0.16132592588299988,0,0]
[1454.31068127144,0.36424118806751998,0.36014912866634002,0.1618418039957748,0,0]
[1457.94645797462,0.36372562679025999,0.360165745807833,0.16235692424475792,0,0]
[1461.5913241195501,0.36321080367125003,0.36018201510555597,0.16287128412678173,0,0]
[1465.24530242985,0.36269672117844098,0.36019793512750498,0.16338488116173044,0,0]
[1468.9084156859301,0.362183381758442,0.36021350444821298,0.16389771289248661,0,0]
[1472.5806867251399,0.361670787836606,0.36022872164883402,0.164409776884857,0,0]
[1476.2621384419499,0.36115894181710401,0.36024358531723499,0.16492107072751028,0,0]
[1479.95279378806,0.36064784608299499,0.36025809404808001,0.16543159203191846,0,0]
[1483.6526757725301,0.36013750299631703,0.360272246442916,0.1659413384322771,0,0]
[1487.3618074619601,0.35962791489814999,0.36028604111026002,0.16645030758545376,0,0]
[1491.0802119806101,0.35911908410870202,0.36029947666568601,0.16695849717091291,0,0]
[1494.8079125105701,0.35861101292737801,0.36031255173191301,0.16746590489065846,0,0]
[1498.54493229184,0.35810370363286598,0.360325264938887,0.16797252846915794,0,0]
[1502.2912946225699,0.357597158483207,0.36033761492387001,0.16847836565328372,0,0]
[1506.04702285913,0.35709137971587501,0.36034960033152502,0.16898341421224358,0,0]
[1509.81214041628,0.356586369547851,0.36036121981400299,0.16948767193751721,0,0]
[1513.5866707673199,0.356082130175704,0.36037247203102302,0.1699911366427852,0,0]
[1517.3706374442299,0.355578663775663,0.36038335564996499,0.17049380616386786,0,0]
[1521.16406403784,0.35507597250370099,0.36039386934594903,0.1709956783586509,0,0]
[1524.9669741979401,0.35457405849559998,0.360404011801922,0.17149675110703042,0,0]
[1528.7793916334299,0.35407292386703998,0.360413781708741,0.17199702231083355,0,0]
[1532.6013401125199,0.35357257071366699,0.360423177765261,0.17249648989376071,0,0]
[1536.4328434628001,0.35307300111117301,0.36043219867841397,0.17299515180131425,0,0]
[1540.27392557146,0.35257421711537101,0.360440843163293,0.17349300600073317,0,0]
[1544.12461038538,0.35207622076227402,0.36044910994324197,0.17399005048092364,0,0]
[1547.9849219113501,0.351579014068165,0.36045699774993001,0.17448628325239735,0,0]
[1551.8548842161299,0.35108259902967798,0.36046450532343899,0.17498170234719967,0,0]
[1555.73452142667,0.35058697762387397,0.360471631412347,0.17547630581884258,0,0]
[1559.6238577302299,0.35009215180831499,0.36047837477380601,0.17597009174223877,0,0]
[1563.5229173745599,0.34959812352113701,0.36048473417362698,0.1764630582136372,0,0]
[1567.43172466799,0.34910489468112799,0.36049070838636099,0.17695520335055345,0,0]
[1571.3503039796601,0.34861246718780597,0.36049629619537998,0.17744652529169944,0,0]
[1575.27867973961,0.34812084292148798,0.36050149639295598,0.17793702219692237,0,0]
[1579.2168764389601,0.34763002374336899,0.36050630778034298,0.17842669224713339,0,0]
[1583.1649186300599,0.34714001149559598,0.36051072916785698,0.17891553364424129,0,0]
[1587.1228309266401,0.34665080800134102,0.36051475937495397,0.17940354461108624,0,0]
[1591.0906380039501,0.346162415064875,0.36051839723031098,0.17989072339137377,0,0]
[1595.06836459896,0.34567483447164399,0.36052164157190397,0.18037706824960487,0,0]
[1599.0560355104601,0.34518806798834201,0.36052449124708302,0.18086257747101006,0,0]
[1603.05367559923,0.344702117362986,0.36052694511265698,0.18134724936148125,0,0]
[1607.0613097882299,0.34421698432498299,0.36052900203496402,0.18183108224751066,0,0]
[1611.0789630627,0.34373267058521501,0.360530660889952,0.18231407447611211,0,0]
[1615.1066604703601,0.34324917783609799,0.36053192056325301,{"$f":"SQRT(($G$1-B198)^2+($G$2-C198)^2)","v":0.18279622441476809},0,0]
[1619.14442712154,0.34276650775166601,0.36053277995026201,0.18327753045135153,{"$f":"IF((D199-E198)<0,D199,0)","v":0},{"$f":"IF(E199<>0,F198+1,0)","v":0}]
[1623.1922881893399,0.34228466198763402,0.36053323795621001,0.18375799099406839,0,0]
[1627.2502689098101,0.34180364218148201,0.36053329349623903,0.18423760447137891,0,0]
[1631.3183945820899,0.34132344995251401,0.36053294549547699,0.18471636933194394,0,0]
[1635.39669056854,0.34084408690194001,0.36053219288911298,0.18519428404454782,0,0]
[1639.4851822949599,0.34036555461293899,0.36053103462246899,0.18567134709804034,0,0]
[1643.5838952506999,0.33988785465073701,0.36052946965107102,0.18614755700126279,0,0]
[1647.69285498883,0.33941098856267399,0.360527496940726,0.186622912282986,0,0]
[1651.8120871263,0.33893495787827599,0.36052511546758997,0.18709741149184203,0,0]
[1655.94161734412,0.33845976410932399,0.36052232421823799,0.18757105319625897,0,0]
[1660.08147138748,0.337985408749928,0.36051912218974103,0.18804383598439134,0,0]
[1664.23167506594,0.33751189327658898,0.36051550838972901,0.18851575846406077,0,0]
[1668.39225425361,0.337039219148276,0.36051148183646398,0.18898681926268276,0,0]
[1672.56323488924,0.33656738780649298,0.36050704155890601,0.18945701702720258,0,0]
[1676.74464297647,0.33609640067534702,0.36050218659678601,0.18992635042403008,0,0]
[1680.9365045839099,0.33562625916161398,0.36049691600066902,0.1903948181389766,0,0]
[1685.13884584537,0.33515696465481398,0.360491228832023,0.19086241887718183,0,0]
[1689.35169295998,0.33468851852727299,0.36048512416328399,0.19132915136305437,0,0]
[1693.57507219238,0.33422092213419302,0.36047860107792401,0.19179501434020366,0,0]
[1697.8090098728601,0.333754176813718,0.36047165867051301,0.19226000657137554,0,0]
[1702.05353239754,0.33328828388700699,0.36046429604678498,0.19272412683838072,0,0]
[1706.30866622854,0.332823244658291,0.36045651232370202,0.19318737394203925,0,0]
[1710.5744378941099,0.33235906041494701,0.36044830662951599,0.1936497467021073,0,0]
[1714.85087398884,0.33189573242756099,0.36043967810383198,0.19411124395721521,0,0]
[1719.1380011738099,0.33143326194999501,0.360430625897668,0.19457186456480072,0,0]
[1723.4358461767499,0.33097165021945002,0.36042114917351797,0.1950316074010465,0,0]
[1727.74443579219,0.33051089845653903,0.360411247105411,0.19549047136080738,0,0]
[1732.06379688167,0.33005100786533897,0.36040091887897102,0.195948455357558,0,0]
[1736.39395637388,0.32959197963346898,0.36039016369147298,0.19640555832331413,0,0]
[1740.73494126481,0.329133814932144,0.360378980751907,0.19686177920857884,0,0]
[1745.0867786179699,0.328676514916246,0.36036736928102803,0.19731711698227003,0,0]
[1749.44949556452,0.32822008072438202,0.36035532851141799,0.19777157063166134,0,0]
[1753.8231193034301,0.32776451347895402,0.36034285768753899,0.1982251391623113,0,0]
[1758.20767710169,0.32730981428621497,0.36032995606578799,0.19867782159800509,0,0]
[1762.6031962944401,0.32685598423633599,0.36031662291455302,0.19912961698068624,0,0]
[1767.0097042851801,0.32640302440346702,0.360302857514263,0.19958052437039317,0,0]
[1771.4272285458901,0.32595093584579898,0.36028865915744401,0.20003054284519536,0,0]
[1775.85579661725,0.32549971960562801,0.36027402714877099,0.20047967150112642,0,0]
[1780.2954361088,0.32504937670941397,0.36025896080511399,0.20092790945212244,0,0]
[1784.74617469907,0.32459990816784101,0.360243459455594,0.20137525582995872,0,0]
[1789.2080401358201,0.32415131497588201,0.36022752244162998,0.20182170978418215,0,0]
[1793.68106023616,0.32370359811285598,0.36021114911698698,0.20226727048204987,0,0]
[1798.16526288675,0.32325675854248898,0.36019433884782398,0.20271193710846497,0,0]
[1802.6606760439599,0.32281079721297701,0.36017709101274198,0.20315570886590939,0,0]
[1807.1673277340701,0.32236571505703898,0.360159405002829,0.20359858497438676,0,0]
[1811.6852460534101,0.32192151299198302,0.360141280221705,0.20404056467135162,0,0]
[1816.2144591685401,0.32147819191976101,0.36012271608556801,0.20448164721164999,0,0]
[1820.7549953164601,0.32103575272703,0.36010371202323599,0.20492183186745322,0,0]
[1825.3068828047501,0.32059419628520802,0.36008426747618899,0.20536111792819656,0,0]
[1829.87015001177,0.32015352345053499,0.36006438189861201,0.20579950470051311,0,0]
[1834.4448253867899,0.31971373506412698,0.360044054757438,0.20623699150817382,0,0]
[1839.0309374502599,0.31927483195203799,0.360023285532384,0.20667357769201947,0,0]
[1843.62851479389,0.31883681492531402,0.36000207371599002,0.2071092626099004,0,0]
[1848.23758608087,0.31839968478005198,0.35998041881366399,0.20754404563661158,0,0]
[1852.8581800460699,0.31796344229745199,0.359958320343711,0.20797792616383309,0,0]
[1857.4903254961901,0.31752808824388101,0.35993577783737402,0.2084109036000597,0,0]
[1862.1340513099301,0.31709362337092201,0.35991279083886901,0.20884297737054458,0,0]
[1866.7893864381999,0.31666004841543499,0.35988935890541901,0.20927414691723076,0,0]
[1871.4563599042999,0.316227364099608,0.35986548160728898,0.20970441169869253,0,0]
[1876.1350008040599,0.31579557113101703,0.35984115852781601,0.21013377119006729,0,0]
[1880.8253383060701,0.315364670202674,0.359816389263447,0.210562224883,0,0]
[1885.5274016518399,0.31493466199309,0.35979117342376099,0.21098977228557078,0,0]
[1890.24122015597,0.31450554716632501,0.35976551063150802,0.21141641292223717,0,0]
[1894.96682320635,0.314077326372041,0.35973940052263298,{"$f":"SQRT(($G$1-B262)^2+($G$2-C262)^2)","v":0.21184214633377177},0,0]
[1899.7042402643699,0.313650000245557,0.35971284274630599,0.21226697207719816,{"$f":"IF((D263-E262)<0,D263,0)","v":0},{"$f":"IF(E263<>0,F262+1,0)","v":0}]
[1904.45350086503,0.31322356940790602,0.35968583696494799,0.21269088972572459,0,0]
[1909.2146346171901,0.312798034465883,0.359658382854259,0.2131138988686864,0,0]
[1913.9876712037401,0.31237339601210001,0.359630480103243,0.21353599911148102,0,0]
[1918.7726403817501,0.31194965462504098,0.359602128414232,0.21395719007550304,0,0]
[1923.5695719826999,0.31152681086911399,0.35957332750291099,0.21437747139808186,0,0]
[1928.3784959126599,0.311104865294698,0.35954407709833702,0.21479684273242397,0,0]
[1933.19944215244,0.31068381843820497,0.35951437694296601,0.21521530374754053,0,0]
[1938.03244075782,0.31026367082211997,0.359484226792669,0.21563285412819577,0,0]
[1942.87752185971,0.30984442295506498,0.35945362641675399,0.21604949357483233,0,0]
[1947.73471566436,0.30942607533184202,0.35942257559798602,0.21646522180351649,0,0]
[1952.6040524535199,0.30900862843348498,0.35939107413260102,0.21688003854587448,0,0]
[1957.4855625846601,0.30859208272731498,0.35935912183032698,0.21729394354902543,0,0]
[1962.37927649112,0.30817643866698702,0.35932671851439901,0.21770693657552245,0,0]
[1967.28522468235,0.307761696692541,0.35929386402156899,0.21811901740328898,0,0]
[1972.20343774405,0.30734785723045599,0.35926055820212999,0.21853018582555253,0,0]
[1977.1339463384099,0.30693492069369399,0.35922680091991999,0.21894044165078735,0,0]
[1982.07678120426,0.30652288748175499,0.359192592052337,0.21934978470264674,0,0]
[1987.0319731572699,0.30611175798072299,0.35915793149035302,0.21975821481990371,0,0]
[1991.9995530901599,0.305701532563319,0.35912281913851901,0.22016573185638424,0,0]
[1996.97955197289,0.30529221158894798,0.359087254914979,0.22057233568090706,0,0]
[2001.97200085282,0.30488379540374899,0.35905123875147399,0.22097802617721907,0,0]
[2006.9769308549501,0.304476284340643,0.35901477059335501,0.22138280324393383,0,0]
[2011.9943731820899,0.30406967871938301,0.35897785039958202,0.22178666679446674,0,0]
[2017.0243591150399,0.30366397884659901,0.358940478142734,0.22218961675697566,0,0]
[2022.06692001283,0.30325918501585297,0.35890265380901498,0.2225916530742913,0,0]
[2027.12208731286,0.30285529750768198,0.358864377398252,0.22299277570385881,0,0]
[2032.18989253115,0.302452316589646,0.35882564892390101,0.22339298461767498,0,0]
[2037.27036726247,0.30205024251637902,0.35878646841304901,0.2237922798022218,0,0]
[2042.3635431806299,0.30164907552963499,0.35874683590641199,0.22419066125840476,0,0]
[2047.4694520385799,0.30124881585833402,0.35870675145833603,0.22458812900149089,0,0]
[2052.5881256686798,0.30084946371861199,0.35866621513679497,0.22498468306104324,0,0]
[2057.71959598285,0.30045101931386597,0.358625227023391,0.2253803234808594,0,0]
[2062.8638949728102,0.30005348283480299,0.35858378721334799,0.22577505031890607,0,0]
[2068.0210547102402,0.29965685445948598,0.35854189581550699,0.22616886364725672,0,0]
[2073.1911073470101,0.29926113435338098,0.358499552952324,0.22656176355202762,0,0]
[2078.3740851153798,0.298866322669403,0.35845675875985999,0.22695375013331498,0,0]
[2083.5700203281699,0.298472419547965,0.35841351338777999,0.22734482350512911,0,0]
[2088.7789453789901,0.29807942511701802,0.35836981699933501,0.22773498379533644,0,0]
[2094.0008927424401,0.29768733949210602,0.35832566977136399,0.22812423114558777,0,0]
[2099.2358949742902,0.29729616277640603,0.35828107189427599,0.22851256571126022,0,0]
[2104.48398471173,0.29690589506077802,0.35823602357204298,0.22889998766138939,0,0]
[2109.74519467351,0.29651653642380499,0.35819052502218501,0.22928649717861135,0,0]
[2115.01955766019,0.296128086931845,0.35814457647576098,0.22967209445909262,0,0]
[2120.30710655434,0.29574054663907501,0.35809817817735401,0.23005677971246782,0,0]
[2125.6078743207299,0.29535391558753499,0.35805133038505399,0.23044055316177692,0,0]
[2130.9218940065298,0.29496819380717398,0.35800403337044401,0.23082341504340059,0,0]
[2136.2491987415401,0.29458338131589501,0.35795628741858498,0.23120536560699667,0,0]
[2141.5898217384001,0.29419947811960601,0.35790809282799702,0.23158640511542994,0,0]
[2146.94379629274,0.29381648421225298,0.35785944991063801,0.23196653384471982,0,0]
[2152.31115578348,0.29343439957587802,0.35781035899189101,0.23234575208396327,0,0]
[2157.6919336729302,0.29305322418065699,0.35776082041053803,0.23272406013527749,0,0]
[2163.0861635071201,0.29267295798494602,0.35771083451874303,0.23310145831373388,0,0]
[2168.49387891588,0.29229360093532702,0.35766040168202501,0.23347794694729254,0,0]
[2173.91511361317,0.29191515296664999,0.35760952227923998,0.23385352637674037,0,0]
[2179.34990139721,0.291537614002086,0.35755819670255601,0.23422819695561797,0,0]
[2184.7982761507001,0.29116098395315798,0.35750642535742599,0.23460195905016859,0,0]
[2190.2602718410799,0.29078526271979899,0.357454208662565,0.23497481303925954,0,0]
[2195.7359225206801,0.29041045019038902,0.357401547049921,0.235346759314325,0,0]
[2201.2252623269801,0.29003654624179998,0.35734844096465201,0.23571779827930059,0,0]
[2206.7283254827998,0.289663550739444,0.35729489086509197,0.23608793035055395,0,0]
[2212.2451462965,0.289291463537315,0.35724089722272501,0.23645715595682285,0,0]
[2217.7757591622399,0.28892028447803297,0.35718646052215602,0.23682547553914962,0,0]
[2223.3201985601499,0.28855001339288899,0.35713158126107902,{"$f":"SQRT(($G$1-B326)^2+($G$2-C326)^2)","v":0.23719288955081524},0,0]
[2228.87849905655,0.28818065010189098,0.357076259950244,0.23755939845727234,{"$f":"IF((D327-E326)<0,D327,0)","v":0},{"$f":"IF(E327<>0,F326+1,0)","v":0}]
[2234.45069530419,0.28781219441380301,0.35702049711342498,0.23792500273608438,0,0]
[2240.0368220424498,0.28744464612619502,0.35696429328739099,0.23828970287685511,0,0]
[2245.6369140975598,0.28707800502548703,0.356907649021864,0.23865349938116218,0,0]
[2251.2510063827999,0.28671227088698698,0.35685056487949002,0.23901639276249814,0,0]
[2256.8791338987598,0.28634744347494201,0.35679304143579998,0.23937838354619717,0,0]
[2262.5213317335101,0.28598352254257903,0.35673507927917603,0.23973947226937292,0,0]
[2268.1776350628402,0.28562050783214699,0.35667667901081002,0.2400996594808541,0,0]
[2273.8480791504999,0.28525839907496697,0.356617841244668,0.24045894574111254,0,0]
[2279.53269934837,0.28489719599147101,0.356558566607452,0.24081733162220226,0,0]
[2285.2315310967401,0.28453689829124701,0.356498855738557,0.24117481770769236,0,0]
[2290.9446099244801,0.28417750567308597,0.35643870929003102,0.24153140459259739,0,0]
[2296.6719714493001,0.283819017825019,0.356378127926535,0.24188709288331819,0,0]
[2302.4136513779199,0.28346143442437099,0.356317112325301,0.24224188319756576,0,0]
[2308.1696855063601,0.28310475513779698,0.35625566317608598,0.24259577616430225,0,0]
[2313.9401097201298,0.282748979621329,0.35619378118113099,0.24294877242367163,0,0]
[2319.7249599944298,0.28239410752041899,0.356131467055114,0.24330087262693426,0,0]
[2325.5242723944102,0.28204013846998599,0.35606872152510899,0.24365207743639677,0,0]
[2331.3380830753999,0.28168707209445398,0.35600554533053402,0.24400238752535164,0,0]
[2337.1664282830902,0.28133490800780397,0.35594193922310802,0.2443518035780021,0,0]
[2343.0093443537999,0.28098364581361301,0.35587790396680302,0.24470032628940039,0,0]
[2348.8668677146802,0.280633285105096,0.355813440337795,0.24504795636538296,0,0]
[2354.7390348839699,0.28028382546515601,0.355748549124414,0.24539469452249707,0,0]
[2360.6258824711799,0.27993526646642503,0.35568323112709899,0.24574054148793728,0,0]
[2366.52744717736,0.27958760767130603,0.35561748715833902,0.24608549799947985,0,0]
[2372.4437657952999,0.27924084863202098,0.35555131804263201,0.24642956480541206,0,0]
[2378.3748752097899,0.278894988890655,0.355484724616424,0.24677274266446456,0,0]
[2384.3208123978102,0.27855002797919398,0.35541770772806303,0.24711503234575077,0,0]
[2390.2816144288099,0.27820596541957898,0.35535026823774402,0.24745643462868916,0,0]
[2396.25731846488,0.27786280072374198,0.35528240701745101,0.24779695030294413,0,0]
[2402.2479617610402,0.27752053339365401,0.35521412495091198,0.24813658016835485,0,0]
[2408.2535816654399,0.27717916292136902,0.35514542293353202,0.24847532503486786,0,0]
[2414.27421561961,0.27683868878906798,0.35507630187234601,0.24881318572246958,0,0]
[2420.3099011586501,0.27649911046910403,0.35500676268596099,0.2491501630611182,0,0]
[2426.3606759115501,0.27616042742404301,0.35493680630449498,0.2494862578906793,0,0]
[2432.4265776013299,0.27582263910671301,0.35486643366952397,0.2498214710608532,0,0]
[2438.5076440453299,0.27548574496024603,0.354795645734022,0.25015580343110999,0,0]
[2444.6039131554498,0.27514974441812501,0.35472444346229898,0.25048925587061877,0,0]
[2450.71542293833,0.27481463690422198,0.354652827829947,0.25082182925818641,0,0]
[2456.8422114956802,0.27448042183285098,0.35458079982377799,0.25115352448218115,0,0]
[2462.9843170244199,0.27414709860880798,0.35450836044175899,0.2514843424404693,0,0]
[2469.1417778169798,0.27381466662741399,0.35443551069295798,0.25181428404034878,0,0]
[2475.3146322615198,0.27348312527456498,0.35436225159747697,0.2521433501984755,0,0]
[2481.50291884218,0.273152473926772,0.35428858418639098,0.25247154184080045,0,0]
[2487.7066761392798,0.272822711951206,0.35421450950168498,0.25279885990250106,0,0]
[2493.92594282963,0.272493838705747,0.35414002859619298,0.25312530532790906,0,0]
[2500.1607576867,0.272165853539025,0.35406514253353,0.25345087907044572,0,0]
[2506.41115958092,0.27183875579046501,0.35398985238802999,0.25377558209255435,0,0]
[2512.6771874798701,0.27151254479033499,0.35391415924468,0.25409941536562819,0,0]
[2518.9588804485702,0.271187219859786,0.353838064199055,0.2544223798699477,0,0]
[2525.2562776496902,0.270862780310903,0.35376156835725298,0.25474447659460642,0,0]
[2531.56941834382,0.27053922544674402,0.353684672835826,0.25506570653744831,0,0]
[2537.8983418896801,0.27021655456138899,0.353607378761714,0.25538607070499619,0,0]
[2544.2430877443999,0.26989476693998599,0.35352968727217898,0.25570557011238226,0,0]
[2550.6036954637598,0.26957386185879301,0.35345159951473698,0.25602420578328328,0,0]
[2556.98020470242,0.269253838585224,0.35337311664708498,0.25634197874985137,0,0]
[2563.3726552141802,0.26893469637789702,0.353294239837041,0.25665889005264336,0,0]
[2569.7810868522101,0.26861643448667299,0.35321497026246401,0.25697494074055865,0,0]
[2576.2055395693401,0.26829905215271299,0.35313530911119401,0.25729013187075939,0,0]
[2582.6460534182702,0.26798254860850801,0.353055257580976,0.25760446450861779,0,0]
[2589.10266855181,0.26766692307793899,0.35297481687938997,0.25791793972763327,0,0]
[2595.57542522319,0.26735217477631401,0.35289398822378398,0.25823055860937305,0,0]
[2602.0643637862499,0.26703830291041297,0.352812772841199,0.25854232224340429,0,0]
[2608.5695246957098,0.26672530667854,0.35273117196829601,{"$f":"SQRT(($G$1-B390)^2+($G$2-C390)^2)","v":0.25885323172721958},0,0]
[2615.0909485074499,0.26641318527056501,0.35264918685128799,0.25916328816617257,{"$f":"IF((D391-E390)<0,D391,0)","v":0},{"$f":"IF(E391<>0,F390+1,0)","v":0}]
[2621.6286758787201,0.26610193786796699,0.35256681874586598,0.25947249267341271,0,0]
[2628.1827475684199,0.26579156364388601,0.35248406891712503,0.25978084636981058,0,0]
[2634.7532044373402,0.26548206176316003,0.35240093863949301,0.2600883503838991,0,0]
[2641.34008744843,0.26517343138238297,0.35231742919665199,0.26039500585179293,0,0]
[2647.9434376670501,0.26486567164993902,0.35223354188147299,0.26070081391713257,0,0]
[2654.5632962612199,0.26455878170605401,0.35214927799593498,0.26100577573101064,0,0]
[2661.1997045018702,0.26425276068284198,0.35206463885105099,0.26130989245190367,0,0]
[2667.8527037631302,0.263947607704349,0.35197962576679898,0.26161316524560629,0,0]
[2674.5223355225398,0.2636433218866,0.35189424007203701,0.26191559528516251,0,0]
[2681.2086413613401,0.26333990233764498,0.35180848310443702,0.26221718375079844,0,0]
[2687.9116629647501,0.26303734815760699,0.35172235621040498,0.26251793182985239,0,0]
[2694.63144212216,0.26273565843872299,0.35163586074500303,0.26281784071671244,0,0]
[2701.3680207274601,0.26243483226539699,0.351548998071878,0.26311691161274231,0,0]
[2708.12144077928,0.26213486871423802,0.35146176956318198,0.26341514572622204,0,0]
[2714.8917443812302,0.26183576685411702,0.35137417659949399,0.26371254427227009,0,0]
[2721.67897374218,0.26153752574620298,0.35128622056974701,0.26400910847278586,0,0]
[2728.4831711765401,0.261240144444016,0.35119790287114799,0.26430483955637618,0,0]
[2735.3043791044802,0.26094362199346899,0.35110922490910101,0.2645997387582924,0,0]
[2742.14264005224,0.26064795743291802,0.35102018809712998,0.26489380732035972,0,0]
[2748.9979966523701,0.26035314979320601,0.35093079385679898,0.26518704649091285,0,0]
[2755.8704916440001,0.260059198097712,0.35084104361763802,0.26547945752472607,0,0]
[2762.7601678731098,0.25976610136239298,0.35075093881705899,0.26577104168295146,0,0]
[2769.6670682927902,0.25947385859583599,0.35066048090028301,0.26606180023304632,0,0]
[2776.5912359635299,0.25918246879929902,0.35056967132025901,0.26635173444871241,0,0]
[2783.53271405343,0.258891930966763,0.35047851153758403,0.26664084560982371,0,0]
[2790.4915458385699,0.25860224408497301,0.35038700302042503,0.26692913500236592,0,0]
[2797.4677747031601,0.25831340713349299,0.350295147244441,0.26721660391836166,0,0]
[2804.4614441399199,0.25802541908474103,0.35020294569270299,0.26750325365581551,0,0]
[2811.4725977502699,0.25773827890404399,0.35011039985561299,0.26778908551864056,0,0]
[2818.50127924465,0.25745198554968501,0.35001751123082497,0.26807410081659105,0,0]
[2825.5475324427598,0.25716653797294198,0.349924281323169,0.26835830086520512,0,0]
[2832.6114012738699,0.256881935118144,0.34983071164456597,0.26864168698572904,0,0]
[2839.6929297770498,0.256598175922713,0.349736803713949,0.26892426050505713,0,0]
[2846.7921621014898,0.256315259317208,0.349642559057187,0.26920602275566846,0,0]
[2853.90914250675,0.25603318422537902,0.34954797920700098,0.26948697507555458,0,0]
[2861.04391536301,0.25575194956420499,0.34945306570288498,0.26976711880816284,0,0]
[2868.1965251514198,0.25547155424395002,0.34935782009102501,0.27004645530232246,0,0]
[2875.3670164642999,0.25519199716820301,0.34926224392421901,0.27032498591218618,0,0]
[2882.55543400546,0.25491327723392498,0.34916633876179898,0.27060271199716529,0,0]
[2889.7618225904698,0.25463539333149898,0.34907010616954498,0.27087963492186196,0,0]
[2896.9862271469501,0.254358344344775,0.34897354771961198,0.27115575605600634,0,0]
[2904.2286927148202,0.254082129151117,0.34887666499044301,0.27143107677439227,0,0]
[2911.4892644465999,0.25380674662144898,0.34877945956668899,0.27170559845681391,0,0]
[2918.76798760772,0.25353219562030299,0.34868193303913397,0.27197932248800033,0,0]
[2926.0649075767401,0.25325847500586501,0.34858408700460802,0.27225225025755279,0,0]
[2933.3800698456798,0.252985583630019,0.34848592306590898,0.27252438315988364,0,0]
[2940.7135200202902,0.2527135203384,0.34838744283172401,0.27279572259414664,0,0]
[2948.06530382034,0.252442283970435,0.34828864791654401,0.2730662699641796,0,0]
[2955.4354670798998,0.25217187335939101,0.34818953994058699,0.27333602667843959,0,0]
[2962.8240557476001,0.25190228733242398,0.348090120529717,0.27360499414993844,0,0]
[2970.2311158869602,0.251633524710623,0.34799039131536103,0.2738731737961817,0,0]
[2977.6566936766799,0.25136558430905698,0.34789035393443302,0.27414056703910694,0,0]
[2985.1008354108699,0.25109846493682098,0.34779001002924698,0.27440717530502085,0,0]
[2992.5635874994,0.25083216539708603,0.34768936124744099,0.27467300002453454,0,0]
[3000.0449964681502,0.25056668448713998,0.34758840924189799,0.27493804263250704,0,0]
[3007.5451089593198,0.25030202099844101,0.34748715567066002,0.27520230456797679,0,0]
[3015.0639717317199,0.25003817371665499,0.34738560219685299,0.27546578727410886,0,0]
[3022.6016316610499,0.249775141421714,0.34728375048860199,0.27572849219812212,0,0]
[3030.1581357402001,0.24951292288784899,0.347181602218957,0.27599042079124148,0,0]
[3037.7335310795502,0.249251516883646,0.347079159065805,0.27625157450862753,0,0]
[3045.3278649072499,0.24899092217209001,0.34697642271179802,0.27651195480931806,0,0]
[3052.9411845695199,0.24873113751060999,0.34687339484426599,0.27677156315616908,0,0]
[3060.57353753094,0.24847216165112501,0.34677007715514202,{"$f":"SQRT(($G$1-B454)^2+($G$2-C454)^2)","v":0.27703040101579479},0,0]
[3068.2249713747701,0.248213993340091,0.34666647134088102,0.27728846985850703,{"$f":"IF((D455-E454)<0,D455,0)","v":0},{"$f":"IF(E455<>0,F454+1,0)","v":0}]
[3075.8955338032001,0.247956631318549,0.34656257910237798,0.27754577115825307,0,0]
[3083.5852726377102,0.24770007432216701,0.34645840214489199,0.27780230639256104,0,0]
[3091.29423581931,0.247444321081288,0.346353942177964,0.2780580770424782,0,0]
[3099.0224714088499,0.24718937032097901,0.34624920091533901,0.27831308459250881,0,0]
[3106.7700275873799,0.24693522076107199,0.34614418007488701,0.27856733053056071,0,0]
[3114.53695265634,0.24668187111621301,0.34603888137852201,0.27882081634788336,0,0]
[3122.3232950379802,0.24642932009590399,0.34593330655212701,0.27907354353901326,0,0]
[3130.1291032755798,0.24617756640455599,0.34582745732546899,0.27932551360170893,0,0]
[3137.9544260337698,0.245926608741528,0.34572133543212902,0.2795767280368997,0,0]
[3145.7993120988499,0.24567644580117401,0.345614942609414,0.27982718834862669,0,0]
[3153.6638103791001,0.24542707627289201,0.34550828059828698,0.28007689604398206,0,0]
[3161.5479699050502,0.24517849884116499,0.34540135114328302,0.28032585263305659,0,0]
[3169.4518398298101,0.244930712185608,0.34529415599243601,0.28057405962888138,0,0]
[3177.3754694293798,0.24468371498101599,0.345186696897196,0.28082151854736842,0,0]
[3185.31890810296,0.24443750589740601,0.34507897561235701,0.28106823090725774,0,0]
[3193.2822053732102,0.244192083600063,0.34497099389597202,0.28131419823006082,0,0]
[3201.26541088665,0.24394744674958499,0.34486275350928602,0.28155942204000456,0,0]
[3209.2685744138598,0.24370359400193001,0.34475425621665101,0.2818039038639743,0,0]
[3217.2917458499001,0.24346052400845899,0.34464550378545,0.28204764523146031,0,0]
[3225.33497521452,0.243218235415981,0.34453649798602398,0.28229064767450285,0,0]
[3233.39831265256,0.242976726866798,0.34442724059159402,0.28253291272763736,0,0]
[3241.48180843419,0.24273599699875201,0.344317733378182,0.28277444192783785,0,0]
[3249.5855129552801,0.24249604444526399,0.34420797812454201,0.28301523681446855,0,0]
[3257.7094767376602,0.242256867835385,0.34409797661207397,0.28325529892922291,0,0]
[3265.85375042951,0.24201846579383701,0.34398773062475801,0.28349462981607482,0,0]
[3274.0183848055799,0.24178083694106001,0.34387724194907299,0.2837332310212215,0,0]
[3282.2034307675899,0.24154397989325099,0.34376651237392603,0.28397110409303666,0,0]
[3290.4089393445101,0.241307893262413,0.343655543690572,0.28420825058201249,0,0]
[3298.6349616928701,0.241072575656398,0.343544337692544,0.2844446720407085,0,0]
[3306.8815490971101,0.24083802567895199,0.34343289617557698,0.28468037002369884,0,0]
[3315.1487529698502,0.24060424192975399,0.34332122093753298,0.28491534608752445,0,0]
[3323.4366248522701,0.24037122300446701,0.34320931377832897,0.28514960179063525,0,0]
[3331.7452164144001,0.24013896749477701,0.34309717649986099,0.2853831386933432,0,0]
[3340.07457945544,0.23990747398843701,0.34298481090593202,0.28561595835777104,0,0]
[3348.4247659040798,0.239676741069312,0.34287221880218099,0.28584806234779991,0,0]
[3356.7958278188398,0.23944676731742101,0.34275940199600602,0.28607945222902081,0,0]
[3365.1878173883802,0.23921755130898301,0.34264636229649398,0.28631012956868135,0,0]
[3373.6007869318601,0.23898909161645401,0.34253310151434802,0.28654009593564295,0,0]
[3382.0347888991901,0.238761386808579,0.34241962146181498,0.28676935290032124,0,0]
[3390.4898758714298,0.23853443545042699,0.342305923952615,0.28699790203464631,0,0]
[3398.9661005611101,0.23830823610343699,0.34219201080187001,0.28722574491200942,0,0]
[3407.4635158125102,0.23808278732546201,0.342077883826028,0.28745288310721406,0,0]
[3415.9821746020498,0.23785808767081101,0.34196354484279901,0.287679318196428,0,0]
[3424.5221300385501,0.23763413569028699,0.34184899567108101,0.28790505175713982,0,0]
[3433.0834353636501,0.237410929931237,0.34173423813088799,0.28813008536810386,0,0]
[3441.6661439520599,0.23718846893758999,0.34161927404328302,0.28835442060929706,0,0]
[3450.2703093119399,0.23696675124989799,0.341504105230307,0.28857805906187289,0,0]
[3458.8959850852102,0.236745775405378,0.341388733514909,0.28880100230811517,0,0]
[3467.5432250479298,0.23652553993796099,0.34127316072087899,0.28902325193138423,0,0]
[3476.2120831105499,0.23630604337832301,0.34115738867277501,0.28924480951608167,0,0]
[3484.9026133183202,0.23608728425393299,0.34104141919585801,0.28946567664759837,0,0]
[3493.6148698516099,0.23586926108909501,0.34092525411602398,0.28968585491226845,0,0]
[3502.3489070262499,0.235651972404986,0.34080889525973401,0.28990534589732758,0,0]
[3511.1047792938102,0.2354354167197,0.34069234445394497,0.2901241511908656,0,0]
[3519.8825412420501,0.235219592548288,0.34057560352604899,0.29034227238178284,0,0]
[3528.6822475951499,0.235004498402797,0.340458674303798,0.2905597110597482,0,0]
[3537.50395321414,0.234790132792315,0.34034155861524401,0.29077646881515112,0,0]
[3546.3477130971801,0.234576494223009,0.34022425828866698,0.29099254723906071,0,0]
[3555.2135823799199,0.234363581198167,0.34010677515251297,0.29120794792318105,0,0]
[3564.1016163358699,0.234151392218236,0.33998911103532797,0.29142267245981135,0,0]
[3573.0118703767098,0.233939925780865,0.33987126776568999,0.29163672244179967,0,0]
[3581.9444000526501,0.23372918038094401,0.339753247172146,0.29185009946250262,0,0]
[3590.8992610527798,0.23351915451064401,0.33963505108314601,{"$f":"SQRT(($G$1-B518)^2+($G$2-C518)^2)","v":0.29206280511574356},0,0]
[3599.87650920541,0.233309846659456,0.33951668132697999,0.29227484099577106,{"$f":"IF((D519-E518)<0,D519,0)","v":0},{"$f":"IF(E519<>0,F518+1,0)","v":0}]
[3608.8762004784298,0.23310125531423401,0.33939813973171201,0.29248620869721542,0,0]
[3617.8983909796202,0.23289337895923101,0.33927942812511902,0.29269690981505042,0,0]
[3626.9431369570698,0.23268621607613901,0.339160548334625,0.2929069459445528,0,0]
[3636.01049479946,0.23247976514413199,0.339041502187237,0.29311631868125815,0,0]
[3645.1005210364601,0.23227402463989899,0.338922291509486,0.29332502962092649,0,0]
[3654.21327233905,0.23206899303768799,0.33880291812736302,0.2935330803594986,0,0]
[3663.3488055199,0.231864668809344,0.33868338386625302,0.29374047249305701,0,0]
[3672.5071775337001,0.23166105042434601,0.33856369055088098,0.29394720761778836,0,0]
[3681.68844547753,0.23145813634984599,0.33844384000524202,0.29415328732994539,0,0]
[3690.89266659123,0.23125592505071099,0.33832383405254501,0.29435871322580387,0,0]
[3700.1198982576998,0.23105441498955601,0.33820367451515398,0.29456348690163048,0,0]
[3709.3701980033502,0.230853604626784,0.33808336321452098,0.29476760995364298,0,0]
[3718.6436234983598,0.23065349242062699,0.33796290197113099,0.29497108397796995,0,0]
[3727.9402325571,0.230454076827179,0.33784229260444198,0.29517391057061837,0,0]
[3737.2600831384898,0.230255356300438,0.33772153693282297,0.29537609132743264,0,0]
[3746.6032333463399,0.23005732929234199,0.337600636773496,0.29557762784405994,0,0]
[3755.9697414297102,0.22985999425280401,0.33747959394247901,0.29577852171591579,0,0]
[3765.35966578328,0.22966334962975299,0.33735841025452701,0.29597877453814514,0,0]
[3774.7730649477398,0.22946739386917001,0.33723708752307002,0.2961783879055877,0,0]
[3784.2099976101099,0.22927212541512301,0.337115627560161,0.29637736341274484,0,0]
[3793.6705226041299,0.22907754270980701,0.33699403217641699,0.29657570265374122,0,0]
[3803.15469891064,0.22888364419357801,0.33687230318095901,0.29677340722229317,0,0]
[3812.6625856579199,0.22869042830499001,0.33675044238135798,0.29697047871167381,0,0]
[3822.1942421220601,0.22849789348083399,0.33662845158357901,0.29716691871467654,0,0]
[3831.7497277273701,0.22830603815617001,0.33650633259192297,0.29736272882358561,0,0]
[3841.32910204669,0.22811486076436499,0.336384087208975,0.29755791063014075,0,0]
[3850.9324248018002,0.22792435973713099,0.33626171723554499,0.29775246572550196,0,0]
[3860.5597558638101,0.227734533504557,0.33613922447061201,0.29794639570022113,0,0]
[3870.2111552534702,0.227545380495147,0.33601661071127598,0.29813970214420654,0,0]
[3879.8866831415999,0.227356899135855,0.33589387775269802,0.29833238664669165,0,0]
[3889.5863998494501,0.22716908785212001,0.33577102738804598,0.29852445079620354,0,0]
[3899.31036584908,0.22698194506789901,0.335648061408446,0.2987158961805334,0,0]
[3909.0586417637001,0.226795469205709,0.33552498160292399,0.2989067243866988,0,0]
[3918.8312883681101,0.226609658686653,0.33540178975835599,0.29909693700092121,0,0]
[3928.6283665890301,0.22642451193046001,0.33527848765941498,0.29928653560859031,0,0]
[3938.4499375055002,0.22624002735551901,0.33515507708851799,0.29947552179423426,0,0]
[3948.29606234926,0.22605620337891,0.33503155982577598,0.29966389714149327,0,0]
[3958.1668025051399,0.22587303841644299,0.334907937648939,0.29985166323308482,0,0]
[3968.0622195114001,0.22569053088268901,0.33478421233334898,0.30003882165077805,0,0]
[3977.9823750601799,0.225508679191016,0.33466038565188699,0.3002253739753617,0,0]
[3987.9273309978298,0.225327481753618,0.33453645937492499,0.30041132178662106,0,0]
[3997.8971493253198,0.22514693698155699,0.33441243527026898,0.30059666666330054,0,0]
[4007.8918921986401,0.224967043284788,0.33428831510312101,0.30078141018308396,0,0]
[4017.91162192913,0.22478779907219501,0.33416410063601698,0.30096555392256458,0,0]
[4027.9564009839601,0.22460920275162799,0.33403979362878899,0.30114909945721302,0,0]
[4038.0262919864199,0.224431252729931,0.33391539583850599,0.30133204836135541,0,0]
[4048.1213577163799,0.224253947412976,0.33379090901943698,0.30151440220814496,0,0]
[4058.2416611106701,0.224077285205699,0.33366633492299103,0.30169616256953219,0,0]
[4068.38726526345,0.223901264512126,0.33354167529767997,0.30187733101624509,0,0]
[4078.5582334266101,0.223725883735412,0.33341693188906502,0.3020579091177561,0,0]
[4088.75462901017,0.22355114127787001,0.33329210643971202,0.30223789844225979,0,0]
[4098.9765155826999,0.22337703554100199,0.33316720068914402,0.30241730055664856,0,0]
[4109.2239568716504,0.223203564925535,0.333042216373795,0.3025961170264827,0,0]
[4119.4970167638303,0.22303072783144801,0.33291715522696502,0.30277434941597081,0,0]
[4129.7957593057399,0.22285852265800499,0.33279201897877397,0.30295199928794359,0,0]
[4140.12024870401,0.22268694780379,0.33266680935611698,0.30312906820382557,0,0]
[4150.4705493257698,0.22251600166673299,0.332541528082617,0.30330555772361678,0,0]
[4160.8467256990798,0.22234568264414301,0.33241617687858299,0.30348146940586679,0,0]
[4171.2488425133297,0.222175989132745,0.33229075746096698,0.30365680480764506,0,0]
[4181.6769646196099,0.222006919528698,0.33216527154331599,0.30383156548453083,0,0]
[4192.13115703116,0.221838472227638,0.33203972083573102,0.30400575299057747,0,0]
[4202.6114849237401,0.22167064562470101,0.33191410704482399,0.3041793688782975,0,0]
[4213.1180136360499,0.221503438114559,0.33178843187367402,{"$f":"SQRT(($G$1-B582)^2+($G$2-C582)^2)","v":0.30435241469863467},0,0]
[4223.6508086701397,0.22133684809144399,0.33166269702178602,0.3045248920009474,{"$f":"IF((D583-E582)<0,D583,0)","v":0},{"$f":"IF(E583<>0,F582+1,0)","v":0}]
[4234.2099356918097,0.221170873949185,0.331536904185047,0.30469680233298074,0,0]
[4244.7954605310397,0.22100551408123101,0.33141105505568602,0.30486814724085104,0,0]
[4255.4074491823703,0.22084076688068599,0.33128515132223002,0.3050389282690199,0,0]
[4266.0459678053203,0.220676630740337,0.33115919466946803,0.30520914696027385,0,0]
[4276.7110827248398,0.22051310405268201,0.33103318677840399,0.30537880485570584,0,0]
[4287.40286043165,0.220350185209962,0.33090712932621902,0.30554790349469163,0,0]
[4298.1213675827303,0.22018787260418801,0.33078102398623199,0.30571644441487156,0,0]
[4308.8666710016796,0.220026164627173,0.33065487242786001,0.30588442915212766,0,0]
[4319.6388376791901,0.219865059670555,0.33052867631657601,0.3060518592405696,0,0]
[4330.4379347733902,0.21970455612583401,0.33040243731387298,0.30621873621250711,0,0]
[4341.26402961032,0.219544652384394,0.33027615707722402,0.3063850615984367,0,0]
[4352.1171896843398,0.21938534683753499,0.33014983726004299,0.30655083692701979,0,0]
[4362.9974826585503,0.21922663787649899,0.33002347951164601,0.30671606372506571,0,0]
[4373.9049763652001,0.21906852389250001,0.32989708547721602,0.30688074351751143,0,0]
[4384.8397388061103,0.218911003276752,0.32977065679776302,0.30704487782740325,0,0]
[4395.8018381531301,0.21875407442049499,0.32964419511008902,0.3072084681758806,0,0]
[4406.79134274851,0.218597735715026,0.32951770204674902,0.30737151608215491,0,0]
[4417.8083211053799,0.218441985551725,0.32939117923601302,0.30753402306349376,0,0]
[4428.8528419081504,0.21828682232208099,0.329264628301838,0.30769599063520464,0,0]
[4439.9249740129198,0.21813224441772,0.32913805086381998,0.30785742031061747,0,0]
[4451.0247864479497,0.21797825023043499,0.32901144853717001,0.30801831360106469,0,0]
[4462.1523484140698,0.21782483815221099,0.32888482293266902,0.30817867201586668,0,0]
[4473.3077292851003,0.21767200657525099,0.328758175656643,0.30833849706231614,0,0]
[4484.4909986083203,0.21751975389200401,0.32863150831091698,0.30849779024566099,0,0]
[4495.7022261048396,0.21736807849519199,0.328504822492793,0.3086565530690874,0,0]
[4506.9414816701001,0.217216978777835,0.32837811979500497,0.3088147870337063,0,0]
[4518.2088353742702,0.21706645313328099,0.32825140180569501,0.30897249363853313,0,0]
[4529.5043574627098,0.21691649995522699,0.32812467010836999,0.30912967438047911,0,0]
[4540.8281183563604,0.216767117637749,0.32799792628188001,0.30928633075433093,0,0]
[4552.1801886522599,0.21661830457532699,0.32787117190037401,0.3094424642527378,0,0]
[4563.5606391238898,0.21647005916287099,0.32774440853327702,0.30959807636619585,0,0]
[4574.9695407216996,0.21632237979574501,0.32761763774525399,0.30975316858303581,0,0]
[4586.4069645734999,0.21617526486979699,0.32749086109617598,0.30990774238940438,0,0]
[4597.8729819849304,0.216028712781379,0.32736408014109403,0.31006179926925515,0,0]
[4609.3676644398902,0.21588272192737601,0.32723729643020399,0.3102153407043316,0,0]
[4620.89108360099,0.21573729070523001,0.32711051150881798,0.31036836817415431,0,0]
[4632.4433113100004,0.21559241751296601,0.32698372691733102,0.31052088315600684,0,0]
[4644.0244195882697,0.215448100749214,0.32685694419119699,0.3106728871249248,0,0]
[4655.6344806372399,0.21530433881323899,0.32673016486089101,0.31082438155367864,0,0]
[4667.2735668388304,0.21516113010495999,0.32660339045188602,0.31097536791276548,0,0]
[4678.9417507559301,0.21501847302498001,0.326476622484621,0.31112584767039159,0,0]
[4690.6391051328201,0.21487636597460399,0.32634986247447201,0.31127582229246625,0,0]
[4702.3657028956504,0.21473480735587,0.32622311193172598,0.31142529324258261,0,0]
[4714.1216171528904,0.21459379557157099,0.32609637236154898,0.3115742619820081,0,0]
[4725.9069211957703,0.214453329025275,0.32596964526396,0.31172272996967626,0,0]
[4737.7216884987602,0.21431340612135399,0.325842932133806,0.31187069866217015,0,0]
[4749.5659927200104,0.21417402526500601,0.325716234460728,0.31201816951371258,0,0]
[4761.4399077018097,0.21403518486227899,0.325589553729141,0.31216514397615475,0,0]
[4773.3435074710696,0.21389688332009399,0.325462891418204,0.31231162349896507,0,0]
[4785.2768662397402,0.21375911904626799,0.32533624900179298,0.31245760952921919,0,0]
[4797.2400584053403,0.213621890449539,0.32520962794847802,0.31260310351158715,0,0]
[4809.2331585513502,0.21348519593958701,0.325083029721493,0.31274810688832516,0,0]
[4821.2562414477297,0.213349033927061,0.32495645577871302,0.31289262109926153,0,0]
[4833.3093820513504,0.21321340282359499,0.32482990757262897,0.31303664758179256,0,0]
[4845.39265550648,0.213078301041838,0.32470338655032499,0.31318018777086581,0,0]
[4857.5061371452502,0.21294372699547301,0.32457689415344598,0.31332324309897419,0,0]
[4869.6499024881095,0.21280967909924001,0.324450431818184,0.31346581499614506,0,0]
[4881.82402724433,0.21267615576896001,0.324324000975247,0.31360790488992962,0,0]
[4894.0285873124403,0.212543155421555,0.32419760304983702,0.31374951420539593,0,0]
[4906.2636587807201,0.212410676475071,0.32407123946162703,0.31389064436511832,0,0]
[4918.5293179276696,0.21227871734870199,0.32394491162473799,0.3140312967891673,0,0]
[4930.82564122249,0.21214727646280901,0.32381862094771702,0.31417147289510261,0,0]
[4943.1527053255504,0.212016352238943,0.32369236883351399,{"$f":"SQRT(($G$1-B646)^2+($G$2-C646)^2)","v":0.31431117409796422},0,0]
[4955.5105870888601,0.21188594309986999,0.32356615667945698,0.31445040181026007,{"$f":"IF((D647-E646)<0,D647,0)","v":0},{"$f":"IF(E647<>0,F646+1,0)","v":0}]
[4967.8993635565803,0.21175604746958601,0.32343998587723699,0.31458915744196408,0,0]
[4980.3191119654703,0.21162666377334499,0.32331385781287902,0.31472744240050188,0,0]
[4992.7699097453897,0.211497790437675,0.32318777386672598,0.31486525809074772,0,0]
[5005.2518345197504,0.211369425890405,0.32306173541341299,0.31500260591501117,0,0]
[5017.7649641060498,0.21124156856068099,0.32293574382185403,0.31513948727303354,0,0]
[5030.3093765163103,0.21111421687899001,0.32280980045521301,0.31527590356197849,0,0]
[5042.8851499576003,0.21098736927718001,0.32268390667088998,0.3154118561764247,0,0]
[5055.4923628324996,0.21086102418848099,0.32255806382049901,0.31554734650835825,0,0]
[5068.1310937395801,0.21073518004752501,0.32243227324984802,0.31568237594716658,0,0]
[5080.8014214739296,0.210609835290368,0.32230653629892198,0.31581694587962944,0,0]
[5093.5034250276103,0.21048498835450899,0.322180854301862,0.31595105768991394,0,0]
[5106.2371835901804,0.210360637678913,0.32205522858694602,0.31608471275956473,0,0]
[5119.0027765491604,0.21023678170402699,0.32192966047657301,0.31621791246750169,0,0]
[5131.8002834905301,0.21011341887180501,0.32180415128724399,0.31635065819000857,0,0]
[5144.62978419925,0.209990547625723,0.32167870232954199,0.31648295130073173,0,0]
[5157.4913586597504,0.209868166410802,0.321553314908121,0.31661479317067032,0,0]
[5170.3850870564002,0.20974627367363,0.32142799032168001,0.31674618516816855,0,0]
[5183.3110497740399,0.209624867862377,0.321302729862952,0.31687712865891415,0,0]
[5196.2693273984796,0.209503947426816,0.32117753481868799,0.31700762500593088,0,0]
[5209.2600007169704,0.209383510818343,0.32105240646963601,0.31713767556957251,0,0]
[5222.2831507187702,0.20926355649,0.32092734609052997,0.31726728170751339,0,0]
[5235.3388585955599,0.20914408289648601,0.32080235495007098,0.31739644477475148,0,0]
[5248.4272057420503,0.209025088494185,0.320677434310914,0.31752516612359361,0,0]
[5261.5482737564098,0.20890657174117699,0.32055258542964998,0.31765344710365884,0,0]
[5274.7021444408001,0.208788531097266,0.32042780955679401,0.31778128906186387,0,0]
[5287.8888998019002,0.20867096502398799,0.32030310793676903,0.31790869334242905,0,0]
[5301.1086220513998,0.20855387198464001,0.32017848180789199,0.31803566128686295,0,0]
[5314.3613936065303,0.20843725044429201,0.32005393240236002,0.31816219423396447,0,0]
[5327.6472970905497,0.20832109886980801,0.31992946094623698,0.31828829351981547,0,0]
[5340.9664153332697,0.20820541572986301,0.31980506865943797,0.3184139604777777,0,0]
[5354.31883137161,0.20809019949496499,0.31968075675572,0.31853919643848466,0,0]
[5367.7046284500302,0.207975448637467,0.31955652644266702,0.31866400272984308,0,0]
[5381.1238900211602,0.20786116163159199,0.31943237892167597,0.31878838067702248,0,0]
[5394.5766997462097,0.207747336953443,0.31930831538794702,0.31891233160245819,0,0]
[5408.0631414955797,0.20763397308103099,0.319184337030471,0.31903585682583796,0,0]
[5421.5832993493204,0.20752106849428201,0.31906044503201503,0.31915895766410823,0,0]
[5435.1372575976902,0.20740862167506299,0.31893664056911603,0.31928163543146221,0,0]
[5448.7251007416799,0.20729663110719401,0.31881292481206602,0.31940389143934173,0,0]
[5462.3469134935403,0.20718509527647,0.318689298924901,0.31952572699642889,0,0]
[5476.0027807772703,0.20707401267067299,0.318565764065392,0.3196471434086483,0,0]
[5489.6927877292101,0.206963381779596,0.31844232138503498,0.31976814197915637,0,0]
[5503.4170196985297,0.20685320109505301,0.31831897202903903,0.31988872400834545,0,0]
[5517.1755622477804,0.206743469110902,0.318195717136319,0.32000889079383449,0,0]
[5530.9685011534002,0.206634184323057,0.31807255783948402,0.320128643630471,0,0]
[5544.7959224062797,0.206525345229508,0.31794949526482702,0.32024798381032482,0,0]
[5558.6579122123003,0.206416950330337,0.31782653053232102,0.32036691262268552,0,0]
[5572.5545569928299,0.20630899812773401,0.31770366475560602,0.3204854313540606,0,0]
[5586.4859433853098,0.20620148712601299,0.31758089904198,0.32060354128817314,0,0]
[5600.4521582437701,0.20609441583163199,0.31745823449239502,0.32072124370595528,0,0]
[5614.4532886393799,0.20598778275320201,0.31733567220144698,0.32083853988555322,0,0]
[5628.4894218609797,0.20588158640151,0.31721321325736601,0.32095543110231783,0,0]
[5642.5606454156296,0.205775825289533,0.31709085874201398,0.32107191862880413,0,0]
[5656.6670470291701,0.20567049793245401,0.31696860973087299,0.32118800373476925,0,0]
[5670.8087146467496,0.205565602847675,0.316846467293041,0.32130368768717293,0,0]
[5684.9857364333602,0.205461138554836,0.31672443249122501,0.32141897175017198,0,0]
[5699.19820077445,0.20535710357583101,0.31660250638173498,0.32153385718511818,0,0]
[5713.4461962763799,0.20525349643482099,0.31648069001447898,0.32164834525055852,0,0]
[5727.7298117670698,0.20515031565825201,0.31635898443295302,0.32176243720223097,0,0]
[5742.0491362964904,0.20504755977486699,0.316237390674241,0.32187613429306616,0,0]
[5756.4042591372299,0.20494522731572401,0.316115909769008,0.32198943777318217,0,0]
[5770.7952697850696,0.204843316814211,0.31599454274149402,0.32210234888988387,0,0]
[5785.22225795954,0.20474182680606001,0.31587329060951003,0.32221486888766182,0,0]
[5799.6853136044301,0.204640755829361,0.31575215438443699,{"$f":"SQRT(($G$1-B710)^2+($G$2-C710)^2)","v":0.32232699900819156},0,0]
[5814.1845268884399,0.20454010242457901,0.31563113507121399,0.32243874049033078,{"$f":"IF((D711-E710)<0,D711,0)","v":0},{"$f":"IF(E711<>0,F710+1,0)","v":0}]
[5828.7199882056702,0.20443986513456799,0.31551023366834302,0.32255009457011757,0,0]
[5843.2917881761796,0.20434004250458401,0.31538945116788197,0.32266106248077137,0,0]
[5857.9000176466197,0.204240633082301,0.315268788555438,0.32277164545269066,0,0]
[5872.5447676907397,0.20414163541782501,0.31514824681017101,0.32288184471345094,0,0]
[5887.2261296099596,0.20404304806370899,0.31502782690478598,0.32299166148780428,0,0]
[5901.9441949339898,0.20394486957496599,0.31490752980553399,0.32310109699767842,0,0]
[5916.6990554213198,0.203847098509081,0.31478735647220701,0.32321015246217871,0,0]
[5931.4908030598699,0.203749733426032,0.31466730785813701,0.32331882909757997,0,0]
[5946.3195300675197,0.203652772888295,0.31454738491019502,0.32342712811733415,0,0]
[5961.1853288926904,0.203556215460864,0.314427588568789,0.3235350507320639,0,0]
[5976.0882922149203,0.20346005971126099,0.31430791976786498,0.32364259814956509,0,0]
[5991.0285129454596,0.20336430420955401,0.31418837943490102,0.32374977157480239,0,0]
[6006.0060842278199,0.203268947528364,0.31406896849091198,0.32385657220991415,0,0]
[6021.0210994383897,0.20317398824288299,0.31394968785044702,0.32396300125420824,0,0]
[6036.0736521869903,0.20307942493088499,0.31383053842158798,0.32406905990416346,0,0]
[6051.1638363174598,0.20298525617274299,0.31371152110595202,0.32417474935342505,0,0]
[6066.29174590825,0.20289148055143499,0.31359263679868998,0.32428007079281201,0,0]
[6081.4574752730196,0.20279809665256299,0.313473886388489,0.32438502541031011,0,0]
[6096.6611189612004,0.20270510306436301,0.31335527075757302,0.32448961439107488,0,0]
[6111.9027717585996,0.202612498377718,0.31323679078170202,0.32459383891743132,0,0]
[6127.1825286880003,0.20252028118617099,0.31311844733017402,0.32469770016887312,0,0]
[6142.5004850097203,0.20242845008593799,0.31300024126582998,0.32480119932206208,0,0]
[6157.8567362222402,0.202337003675917,0.31288217344505198,0.32490433755083192,0,0]
[6173.2513780627996,0.20224594055770601,0.31276424471776598,0.32500711602618237,0,0]
[6188.6845065079597,0.20215525933560799,0.312646455927446,0.32510953591628661,0,0]
[6204.1562177742198,0.20206495861665,0.31252880791111498,0.32521159838648434,0,0]
[6219.6666083186601,0.201975037010591,0.31241130149934898,0.32531330459928615,0,0]
[6235.2157748394602,0.20188549312993401,0.31229393751627799,0.325414655714374,0,0]
[6250.8038142765499,0.20179632558993699,0.31217671677959502,0.32551565288860146,0,0]
[6266.4308238122403,0.20170753300862901,0.31205964010054998,0.32561629727599084,0,0]
[6282.0969008717702,0.20161911400681501,0.31194270828396597,0.32571659002773912,0,0]
[6297.8021431239504,0.201531067208092,0.31182592212823101,0.3258165322922148,0,0]
[6313.5466484817598,0.20144339123885799,0.31170928242531099,0.32591612521496027,0,0]
[6329.3305151029699,0.201356084728326,0.31159278996075201,0.32601536993868968,0,0]
[6345.1538413907201,0.20126914630853099,0.31147644551368298,0.32611426760329376,0,0]
[6361.0167259942,0.201182574614343,0.31136024985682398,0.32621281934583857,0,0]
[6376.9192678091904,0.20109636828347799,0.31124420375648798,0.32631102630056608,0,0]
[6392.8615659787101,0.20101052595651001,0.311128307972592,0.32640888959889353,0,0]
[6408.8437198936499,0.20092504627687699,0.31101256325865601,0.32650641036941952,0,0]
[6424.8658291933898,0.200839927890896,0.31089697036181302,0.32660358973792003,0,0]
[6440.9279937663696,0.200755169447774,0.310781530022815,0.32670042882734884,0,0]
[6457.0303137507899,0.200670769599612,0.31066624297604101,0.3267969287578445,0,0]
[6473.1728895351598,0.20058672700142299,0.31055110994949803,0.32689309064672473,0,0]
[6489.3558217589998,0.200503040311135,0.31043613166483403,0.32698891560849341,0,0]
[6505.5792113134003,0.200419708189607,0.31032130883734399,0.32708440475483608,0,0]
[6521.8431593416799,0.20033672930063401,0.31020664217597399,0.32717955919462643,0,0]
[6538.1477672400297,0.200254102310961,0.310092132383332,0.3272743800339229,0,0]
[6554.4931366581304,0.20017182589029001,0.30997778015569599,0.32736886837597229,0,0]
[6570.8793694997803,0.20008989871128699,0.30986358618301901,0.32746302532121446,0,0]
[6587.3065679235297,0.20000831944959699,0.30974955114893998,0.32755685196727763,0,0]
[6603.7748343433404,0.19992708678385199,0.30963567573079298,0.32765034940898063,0,0]
[6620.2842714291901,0.199846199395674,0.30952196059961201,0.32774351873834168,0,0]
[6636.83498210777,0.19976565596969301,0.309408406420146,0.32783636104456992,0,0]
[6653.4270695630403,0.19968545519354999,0.309295013850862,0.32792887741407351,0,0]
[6670.0606372369402,0.19960559575790901,0.30918178354395798,0.32802106893045779,0,0]
[6686.7357888300403,0.199526076356461,0.30906871614537201,0.32811293667453201,0,0]
[6703.4526283021096,0.19944689568594001,0.30895581229479002,0.32820448172430339,0,0]
[6720.21125987287,0.19936805244612399,0.30884307262566202,0.32829570515498563,0,0]
[6737.0117880225498,0.19928954533984899,0.30873049776520201,0.32838660803899677,0,0]
[6753.8543174925999,0.19921137307301401,0.30861808833440901,0.32847719144596255,0,0]
[6770.7389532863299,0.199133534354592,0.30850584494807098,0.32856745644271651,0,0]
[6787.6658006695498,0.19905602789663299,0.30839376821477998,0.32865740409330613,0,0]
[6804.6349651712198,0.19897885241427901,0.30828185873693797,{"$f":"SQRT(($G$1-B774)^2+($G$2-C774)^2)","v":0.32874703545898853},0,0]
[6821.6465525841504,0.19890200662576399,0.30817011711077302,0.32883635159823971,{"$f":"IF((D775-E774)<0,D775,0)","v":0},{"$f":"IF(E775<>0,F774+1,0)","v":0}]
[6838.70066896561,0.19882548925242999,0.30805854392635101,0.32892535356674779,0,0]
[6855.7974206380204,0.19874929901872701,0.30794713976758198,0.32901404241742399,0,0]
[6872.9369141896204,0.198673434652227,0.30783590521223803,0.32910241920039685,0,0]
[6890.11925647509,0.198597894883627,0.307724840831963,0.32919048496301928,0,0]
[6907.3445546162802,0.198522678446755,0.30761394719228202,0.32927824074987233,0,0]
[6924.6129160028204,0.19844778407858499,0.30750322485262099,0.32936568760275842,0,0]
[6941.9244482928298,0.19837321051923501,0.30739267436631101,0.32945282656071379,0,0]
[6959.2792594135599,0.19829895651198001,0.30728229628060799,0.32953965866000379,0,0]
[6976.6774575620902,0.19822502080325299,0.30717209113670202,0.32962618493413159,0,0]
[6994.1191512060004,0.19815140214266,0.30706205946973297,0.32971240641383137,0,0]
[7011.6044490840104,0.19807809928297901,0.30695220180880101,0.32979832412707932,0,0]
[7029.13346020672,0.19800511098017101,0.30684251867698298,0.3298839390990907,0,0]
[7046.7062938572399,0.197932435993385,0.306733010591346,0.32996925235232366,0,0]
[7064.3230595918803,0.19786007308496201,0.30662367806295898,0.33005426490648443,0,0]
[7081.9838672408596,0.19778802102044599,0.306514521596912,0.33013897777852413,0,0]
[7099.6888269089604,0.19771627856858601,0.30640554169232298,0.33022339198264633,0,0]
[7117.4380489762298,0.19764484450134301,0.30629673884236103,0.33030750853030738,0,0]
[7135.2316440986697,0.197573717593898,0.30618811353425301,0.3303913284302179,0,0]
[7153.0697232089196,0.19750289662465401,0.30607966624930599,0.33047485268834775,0,0]
[7170.9523975169404,0.19743238037524499,0.30597139746291702,0.3305580823079266,0,0]
[7188.8797785107299,0.19736216763053899,0.30586330764459102,0.33064101828944814,0,0]
[7206.8519779570097,0.19729225717864601,0.30575539725795398,0.3307236616306703,0,0]
[7224.8691079019,0.197222647810919,0.30564766676077298,0.33080601332662229,0,0]
[7242.9312806716598,0.19715333832196499,0.305540116604965,0.33088807436960194,0,0]
[7261.0386088733303,0.197084327509645,0.30543274723662101,0.33096984574918242,0,0]
[7279.1912053955202,0.19701561417508301,0.305325559096016,0.33105132845221191,0,0]
[7297.38918340901,0.19694719712266601,0.30521855261762898,0.33113252346282068,0,0]
[7315.6326563675302,0.19687907516005401,0.30511172823015698,0.33121343176241902,0,0]
[7333.9217380084501,0.19681124709818101,0.30500508635653201,0.33129405432970338,0,0]
[7352.2565423534697,0.19674371175126101,0.30489862741394202,0.33137439214065773,0,0]
[7370.6371837093502,0.196676467936793,0.30479235181384001,0.33145444616855652,0,0]
[7389.0637766686204,0.19660951447556299,0.30468625996196902,0.33153421738396877,0,0]
[7407.5364361102902,0.19654285019164999,0.30458035225837499,0.33161370675475998,0,0]
[7426.0552772005703,0.196476473912431,0.30447462909742401,0.33169291524609434,0,0]
[7444.6204153935696,0.196410384468582,0.30436909086782299,0.33177184382043995,0,0]
[7463.2319664320503,0.196344580694085,0.304263737952636,0.33185049343756912,0,0]
[7481.8900463481305,0.196279061426229,0.30415857072929903,0.33192886505456454,0,0]
[7500.5947714639997,0.196213825505616,0.30405358956964401,0.33200695962581894,0,0]
[7519.3462583926603,0.196148871776163,0.303948794839912,0.33208477810304093,0,0]
[7538.1446240386404,0.19608419908510699,0.30384418690077403,0.33216232143525581,0,0]
[7556.9899855987396,0.196019806283005,0.30373976610734799,0.33223959056881208,0,0]
[7575.8824605627397,0.19595569222374301,0.30363553280921801,0.33231658644737921,0,0]
[7594.8221667141397,0.195891855764532,0.30353148735045699,0.33239331001195715,0,0]
[7613.8092221309298,0.19582829576591701,0.30342763006963602,0.33246976220087487,0,0]
[7632.8437451862601,0.19576501109177699,0.303323961299855,0.33254594394979475,0,0]
[7651.9258545492203,0.19570200060932899,0.30322048136875202,0.33262185619171641,0,0]
[7671.05566918559,0.195639263189128,0.30311719059852898,0.33269749985698099,0,0]
[7690.23330835856,0.195576797705073,0.30301408930596802,0.33277287587327253,0,0]
[7709.4588916294497,0.19551460303440801,0.30291117780245203,0.33284798516562164,0,0]
[7728.7325388585296,0.19545267805772601,0.30280845639398501,0.33292282865640782,0,0]
[7748.0543702056702,0.19539102165896699,0.302705925381209,0.33299740726536703,0,0]
[7767.4245061311904,0.195329632725424,0.30260358505942903,0.33307172190959067,0,0]
[7786.8430673965104,0.19526851014774399,0.30250143571862798,0.33314577350353097,0,0]
[7806.3101750650003,0.19520765281993099,0.30239947764349001,0.33321956295900262,0,0]
[7825.8259505026699,0.195147059639346,0.30229771111342002,0.33329309118518841,0,0]
[7845.3905153789201,0.195086729506708,0.30219613640256299,0.33336635908864332,0,0]
[7865.0039916673704,0.195026661326099,0.30209475377982797,0.33343936757329456,0,0]
[7884.6665016465404,0.194966854004964,0.30199356350890399,0.33351211754044707,0,0]
[7904.3781679006497,0.194907306454111,0.301892565848284,0.3335846098887878,0,0]
[7924.1391133204097,0.194848017587712,0.30179176105128502,0.33365684551439012,0,0]
[7943.9494611037098,0.19478898632331099,0.301691149366068,0.33372882531071052,0,0]
[7963.80933475647,0.194730211581813,0.30159073103566197,0.33380055016860394,0,0]
[7983.7188580933598,0.19467169228749701,0.30149050629798102,{"$f":"SQRT(($G$1-B838)^2+($G$2-C838)^2)","v":0.33387202097631619},0,0]
[8003.6781552385901,0.19461342736800899,0.30139047538584801,0.33394323861949482,{"$f":"IF((D839-E838)<0,D839,0)","v":0},{"$f":"IF(E839<>0,F838+1,0)","v":0}]
[8023.6873506266902,0.19455541575436799,0.30129063852701798,0.33401420398118759,0,0]
[8043.7465690032504,0.194497656380962,0.30119099594419502,0.3340849179418513,0,0]
[8063.8559354257604,0.194440148185552,0.30109154785505599,0.33415538137935208,0,0]
[8084.0155752643204,0.19438289010927201,0.30099229447227599,0.33422559516896883,0,0]
[8104.2256142024798,0.19432588109662799,0.30089323600354201,0.33429556018339973,0,0]
[8124.4861782379903,0.19426912009549899,0.30079437265158199,0.334365277292764,0,0]
[8144.7973936835797,0.194212606057139,0.30069570461418299,0.33443474736460482,0,0]
[8165.1593871677896,0.19415633793617501,0.30059723208421701,0.33450397126389425,0,0]
[8185.5722856357097,0.19410031469060601,0.30049895524965797,0.33457294985303943,0,0]
[8206.0362163497994,0.19404453528180701,0.30040087429360701,0.33464168399188121,0,0]
[8226.5513068906694,0.19398899867452599,0.30030298939431499,0.33471017453770113,0,0]
[8247.1176851579003,0.19393370383688299,0.30020530072520502,0.33477842234522609,0,0]
[8267.7354793707891,0.193878649740371,0.30010780845489099,0.33484642826663125,0,0]
[8288.4048180692207,0.19382383535985701,0.30001051274720802,0.33491419315154131,0,0]
[8309.1258301143898,0.193769259673578,0.29991341376122699,0.33498171784703928,0,0]
[8329.8986446896797,0.193714921663143,0.29981651165128198,0.33504900319766695,0,0]
[8350.7233913014006,0.19366082031353099,0.29971980656698999,0.3351160500454301,0,0]
[8371.6001997796593,0.19360695461309199,0.29962329865327803,0.33518285922980107,0,0]
[8392.5292002791102,0.19355332355354299,0.29952698805040101,0.33524943158772524,0,0]
[8413.5105232797996,0.19349992612997,0.29943087489397002,0.33531576795362233,0,0]
[8434.5442995880003,0.193446761340826,0.29933495931497101,0.3353818691593915,0,0]
[8455.6306603369703,0.193393828187926,0.29923924143978903,0.33544773603441863,0,0]
[8476.7697369878097,0.19334112567645401,0.29914372139023099,0.3355133694055728,0,0]
[8497.9616613302805,0.193288652814953,0.29904839928355398,0.33557877009721804,0,0]
[8519.2065654836097,0.19323640861533101,0.298953275232479,0.33564393893121086,0,0]
[8540.5045818973194,0.19318439209285099,0.29885834934522398,0.33570887672691191,0,0]
[8561.8558433520593,0.19313260226613899,0.29876362172552001,0.33577358430118126,0,0]
[8583.2604829604406,0.19308103815717201,0.29866909247263901,0.33583806246839221,0,0]
[8604.7186341678407,0.19302969879128801,0.298574761681416,0.33590231204042387,0,0]
[8626.2304307532595,0.19297858319717101,0.29848062944227199,0.33596633382667801,0,0]
[8647.79600683014,0.192927690406861,0.298386695841238,0.33603012863407183,0,0]
[8669.4154968472103,0.19287701945574301,0.29829296095997898,0.33609369726705057,0,0]
[8691.0890355893298,0.19282656938254999,0.29819942487581802,0.33615704052758671,0,0]
[8712.8167581783,0.192776339229359,0.29810608766176,0.33622015921518561,0,0]
[8734.5988000737507,0.19272632804158801,0.29801294938651202,0.33628305412689113,0,0]
[8756.4352970739292,0.19267653486799499,0.29792001011451402,0.33634572605728746,0,0]
[8778.3263853166209,0.19262695876067501,0.29782726990595498,0.33640817579850468,0,0]
[8800.2722012799095,0.19257759877505601,0.29773472881680402,0.33647040414022383,0,0]
[8822.2728817831103,0.19252845396989901,0.29764238689882699,0.33653241186967903,0,0]
[8844.3285639875594,0.19247952340729299,0.29755024419961901,0.33659419977166333,0,0]
[8866.4393853975307,0.19243080615265401,0.29745830076261898,0.33665576862853203,0,0]
[8888.6054838610198,0.192382301274718,0.29736655662714101,0.33671711922021025,0,0]
[8910.8269975706808,0.192334007845545,0.297275011828397,0.33677825232419051,0,0]
[8933.1040650645991,0.192285924940509,0.29718366639751598,0.33683916871554453,0,0]
[8955.4368252272598,0.19223805163829799,0.29709252036157502,0.3368998691669236,0,0]
[8977.8254172903307,0.19219038702091301,0.29700157374361902,0.33696035444856109,0,0]
[9000.2699808335492,0.19214293017365799,0.29691082656268603,0.33702062532828342,0,0]
[9022.77065578564,0.192095680185145,0.296820278833832,0.33708068257150631,0,0]
[9045.3275824250995,0.19204863614728299,0.296729930568153,0.33714052694124641,0,0]
[9067.9409013811601,0.19200179715528001,0.29663978177281303,0.33720015919811985,0,0]
[9090.6107536346208,0.19195516230763501,0.29654983245106298,0.33725958010035223,0,0]
[9113.3372805186991,0.19190873070613901,0.29646008260227202,0.3373187904037766,0,0]
[9136.1206237200004,0.191862501455866,0.29637053222194398,0.33737779086184477,0,0]
[9158.9609252792998,0.19181647366517199,0.29628118130174702,0.33743658222562817,0,0]
[9181.8583275924902,0.191770646445693,0.29619202982953702,0.33749516524381989,0,0]
[9204.8129734114791,0.19172501891233601,0.29610307778938,0.33755354066274512,0,0]
[9227.8250058449994,0.19167959018328001,0.296014325161577,0.33761170922636041,0,0]
[9250.8945683596194,0.19163435937996801,0.29592577192269198,0.33766967167626111,0,0]
[9274.0218047805101,0.19158932562710401,0.29583741804557001,0.33772742875168565,0,0]
[9297.2068592924606,0.19154448805265101,0.29574926349936598,0.33778498118951766,0,0]
[9320.4498764406908,0.191499845787823,0.29566130824956599,0.33784232972429395,0,0]
[9343.7510011318009,0.191455397967083,0.29557355225801502,0.33789947508820628,0,0]
[9367.1103786346193,0.191411143728136,0.29548599548293902,{"$f":"SQRT(($G$1-B902)^2+($G$2-C902)^2)","v":0.33795641801110904},0,0]
[9390.5281545812104,0.191367082211928,0.29539863787897003,0.33801315922051972,{"$f":"IF((D903-E902)<0,D903,0)","v":0},{"$f":"IF(E903<>0,F902+1,0)","v":0}]
[9414.0044749676599,0.19132321256264001,0.29531147939716801,0.33806969944162563,0,0]
[9437.5394861550794,0.19127953392768099,0.29522451998504901,0.33812603939728986,0,0]
[9461.1333348704702,0.19123604545768599,0.29513775958660698,0.33818217980805365,0,0]
[9484.7861682076491,0.19119274630650901,0.29505119814233899,0.33823812139214315,0,0]
[9508.4981336281598,0.19114963563122001,0.294964835589268,0.33829386486547192,0,0]
[9532.2693789622299,0.19110671259210099,0.294878671860969,0.338349410941645,0,0]
[9556.1000524096398,0.191063976352635,0.29479270688759401,0.33840476033196853,0,0]
[9579.9903025406602,0.19102142607951,0.29470694059588998,0.33845991374544715,0,0]
[9603.9402782970101,0.190979060942606,0.29462137290923401,0.33851487188879431,0,0]
[9627.9501289927593,0.19093688011499299,0.29453600374764499,0.33856963546643565,0,0]
[9652.0200043152399,0.19089488277292599,0.29445083302781899,0.33862420518051189,0,0]
[9676.1500543260208,0.19085306809583899,0.29436586066314602,0.33867858173088505,0,0]
[9700.3404294618394,0.19081143526633901,0.29428108656373603,0.33873276581514383,0,0]
[9724.5912805354892,0.19076998347020299,0.29419651063644398,0.33878675812860531,0,0]
[9748.9027587368291,0.190728711896368,0.29411213278489401,0.33884055936432439,0,0]
[9773.2750156336697,0.19068761973693199,0.29402795290950201,0.33889417021309193,0,0]
[9797.7082031727605,0.190646706187139,0.29394397090750202,0.33894759136344865,0,0]
[9822.2024736806907,0.19060597044538499,0.29386018667296498,0.33900082350167915,0,0]
[9846.7579798648894,0.19056541171319999,0.29377660009683099,0.33905386731182713,0,0]
[9871.3748748145499,0.19052502919525399,0.29369321106692498,0.33910672347569015,0,0]
[9896.0533120015898,0.19048482209934001,0.29361001946798498,0.3391593926728344,0,0]
[9920.7934452815898,0.19044478963637501,0.293527025181687,0.33921187558059279,0,0]
[9945.5954288947996,0.19040493102039599,0.29344422808666498,0.33926417287406813,0,0]
[9970.4594174670292,0.190365245468545,0.29336162805853699,0.33931628522614654,0,0]
[9995.3855660107001,0.19032573220107299,0.29327922496992898,0.33936821330749223,0,0]
[10020.374029925701,0.190286390441324,0.29319701869049802,0.33941995778656209,0,0]
[10045.4249650005,0.19024721941573999,0.29311500908695598,0.33947151932959974,0,0]
[10070.538527413,0.19020821835384299,0.29303319602309302,0.33952289860065143,0,0]
[10095.7148737316,0.190169386488238,0.29295157935980098,0.33957409626156232,0,0]
[10120.954160915901,0.19013072305460199,0.29287015895509899,0.33962511297198544,0,0]
[10146.2565463182,0.19009222729167899,0.29278893466415201,0.33967594938938556,0,0]
[10171.622187684001,0.19005389844127299,0.29270790633930099,0.33972660616904399,0,0]
[10197.051243153201,0.19001573574823999,0.29262707383008002,0.3397770839640657,0,0]
[10222.543871261099,0.18997773846048799,0.29254643698324501,0.33982738342537716,0,0]
[10248.100230939201,0.18993990582896,0.29246599564279302,0.33987750520174165,0,0]
[10273.720481516601,0.18990223710763801,0.29238574964998698,0.33992744993975404,0,0]
[10299.404782720399,0.18986473155352601,0.29230569884337798,0.3399772182838553,0,0]
[10325.1532946772,0.189827388426655,0.29222584305883098,0.34002681087632608,0,0]
[10350.966177913901,0.18979020699006299,0.29214618212954602,0.34007622835730472,0,0]
[10376.843593358601,0.189753186509801,0.29206671588608102,0.34012547136477933,0,0]
[10402.785702342,0.18971632625491699,0.29198744415637501,0.34017454053460211,0,0]
[10428.792666597899,0.18967962549745301,0.29190836676577198,0.34022343650048997,0,0]
[10454.8646482644,0.189643083512437,0.29182948353704202,0.34027215989403103,0,0]
[10481.001809885,0.18960669957787801,0.29175079429040601,0.34032071134468694,0,0]
[10507.204314409801,0.18957047297475499,0.291672298843558,0.34036909147980243,0,0]
[10533.4723251958,0.18953440298701499,0.29159399701168598,0.34041730092460482,0,0]
[10559.806006008799,0.18949848890156201,0.291515888607499,0.34046534030221254,0,0]
[10586.2055210238,0.18946273000825001,0.291437973441243,0.34051321023364117,0,0]
[10612.671034826401,0.18942712559987801,0.29136025132073001,0.34056091133780475,0,0]
[10639.2027124134,0.18939167497218201,0.29128272205135602,0.34060844423152276,0,0]
[10665.8007191945,0.18935637742382799,0.29120538543612701,0.34065580952952362,0,0]
[10692.465220992401,0.18932123225640299,0.29112824127567699,0.34070300784445273,0,0]
[10719.196384044901,0.18928623877441,0.291051289368294,0.34075003978687407,0,0]
[10745.994375005001,0.189251396285259,0.29097452950994301,0.34079690596527684,0,0]
[10772.859360942501,0.18921670409926,0.29089796149428099,0.34084360698608152,0,0]
[10799.791509344899,0.18918216152961501,0.29082158511268902,0.34089014345364316,0,0]
[10826.7909881183,0.189147767892415,0.29074540015428602,0.34093651597025382,0,0]
[10853.857965588601,0.189113522506624,0.29066940640595601,0.34098272513615491,0,0]
[10880.992610502501,0.18907942469407901,0.29059360365236597,0.34102877154953554,0,0]
[10908.1950920288,0.189045473779481,0.29051799167599202,0.34107465580653806,0,0]
[10935.4655797589,0.189011669090382,0.29044257025713599,0.34112037850126936,0,0]
[10962.8042437082,0.188978009957187,0.29036733917395102,0.34116594022579588,0,0]
[10990.211254317501,0.18894449571313601,0.29029229820246299,{"$f":"SQRT(($G$1-B966)^2+($G$2-C966)^2)","v":0.34121134157015859},0,0]
[11017.6867824533,0.18891112569430399,0.29021744711658798,0.34125658312237106,{"$f":"IF((D967-E966)<0,D967,0)","v":0},{"$f":"IF(E967<>0,F966+1,0)","v":0}]
[11045.230999409399,0.188877899239591,0.29014278568815999,0.34130166546842633,0,0]
[11072.844076908001,0.18884481569071301,0.29006831368694702,0.34134658919230321,0,0]
[11100.5261871002,0.18881187439219399,0.28999403088067299,0.34139135487597205,0,0]
[11128.277502568,0.18877907469136099,0.28991993703504298,0.34143596309939611,0,0]
[11156.098196324399,0.18874641593833399,0.28984603191376002,0.34148041444053961,0,0]
[11183.9884418152,0.18871389748601999,0.28977231527854802,0.34152470947537023,0,0]
[11211.948412919801,0.188681518690101,0.289698786889171,0.34156884877786908,0,0]
[11239.978283952099,0.18864927890903199,0.28962544650345801,0.34161283292002903,0,0]
[11268.0782296619,0.18861717750402901,0.28955229387731801,0.3416566624718646,0,0]
[11296.248425236099,0.18858521383906099,0.28947932876476701,0.34170033800141636,0,0]
[11324.489046299201,0.188553387280845,0.28940655091794398,0.34174386007475338,0,0]
[11352.8002689149,0.18852169719883599,0.28933396008713202,0.34178722925598065,0,0]
[11381.1822695872,0.18849014296521699,0.28926155602078202,0.34183044610724522,0,0]
[11409.6352252612,0.18845872395489699,0.28918933846552902,0.34187351118873621,0,0]
[11438.1593133243,0.18842743954549701,0.28911730716621398,0.34191642505869529,0,0]
[11466.7547116076,0.18839628911734399,0.28904546186590702,0.34195918827341953,0,0]
[11495.4215983867,0.18836527205346401,0.28897380230592201,0.34200180138726577,0,0]
[11524.160152382599,0.18833438773957301,0.288902328225842,0.34204426495265627,0,0]
[11552.9705527636,0.18830363556406801,0.28883103936353399,0.34208657952008503,0,0]
[11581.8529791455,0.18827301491802101,0.28875993545517398,0.34212874563812035,0,0]
[11610.8076115934,0.18824252519516799,0.288689016235264,0.34217076385341255,0,0]
[11639.834630622299,0.188212165791905,0.28861828143665003,0.34221263471069563,0,0]
[11668.934217198899,0.18818193610727399,0.28854773079054602,0.34225435875279758,0,0]
[11698.1065527419,0.188151835542961,0.28847736402655,0.34229593652063894,0,0]
[11727.3518191237,0.188121863503285,0.28840718087266698,0.34233736855324121,0,0]
[11756.6701986716,0.18809201939518699,0.28833718105532302,0.34237865538773465,0,0]
[11786.061874168199,0.18806230262822499,0.28826736429938898,0.34241979755935986,0,0]
[11815.527028853599,0.188032712614568,0.28819773032819801,0.34246079560147058,0,0]
[11845.065846425799,0.188003248768982,0.28812827886356701,0.34250165004554423,0,0]
[11874.6785110418,0.187973910508825,0.28805900962580899,0.34254236142118477,0,0]
[11904.365207319401,0.18794469725404001,0.28798992233376203,0.3425829302561248,0,0]
[11934.1261203377,0.187915608427145,0.28792101670479803,0.34262335707623381,0,0]
[11963.961435638599,0.18788664345322101,0.28785229245485,0.34266364240552571,0,0]
[11993.8713392277,0.18785780175991301,0.28778374929842299,0.34270378676615593,0,0]
[12023.856017575799,0.18782908277741001,0.28771538694861998,0.34274379067843647,0,0]
[12053.9156576197,0.187800485938448,0.28764720511715403,0.34278365466083099,0,0]
[12084.0504467637,0.18777201067829399,0.287579203514371,0.34282337922996686,0,0]
[12114.260572880699,0.18774365643474,0.287511381849267,0.34286296490063756,0,0]
[12144.5462243129,0.18771542264809399,0.287443739829505,0.34290241218580914,0,0]
[12174.907589873599,0.18768730876117301,0.28737627716143199,0.34294172159662362,0,0]
[12205.344858848301,0.18765931421929599,0.28730899355010198,0.34298089364240203,0,0]
[12235.8582209954,0.187631438470269,0.28724188869928902,0.34301992883065674,0,0]
[12266.4478665479,0.18760368096438301,0.28717496231150702,0.34305882766708978,0,0]
[12297.113986214301,0.18757604115440599,0.287108214088028,0.34309759065559775,0,0]
[12327.8567711798,0.187548518495569,0.28704164372889801,0.34313621829828178,0,0]
[12358.6764131078,0.18752111244556199,0.28697525093295501,0.34317471109544923,0,0]
[12389.5731041405,0.18749382246452301,0.28690903539784901,0.34321306954562014,0,0]
[12420.5470369009,0.18746664801503499,0.28684299682005598,0.34325129414552752,0,0]
[12451.598404493199,0.18743958856210799,0.28677713489489598,0.34328938539013187,0,0]
[12482.7274005044,0.18741264357317899,0.28671144931655201,0.34332734377261737,0,0]
[12513.9342190056,0.18738581251810099,0.286645939778085,0.34336516978440007,0,0]
[12545.219054553199,0.18735909486913399,0.28658060597145202,0.34340286391513303,0,0]
[12576.582102189501,0.187332490100934,0.28651544758752301,0.3434404266527139,0,0]
[12608.023557445,0.18730599769055101,0.286450464316098,0.34347785848328338,0,0]
[12639.5436163386,0.187279617117415,0.28638565584592102,0.3435151598912366,0,0]
[12671.1424753795,0.18725334786332901,0.28632102186469999,0.34355233135922564,0,0]
[12702.8203315679,0.187227189412461,0.28625656205912398,0.34358937336816425,0,0]
[12734.577382396799,0.187201141251336,0.28619227611487502,0.34362628639723297,0,0]
[12766.4138258528,0.187175202868827,0.28612816371664701,0.34366307092388465,0,0]
[12798.3298604175,0.18714937375614599,0.28606422454816399,0.34369972742384897,0,0]
[12830.325685068499,0.18712365340683601,0.286000458292193,0.34373625637113819,0,0]
[12862.401499281201,0.187098041316764,0.285936864630562,0.34377265823804998,0,0]
[12894.5575030294,0.187072536984107,0.28587344324417502,{"$f":"SQRT(($G$1-B1030)^2+($G$2-C1030)^2)","v":0.3438089334951781},0,0]
[12926.793896786899,0.18704713990935401,0.28581019381302802,0.34384508261140712,{"$f":"IF((D1031-E1030)<0,D1031,0)","v":0},{"$f":"IF(E1031<>0,F1030+1,0)","v":0}]
[12959.110881528901,0.187021849595286,0.28574711601622399,0.34388110605392896,0,0]
[12991.5086587327,0.186996665546975,0.28568420953199097,0.34391700428823996,0,0]
[13023.9874303796,0.18697158727177299,0.285621474037694,0.34395277777814914,0,0]
[13056.547398955499,0.18694661427930401,0.28555890920985399,0.34398842698578186,0,0]
[13089.188767452901,0.18692174608145401,0.28549651472416199,0.34402395237158689,0,0]
[13121.911739371501,0.186896982192368,0.285434290255493,0.34405935439433616,0,0]
[13154.716518720001,0.18687232212843199,0.28537223547792201,0.34409463351113867,0,0]
[13187.603310016801,0.186847765408274,0.28531035006473998,0.34412979017743645,0,0]
[13220.572318291799,0.186823311552753,0.28524863368846798,0.34416482484701189,0,0]
[13253.623749087499,0.18679896008494401,0.285187086020872,0.34419973797199943,0,0]
[13286.757808460199,0.186774710530139,0.28512570673297699,0.34423453000288112,0,0]
[13319.974702981401,0.18675056241583399,0.285064495495085,0.34426920138849548,0,0]
[13353.2746397388,0.18672651527171999,0.28500345197678301,0.34430375257604445,0,0]
[13386.6578263382,0.18670256862967699,0.28494257584696597,0.34433818401109428,0,0]
[13420.124470904,0.18667872202376301,0.28488186677384397,0.34437249613758419,0,0]
[13453.6747820813,0.186654974990208,0.284821324424961,0.34440668939782848,0,0]
[13487.3089690365,0.18663132706740401,0.28476094846720701,0.34444076423252312,0,0]
[13521.0272414591,0.18660777779589699,0.28470073856682998,0.34447472108075089,0,0]
[13554.8298095627,0.18658432671837899,0.28464069438945799,0.34450856037998417,0,0]
[13588.7168840866,0.18656097337968,0.28458081560010201,0.34454228256609182,0,0]
[13622.688676296901,0.18653771732676,0.28452110186317903,0.34457588807334216,0,0]
[13656.745397987601,0.18651455810869699,0.28446155284252,0.34460937733441199,0,0]
[13690.8872614826,0.18649149527668299,0.28440216820138797,0.34464275078038686,0,0]
[13725.114479636301,0.18646852838401601,0.28434294760248502,0.34467600884076655,0,0]
[13759.4272658354,0.186445656986087,0.284283890707974,0.34470915194347346,0,0]
[13793.825833999999,0.18642288064037699,0.28422499717948602,0.34474218051485295,0,0]
[13828.310398584999,0.18640019890644399,0.28416626667813599,0.34477509497968251,0,0]
[13862.8811745814,0.18637761134591799,0.28410769886453302,0.34480789576117388,0,0]
[13897.5383775179,0.18635511752249401,0.28404929339879997,0.34484058328097572,0,0]
[13932.2822234617,0.186332717001917,0.283991049940578,0.34487315795918638,0,0]
[13967.112929020301,0.18631040935198301,0.28393296814904501,0.34490562021434867,0,0]
[14002.030711342901,0.18628819414252201,0.28387504768292798,0.34493797046346347,0,0]
[14037.0357881212,0.18626607094539799,0.283817288200514,0.34497020912198673,0,0]
[14072.1283775915,0.18624403933449299,0.283759689359663,0.34500233660384194,0,0]
[14107.3086985355,0.18622209888570301,0.28370225081782102,0.34503435332142074,0,0]
[14142.5769702818,0.18620024917693301,0.283644972232033,0.34506625968558441,0,0]
[14177.9334127075,0.18617848978807999,0.28358785325895403,0.34509805610567784,0,0]
[14213.378246239299,0.186156820301033,0.283530893554862,0.3451297429895257,0,0]
[14248.911691854901,0.186135240299661,0.28347409277566898,0.3451613207434418,0,0]
[14284.5339710845,0.18611374936980701,0.28341745057693601,0.34519278977223078,0,0]
[14320.245306012301,0.186092347099276,0.28336096661388099,0.34522415047919774,0,0]
[14356.0459192773,0.18607103307783099,0.28330464054139398,0.34525540326614823,0,0]
[14391.936034075499,0.18604980689718401,0.28324847201404801,0.34528654853339413,0,0]
[14427.915874160701,0.18602866815098701,0.28319246068610798,0.34531758667975976,0,0]
[14463.985663846101,0.186007616434823,0.28313660621154801,0.3453485181025866,0,0]
[14500.145628005699,0.18598665134620199,0.28308090824405602,0.34537934319773533,0,0]
[14536.395992075701,0.18596577248454599,0.28302536643705101,0.34541006235959615,0,0]
[14572.7369820559,0.18594497945119001,0.28296998044369198,0.34544067598108541,0,0]
[14609.168824511,0.185924271849366,0.28291474991688897,0.34547118445365815,0,0]
[14645.6917465723,0.1859036492842,0.28285967450931299,0.3455015881673078,0,0]
[14682.3059759387,0.1858831113627,0.28280475387341097,0.34553188751057462,0,0]
[14719.011740878601,0.18586265769375401,0.28274998766141102,0.34556208287054524,0,0]
[14755.8092702308,0.18584228788811399,0.28269537552534002,0.3455921746328644,0,0]
[14792.6987934064,0.18582200155839701,0.28264091711702899,0.34562216318173139,0,0]
[14829.6805403899,0.18580179831906901,0.28258661208812602,0.34565204889991286,0,0]
[14866.7547417408,0.185781677786444,0.28253246009010702,0.34568183216874027,0,0]
[14903.921628595201,0.18576163957866801,0.28247846077428401,0.34571151336812306,0,0]
[14941.181432666701,0.18574168331572199,0.28242461379182099,0.34574109287654164,0,0]
[14978.534386248301,0.18572180861940399,0.28237091879373499,0.34577057107106396,0,0]
[15015.980722214001,0.18570201511332701,0.282317375430919,0.34579994832734184,0,0]
[15053.520674019501,0.18568230242290901,0.28226398335413799,0.34582922501962049,0,0]
[15091.154475704499,0.185662670175367,0.28221074221405101,0.34585840152073916,0,0]
[15128.8823618938,0.18564311799970601,0.28215765166121498,{"$f":"SQRT(($G$1-B1094)^2+($G$2-C1094)^2)","v":0.34588747820213994},0,0]
[15166.704567798501,0.18562364552671601,0.28210471134609499,0.34591645543386812,{"$f":"IF((D1095-E1094)<0,D1095,0)","v":0},{"$f":"IF(E1095<>0,F1094+1,0)","v":0}]
[15204.621329218,0.185604252388958,0.28205192091907599,0.34594533358458196,0,0]
[15242.6328825411,0.185584938220764,0.28199928003046998,0.34597411302155073,0,0]
[15280.739464747399,0.185565702658222,0.28194678833053,0.34600279411066537,0,0]
[15318.941313409299,0.185546545339174,0.28189444546945502,0.34603137721643851,0,0]
[15357.2386666928,0.18552746590320501,0.28184225109740102,0.346059862702012,0,0]
[15395.631763359601,0.18550846399163401,0.28179020486449202,0.34608825092916246,0,0]
[15434.120842767999,0.18548953924751299,0.28173830642082698,0.34611654225829991,0,0]
[15472.706144874899,0.185470691315611,0.28168655541649101,0.34614473704848014,0,0]
[15511.387910237099,0.18545191984241399,0.28163495150156298,0.34617283565740214,0,0]
[15550.166380012601,0.18543322447611199,0.281583494326126,0.34620083844141769,0,0]
[15589.041795962699,0.185414604866593,0.28153218354027698,0.3462287457555342,0,0]
[15628.014400452599,0.18539606066543701,0.28148101879413001,0.34625655795341892,0,0]
[15667.084436453701,0.18537759152590799,0.281429999737834,0.34628427538740225,0,0]
[15706.252147544899,0.18535919710294499,0.281379126021574,0.34631189840848497,0,0]
[15745.517777913699,0.185340877053155,0.28132839729558501,0.34633942736634171,0,0]
[15784.881572358499,0.18532263103480701,0.28127781321015599,0.34636686260932437,0,0]
[15824.343776289399,0.185304458707824,0.28122737341564302,0.34639420448446667,0,0]
[15863.904635730099,0.185286359733775,0.28117707756247201,0.34642145333749014,0,0]
[15903.5643973194,0.18526833377586699,0.28112692530115402,0.34644860951280793,0,0]
[15943.3233083127,0.18525038049894099,0.28107691628228898,0.34647567335352686,0,0]
[15983.181616583501,0.185232499569459,0.28102705015657398,0.34650264520145724,0,0]
[16023.139570625,0.185214690655502,0.280977326574812,0.34652952539711213,0,0]
[16063.197419551499,0.18519695342676101,0.28092774518792102,0.34655631427971334,0,0]
[16103.3554131004,0.185179287554528,0.280878305646941,0.34658301218719728,0,0]
[16143.613801633201,0.185161692711692,0.28082900760304202,0.34660961945621671,0,0]
[16183.9728361372,0.185144168572728,0.28077985070753197,0.34663613642214847,0,0]
[16224.4327682276,0.185126714813694,0.28073083461186399,0.34666256341909379,0,0]
[16264.993850148199,0.185109331112219,0.28068195896764397,0.34668890077988773,0,0]
[16305.656334773499,0.18509201714750001,0.28063322342663999,0.34671514883609883,0,0]
[16346.420475610499,0.18507477260029301,0.28058462764078701,0.34674130791803592,0,0]
[16387.2865267995,0.18505759715290701,0.28053617126219599,0.34676737835475108,0,0]
[16428.2547431165,0.18504049048919399,0.280487853943162,0.34679336047404663,0,0]
[16469.3253799743,0.185023452294547,0.28043967533616898,0.34681925460247492,0,0]
[16510.498693424201,0.18500648225588601,0.28039163509389903,0.34684506106534924,0,0]
[16551.7749401578,0.184989580061661,0.28034373286923903,0.34687078018673817,0,0]
[16593.154377508199,0.18497274540183201,0.28029596831528703,0.34689641228948309,0,0]
[16634.637263451899,0.184955977967873,0.28024834108536201,0.34692195769519074,0,0]
[16676.223856610599,0.18493927745276101,0.280200850833004,0.34694741672424306,0,0]
[16717.914416252101,0.18492264355096899,0.28015349721199101,0.34697278969579953,0,0]
[16759.709202292699,0.18490607595845701,0.28010627987633502,0.34699807692780549,0,0]
[16801.608475298399,0.18488957437266901,0.28005919848029898,0.34702327873699046,0,0]
[16843.612496486701,0.18487313849252501,0.28001225267839402,0.34704839543887583,0,0]
[16885.721527727899,0.184856768018413,0.27996544212539298,0.34707342734777835,0,0]
[16927.935831547202,0.18484046265218301,0.27991876647633401,0.34709837477681404,0,0]
[16970.255671126099,0.184824222097138,0.27987222538652601,0.3471232380379054,0,0]
[17012.681310303898,0.184808046058032,0.27982581851155702,0.34714801744177975,0,0]
[17055.213013579702,0.184791934241059,0.2797795455073,0.34717271329797833,0,0]
[17097.851046113599,0.18477588635384701,0.27973340602991897,0.3471973259148593,0,0]
[17140.595673728902,0.18475990210545501,0.27968739973587498,0.34722185559959862,0,0]
[17183.447162913199,0.18474398120635799,0.27964152628193101,0.34724630265820239,0,0]
[17226.4057808205,0.18472812336845101,0.27959578532516,0.34727066739550033,0,0]
[17269.471795272599,0.18471232830503401,0.27955017652295,0.34729495011515821,0,0]
[17312.645474760699,0.18469659573080999,0.27950469953300899,0.34731915111967759,0,0]
[17355.927088447599,0.184680925361876,0.27945935401337402,0.34734327071040172,0,0]
[17399.316906168799,0.184665316915715,0.27941413962241202,0.34736730918752196,0,0]
[17442.8151984342,0.18464977011119599,0.279369056018829,0.34739126685007493,0,0]
[17486.422236430299,0.18463428466855999,0.27932410286167603,0.34741514399595363,0,0]
[17530.1382920213,0.18461886030941799,0.279279279810351,0.3474389409219083,0,0]
[17573.9636377514,0.18460349675674301,0.27923458652460897,0.34746265792355024,0,0]
[17617.898546845801,0.18458819373486199,0.279190022664563,0.34748629529535924,0,0]
[17661.943293212898,0.184572950969454,0.27914558789069399,0.34750985333068152,0,0]
[17706.098151445902,0.18455776818753999,0.27910128186385202,0.34753333232173877,0,0]
[17750.363396824501,0.18454264511747501,0.27905710424526398,{"$f":"SQRT(($G$1-B1158)^2+($G$2-C1158)^2)","v":0.34755673255963299},0,0]
[17794.739305316602,0.18452758148894799,0.27901305469653898,0.34758005433434408,{"$f":"IF((D1159-E1158)<0,D1159,0)","v":0},{"$f":"IF(E1159<>0,F1158+1,0)","v":0}]
[17839.226153579901,0.18451257703297,0.27896913287966901,0.34760329793474065,0,0]
[17883.8242189638,0.18449763148186801,0.27892533845704298,0.34762646364858169,0,0]
[17928.533779511199,0.18448274456928301,0.27888167109144102,0.34764955176251855,0,0]
[17973.355113959999,0.184467916030158,0.27883813044604799,0.34767256256210277,0,0]
[18018.288501744901,0.184453145600737,0.27879471618445401,0.34769549633178592,0,0]
[18063.3342229993,0.184438433018556,0.27875142797065899,0.34771835335492612,0,0]
[18108.492558556802,0.18442377802243701,0.27870826546908001,0.34774113391379147,0,0]
[18153.763789953198,0.18440918035248,0.27866522834455398,0.3477638382895662,0,0]
[18199.148199428,0.18439463975006101,0.27862231626234402,0.34778646676235003,0,0]
[18244.646069926599,0.184380155957825,0.27857952888814103,0.34780901961116362,0,0]
[18290.257685101398,0.18436572871967699,0.27853686588807097,0.34783149711395478,0,0]
[18335.9833293142,0.18435135778077699,0.27849432692870002,0.34785389954760115,0,0]
[18381.8232876375,0.184337042887534,0.27845191167703398,0.34787622718791505,0,0]
[18427.777845856501,0.184322783787605,0.27840961980052897,0.34789848030964127,0,0]
[18473.8472904712,0.18430858022987801,0.27836745096709198,0.34792065918647219,0,0]
[18520.031908697401,0.18429443196447701,0.278325404845085,0.34794276409104108,0,0]
[18566.331988469101,0.18428033874275099,0.27828348110333101,0.34796479529493074,0,0]
[18612.747818440301,0.18426630031726701,0.27824167941111599,0.34798675306867799,0,0]
[18659.2796879864,0.18425231644180601,0.27819999943819601,0.34800863768177603,0,0]
[18705.927887206301,0.18423838687135799,0.27815844085479702,0.34803044940267786,0,0]
[18752.692706924401,0.18422451136211501,0.27811700333162398,0.3480521884987996,0,0]
[18799.574438691699,0.18421068967146201,0.27807568653985898,0.34807385523652945,0,0]
[18846.573374788401,0.18419692155797701,0.27803449015116999,0.34809544988122426,0,0]
[18893.689808225401,0.184183206781423,0.27799341383771298,0.34811697269721575,0,0]
[18940.924032745901,0.18416954510274,0.27795245727213402,0.34813842394781697,0,0]
[18988.276342827801,0.18415593628404001,0.27791162012757398,0.34815980389532508,0,0]
[19035.7470336849,0.18414238008860501,0.27787090207767401,0.34818111280102121,0,0]
[19083.336401269,0.18412887628087601,0.277830302796578,0.3482023509251792,0,0]
[19131.044742272199,0.184115424626451,0.27778982195893298,0.34822351852706701,0,0]
[19178.8723541279,0.184102024892078,0.27774945923989902,0.34824461586494959,0,0]
[19226.819535013201,0.184088676845649,0.277709214315146,0.34826564319609504,0,0]
[19274.886583850799,0.18407538025619399,0.277669086860861,0.34828660077677759,0,0]
[19323.073800310402,0.18406213489387899,0.27762907655375202,0.34830748886227741,0,0]
[19371.381484811202,0.18404894052999399,0.27758918307104802,0.34832830770689194,0,0]
[19419.809938523202,0.18403579693695399,0.27754940609050499,0.34834905756393181,0,0]
[19468.359463369499,0.18402270388829001,0.27750974529040701,0.34836973868572879,0,0]
[19517.030362027901,0.18400966115864301,0.27747020034957198,0.34839035132363927,0,0]
[19565.822937933001,0.18399666852376101,0.27743077094735302,0.34841089572804584,0,0]
[19614.737495277801,0.18398372576048999,0.27739145676364102,0.34843137214836439,0,0]
[19663.774339015999,0.183970832646774,0.27735225747886899,0.34845178083304224,0,0]
[19712.933774863599,0.183957988961643,0.27731317277401402,0.34847212202956834,0,0]
[19762.216109300702,0.18394519448521299,0.27727420233060002,0.34849239598447163,0,0]
[19811.621649574001,0.183932448998677,0.27723534583070297,0.34851260294332775,0,0]
[19861.150703697898,0.18391975228430399,0.27719660295694998,0.34853274315075899,0,0]
[19910.803580457199,0.18390710412542799,0.27715797339252501,0.34855281685044309,0,0]
[19960.580589408299,0.18389450430644599,0.27711945682117001,0.34857282428511344,0,0]
[20010.482040881801,0.18388195261281501,0.27708105292718799,0.34859276569656067,0,0]
[20060.508245984001,0.18386944883104001,0.27704276139544698,0.34861264132564262,0,0]
[20110.659516599,0.18385699274867501,0.277004581911379,0.348632451412282,0,0]
[20160.9361653905,0.18384458415431701,0.276966514160988,0.34865219619547,0,0]
[20211.338505803898,0.18383222283759601,0.27692855783084702,0.34867187591327548,0,0]
[20261.866852068499,0.18381990858917799,0.27689071260810399,0.3486914908028399,0,0]
[20312.521519198599,0.18380764120074899,0.27685297818048299,0.34871104110039114,0,0]
[20363.3028229966,0.18379542046502301,0.276815354236287,0.34873052704123497,0,0]
[20414.211080054101,0.183783246175723,0.27677784046439902,0.34874994885977151,0,0]
[20465.246607754201,0.18377111812758901,0.27674043655428698,0.34876930678948587,0,0]
[20516.409724273599,0.18375903611636299,0.27670314219600201,0.34878860106296189,0,0]
[20567.700748584299,0.18374699993878801,0.27666595708018599,0.34880783191188053,0,0]
[20619.120000455801,0.18373500939260501,0.27662888089806897,0.34882699956702257,0,0]
[20670.6678004569,0.183723064276544,0.27659191334147198,0.34884610425827534,0,0]
[20722.344469958101,0.18371116439032101,0.276555054102812,0.3488651462146341,0,0]
[20774.1503311329,0.18369930953463301,0.27651830287510298,0.3488841256642054,0,0]

{"sheet":"CRI","index":8,"n_rows":406,"n_cols":86,"rows_kept":406,"cut":false,"hidden":true,"merged":[]}
["CCT calculation, follow J. S. Botero et al, International Journal on Smart Sensing and Intelligent Systems, Vol. 8, No. 3, Sept, 2015. "]
[]
["Original Data",null,null,"(1) CCT calculation",null,null,null,null,"(2) Calculate \"reference Illumination\" based on CCT",null,null,null,"CIE1931 matching (2-Deg)",null,null,null,null,null,null,null,"(3) Calculate the CIE1931 when the target & reference light on Sample R1-R14",null,null,null,null,null,null,null,null,null,null,null,null,null,null,null,"Kt",{"$f":"100/SUMPRODUCT(Photonic!$BC12:$BC506,Photonic!$C12:$C506)","v":14.189991880647515},null,null,null,null,null,null,null,null,null,null,null,null,null,null,null,"(4) Convert to CIE1960 (u,v) system. Apply the adaptive colot shift Von Kries, to respect the difference between the states of the chromatic adaption of the light source of intesest and the reference illumination. ",null,null,null,null,null,null,null,null,null,null,null,null,null,null,null,null,"(5) CRI engineering analysis"]
[null,null,null,null,null,null,null,null,"SPD_Ref_warmwhite",null,3999,{"$f":"+SUM(K6:K500)","v":9078535934855.3359},"X","Y","Z","daylight",null,null,"SPD_Ref",null,null,null,null,null,null,null,null,null,null,null,null,null,null,null,null,"(3.1) CIE1931, Target -> Sample",null,null,null,null,null,null,null,"(3.1) CIE1931, Target -> Sample",null,null,null,null,null,null,null,null,null,"Target","Reference","R1","R2","R3","R4","R5","R6","R7","R8","R9","R10","R11","R12","R13","R14",null,"(5.1) select the worst 3 CRI"]
["wd","Nomalized SPD",null,"From Equation",{"$f":"Photonic!I16","v":4746.0501360828403},"K",{"$f":"2*PI()*6.62607004E-34*((299792458)^2)","v":3.7417717900752592E-16},null,"warmwhite","daylight","SPD_Ref","Norm(SPD_Ref)",{"$f":"SUM(M6:M500)","v":0.20451534805784455},{"$f":"SUM(N6:N500)","v":0.15798087818859097},{"$f":"SUM(O6:O500)","v":2.0875917012558913E-2},"S1","S2","S3","X",{"$f":"+M5*(100/$N$5)","v":129.45576097741568},"R1","F2","R3","R4","R5","R6","R7","R8","R9","R10","R11","R12","R13","R14","R15(fake)","R1","X",{"$f":"SUMPRODUCT(Photonic!$BB$12:$BB$506,CRI!$B$6:$B$500,CRI!$U$6:$U$500)*100/SUMPRODUCT(Photonic!$BC12:$BC506,CRI!$B$6:$B$500,CRI!$U$6:$U$500)","v":228.51191201704137},"u",{"$f":"4*AL5/(AL5+15*AL6+3*AL7)","v":0.52809321014089339},"x",{"$f":"+AL5/(SUM($AL$5:$AL$7))","v":0.69395400957074871},null,"R1","X",{"$f":"SUMPRODUCT(Photonic!$BB$12:$BB$506,CRI!$L$6:$L$500,CRI!$U$6:$U$500)*100/SUMPRODUCT(Photonic!$BC12:$BC506,CRI!$L$6:$L$500,CRI!$U$6:$U$500)","v":149.02277295648631},"u",{"$f":"4*AT5/(AT5+15*AT6+3*AT7)","v":0.35603091925815783},"x",{"$f":"+AT5/(SUM($AT$5:$AT$7))","v":0.5788691091462731},null,null,"u",{"$f":"+(4*E14)/(E14+15*E15+3*E16)","v":0.52550210496183614},{"$f":"4*T5/(T5+15*T6+3*T7)","v":0.3102411765637702},null,null,null,null,null,null,null,null,null,null,null,null,null,null,null,"put tem all in transverse way",null,null,null,null,null,null,"Select worst 3 in R14"]
[{"$f":"Photonic!B12","v":360},{"$f":"Photonic!D12","v":5.2118283519905054E-5},null,"From Complicate Equation",{"$f":"E7","v":1937.8731546334159},"K",{"$f":"(6.62607004E-34*299792458)/(1.38064852E-23)","v":1.4387773538277204E-2},null,{"$f":"$G$5*((A6*0.000000001)^(-5)) / (EXP($G$6/(($E$6*0.000000001*A6)))-1)","v":68363287.147087574},{"$f":"+P6+$H$11*Q6+$H$12*R6","v":60.356735482052407},{"$f":"IF($E$6<=$K$4,I6,J6)","v":68363287.147087574},{"$f":"+K6/$L$4","v":7.5302105579182163E-6},{"$f":"+$L6*Photonic!BB12","v":9.789273725293681E-10},{"$f":"+$L6*Photonic!BC12","v":2.9518425387039405E-11},{"$f":"+$L6*Photonic!BD12","v":4.5640606191542313E-9},61.5,38,5.3,"Y",100,0.11600000000000001,5.2999999999999999E-2,5.8000000000000003E-2,5.7000000000000002E-2,0.14299999999999999,7.9000000000000001E-2,0.15,7.4999999999999997E-2,6.9000000000000006E-2,4.2000000000000003E-2,7.3999999999999996E-2,0.189,7.0999999999999994E-2,3.5999999999999997E-2,3.5999999999999997E-2,null,"Y",100,"v",{"$f":"6*AL6/(AL5+15*AL6+3*AL7)","v":0.34665143196222781},"y",{"$f":"+AL6/(SUM($AL$5:$AL$7))","v":0.3036839539109002},null,null,"Y",100,"v",{"$f":"6*AT6/(AT5+15*AT6+3*AT7)","v":0.35836561640359144},"y",{"$f":"+AT6/(SUM($AT$5:$AT$7))","v":0.3884433886593287},null,null,"v",{"$f":"6*E15/(E14+15*E15+3*E16)","v":0.34645202218060128},{"$f":"6*T6/(T5+15*T6+3*T7)","v":0.35947551606207806},null,null,null,null,null,null,null,null,null,null,null,null,null,null,null,null,null,null,null,null,null,null,"Col1",{"$f":"MAX(CA10:CA27)+1","v":1},{"$f":"MIN(BT10:BT23)","v":0}]
[{"$f":"Photonic!B13","v":361},{"$f":"Photonic!D13","v":6.4858308380326288E-5},null,null,{"$f":"Photonic!I17","v":1937.8731546334159},null,"xD1",{"$f":"-(4.607*1000000000/(E6^3))+(2.9678*1000000/(E6^2))+(0.09911*1000/(E6))+0.244063","v":0.45243599637815701},71385556.675260305,{"$f":"+P7+$H$11*Q7+$H$12*R7","v":61.29221868880817},{"$f":"IF($E$6<=$K$4,I7,J7)","v":71385556.675260305},{"$f":"+K7/$L$4","v":7.863113302354055E-6},{"$f":"+$L7*Photonic!BB13","v":1.1821404538759086E-9},{"$f":"+$L7*Photonic!BC13","v":3.561990325966387E-11},{"$f":"+$L7*Photonic!BD13","v":5.5205345873167346E-9},62.230000000000004,38.44,5.38,"Z",{"$f":"+O5*(100/$N$5)","v":13.214204941713335},0.12000000000000001,5.3399999999999996E-2,5.8200000000000002E-2,5.74E-2,0.15179999999999999,7.9399999999999998E-2,0.15539999999999998,7.5600000000000001E-2,6.9600000000000009E-2,4.2200000000000001E-2,7.4999999999999997E-2,0.1862,7.1999999999999995E-2,3.5999999999999997E-2,3.5999999999999997E-2,null,"Z",{"$f":"SUMPRODUCT(Photonic!$BD$12:$BD$506,CRI!$B$6:$B$500,CRI!$U$6:$U$500)*100/SUMPRODUCT(Photonic!$BC12:$BC506,CRI!$B$6:$B$500,CRI!$U$6:$U$500)","v":0.77779431146501199},null,null,"z",{"$f":"+AL7/(SUM($AL$5:$AL$7))","v":2.3620365183510106E-3},null,null,"Z",{"$f":"SUMPRODUCT(Photonic!$BD$12:$BD$506,CRI!$L$6:$L$500,CRI!$U$6:$U$500)*100/SUMPRODUCT(Photonic!$BC12:$BC506,CRI!$L$6:$L$500,CRI!$U$6:$U$500)","v":8.4149976930269226},null,null,"z",{"$f":"+AT7/(SUM($AT$5:$AT$7))","v":3.2687502194398116E-2},null,null,"c",{"$f":"(4-BB5-10*BB6)/BB6","v":2.879958145243499E-2},{"$f":"(4-BC5-10*BC6)/BC6","v":0.26428409883426573},null,null,null,null,null,null,null,null,null,null,null,null,null,null,null,null,null,null,null,null,null,null,"Col2",{"$f":"MAX(CE10:CE23)+1","v":4},{"$f":"MIN(CC10:CC23)","v":0}]
[{"$f":"Photonic!B14","v":362},{"$f":"Photonic!D14","v":7.7639696957826812E-5},null,null,null,null,"xD2",{"$f":"-(2.0064*1000000000/(E6^3))+(1.9018*1000000/(E6^2))+(0.24748*1000/(E6))+0.23704","v":0.59546787419420866},74520772.769924685,62.227701895563904,74520772.769924685,8.2084571019668665E-6,{"$f":"+$L8*Photonic!BB14","v":1.4018403038739015E-9},{"$f":"+$L8*Photonic!BC14","v":4.2191469504109695E-11},{"$f":"+$L8*Photonic!BD14","v":6.550841274795677E-9},62.96,38.880000000000003,5.46,null,null,0.12400000000000001,5.3800000000000001E-2,5.8400000000000001E-2,5.7799999999999997E-2,0.16059999999999999,7.9799999999999996E-2,0.1608,7.6200000000000004E-2,7.0199999999999999E-2,4.24E-2,7.5999999999999998E-2,0.18340000000000001,7.2999999999999995E-2,3.5999999999999997E-2,3.5999999999999997E-2,"R2","X",{"$f":"SUMPRODUCT(Photonic!$BB$12:$BB$506,CRI!$B$6:$B$500,CRI!$V$6:$V$500)*100/SUMPRODUCT(Photonic!$BC12:$BC506,CRI!$B$6:$B$500,CRI!$V$6:$V$500)","v":227.66315034479533},"u",{"$f":"4*AL8/(AL8+15*AL9+3*AL10)","v":0.52652665658538766},"x",{"$f":"+AL8/(SUM($AL$8:$AL$10))","v":0.69347950425753535},null,"R2","X",{"$f":"SUMPRODUCT(Photonic!$BB$12:$BB$506,CRI!$L$6:$L$500,CRI!$V$6:$V$500)*100/SUMPRODUCT(Photonic!$BC12:$BC506,CRI!$L$6:$L$500,CRI!$V$6:$V$500)","v":135.63869334885743},"u",{"$f":"4*AT8/(AT8+15*AT9+3*AT10)","v":0.32781346611500045},"x",{"$f":"+AT8/(SUM($AT$8:$AT$10))","v":0.56022113468457491},null,null,"d",{"$f":"(1.708*BB6+0.404-1.481*BB5)/BB6","v":0.6277101085085377},{"$f":"(1.708*BC6+0.404-1.481*BC5)/BC6","v":1.5536996929900364},null,null,null,null,null,null,null,null,null,null,null,null,null,null,null,null,null,null,null,null,null,null,"Col3",{"$f":"MAX(CH10:CH26)+1","v":5},{"$f":"MIN(CF10:CF24)","v":0}]
[{"$f":"Photonic!B15","v":363},{"$f":"Photonic!D15","v":3.9212803791166659E-5},null,null,null,null,"xD",{"$f":"IF(E6<=7000,H7,H8)","v":0.45243599637815701},77772305.893578723,63.163185102319652,77772305.893578723,8.5666132129285899E-6,{"$f":"+$L9*Photonic!BB15","v":1.6381077785762049E-9},{"$f":"+$L9*Photonic!BC15","v":4.9258025974339394E-11},{"$f":"+$L9*Photonic!BD15","v":7.6588948768866767E-9},63.690000000000005,39.32,5.54,"x",{"$f":"+T5/(SUM(T5:T7))","v":0.53346428960457948},0.128,5.4199999999999998E-2,5.8599999999999999E-2,5.8200000000000002E-2,0.1694,8.0200000000000007E-2,0.16619999999999999,7.6799999999999993E-2,7.0800000000000002E-2,4.2599999999999999E-2,7.6999999999999999E-2,0.18059999999999998,7.3999999999999996E-2,3.5999999999999997E-2,3.5999999999999997E-2,null,"Y",100,"v",{"$f":"6*AL9/(AL8+15*AL9+3*AL10)","v":0.34691164717783546},"y",{"$f":"+AL9/(SUM($AL$8:$AL$10))","v":0.30460770801390658},null,null,"Y",100,"v",{"$f":"6*AT9/(AT8+15*AT9+3*AT10)","v":0.36252207023833199},"y",{"$f":"+AT9/(SUM($AT$8:$AT$10))","v":0.41302457348487426},null,"Target->Samle","u",null,null,{"$f":"AN5","v":0.52809321014089339},{"$f":"AN8","v":0.52652665658538766},{"$f":"AN11","v":0.52239225603307915},{"$f":"AN14","v":0.51893818841145567},{"$f":"AN17","v":0.51966598945474451},{"$f":"AN20","v":0.52443694781545425},{"$f":"AN23","v":0.52968693879858486},{"$f":"AN26","v":0.53396952952992516},{"$f":"AN29","v":0.54112876351693517},{"$f":"AN32","v":0.52705599544298076},{"$f":"AN35","v":0.51570646251228869},{"$f":"AN38","v":0.50496301481089134},{"$f":"AN41","v":0.52718576794303718},{"$f":"AN44","v":0.52250530042959342},null,null,"Index",null,"u","v","u0","v0","select Col1",null,"select Col2",null,null,null,"select Col3"]
[{"$f":"Photonic!B16","v":364},{"$f":"Photonic!D16","v":5.1332372895398542E-5},null,null,null,null,"yD",{"$f":"-3*H9^2+2.87*H9-0.275","v":0.40939631714922364},81143597.335207537,64.098668309075393,81143597.335207537,8.9379606929430009E-6,{"$f":"+$L10*Photonic!BB16","v":1.8918087602683156E-9},{"$f":"+$L10*Photonic!BC16","v":5.6845430007117483E-11},{"$f":"+$L10*Photonic!BD16","v":8.8487598452274283E-9},64.42,39.760000000000005,5.62,"y",{"$f":"+T6/(SUM(T5:T7))","v":0.4120823094907653},0.13200000000000001,5.4600000000000003E-2,5.8799999999999998E-2,5.8599999999999999E-2,0.1782,8.0600000000000005E-2,0.1716,7.7399999999999997E-2,7.1399999999999991E-2,4.2799999999999998E-2,7.8E-2,0.17779999999999999,7.4999999999999997E-2,3.5999999999999997E-2,3.5999999999999997E-2,null,"Z",{"$f":"SUMPRODUCT(Photonic!$BD$12:$BD$506,CRI!$B$6:$B$500,CRI!$V$6:$V$500)*100/SUMPRODUCT(Photonic!$BC12:$BC506,CRI!$B$6:$B$500,CRI!$V$6:$V$500)","v":0.62795119041134562},null,null,"z",{"$f":"+AL10/(SUM($AL$8:$AL$10))","v":1.9127877285580422E-3},null,null,"Z",{"$f":"SUMPRODUCT(Photonic!$BD$12:$BD$506,CRI!$L$6:$L$500,CRI!$V$6:$V$500)*100/SUMPRODUCT(Photonic!$BC12:$BC506,CRI!$L$6:$L$500,CRI!$V$6:$V$500)","v":6.4776513428275715},null,null,"z",{"$f":"+AT10/(SUM($AT$8:$AT$10))","v":2.6754291830550805E-2},null,null,"v",null,null,{"$f":"AN6","v":0.34665143196222781},{"$f":"AN9","v":0.34691164717783546},{"$f":"AN12","v":0.34734856185742441},{"$f":"AN15","v":0.34695672669248945},{"$f":"AN18","v":0.34613592500036638},{"$f":"AN21","v":0.34534999868664501},{"$f":"AN24","v":0.34575682059351337},{"$f":"AN27","v":0.345819143242454},{"$f":"AN30","v":0.34574905606540357},{"$f":"AN33","v":0.34709126752865693},{"$f":"AN36","v":0.34687115948095204},{"$f":"AN39","v":0.33693543104982482},{"$f":"AN42","v":0.34674573565782479},{"$f":"AN45","v":0.34717172636909527},null,"R1",{"$f":"BU10","v":0},{"$f":"BD35","v":0},{"$f":"BD18","v":0.31696193240361487},{"$f":"BD19","v":0.36312022380371323},{"$f":"BD13","v":0.35603091925815783},{"$f":"BD14","v":0.35836561640359144},{"$f":"BT10","v":0},{"$f":"IF(BT10-CB6>0,1,0)","v":0},1,{"$f":"IF(CB10<>$CA$6,BT10,\"\")","v":""},{"$f":"IF(CC10<>\"\",CC10,\"\")","v":""},{"$f":"IF(CD10<>\"\",IF(CD10<>0,IF(CC10-CB7>0,1,0),0),1)","v":1},{"$f":"IF(CC10<>\"\",IF(CB10<>$CA$7,BT10,\"\"),\"\")","v":""},{"$f":"CF10","v":""},{"$f":"IF(CG10<>\"\",IF(CG10<>0,IF(CF10-CB8>0,1,0),0),1)","v":1}]
[{"$f":"Photonic!B17","v":365},{"$f":"Photonic!D17","v":6.349330571670973E-5},null,null,null,null,"M1",{"$f":"(-1.3515-1.7703*H9+5.9114*H10)/(0.0241+0.2562*H9-0.7341*H10)","v":-1.6674041768944423},84638159.840535283,65.034151515831141,84638159.840535283,9.322886470667913E-6,{"$f":"+$L11*Photonic!BB17","v":2.1638419498420226E-9},{"$f":"+$L11*Photonic!BC17","v":6.4980518700555358E-11},{"$f":"+$L11*Photonic!BD17","v":1.0124654707145354E-8},65.150000000000006,40.200000000000003,5.7,null,null,0.13600000000000001,5.5E-2,5.8999999999999997E-2,5.8999999999999997E-2,0.187,8.1000000000000003E-2,0.17699999999999999,7.8E-2,7.1999999999999995E-2,4.2999999999999997E-2,7.9000000000000001E-2,0.17499999999999999,7.5999999999999998E-2,3.5999999999999997E-2,3.5999999999999997E-2,"R3","X",{"$f":"SUMPRODUCT(Photonic!$BB$12:$BB$506,CRI!$B$6:$B$500,CRI!$W$6:$W$500)*100/SUMPRODUCT(Photonic!$BC12:$BC506,CRI!$B$6:$B$500,CRI!$W$6:$W$500)","v":225.5913713473951},"u",{"$f":"4*AL11/(AL11+15*AL12+3*AL13)","v":0.52239225603307915},"x",{"$f":"+AL11/(SUM($AL$11:$AL$13))","v":0.6916061441410023},null,"R3","X",{"$f":"SUMPRODUCT(Photonic!$BB$12:$BB$506,CRI!$L$6:$L$500,CRI!$W$6:$W$500)*100/SUMPRODUCT(Photonic!$BC12:$BC506,CRI!$L$6:$L$500,CRI!$W$6:$W$500)","v":116.05038088083221},"u",{"$f":"4*AT11/(AT11+15*AT12+3*AT13)","v":0.28448631280964259},"x",{"$f":"+AT11/(SUM($AT$11:$AT$13))","v":0.52446692359363778},null,null,"c",null,null,{"$f":"(4-BD9-10*BD10)/BD10","v":1.555588622930088E-2},{"$f":"(4-BE9-10*BE10)/BE10","v":1.2559023808227529E-2},{"$f":"(4-BF9-10*BF10)/BF10","v":1.1867403079586867E-2},3.3129620437760764E-2,5.4818812989641121E-2,6.3886102220937241E-2,3.6860748674181161E-2,2.2668028068182796E-2,3.9932887879473135E-3,5.8524355421371126E-3,4.4921413188421466E-2,0.37301709202638084,1.5449001754995017E-2,1.664143546445292E-2,null,"R2",{"$f":"BU11","v":42.467869787553063},{"$f":"BE35","v":42.467869787553063},{"$f":"BE18","v":0.31256190414073876},{"$f":"BE19","v":0.36454245960350257},{"$f":"BE13","v":0.32781346611500045},{"$f":"BE14","v":0.36252207023833199},{"$f":"IF(BT11<BZ10,BT11,BZ10)","v":0},{"$f":"IF(BT11-$CB$6>0,IF(CA10<>0,1+CA10,),0)","v":0},2,42.467869787553063,{"$f":"IF(CC11<>\"\",IF(CC11<CD10,CC11,CD10),CD10)","v":42.467869787553063},{"$f":"IF(CC11<>\"\",IF(CC11-$CB$7>0,IF(CE10<>0,1+CE10,),0),IF(CE10<>0,1+CE10,0))","v":2},{"$f":"IF(CC11<>\"\",IF(CB11<>$CA$7,BT11,\"\"),\"\")","v":42.467869787553063},{"$f":"IF(CF11<>\"\",IF(CF11<CG10,CF11,CG10),CG10)","v":42.467869787553063},{"$f":"IF(CF11<>\"\",IF(CF11-$CB$8>0,IF(CH10<>0,1+CH10,),0),IF(CH10<>0,1+CH10,0))","v":2}]
[{"$f":"Photonic!B18","v":366},{"$f":"Photonic!D18","v":7.1600594264250512E-5},null,null,null,null,"M2",{"$f":"(0.03-31.4424*H9+30.0717*H10)/(0.0241+0.2562*H9-0.7341*H10)","v":11.739263057366268},{"$f":"$G$5*((A12*0.000000001)^(-5)) / (EXP($G$6/(($E$6*0.000000001*A12)))-1)","v":88259578.227226496},65.969634722586903,88259578.227226496,9.7217854134795462E-6,{"$f":"+$L12*Photonic!BB18","v":2.6118548691854147E-9},{"$f":"+$L12*Photonic!BC18","v":7.8299259720164259E-11},{"$f":"+$L12*Photonic!BD18","v":1.2230006050157269E-8},65.88000000000001,40.64,5.78,null,null,0.1406,5.5800000000000002E-2,5.9399999999999994E-2,5.96E-2,0.19620000000000001,8.2600000000000007E-2,0.1852,7.9200000000000007E-2,7.22E-2,4.3399999999999994E-2,8.0399999999999999E-2,0.1716,7.7200000000000005E-2,3.5999999999999997E-2,3.5999999999999997E-2,null,"Y",100,"v",{"$f":"6*AL12/(AL11+15*AL12+3*AL13)","v":0.34734856185742441},"y",{"$f":"+AL12/(SUM($AL$11:$AL$13))","v":0.30657473289436088},null,null,"Y",100,"v",{"$f":"6*AT12/(AT11+15*AT12+3*AT13)","v":0.36771052880270716},"y",{"$f":"+AT12/(SUM($AT$11:$AT$13))","v":0.45193037680091136},null,null,"d",null,null,{"$f":"(1.708*BD10+0.404-1.481*BD9)/BD10","v":0.61726155395237869},{"$f":"(1.708*BE10+0.404-1.481*BE9)/BE10","v":0.62476747823251366},{"$f":"(1.708*BF10+0.404-1.481*BF9)/BF10","v":0.64375799131500311},0.65729992995793018,0.65169435827243394,0.62883069022145621,0.60761286748411836,0.58947061609418416,0.55857763196494525,0.62306942271325294,0.67083890675997415,0.68747739166652733,0.62143401351751881,0.64273367257147218,null,"R3",31.05968880726526,{"$f":"BF35","v":31.05968880726526},{"$f":"BF18","v":0.30109723690500761},{"$f":"BF19","v":0.36590544969893224},{"$f":"BF13","v":0.28448631280964259},{"$f":"BF14","v":0.36771052880270716},{"$f":"IF(BT12<BZ11,BT12,BZ11)","v":0},0,3,31.05968880726526,{"$f":"IF(CC12<>\"\",IF(CC12<CD11,CC12,CD11),CD11)","v":31.05968880726526},3,31.05968880726526,{"$f":"IF(CF12<>\"\",IF(CF12<CG11,CF12,CG11),CG11)","v":31.05968880726526},{"$f":"IF(CF12<>\"\",IF(CF12-$CB$8>0,IF(CH11<>0,1+CH11,),0),IF(CH11<>0,1+CH11,0))","v":3}]
[{"$f":"Photonic!B19","v":367},{"$f":"Photonic!D19","v":5.5427380886248231E-5},null,null,null,null,null,null,92011509.984622329,66.905117929342651,92011509.984622329,1.0135060393533433E-5,{"$f":"+$L13*Photonic!BB19","v":3.093423133314274E-9},{"$f":"+$L13*Photonic!BC19","v":9.2614181876108508E-11},{"$f":"+$L13*Photonic!BD19","v":1.449313636275281E-8},66.61,41.08,5.86,null,null,0.1452,5.6599999999999998E-2,5.9799999999999999E-2,6.0199999999999997E-2,0.2054,8.4199999999999997E-2,0.19339999999999999,8.0399999999999999E-2,7.2399999999999992E-2,4.3799999999999999E-2,8.1799999999999998E-2,0.16819999999999999,7.8399999999999997E-2,3.5999999999999997E-2,3.5999999999999997E-2,null,"Z",{"$f":"SUMPRODUCT(Photonic!$BD$12:$BD$506,CRI!$B$6:$B$500,CRI!$W$6:$W$500)*100/SUMPRODUCT(Photonic!$BC12:$BC506,CRI!$B$6:$B$500,CRI!$W$6:$W$500)","v":0.59337015397929171},null,null,"z",{"$f":"+AL13/(SUM($AL$11:$AL$13))","v":1.8191229646368713E-3},null,null,"Z",{"$f":"SUMPRODUCT(Photonic!$BD$12:$BD$506,CRI!$L$6:$L$500,CRI!$W$6:$W$500)*100/SUMPRODUCT(Photonic!$BC12:$BC506,CRI!$L$6:$L$500,CRI!$W$6:$W$500)","v":5.2226406581756466},null,null,"z",{"$f":"+AT13/(SUM($AT$11:$AT$13))","v":2.3602699605450798E-2},null,"Reference-> Sample","u",null,null,{"$f":"AV5","v":0.35603091925815783},{"$f":"AV8","v":0.32781346611500045},{"$f":"AV11","v":0.28448631280964259},{"$f":"AV14","v":0.24934524209409972},{"$f":"AV17","v":0.25959370059656517},{"$f":"AV20","v":0.28472971399006275},{"$f":"AV23","v":0.34024316442469232},{"$f":"AV26","v":0.374078846989571},{"$f":"AV29","v":0.49909335974619246},{"$f":"AV32","v":0.32958767976848202},{"$f":"AV35","v":0.22253356669550911},{"$f":"AV38","v":0.19376708097588899},{"$f":"AV41","v":0.34059733853914087},{"$f":"AV44","v":0.28268760845286567},null,"R4",0,{"$f":"BG35","v":0},{"$f":"BG18","v":0.29248238560448686},{"$f":"BG19","v":0.35981275513606031},{"$f":"BG13","v":0.24934524209409972},{"$f":"BG14","v":0.3658388796664705},0,0,4,0,0,0,"",31.05968880726526,4]
[{"$f":"Photonic!B20","v":368},{"$f":"Photonic!D20","v":5.6089200359516865E-5},null,"X",{"$f":"SUMPRODUCT(Photonic!$BB$12:$BB$506,CRI!$B$6:$B$500)*100/SUMPRODUCT(Photonic!$BC12:$BC506,CRI!$B$6:$B$500)","v":227.52159230632154},null,null,null,95897685.857592866,67.840601136098385,95897685.857592866,1.0563122352075701E-5,{"$f":"+$L14*Photonic!BB20","v":3.6102639574924336E-9},{"$f":"+$L14*Photonic!BC20","v":1.0797623668291782E-10},{"$f":"+$L14*Photonic!BD20","v":1.6922122008025273E-8},67.34,41.52,5.9399999999999995,null,null,0.14980000000000002,5.74E-2,6.0199999999999997E-2,6.08E-2,0.21460000000000001,8.5800000000000001E-2,0.2016,8.1600000000000006E-2,7.2599999999999998E-2,4.4199999999999996E-2,8.3199999999999996E-2,0.1648,7.9600000000000004E-2,3.5999999999999997E-2,3.5999999999999997E-2,"R4","X",{"$f":"SUMPRODUCT(Photonic!$BB$12:$BB$506,CRI!$B$6:$B$500,CRI!$X$6:$X$500)*100/SUMPRODUCT(Photonic!$BC12:$BC506,CRI!$B$6:$B$500,CRI!$X$6:$X$500)","v":224.35284366372645},"u",{"$f":"4*AL14/(AL14+15*AL15+3*AL16)","v":0.51893818841145567},"x",{"$f":"+AL14/(SUM($AL$14:$AL$16))","v":0.68817922272646659},null,"R4","X",{"$f":"SUMPRODUCT(Photonic!$BB$12:$BB$506,CRI!$L$6:$L$500,CRI!$X$6:$X$500)*100/SUMPRODUCT(Photonic!$BC12:$BC506,CRI!$L$6:$L$500,CRI!$X$6:$X$500)","v":102.23567912796358},"u",{"$f":"4*AT14/(AT14+15*AT15+3*AT16)","v":0.24934524209409972},"x",{"$f":"+AT14/(SUM($AT$14:$AT$16))","v":0.47585592024004064},null,null,"v",null,null,{"$f":"AV6","v":0.35836561640359144},{"$f":"AV9","v":0.36252207023833199},{"$f":"AV12","v":0.36771052880270716},{"$f":"AV15","v":0.3658388796664705},{"$f":"AV18","v":0.3600758813174697},{"$f":"AV21","v":0.35301974528885177},{"$f":"AV24","v":0.35252667141171062},{"$f":"AV27","v":0.35285803971189039},{"$f":"AV30","v":0.34853716186325573},{"$f":"AV33","v":0.36475091070809845},{"$f":"AV36","v":0.36674589400034979},{"$f":"AV39","v":0.31768587451889502},{"$f":"AV42","v":0.36008765853584873},{"$f":"AV45","v":0.36681333266568583},null,"R5",0,{"$f":"BH35","v":0},{"$f":"BH18","v":0.29539843690753953},{"$f":"BH19","v":0.35271661107236002},{"$f":"BH13","v":0.25959370059656517},{"$f":"BH14","v":0.3600758813174697},0,0,5,0,0,0,0,0,0]
[{"$f":"Photonic!B21","v":369},{"$f":"Photonic!D21","v":5.6751019832785499E-5},null,"Y",100,null,null,null,99921910.414096251,68.776084342854119,99921910.414096251,1.1006390361959665E-5,{"$f":"+$L15*Photonic!BB21","v":4.1641577295438201E-9},{"$f":"+$L15*Photonic!BC21","v":1.2443824943231597E-10},{"$f":"+$L15*Photonic!BD21","v":1.9525336502116445E-8},68.069999999999993,41.96,6.02,null,null,0.15440000000000001,5.8199999999999995E-2,6.0600000000000001E-2,6.1399999999999996E-2,0.2238,8.7399999999999992E-2,0.20979999999999999,8.2799999999999999E-2,7.279999999999999E-2,4.4600000000000001E-2,8.4599999999999995E-2,0.16139999999999999,8.0799999999999997E-2,3.5999999999999997E-2,3.5999999999999997E-2,null,"Y",100,"v",{"$f":"6*AL15/(AL14+15*AL15+3*AL16)","v":0.34695672669248945},"y",{"$f":"+AL15/(SUM($AL$14:$AL$16))","v":0.30673969248098809},null,null,"Y",100,"v",{"$f":"6*AT15/(AT14+15*AT15+3*AT16)","v":0.3658388796664705},"y",{"$f":"+AT15/(SUM($AT$14:$AT$16))","v":0.46544995279430212},null,null,"c",null,null,{"$f":"(4-BD13-10*BD14)/BD14","v":0.16829995386053939},0.12955302685655254,0.10445281316351365,0.2522038153115731,0.38782793703867585,0.52425632161166336,0.38150339354361279,0.27586378921960902,4.4572066686378059E-2,6.2791380304085015E-2,0.29995562350014471,1.9811210516938722,0.16253285752792607,0.13407109423445687,null,"R6",17.018047948666648,{"$f":"BI35","v":17.018047948666648},{"$f":"BI18","v":0.30846646674389117},{"$f":"BI19","v":0.34870984362145457},{"$f":"BI13","v":0.28472971399006275},{"$f":"BI14","v":0.35301974528885177},0,0,6,17.018047948666648,0,0,17.018047948666648,0,0]
[{"$f":"Photonic!B22","v":370},{"$f":"Photonic!D22","v":5.8322841081798509E-5},null,"Z",{"$f":"SUMPRODUCT(Photonic!$BD$12:$BD$506,CRI!$B$6:$B$500)*100/SUMPRODUCT(Photonic!$BC12:$BC506,CRI!$B$6:$B$500)","v":1.4399790726218136},null,null,null,104088062.5960477,69.711567549609867,104088062.5960477,1.1465291688324007E-5,{"$f":"+$L16*Photonic!BB22","v":4.7569495214856306E-9},{"$f":"+$L16*Photonic!BC22","v":1.4205496401833444E-10},{"$f":"+$L16*Photonic!BD22","v":2.2311457625478517E-8},68.8,42.4,6.1,null,null,0.159,5.8999999999999997E-2,6.0999999999999999E-2,6.2E-2,0.23300000000000001,8.8999999999999996E-2,0.218,8.4000000000000005E-2,7.2999999999999995E-2,4.4999999999999998E-2,8.5999999999999993E-2,0.158,8.2000000000000003E-2,3.5999999999999997E-2,3.5999999999999997E-2,null,"Z",{"$f":"SUMPRODUCT(Photonic!$BD$12:$BD$506,CRI!$B$6:$B$500,CRI!$X$6:$X$500)*100/SUMPRODUCT(Photonic!$BC12:$BC506,CRI!$B$6:$B$500,CRI!$X$6:$X$500)","v":1.6564810218880384},null,null,"z",{"$f":"+AL16/(SUM($AL$14:$AL$16))","v":5.0810847925452981E-3},null,null,"Z",{"$f":"SUMPRODUCT(Photonic!$BD$12:$BD$506,CRI!$L$6:$L$500,CRI!$X$6:$X$500)*100/SUMPRODUCT(Photonic!$BC12:$BC506,CRI!$L$6:$L$500,CRI!$X$6:$X$500)","v":12.610190765578636},null,null,"z",{"$f":"+AT16/(SUM($AT$14:$AT$16))","v":5.8694126965657206E-2},null,null,"d",null,null,{"$f":"(1.708*BD14+0.404-1.481*BD13)/BD14","v":1.3639887841402398},{"$f":"(1.708*BE14+0.404-1.481*BE13)/BE14","v":1.4832088769030236},{"$f":"(1.708*BF14+0.404-1.481*BF13)/BF14","v":1.6608862300258584},1.8029043373692037,1.7622711423630666,1.65790448365767,1.4246168275639561,1.2828693369321018,0.74638872161469572,1.4773786327392049,1.910941025220803,2.0763857623570474,1.4291105240740434,1.6680332190431708,null,"R7",30.092942714855567,{"$f":"BJ35","v":30.092942714855567},{"$f":"BJ18","v":0.32180686728383556},{"$f":"BJ19","v":0.35578458907101757},{"$f":"BJ13","v":0.34024316442469232},{"$f":"BJ14","v":0.35252667141171062},0,0,7,30.092942714855567,0,0,30.092942714855567,0,0]
[{"$f":"Photonic!B23","v":371},{"$f":"Photonic!D23","v":5.9894662330811527E-5},null,null,null,null,null,null,108400096.25310507,66.182683630815163,108400096.25310507,1.1940261847389207E-5,{"$f":"+$L17*Photonic!BB23","v":5.7341913495901933E-9},{"$f":"+$L17*Photonic!BC23","v":1.7093678860722389E-10},{"$f":"+$L17*Photonic!BD23","v":2.6913350204015274E-8},68.259999999999991,42.01,5.79,null,null,0.16520000000000001,0.06,6.1399999999999996E-2,6.3E-2,0.24020000000000002,9.3799999999999994E-2,0.23299999999999998,8.5199999999999998E-2,7.2399999999999992E-2,4.5399999999999996E-2,8.8399999999999992E-2,0.1542,8.3600000000000008E-2,3.5999999999999997E-2,3.5999999999999997E-2,"R5","X",{"$f":"SUMPRODUCT(Photonic!$BB$12:$BB$506,CRI!$B$6:$B$500,CRI!$Y$6:$Y$500)*100/SUMPRODUCT(Photonic!$BC12:$BC506,CRI!$B$6:$B$500,CRI!$Y$6:$Y$500)","v":225.20025454777388},"u",{"$f":"4*AL17/(AL17+15*AL18+3*AL19)","v":0.51966598945474451},"x",{"$f":"+AL17/(SUM($AL$17:$AL$19))","v":0.68670925716519526},null,"R5","X",{"$f":"SUMPRODUCT(Photonic!$BB$12:$BB$506,CRI!$L$6:$L$500,CRI!$Y$6:$Y$500)*100/SUMPRODUCT(Photonic!$BC12:$BC506,CRI!$L$6:$L$500,CRI!$Y$6:$Y$500)","v":108.14124774759132},"u",{"$f":"4*AT17/(AT17+15*AT18+3*AT19)","v":0.25959370059656517},"x",{"$f":"+AT17/(SUM($AT$17:$AT$19))","v":0.47527794500841042},null,null,null,null,null,null,null,null,null,null,null,null,null,null,null,null,null,null,null,null,"R8",0,{"$f":"BK35","v":0},{"$f":"BK18","v":0.33317055043629046},{"$f":"BK19","v":0.35921075455062212},{"$f":"BK13","v":0.374078846989571},{"$f":"BK14","v":0.35285803971189039},0,0,8,0,0,0,0,0,0]
[{"$f":"Photonic!B24","v":372},{"$f":"Photonic!D24","v":5.8777841969670698E-5},null,"x",{"$f":"+E14/SUM(E14:E16)","v":0.69163577785877839},null,null,null,112862040.65898333,62.653799712020458,112862040.65898333,1.2431744663329546E-5,{"$f":"+$L18*Photonic!BB24","v":6.7825112534193347E-9},{"$f":"+$L18*Photonic!BC24","v":2.0191639682179846E-10},{"$f":"+$L18*Photonic!BD24","v":3.1850129827450295E-8},67.72,41.62,5.4799999999999995,null,null,0.1714,6.0999999999999999E-2,6.1800000000000001E-2,6.4000000000000001E-2,0.24740000000000001,9.8599999999999993E-2,0.248,8.6400000000000005E-2,7.1800000000000003E-2,4.58E-2,9.0799999999999992E-2,0.15040000000000001,8.5199999999999998E-2,3.5999999999999997E-2,3.5999999999999997E-2,null,"Y",100,"v",{"$f":"6*AL18/(AL17+15*AL18+3*AL19)","v":0.34613592500036638},"y",{"$f":"+AL18/(SUM($AL$17:$AL$19))","v":0.30493271801321037},null,null,"Y",100,"v",{"$f":"6*AT18/(AT17+15*AT18+3*AT19)","v":0.3600758813174697},"y",{"$f":"+AT18/(SUM($AT$17:$AT$19))","v":0.43949737487562557},null,null,"uk",null,null,{"$f":"(10.872+0.404*$BC$7/$BB$7*BD11-4*$BC$8/$BB$8*BD12)/(16.518+1.481*$BC$7/$BB$7*BD11-$BC$8/$BB$8*BD12)","v":0.31696193240361487},{"$f":"(10.872+0.404*$BC$7/$BB$7*BE11-4*$BC$8/$BB$8*BE12)/(16.518+1.481*$BC$7/$BB$7*BE11-$BC$8/$BB$8*BE12)","v":0.31256190414073876},0.30109723690500761,0.29248238560448686,0.29539843690753953,0.30846646674389117,0.32180686728383556,0.33317055043629046,0.35263852497125031,0.31383212073218986,0.28424602359358159,0.27398167029059323,0.31446204135767269,0.30159491144998224,null,"R9",0,{"$f":"BL35","v":0},{"$f":"BL18","v":0.35263852497125031},{"$f":"BL19","v":0.36340444929100441},{"$f":"BL13","v":0.49909335974619246},{"$f":"BL14","v":0.34853716186325573},0,0,9,{"$f":"IF(CB18<>$CA$6,BT18,\"\")","v":0},0,{"$f":"IF(CC18<>\"\",IF(CC18-$CB$7>0,IF(CE17<>0,1+CE17,),0),IF(CE17<>0,1+CE17,0))","v":0},0,0,0]
[{"$f":"Photonic!B25","v":373},{"$f":"Photonic!D25","v":5.7619657891450585E-5},null,"y",{"$f":"+E15/SUM(E14:E16)","v":0.30398687476114405},null,null,null,117478001.00993434,59.124915793225732,117478001.00993434,1.2940192323180612E-5,{"$f":"+$L19*Photonic!BB25","v":7.9054222940775002E-9},{"$f":"+$L19*Photonic!BC25","v":2.3509741412754532E-10},{"$f":"+$L19*Photonic!BD25","v":3.7138351967528355E-8},67.179999999999993,41.230000000000004,5.17,null,null,0.17760000000000001,6.2E-2,6.2199999999999998E-2,6.5000000000000002E-2,0.25459999999999999,0.10340000000000001,0.26300000000000001,8.7599999999999997E-2,7.1199999999999999E-2,4.6199999999999998E-2,9.3200000000000005E-2,0.14660000000000001,8.6800000000000002E-2,3.5999999999999997E-2,3.5999999999999997E-2,null,"Z",{"$f":"SUMPRODUCT(Photonic!$BD$12:$BD$506,CRI!$B$6:$B$500,CRI!$Y$6:$Y$500)*100/SUMPRODUCT(Photonic!$BC12:$BC506,CRI!$B$6:$B$500,CRI!$Y$6:$Y$500)","v":2.7409406494820212},null,null,"z",{"$f":"+AL19/(SUM($AL$17:$AL$19))","v":8.3580248215944682E-3},null,null,"Z",{"$f":"SUMPRODUCT(Photonic!$BD$12:$BD$506,CRI!$L$6:$L$500,CRI!$Y$6:$Y$500)*100/SUMPRODUCT(Photonic!$BC12:$BC506,CRI!$L$6:$L$500,CRI!$Y$6:$Y$500)","v":19.391396851933866},null,null,"z",{"$f":"+AT19/(SUM($AT$17:$AT$19))","v":8.5224680115964041E-2},null,null,"vk",null,null,{"$f":"5.52/(16.518+1.481*$BC$7/$BB$7*BD11-$BC$8/$BB$8*BD12)","v":0.36312022380371323},{"$f":"5.52/(16.518+1.481*$BC$7/$BB$7*BE11-$BC$8/$BB$8*BE12)","v":0.36454245960350257},0.36590544969893224,0.35981275513606031,0.35271661107236002,0.34870984362145457,0.35578458907101757,0.35921075455062212,0.36340444929100441,0.36664767586194302,0.35686442056179751,0.27758352765726318,0.36340183686314936,0.36427752221920934,null,"R10",19.79996621714939,{"$f":"BM35","v":19.79996621714939},{"$f":"BM18","v":0.31383212073218986},{"$f":"BM19","v":0.36664767586194302},{"$f":"BM13","v":0.32958767976848202},{"$f":"BM14","v":0.36475091070809845},0,0,10,19.79996621714939,0,0,19.79996621714939,0,0]
[{"$f":"Photonic!B26","v":374},{"$f":"Photonic!D26","v":6.0266935784525127E-5},null,"z",{"$f":"+E16/SUM(E14:E16)","v":4.3773473800775555E-3},null,null,null,122252158.90501046,55.596031874431027,122252158.90501046,1.3466065429740298E-5,{"$f":"+$L20*Photonic!BB26","v":9.1065614075161742E-9},{"$f":"+$L20*Photonic!BC26","v":2.7058711874520158E-10},{"$f":"+$L20*Photonic!BD26","v":4.2795155935714663E-8},66.64,40.840000000000003,4.8599999999999994,null,null,0.18379999999999999,6.3E-2,6.2600000000000003E-2,6.6000000000000003E-2,0.26180000000000003,0.1082,0.27799999999999997,8.8800000000000004E-2,7.060000000000001E-2,4.6600000000000003E-2,9.5600000000000004E-2,0.14280000000000001,8.8399999999999992E-2,3.5999999999999997E-2,3.5999999999999997E-2,"R6","X",{"$f":"SUMPRODUCT(Photonic!$BB$12:$BB$506,CRI!$B$6:$B$500,CRI!$Z$6:$Z$500)*100/SUMPRODUCT(Photonic!$BC12:$BC506,CRI!$B$6:$B$500,CRI!$Z$6:$Z$500)","v":227.78497892422379},"u",{"$f":"4*AL20/(AL20+15*AL21+3*AL22)","v":0.52443694781545425},"x",{"$f":"+AL20/(SUM($AL$20:$AL$22))","v":0.68821521439979316},null,"R6","X",{"$f":"SUMPRODUCT(Photonic!$BB$12:$BB$506,CRI!$L$6:$L$500,CRI!$Z$6:$Z$500)*100/SUMPRODUCT(Photonic!$BC12:$BC506,CRI!$L$6:$L$500,CRI!$Z$6:$Z$500)","v":120.9831961766422},"u",{"$f":"4*AT20/(AT20+15*AT21+3*AT22)","v":0.28472971399006275},"x",{"$f":"+AT20/(SUM($AT$20:$AT$22))","v":0.4894221191996837},null,null,null,null,null,null,null,null,null,null,null,null,null,null,null,null,null,null,null,null,"R11",0,{"$f":"BN35","v":0},{"$f":"BN18","v":0.28424602359358159},{"$f":"BN19","v":0.35686442056179751},{"$f":"BN13","v":0.22253356669550911},{"$f":"BN14","v":0.36674589400034979},0,0,11,0,0,0,0,0,0]
[{"$f":"Photonic!B27","v":375},{"$f":"Photonic!D27","v":6.2914213677599677E-5},null,null,null,null,null,null,127188772.80777197,52.067147955636315,127188772.80777197,1.4009833052425835E-5,{"$f":"+$L21*Photonic!BB27","v":1.0389692191679E-8},{"$f":"+$L21*Photonic!BC27","v":3.0849652381441686E-10},{"$f":"+$L21*Photonic!BD27","v":4.8838278020756463E-8},66.099999999999994,40.450000000000003,4.55,null,null,0.19,6.4000000000000001E-2,6.3E-2,6.7000000000000004E-2,0.26900000000000002,0.113,0.29299999999999998,0.09,7.0000000000000007E-2,4.7E-2,9.8000000000000004E-2,0.13900000000000001,0.09,3.5999999999999997E-2,3.5999999999999997E-2,null,"Y",100,"v",{"$f":"6*AL21/(AL20+15*AL21+3*AL22)","v":0.34534999868664501},"y",{"$f":"+AL21/(SUM($AL$20:$AL$22))","v":0.30213371296477748},null,null,"Y",100,"v",{"$f":"6*AT21/(AT20+15*AT21+3*AT22)","v":0.35301974528885177},"y",{"$f":"+AT21/(SUM($AT$20:$AT$22))","v":0.4045372701884154},null,null,"Kr",null,null,null,null,null,null,null,null,null,null,null,null,null,null,null,null,null,"R12",0,{"$f":"BO35","v":0},{"$f":"BO18","v":0.27398167029059323},{"$f":"BO19","v":0.27758352765726318},{"$f":"BO13","v":0.19376708097588899},{"$f":"BO14","v":0.31768587451889502},0,0,12,0,0,0,0,0,0]
[{"$f":"Photonic!B28","v":376},{"$f":"Photonic!D28","v":6.4568762360771268E-5},null,null,null,null,null,null,132292178.48907831,48.538264036841618,132292178.48907831,1.4571972776047216E-5,{"$f":"+$L22*Photonic!BB28","v":1.2632151760099811E-8},{"$f":"+$L22*Photonic!BC28","v":3.7327565463122547E-10},{"$f":"+$L22*Photonic!BD28","v":4.2518102165950566E-8},65.56,40.06,4.24,null,null,0.1958,6.5200000000000008E-2,6.3399999999999998E-2,6.8400000000000002E-2,0.2742,0.1206,0.31,9.2799999999999994E-2,6.9200000000000012E-2,4.7600000000000003E-2,0.10060000000000001,0.13520000000000001,9.2799999999999994E-2,3.5999999999999997E-2,3.5999999999999997E-2,null,"Z",{"$f":"SUMPRODUCT(Photonic!$BD$12:$BD$506,CRI!$B$6:$B$500,CRI!$Z$6:$Z$500)*100/SUMPRODUCT(Photonic!$BC12:$BC506,CRI!$B$6:$B$500,CRI!$Z$6:$Z$500)","v":3.1943051110468628},null,null,"z",{"$f":"+AL22/(SUM($AL$20:$AL$22))","v":9.6510726354295442E-3},null,null,"Z",{"$f":"SUMPRODUCT(Photonic!$BD$12:$BD$506,CRI!$L$6:$L$500,CRI!$Z$6:$Z$500)*100/SUMPRODUCT(Photonic!$BC12:$BC506,CRI!$L$6:$L$500,CRI!$Z$6:$Z$500)","v":26.212816080583114},null,null,"z",{"$f":"+AT22/(SUM($AT$20:$AT$22))","v":0.10604061061190091},null,null,"Y_Ref",null,null,{"$f":"SUMPRODUCT(Photonic!$BC12:$BC506,CRI!$L$6:$L$500,CRI!U$6:U$500)*100/$N$5","v":35.102583556372544},{"$f":"SUMPRODUCT(Photonic!$BC12:$BC506,CRI!$L$6:$L$500,CRI!V$6:V$500)*100/$N$5","v":31.546349835612688},{"$f":"SUMPRODUCT(Photonic!$BC12:$BC506,CRI!$L$6:$L$500,CRI!W$6:W$500)*100/$N$5","v":29.802552814547205},{"$f":"SUMPRODUCT(Photonic!$BC12:$BC506,CRI!$L$6:$L$500,CRI!X$6:X$500)*100/$N$5","v":24.779872225145894},{"$f":"SUMPRODUCT(Photonic!$BC12:$BC506,CRI!$L$6:$L$500,CRI!Y$6:Y$500)*100/$N$5","v":26.072235016070579},{"$f":"SUMPRODUCT(Photonic!$BC12:$BC506,CRI!$L$6:$L$500,CRI!Z$6:Z$500)*100/$N$5","v":25.781688805752083},{"$f":"SUMPRODUCT(Photonic!$BC12:$BC506,CRI!$L$6:$L$500,CRI!AA$6:AA$500)*100/$N$5","v":30.824470993811133},{"$f":"SUMPRODUCT(Photonic!$BC12:$BC506,CRI!$L$6:$L$500,CRI!AB$6:AB$500)*100/$N$5","v":36.86862674817138},{"$f":"SUMPRODUCT(Photonic!$BC12:$BC506,CRI!$L$6:$L$500,CRI!AC$6:AC$500)*100/$N$5","v":22.179409565361365},{"$f":"SUMPRODUCT(Photonic!$BC12:$BC506,CRI!$L$6:$L$500,CRI!AD$6:AD$500)*100/$N$5","v":66.341176205795534},{"$f":"SUMPRODUCT(Photonic!$BC12:$BC506,CRI!$L$6:$L$500,CRI!AE$6:AE$500)*100/$N$5","v":15.402806879851733},{"$f":"SUMPRODUCT(Photonic!$BC12:$BC506,CRI!$L$6:$L$500,CRI!AF$6:AF$500)*100/$N$5","v":3.4341970256162822},{"$f":"SUMPRODUCT(Photonic!$BC12:$BC506,CRI!$L$6:$L$500,CRI!AG$6:AG$500)*100/$N$5","v":64.419602007332159},{"$f":"SUMPRODUCT(Photonic!$BC12:$BC506,CRI!$L$6:$L$500,CRI!AH$6:AH$500)*100/$N$5","v":11.342382582577288},null,"R13",0,{"$f":"BP35","v":0},{"$f":"BP18","v":0.31446204135767269},{"$f":"BP19","v":0.36340183686314936},{"$f":"BP13","v":0.34059733853914087},{"$f":"BP14","v":0.36008765853584873},0,0,13,0,0,0,0,0,0]
[{"$f":"Photonic!B29","v":377},{"$f":"Photonic!D29","v":6.6223311043942846E-5},null,null,null,null,null,null,137566789.4506321,45.009380118046899,137566789.4506321,1.5152970747460524E-5,{"$f":"+$L23*Photonic!BB29","v":1.5034171456800434E-8},{"$f":"+$L23*Photonic!BC29","v":4.4264858147481686E-10},{"$f":"+$L23*Photonic!BD29","v":3.5603420068233248E-8},65.02,39.67,3.9299999999999997,null,null,0.2016,6.6400000000000001E-2,6.3799999999999996E-2,6.9800000000000001E-2,0.27939999999999998,0.12820000000000001,0.32700000000000001,9.5599999999999991E-2,6.8400000000000002E-2,4.82E-2,0.1032,0.13140000000000002,9.5599999999999991E-2,3.5999999999999997E-2,3.5999999999999997E-2,"R7","X",{"$f":"SUMPRODUCT(Photonic!$BB$12:$BB$506,CRI!$B$6:$B$500,CRI!$AA$6:$AA$500)*100/SUMPRODUCT(Photonic!$BC12:$BC506,CRI!$B$6:$B$500,CRI!$AA$6:$AA$500)","v":229.79457262304061},"u",{"$f":"4*AL23/(AL23+15*AL24+3*AL25)","v":0.52968693879858486},"x",{"$f":"+AL23/(SUM($AL$23:$AL$25))","v":0.69290866190875722},null,"R7","X",{"$f":"SUMPRODUCT(Photonic!$BB$12:$BB$506,CRI!$L$6:$L$500,CRI!$AA$6:$AA$500)*100/SUMPRODUCT(Photonic!$BC12:$BC506,CRI!$L$6:$L$500,CRI!$AA$6:$AA$500)","v":144.77337121564659},"u",{"$f":"4*AT23/(AT23+15*AT24+3*AT25)","v":0.34024316442469232},"x",{"$f":"+AT23/(SUM($AT$23:$AT$25))","v":0.54869877515999677},null,null,"W_Ref",null,null,{"$f":"25*(BD22^(1/3))-17","v":64.856474495864646},{"$f":"25*BE22^(1/3)-17","v":61.993201155082261},60.510016754676116,55.885258131045831,57.130926734842021,56.854528409298879,61.386008935115044,66.206833687925467,53.240889432623788,84.204789145930647,45.202327009925128,20.717978728619876,83.218066835047907,39.170476239103294,null,"R14",48.563257260106177,{"$f":"BQ35","v":48.563257260106177},{"$f":"BQ18","v":0.30159491144998224},{"$f":"BQ19","v":0.36427752221920934},{"$f":"BP13","v":0.34059733853914087},{"$f":"BQ14","v":0.36681333266568583},0,0,14,48.563257260106177,0,0,48.563257260106177,0,0]
[{"$f":"Photonic!B30","v":378},{"$f":"Photonic!D30","v":7.5240601367228019E-5},null,null,null,null,null,null,143017097.32894596,41.48049619925218,143017097.32894596,1.5753321720064868E-5,{"$f":"+$L24*Photonic!BB30","v":1.7603391822869289E-8},{"$f":"+$L24*Photonic!BC30","v":5.1683497899188823E-10},{"$f":"+$L24*Photonic!BD30","v":2.8062967312123555E-8},64.47999999999999,39.28,3.62,null,null,0.2074,6.7600000000000007E-2,6.4200000000000007E-2,7.1199999999999999E-2,0.28460000000000002,0.1358,0.34399999999999997,9.8400000000000001E-2,6.7600000000000007E-2,4.8800000000000003E-2,0.10580000000000001,0.12759999999999999,9.8400000000000001E-2,3.5999999999999997E-2,3.5999999999999997E-2,null,"Y",100,"v",{"$f":"6*AL24/(AL23+15*AL24+3*AL25)","v":0.34575682059351337},"y",{"$f":"+AL24/(SUM($AL$23:$AL$25))","v":0.30153395443565056},null,null,"Y",100,"v",{"$f":"6*AT24/(AT23+15*AT24+3*AT25)","v":0.35252667141171062},"y",{"$f":"+AT24/(SUM($AT$23:$AT$25))","v":0.37900531745073801},null,null,"U_Ref",null,null,{"$f":"13*BD23*(BD13-$BC5)","v":38.606896629999824},{"$f":"13*BE23*(BE13-$BC5)","v":14.161712251761969},-20.259554084596612,-44.241405220594224,-37.615984104231821,-18.855748257575005,23.942129833723119,54.944370375772692,130.71055665102443,21.17788689982979,-51.539644812812959,-31.370401852724498,32.840354509585168,-14.030723004879105]
[{"$f":"Photonic!B31","v":379},{"$f":"Photonic!D31","v":6.5106490682802031E-5},null,null,null,null,null,null,148647672.2794185,37.951612280457475,148647672.2794185,1.6373529096108289E-5,{"$f":"+$L25*Photonic!BB31","v":2.0347712078315696E-8},{"$f":"+$L25*Photonic!BC31","v":5.960619532147262E-10},{"$f":"+$L25*Photonic!BD31","v":1.9864365499398578E-8},63.94,38.89,3.31,null,null,0.2132,6.88E-2,6.4600000000000005E-2,7.2599999999999998E-2,0.2898,0.1434,0.36099999999999999,0.1012,6.6799999999999998E-2,4.9399999999999999E-2,0.1084,0.12379999999999999,0.1012,3.5999999999999997E-2,3.5999999999999997E-2,null,"Z",{"$f":"SUMPRODUCT(Photonic!$BD$12:$BD$506,CRI!$B$6:$B$500,CRI!$AA$6:$AA$500)*100/SUMPRODUCT(Photonic!$BC12:$BC506,CRI!$B$6:$B$500,CRI!$AA$6:$AA$500)","v":1.8430374337090631},null,null,"z",{"$f":"+AL25/(SUM($AL$23:$AL$25))","v":5.5573836555922696E-3},null,null,"Z",{"$f":"SUMPRODUCT(Photonic!$BD$12:$BD$506,CRI!$L$6:$L$500,CRI!$AA$6:$AA$500)*100/SUMPRODUCT(Photonic!$BC12:$BC506,CRI!$L$6:$L$500,CRI!$AA$6:$AA$500)","v":19.075169677180586},null,null,"z",{"$f":"+AT25/(SUM($AT$23:$AT$25))","v":7.2295907389265196E-2},null,null,"V_Ref",null,null,{"$f":"13*BD23*(BD14-$BC6)","v":-0.93579432561688591},{"$f":"13*BE23*(BE14-$BC6)","v":2.4552533964187595},6.4779098658356951,4.6230368289712551,0.4458925044590214,-4.7715174367940998,-5.5453039173503633,-5.6955880299585147,-7.5707801841668871,5.7747754197863417,4.2722940136695531,-11.255359759388107,0.66223707283265099,3.7365350219407065]
[{"$f":"Photonic!B32","v":380},{"$f":"Photonic!D32","v":5.4972379998376049E-5},null,null,null,null,null,null,154463163.34020585,34.42272836166277,154463163.34020585,1.7014104966768211E-5,{"$f":"+$L26*Photonic!BB32","v":2.3275295594538914E-8},{"$f":"+$L26*Photonic!BC32","v":6.8056419867072848E-10},{"$f":"+$L26*Photonic!BD32","v":1.0974097703565495E-8},63.4,38.5,3,null,null,0.219,7.0000000000000007E-2,6.5000000000000002E-2,7.3999999999999996E-2,0.29499999999999998,0.151,0.378,0.104,6.6000000000000003E-2,0.05,0.111,0.12,0.104,3.5999999999999997E-2,3.5999999999999997E-2,"R8","X",{"$f":"SUMPRODUCT(Photonic!$BB$12:$BB$506,CRI!$B$6:$B$500,CRI!$AB$6:$AB$500)*100/SUMPRODUCT(Photonic!$BC12:$BC506,CRI!$B$6:$B$500,CRI!$AB$6:$AB$500)","v":231.61074508051112},"u",{"$f":"4*AL26/(AL26+15*AL27+3*AL28)","v":0.53396952952992516},"x",{"$f":"+AL26/(SUM($AL$26:$AL$28))","v":0.69606256797579336},null,"R8","X",{"$f":"SUMPRODUCT(Photonic!$BB$12:$BB$506,CRI!$L$6:$L$500,CRI!$AB$6:$AB$500)*100/SUMPRODUCT(Photonic!$BC12:$BC506,CRI!$L$6:$L$500,CRI!$AB$6:$AB$500)","v":159.02096801946504},"u",{"$f":"4*AT26/(AT26+15*AT27+3*AT28)","v":0.374078846989571},"x",{"$f":"+AT26/(SUM($AT$26:$AT$28))","v":0.58289118676278096}]
[{"$f":"Photonic!B33","v":381},{"$f":"Photonic!D33","v":5.993602604789081E-5},null,null,null,null,null,null,160468298.77559391,33.133252473249897,160468298.77559391,1.767557014997385E-5,{"$f":"+$L27*Photonic!BB33","v":2.724865894319969E-8},{"$f":"+$L27*Photonic!BC33","v":7.7772508659884953E-10},{"$f":"+$L27*Photonic!BD33","v":4.6416047213831325E-8},63.64,38.15,2.82,null,null,0.223,7.1800000000000003E-2,6.5600000000000006E-2,7.5799999999999992E-2,0.29719999999999996,0.16139999999999999,0.39419999999999999,0.109,6.5200000000000008E-2,5.0800000000000005E-2,0.113,0.1166,0.1086,3.5999999999999997E-2,3.5999999999999997E-2,null,"Y",100,"v",{"$f":"6*AL27/(AL26+15*AL27+3*AL28)","v":0.345819143242454},"y",{"$f":"+AL27/(SUM($AL$26:$AL$28))","v":0.30053120710519382},null,null,"Y",100,"v",{"$f":"6*AT27/(AT26+15*AT27+3*AT28)","v":0.35285803971189039},"y",{"$f":"+AT27/(SUM($AT$26:$AT$28))","v":0.36654989214468359},null,null,"Y_Target",null,null,{"$f":"+SUMPRODUCT(Photonic!$BC12:$BC506,CRI!$B$6:$B$500,CRI!U$6:U$500)*100/SUMPRODUCT(Photonic!$BC12:$BC506,CRI!$B$6:$B$500)","v":44.619337943850773},{"$f":"+SUMPRODUCT(Photonic!$BC12:$BC506,CRI!$B$6:$B$500,CRI!V$6:V$500)*100/SUMPRODUCT(Photonic!$BC12:$BC506,CRI!$B$6:$B$500)","v":33.903390302621027},{"$f":"+SUMPRODUCT(Photonic!$BC12:$BC506,CRI!$B$6:$B$500,CRI!W$6:W$500)*100/SUMPRODUCT(Photonic!$BC12:$BC506,CRI!$B$6:$B$500)","v":23.724368651524408},{"$f":"+SUMPRODUCT(Photonic!$BC12:$BC506,CRI!$B$6:$B$500,CRI!X$6:X$500)*100/SUMPRODUCT(Photonic!$BC12:$BC506,CRI!$B$6:$B$500)","v":16.055776217714232},{"$f":"+SUMPRODUCT(Photonic!$BC12:$BC506,CRI!$B$6:$B$500,CRI!Y$6:Y$500)*100/SUMPRODUCT(Photonic!$BC12:$BC506,CRI!$B$6:$B$500)","v":18.59376199251135},{"$f":"+SUMPRODUCT(Photonic!$BC12:$BC506,CRI!$B$6:$B$500,CRI!Z$6:Z$500)*100/SUMPRODUCT(Photonic!$BC12:$BC506,CRI!$B$6:$B$500)","v":23.008346166852622},{"$f":"+SUMPRODUCT(Photonic!$BC12:$BC506,CRI!$B$6:$B$500,CRI!AA$6:AA$500)*100/SUMPRODUCT(Photonic!$BC12:$BC506,CRI!$B$6:$B$500)","v":38.254332974803347},{"$f":"+SUMPRODUCT(Photonic!$BC12:$BC506,CRI!$B$6:$B$500,CRI!AB$6:AB$500)*100/SUMPRODUCT(Photonic!$BC12:$BC506,CRI!$B$6:$B$500)","v":54.858574257594917},{"$f":"+SUMPRODUCT(Photonic!$BC12:$BC506,CRI!$B$6:$B$500,CRI!AC$6:AC$500)*100/SUMPRODUCT(Photonic!$BC12:$BC506,CRI!$B$6:$B$500)","v":54.170998340088488},{"$f":"+SUMPRODUCT(Photonic!$BC12:$BC506,CRI!$B$6:$B$500,CRI!AD$6:AD$500)*100/SUMPRODUCT(Photonic!$BC12:$BC506,CRI!$B$6:$B$500)","v":70.761914606441678},{"$f":"+SUMPRODUCT(Photonic!$BC12:$BC506,CRI!$B$6:$B$500,CRI!AE$6:AE$500)*100/SUMPRODUCT(Photonic!$BC12:$BC506,CRI!$B$6:$B$500)","v":8.4813118011433666},{"$f":"+SUMPRODUCT(Photonic!$BC12:$BC506,CRI!$B$6:$B$500,CRI!AF$6:AF$500)*100/SUMPRODUCT(Photonic!$BC12:$BC506,CRI!$B$6:$B$500)","v":1.7366386236855524},{"$f":"+SUMPRODUCT(Photonic!$BC12:$BC506,CRI!$B$6:$B$500,CRI!AG$6:AG$500)*100/SUMPRODUCT(Photonic!$BC12:$BC506,CRI!$B$6:$B$500)","v":74.468690202807053},{"$f":"+SUMPRODUCT(Photonic!$BC12:$BC506,CRI!$B$6:$B$500,CRI!AH$6:AH$500)*100/SUMPRODUCT(Photonic!$BC12:$BC506,CRI!$B$6:$B$500)","v":8.8459076890867898},null,"R14 worst points"]
[{"$f":"Photonic!B34","v":382},{"$f":"Photonic!D34","v":6.4858308380326288E-5},null,null,null,null,null,null,166667886.3985908,31.843776584837027,166667886.3985908,1.8358454225939748E-5,{"$f":"+$L28*Photonic!BB34","v":3.148842068833186E-8},{"$f":"+$L28*Photonic!BC34","v":8.8120580284510799E-10},{"$f":"+$L28*Photonic!BD34","v":8.4577398618904414E-8},63.879999999999995,37.799999999999997,2.64,null,null,0.22700000000000001,7.3599999999999999E-2,6.6200000000000009E-2,7.7600000000000002E-2,0.2994,0.17180000000000001,0.41039999999999999,0.114,6.4399999999999999E-2,5.16E-2,0.115,0.1132,0.1132,3.5999999999999997E-2,3.5999999999999997E-2,null,"Z",{"$f":"SUMPRODUCT(Photonic!$BD$12:$BD$506,CRI!$B$6:$B$500,CRI!$AB$6:$AB$500)*100/SUMPRODUCT(Photonic!$BC12:$BC506,CRI!$B$6:$B$500,CRI!$AB$6:$AB$500)","v":1.1334014034091457},null,null,"z",{"$f":"+AL28/(SUM($AL$26:$AL$28))","v":3.4062249190127129E-3},null,null,"Z",{"$f":"SUMPRODUCT(Photonic!$BD$12:$BD$506,CRI!$L$6:$L$500,CRI!$AB$6:$AB$500)*100/SUMPRODUCT(Photonic!$BC12:$BC506,CRI!$L$6:$L$500,CRI!$AB$6:$AB$500)","v":13.7931894609804},null,null,"z",{"$f":"+AT28/(SUM($AT$26:$AT$28))","v":5.0558921092535521E-2},null,null,"W_Target",null,null,{"$f":"25*(BD27^(1/3))-17","v":71.670886280839113},{"$f":"25*(BE27^(1/3))-17","v":63.913511987122945},54.835352956226771,46.069169297121633,49.231170621953396,54.105273234655712,67.236481800294186,77.992251363383005,77.593716425480807,86.404601921398353,33.983269777366971,13.049908959033722,88.179535155773124,34.70360316963999,null,null,"R",null,"u","v","u0","v0","duv"]
[{"$f":"Photonic!B35","v":383},{"$f":"Photonic!D35","v":6.0763300389476606E-5},null,null,null,null,null,null,173066813.87245288,30.554300696424139,173066813.87245288,1.9063295570378845E-5,{"$f":"+$L29*Photonic!BB35","v":3.6006752673331563E-8},{"$f":"+$L29*Photonic!BC35","v":9.9129136965970007E-10},{"$f":"+$L29*Photonic!BD35","v":1.2558899121765583E-7},64.11999999999999,37.450000000000003,2.46,null,null,0.23099999999999998,7.5400000000000009E-2,6.6799999999999998E-2,7.9399999999999998E-2,0.30159999999999998,0.1822,0.42660000000000003,0.11899999999999999,6.3600000000000004E-2,5.2400000000000002E-2,0.11699999999999999,0.10979999999999999,0.1178,3.5999999999999997E-2,3.5999999999999997E-2,"R9","X",{"$f":"SUMPRODUCT(Photonic!$BB$12:$BB$506,CRI!$B$6:$B$500,CRI!$AC$6:$AC$500)*100/SUMPRODUCT(Photonic!$BC12:$BC506,CRI!$B$6:$B$500,CRI!$AC$6:$AC$500)","v":234.76366197854753},"u",{"$f":"4*AL29/(AL29+15*AL30+3*AL31)","v":0.54112876351693517},"x",{"$f":"+AL29/(SUM($AL$29:$AL$31))","v":0.70086377660826404},null,"R9","X",{"$f":"SUMPRODUCT(Photonic!$BB$12:$BB$506,CRI!$L$6:$L$500,CRI!$AC$6:$AC$500)*100/SUMPRODUCT(Photonic!$BC12:$BC506,CRI!$L$6:$L$500,CRI!$AC$6:$AC$500)","v":214.79489751311178},"u",{"$f":"4*AT29/(AT29+15*AT30+3*AT31)","v":0.49909335974619246},"x",{"$f":"+AT29/(SUM($AT$29:$AT$31))","v":0.67753619822803912},null,null,"U_Target",null,null,{"$f":"13*BD28*(BD18-$BC$5)","v":6.2618728577442972},{"$f":"13*BE28*(BE18-$BC$5)","v":1.9282360475225415},-6.5183450617829237,-10.635725713800426,-9.4994308306706419,-1.2482750763181665,10.109272596897576,23.248075378717623,42.766981783790179,4.0335633181254691,-11.484203851767946,-6.1513823249381323,4.8385206412619661,-3.9007351943091964,null,"1st",{"$f":"\"R\"&CA6","v":"R1"},null,{"$f":"INDIRECT(\"bv\"&($CA6+9))","v":0.31696193240361487},{"$f":"INDIRECT(\"bw\"&($CA6+9))","v":0.36312022380371323},{"$f":"INDIRECT(\"bx\"&($CA6+9))","v":0.35603091925815783},{"$f":"INDIRECT(\"by\"&($CA6+9))","v":0.35836561640359144},{"$f":"SQRT((BV29-BX29)^2+(BW29-BY29)^2)","v":3.9357235997586823E-2}]
[{"$f":"Photonic!B36","v":384},{"$f":"Photonic!D36","v":5.6668292398626918E-5},null,null,null,null,null,null,179670048.99089056,29.26482480801128,179670048.99089056,1.9790641385367118E-5,{"$f":"+$L30*Photonic!BB36","v":4.081621879318115E-8},{"$f":"+$L30*Photonic!BC36","v":1.1082759175805586E-9},{"$f":"+$L30*Photonic!BD36","v":1.6958600603121085E-7},64.36,37.1,2.2800000000000002,null,null,0.23499999999999999,7.7200000000000005E-2,6.7400000000000002E-2,8.1200000000000008E-2,0.30380000000000001,0.19260000000000002,0.44280000000000003,0.124,6.2799999999999995E-2,5.3199999999999997E-2,0.11899999999999999,0.10639999999999999,0.12239999999999999,3.5999999999999997E-2,3.5999999999999997E-2,null,"Y",100,"v",{"$f":"6*AL30/(AL29+15*AL30+3*AL31)","v":0.34574905606540357},"y",{"$f":"+AL30/(SUM($AL$29:$AL$31))","v":0.29854014488507519},null,null,"Y",100,"v",{"$f":"6*AT30/(AT29+15*AT30+3*AT31)","v":0.34853716186325573},"y",{"$f":"+AT30/(SUM($AT$29:$AT$31))","v":0.31543402849533714},null,null,"V_Targtet",null,null,{"$f":"13*BD28*(BD19-$BC$6)","v":3.3958526430091638},{"$f":"13*BE28*(BE19-$BC$6)","v":4.2100000380478351},4.5836398460061796,0.20197221190760878,-4.325734461962953,-7.5722354364115754,-3.2261442909884956,-0.26844150258666682,3.963186900659474,8.0561989615118463,-1.1535363164065364,-13.892878911042033,4.5008748604418338,2.1664099092382729,null,"2nd",{"$f":"\"R\"&CA7","v":"R4"},null,{"$f":"INDIRECT(\"bv\"&($CA7+9))","v":0.29248238560448686},{"$f":"INDIRECT(\"bw\"&($CA7+9))","v":0.35981275513606031},{"$f":"INDIRECT(\"bx\"&($CA7+9))","v":0.24934524209409972},{"$f":"INDIRECT(\"by\"&($CA7+9))","v":0.3658388796664705},{"$f":"SQRT((BV30-BX30)^2+(BW30-BY30)^2)","v":4.3556025152575006E-2}]
[{"$f":"Photonic!B37","v":385},{"$f":"Photonic!D37","v":5.7909203911005611E-5},null,null,null,null,null,null,186482639.93669119,27.9753489195984,186482639.93669119,2.0541047727830879E-5,{"$f":"+$L31*Photonic!BB37","v":4.5929782719429847E-8},{"$f":"+$L31*Photonic!BC37","v":1.2324628636698528E-9},{"$f":"+$L31*Photonic!BD37","v":2.1670805352861578E-7},64.599999999999994,36.75,2.1,null,null,0.23899999999999999,7.9000000000000001E-2,6.8000000000000005E-2,8.3000000000000004E-2,0.30599999999999999,0.20300000000000001,0.45900000000000002,0.129,6.2E-2,5.3999999999999999E-2,0.121,0.10299999999999999,0.127,3.5999999999999997E-2,3.5999999999999997E-2,null,"Z",{"$f":"SUMPRODUCT(Photonic!$BD$12:$BD$506,CRI!$B$6:$B$500,CRI!$AC$6:$AC$500)*100/SUMPRODUCT(Photonic!$BC12:$BC506,CRI!$B$6:$B$500,CRI!$AC$6:$AC$500)","v":0.19966443939736062},null,null,"z",{"$f":"+AL31/(SUM($AL$29:$AL$31))","v":5.9607850666085357E-4},null,null,"Z",{"$f":"SUMPRODUCT(Photonic!$BD$12:$BD$506,CRI!$L$6:$L$500,CRI!$AC$6:$AC$500)*100/SUMPRODUCT(Photonic!$BC12:$BC506,CRI!$L$6:$L$500,CRI!$AC$6:$AC$500)","v":2.2286033343189526},null,null,"z",{"$f":"+AT31/(SUM($AT$29:$AT$31))","v":7.0297732766236784E-3},null,null,null,null,null,null,null,null,null,null,null,null,null,null,null,null,null,null,null,null,"3rd",{"$f":"\"R\"&CA8","v":"R5"},null,{"$f":"INDIRECT(\"bv\"&($CA8+9))","v":0.29539843690753953},{"$f":"INDIRECT(\"bw\"&($CA8+9))","v":0.35271661107236002},{"$f":"INDIRECT(\"bx\"&($CA8+9))","v":0.25959370059656517},{"$f":"INDIRECT(\"by\"&($CA8+9))","v":0.3600758813174697},{"$f":"SQRT((BV31-BX31)^2+(BW31-BY31)^2)","v":3.6553221483734681E-2}]
[{"$f":"Photonic!B38","v":386},{"$f":"Photonic!D38","v":5.9150115423384312E-5},null,null,null,null,null,null,193509715.51851967,26.685873031185526,193509715.51851967,2.1315079535630345E-5,{"$f":"+$L32*Photonic!BB38","v":5.6216390767271478E-8},{"$f":"+$L32*Photonic!BC38","v":1.5346857265653848E-9},{"$f":"+$L32*Photonic!BD38","v":2.653727402185978E-7},64.839999999999989,36.4,1.9200000000000002,null,null,0.24159999999999998,8.1000000000000003E-2,6.8400000000000002E-2,8.5000000000000006E-2,0.30680000000000002,0.21540000000000001,0.47200000000000003,0.13720000000000002,6.1199999999999997E-2,5.5E-2,0.1222,0.10039999999999999,0.1338,3.6199999999999996E-2,3.6199999999999996E-2,"R10","X",{"$f":"SUMPRODUCT(Photonic!$BB$12:$BB$506,CRI!$B$6:$B$500,CRI!$AD$6:$AD$500)*100/SUMPRODUCT(Photonic!$BC12:$BC506,CRI!$B$6:$B$500,CRI!$AD$6:$AD$500)","v":227.77409492135902},"u",{"$f":"4*AL32/(AL32+15*AL33+3*AL34)","v":0.52705599544298076},"x",{"$f":"+AL32/(SUM($AL$32:$AL$34))","v":0.69429199406019515},null,"R10","X",{"$f":"SUMPRODUCT(Photonic!$BB$12:$BB$506,CRI!$L$6:$L$500,CRI!$AD$6:$AD$500)*100/SUMPRODUCT(Photonic!$BC12:$BC506,CRI!$L$6:$L$500,CRI!$AD$6:$AD$500)","v":135.53948876864214},"u",{"$f":"4*AT32/(AT32+15*AT33+3*AT34)","v":0.32958767976848202},"x",{"$f":"+AT32/(SUM($AT$32:$AT$34))","v":0.56787340300040068},null,null,null,"(5) Calculate distance",null,null,null,null,null,null,null,null,null,null,null,null,null,null,null,null,"Sample","Reference",null,{"$f":"BB5","v":0.52550210496183614},{"$f":"BB6","v":0.34645202218060128},{"$f":"BC5","v":0.3102411765637702},{"$f":"BC6","v":0.35947551606207806},{"$f":"SQRT((BV32-BX32)^2+(BW32-BY32)^2)","v":0.21565453551381228}]
[{"$f":"Photonic!B39","v":387},{"$f":"Photonic!D39","v":6.0101480916207972E-5},null,null,null,null,null,null,200756485.38566798,25.396397142772663,200756485.38566798,2.2113310651214269E-5,{"$f":"+$L33*Photonic!BB39","v":6.7197928406909924E-8},{"$f":"+$L33*Photonic!BC39","v":1.8575180947019988E-9},{"$f":"+$L33*Photonic!BD39","v":3.1732600784492475E-7},65.08,36.049999999999997,1.74,null,null,0.2442,8.3000000000000004E-2,6.88E-2,8.7000000000000008E-2,0.30759999999999998,0.2278,0.48500000000000004,0.1454,6.0400000000000002E-2,5.6000000000000001E-2,0.1234,9.7799999999999998E-2,0.1406,3.6399999999999995E-2,3.6399999999999995E-2,null,"Y",100,"v",{"$f":"6*AL33/(AL32+15*AL33+3*AL34)","v":0.34709126752865693},"y",{"$f":"+AL33/(SUM($AL$32:$AL$34))","v":0.30481604780381433},null,null,"Y",100,"v",{"$f":"6*AT33/(AT32+15*AT33+3*AT34)","v":0.36475091070809845},"y",{"$f":"+AT33/(SUM($AT$32:$AT$34))","v":0.41897266114801929},null,null,"deltaE",null,null,{"$f":"SQRT( (BD23-BD28)^2+(BD24-BD29)^2+(BD25-BD30)^2)","v":33.337665429117578},{"$f":"SQRT( (BE23-BE28)^2+(BE24-BE29)^2+(BE25-BE30)^2)","v":12.506984828792813},14.987024172333639,35.288002316043396,29.592484494121315,18.039554793768122,15.197186366335748,34.249162117559749,91.979154919398553,17.434789952793611,41.949317402574643,26.490653959641168,28.69588834574029,11.181900595629093]
[{"$f":"Photonic!B40","v":388},{"$f":"Photonic!D40","v":5.8157386213481347E-5},null,null,null,null,null,null,208228240.2205306,24.106921254359776,208228240.2205306,2.2936323842821102E-5,{"$f":"+$L34*Photonic!BB40","v":7.8905541284073153E-8},{"$f":"+$L34*Photonic!BC40","v":2.2018870889108258E-9},{"$f":"+$L34*Photonic!BD40","v":3.7271526244584292E-7},65.319999999999993,35.700000000000003,1.56,null,null,0.24679999999999999,8.4999999999999992E-2,6.9200000000000012E-2,8.8999999999999996E-2,0.30840000000000001,0.24020000000000002,0.498,0.15360000000000001,5.96E-2,5.6999999999999995E-2,0.1246,9.5199999999999993E-2,0.1474,3.6600000000000001E-2,3.6600000000000001E-2,null,"Z",{"$f":"SUMPRODUCT(Photonic!$BD$12:$BD$506,CRI!$B$6:$B$500,CRI!$AD$6:$AD$500)*100/SUMPRODUCT(Photonic!$BC12:$BC506,CRI!$B$6:$B$500,CRI!$AD$6:$AD$500)","v":0.29262177710686987},null,null,"z",{"$f":"+AL34/(SUM($AL$32:$AL$34))","v":8.9195813599044741E-4},null,null,"Z",{"$f":"SUMPRODUCT(Photonic!$BD$12:$BD$506,CRI!$L$6:$L$500,CRI!$AD$6:$AD$500)*100/SUMPRODUCT(Photonic!$BC12:$BC506,CRI!$L$6:$L$500,CRI!$AD$6:$AD$500)","v":3.1395690152042621},null,null,"z",{"$f":"+AT34/(SUM($AT$32:$AT$34))","v":1.315393585157996E-2},null,null,null,null,null,"R1","R2","R3","R4","R5","R6","R7","R8","R9","R10","R11","R12","R13","R14"]
[{"$f":"Photonic!B41","v":389},{"$f":"Photonic!D41","v":6.4568762360771268E-5},null,null,null,null,null,null,215930351.90858936,22.817445365946913,215930351.90858936,2.378471082320281E-5,{"$f":"+$L35*Photonic!BB41","v":9.1371345098415923E-8},{"$f":"+$L35*Photonic!BC41","v":2.5687487689059035E-9},{"$f":"+$L35*Photonic!BD41","v":4.3169250144113099E-7},65.56,35.35,1.38,null,null,0.24940000000000001,8.6999999999999994E-2,6.9600000000000009E-2,9.0999999999999998E-2,0.30919999999999997,0.25259999999999999,0.51100000000000001,0.1618,5.8800000000000005E-2,5.7999999999999996E-2,0.1258,9.2600000000000002E-2,0.1542,3.6799999999999999E-2,3.6799999999999999E-2,"R11","X",{"$f":"SUMPRODUCT(Photonic!$BB$12:$BB$506,CRI!$B$6:$B$500,CRI!$AE$6:$AE$500)*100/SUMPRODUCT(Photonic!$BC12:$BC506,CRI!$B$6:$B$500,CRI!$AE$6:$AE$500)","v":223.01066912739745},"u",{"$f":"4*AL35/(AL35+15*AL36+3*AL37)","v":0.51570646251228869},"x",{"$f":"+AL35/(SUM($AL$35:$AL$37))","v":0.68564503620605755},null,"R11","X",{"$f":"SUMPRODUCT(Photonic!$BB$12:$BB$506,CRI!$L$6:$L$500,CRI!$AE$6:$AE$500)*100/SUMPRODUCT(Photonic!$BC12:$BC506,CRI!$L$6:$L$500,CRI!$AE$6:$AE$500)","v":91.016792690512105},"u",{"$f":"4*AT35/(AT35+15*AT36+3*AT37)","v":0.22253356669550911},"x",{"$f":"+AT35/(SUM($AT$35:$AT$37))","v":0.44179783489456137},null,null,"CRI",null,null,{"$f":"IF((100-4.6*BD33)>0,(100-4.6*BD33),0)","v":0},42.467869787553063,31.05968880726526,0,0,17.018047948666648,30.092942714855567,0,0,19.79996621714939,0,0,0,48.563257260106177]
[{"$f":"Photonic!B42","v":390},{"$f":"Photonic!D42","v":7.0980138508061169E-5},null,null,null,null,null,null,223868273.68573171,21.527969477534036,223868273.68573171,2.4659072265851972E-5,{"$f":"+$L36*Photonic!BB42","v":1.0462844362400992E-7},{"$f":"+$L36*Photonic!BC42","v":2.9590886719022367E-9},{"$f":"+$L36*Photonic!BD42","v":4.9441439893033198E-7},65.8,35,1.2,null,null,0.252,8.8999999999999996E-2,7.0000000000000007E-2,9.2999999999999999E-2,0.31,0.26500000000000001,0.52400000000000002,0.17,5.8000000000000003E-2,5.8999999999999997E-2,0.127,0.09,0.161,3.6999999999999998E-2,3.6999999999999998E-2,null,"Y",100,"v",{"$f":"6*AL36/(AL35+15*AL36+3*AL37)","v":0.34687115948095204},"y",{"$f":"+AL36/(SUM($AL$35:$AL$37))","v":0.30744943230244054},null,null,"Y",100,"v",{"$f":"6*AT36/(AT35+15*AT36+3*AT37)","v":0.36674589400034979},"y",{"$f":"+AT36/(SUM($AT$35:$AT$37))","v":0.48540255246833791},null,null,"CRI in average",null,null,{"$f":"AVERAGE(BD35:BQ35)","v":13.50012662397115}]
[{"$f":"Photonic!B43","v":391},{"$f":"Photonic!D43","v":5.6047836642437581E-5},null,null,null,null,null,null,232047540.26268944,20.327319465748467,232047540.26268944,2.556001781870868E-5,{"$f":"+$L37*Photonic!BB43","v":1.2586775174644902E-7},{"$f":"+$L37*Photonic!BC43","v":3.5630664839279898E-9},{"$f":"+$L37*Photonic!BD43","v":5.9508833485517543E-7},68.7,35.840000000000003,0.97,null,null,0.25280000000000002,9.1399999999999995E-2,7.0400000000000004E-2,9.5399999999999999E-2,0.31040000000000001,0.27979999999999999,0.52839999999999998,0.184,5.74E-2,5.9799999999999999E-2,0.12740000000000001,8.8399999999999992E-2,0.17100000000000001,3.7199999999999997E-2,3.7199999999999997E-2,null,"Z",{"$f":"SUMPRODUCT(Photonic!$BD$12:$BD$506,CRI!$B$6:$B$500,CRI!$AE$6:$AE$500)*100/SUMPRODUCT(Photonic!$BC12:$BC506,CRI!$B$6:$B$500,CRI!$AE$6:$AE$500)","v":2.2460706594210857},null,null,"z",{"$f":"+AL37/(SUM($AL$35:$AL$37))","v":6.9055314915018109E-3},null,null,"Z",{"$f":"SUMPRODUCT(Photonic!$BD$12:$BD$506,CRI!$L$6:$L$500,CRI!$AE$6:$AE$500)*100/SUMPRODUCT(Photonic!$BC12:$BC506,CRI!$L$6:$L$500,CRI!$AE$6:$AE$500)","v":14.997781175007194},null,null,"z",{"$f":"+AT37/(SUM($AT$35:$AT$37))","v":7.2799612637100802E-2}]
[{"$f":"Photonic!B44","v":392},{"$f":"Photonic!D44","v":5.3069649012728721E-5},null,null,null,null,null,null,240473767.92644382,19.12666945396289,240473767.92644382,2.6488166115330324E-5,{"$f":"+$L38*Photonic!BB44","v":1.4848736160931875E-7},{"$f":"+$L38*Photonic!BC44","v":4.2063207791144558E-9},{"$f":"+$L38*Photonic!BD44","v":7.0230723638186821E-7},71.599999999999994,36.68,0.74,null,null,0.25359999999999999,9.3799999999999994E-2,7.0800000000000002E-2,9.7799999999999998E-2,0.31080000000000002,0.29460000000000003,0.53280000000000005,0.19800000000000001,5.6800000000000003E-2,6.0600000000000001E-2,0.1278,8.6800000000000002E-2,0.18099999999999999,3.7399999999999996E-2,3.7399999999999996E-2,"R12","X",{"$f":"SUMPRODUCT(Photonic!$BB$12:$BB$506,CRI!$B$6:$B$500,CRI!$AF$6:$AF$500)*100/SUMPRODUCT(Photonic!$BC12:$BC506,CRI!$B$6:$B$500,CRI!$AF$6:$AF$500)","v":224.80405811175402},"u",{"$f":"4*AL38/(AL38+15*AL39+3*AL40)","v":0.50496301481089134},"x",{"$f":"+AL38/(SUM($AL$38:$AL$40))","v":0.65453732001078835},null,"R12","X",{"$f":"SUMPRODUCT(Photonic!$BB$12:$BB$506,CRI!$L$6:$L$500,CRI!$AF$6:$AF$500)*100/SUMPRODUCT(Photonic!$BC12:$BC506,CRI!$L$6:$L$500,CRI!$AF$6:$AF$500)","v":91.489941724351496},"u",{"$f":"4*AT38/(AT38+15*AT39+3*AT40)","v":0.19376708097588899},"x",{"$f":"+AT38/(SUM($AT$38:$AT$40))","v":0.31488970254752985}]
[{"$f":"Photonic!B45","v":393},{"$f":"Photonic!D45","v":5.0091461383019862E-5},null,null,null,null,null,null,249152654.61842948,17.926019442177314,249152654.61842948,2.7444144783505741E-5,{"$f":"+$L39*Photonic!BB45","v":1.7254682708285729E-7},{"$f":"+$L39*Photonic!BC45","v":4.8905466004207231E-9},{"$f":"+$L39*Photonic!BD45","v":8.1635353073016169E-7},74.5,37.520000000000003,0.51,null,null,0.25440000000000002,9.6200000000000008E-2,7.1199999999999999E-2,0.1002,0.31119999999999998,0.30940000000000001,0.53720000000000001,0.21199999999999999,5.62E-2,6.1399999999999996E-2,0.12820000000000001,8.5199999999999998E-2,0.191,3.7600000000000001E-2,3.7600000000000001E-2,null,"Y",100,"v",{"$f":"6*AL39/(AL38+15*AL39+3*AL40)","v":0.33693543104982482},"y",{"$f":"+AL39/(SUM($AL$38:$AL$40))","v":0.29115903222948331},null,null,"Y",100,"v",{"$f":"6*AT39/(AT38+15*AT39+3*AT40)","v":0.31768587451889502},"y",{"$f":"+AT39/(SUM($AT$38:$AT$40))","v":0.34417958587869224}]
[{"$f":"Photonic!B46","v":394},{"$f":"Photonic!D46","v":5.4724197695900306E-5},null,null,null,null,null,null,258089979.98937622,16.725369430391744,258089979.98937622,2.8428590451296024E-5,{"$f":"+$L40*Photonic!BB46","v":1.9810747541890149E-7},{"$f":"+$L40*Photonic!BC46","v":5.6174894731760941E-9},{"$f":"+$L40*Photonic!BD46","v":9.3751805590284033E-7},77.399999999999991,38.36,0.27999999999999997,null,null,0.25519999999999998,9.8600000000000007E-2,7.1599999999999997E-2,0.1026,0.31159999999999999,0.32420000000000004,0.54160000000000008,0.22600000000000001,5.5600000000000004E-2,6.2199999999999998E-2,0.12859999999999999,8.3600000000000008E-2,0.20099999999999998,3.78E-2,3.78E-2,null,"Z",{"$f":"SUMPRODUCT(Photonic!$BD$12:$BD$506,CRI!$B$6:$B$500,CRI!$AF$6:$AF$500)*100/SUMPRODUCT(Photonic!$BC12:$BC506,CRI!$B$6:$B$500,CRI!$AF$6:$AF$500)","v":18.650854601319008},null,null,"z",{"$f":"+AL40/(SUM($AL$38:$AL$40))","v":5.4303647759728485E-2},null,null,"Z",{"$f":"SUMPRODUCT(Photonic!$BD$12:$BD$506,CRI!$L$6:$L$500,CRI!$AF$6:$AF$500)*100/SUMPRODUCT(Photonic!$BC12:$BC506,CRI!$L$6:$L$500,CRI!$AF$6:$AF$500)","v":99.05605258469356},null,null,"z",{"$f":"+AT40/(SUM($AT$38:$AT$40))","v":0.34093071157377791}]
[{"$f":"Photonic!B47","v":395},{"$f":"Photonic!D47","v":5.9356934008780757E-5},null,null,null,null,null,null,267291605.43066725,15.524719418606173,267291605.43066725,2.9442148750488642E-5,{"$f":"+$L41*Photonic!BB47","v":2.2523243794123811E-7},{"$f":"+$L41*Photonic!BC47","v":6.3889462788560348E-9},{"$f":"+$L41*Photonic!BD47","v":1.0661002062551936E-6},80.3,39.200000000000003,0.05,null,null,0.25600000000000001,0.10100000000000001,7.1999999999999995E-2,0.105,0.312,0.33900000000000002,0.54600000000000004,0.24,5.5E-2,6.3E-2,0.129,8.2000000000000003E-2,0.21099999999999999,3.7999999999999999E-2,3.7999999999999999E-2,"R13","X",{"$f":"SUMPRODUCT(Photonic!$BB$12:$BB$506,CRI!$B$6:$B$500,CRI!$AG$6:$AG$500)*100/SUMPRODUCT(Photonic!$BC12:$BC506,CRI!$B$6:$B$500,CRI!$AG$6:$AG$500)","v":228.05721039779738},"u",{"$f":"4*AL41/(AL41+15*AL42+3*AL43)","v":0.52718576794303718},"x",{"$f":"+AL41/(SUM($AL$41:$AL$43))","v":0.69354209124885535},null,"R13","X",{"$f":"SUMPRODUCT(Photonic!$BB$12:$BB$506,CRI!$L$6:$L$500,CRI!$AG$6:$AG$500)*100/SUMPRODUCT(Photonic!$BC12:$BC506,CRI!$L$6:$L$500,CRI!$AG$6:$AG$500)","v":141.88101027568229},"u",{"$f":"4*AT41/(AT41+15*AT42+3*AT43)","v":0.34059733853914087},"x",{"$f":"+AT41/(SUM($AT$41:$AT$43))","v":0.56750666824337836}]
[{"$f":"Photonic!B48","v":396},{"$f":"Photonic!D48","v":4.8354185265689683E-5},null,null,null,null,null,null,276763474.08207607,14.324069406820605,276763474.08207607,3.0485474317449646E-5,{"$f":"+$L42*Photonic!BB48","v":2.7382053031933276E-7},{"$f":"+$L42*Photonic!BC48","v":7.7311162869052302E-9},{"$f":"+$L42*Photonic!BD48","v":1.296791106515673E-6},83.2,40.04,-0.18000000000000002,null,null,0.25600000000000001,0.10300000000000001,7.22E-2,0.1072,0.31219999999999998,0.35320000000000001,0.54700000000000004,0.25579999999999997,5.4399999999999997E-2,6.3600000000000004E-2,0.12859999999999999,8.0799999999999997E-2,0.22159999999999999,3.8199999999999998E-2,3.8199999999999998E-2,null,"Y",100,"v",{"$f":"6*AL42/(AL41+15*AL42+3*AL43)","v":0.34674573565782479},"y",{"$f":"+AL42/(SUM($AL$41:$AL$43))","v":0.30410881990493455},null,null,"Y",100,"v",{"$f":"6*AT42/(AT41+15*AT42+3*AT43)","v":0.36008765853584873},"y",{"$f":"+AT42/(SUM($AT$41:$AT$43))","v":0.39998775533151543}]
[{"$f":"Photonic!B49","v":397},{"$f":"Photonic!D49","v":3.7351436522598622E-5},null,null,null,null,null,null,286511610.81575716,13.123419395035022,286511610.81575716,3.1559230791360267E-5,{"$f":"+$L43*Photonic!BB49","v":3.2550190638208981E-7},{"$f":"+$L43*Photonic!BC49","v":9.1584887756527496E-9},{"$f":"+$L43*Photonic!BD49","v":1.5421733718506107E-6},86.1,40.880000000000003,-0.41000000000000003,null,null,0.25600000000000001,0.10500000000000001,7.2399999999999992E-2,0.1094,0.31240000000000001,0.3674,0.54800000000000004,0.27160000000000001,5.3800000000000001E-2,6.4200000000000007E-2,0.12820000000000001,7.9600000000000004E-2,0.23219999999999999,3.8399999999999997E-2,3.8399999999999997E-2,null,"Z",{"$f":"SUMPRODUCT(Photonic!$BD$12:$BD$506,CRI!$B$6:$B$500,CRI!$AG$6:$AG$500)*100/SUMPRODUCT(Photonic!$BC12:$BC506,CRI!$B$6:$B$500,CRI!$AG$6:$AG$500)","v":0.77245008774970747},null,null,"z",{"$f":"+AL43/(SUM($AL$41:$AL$43))","v":2.3490888462102668E-3},null,null,"Z",{"$f":"SUMPRODUCT(Photonic!$BD$12:$BD$506,CRI!$L$6:$L$500,CRI!$AG$6:$AG$500)*100/SUMPRODUCT(Photonic!$BC12:$BC506,CRI!$L$6:$L$500,CRI!$AG$6:$AG$500)","v":8.1266428763963425},null,null,"z",{"$f":"+AT43/(SUM($AT$41:$AT$43))","v":3.2505576425106229E-2}]
[{"$f":"Photonic!B50","v":398},{"$f":"Photonic!D50","v":4.479690559687077E-5},null,null,null,null,null,null,296542122.19641691,11.922769383249452,296542122.19641691,3.2664090809829706E-5,{"$f":"+$L44*Photonic!BB50","v":3.8040600157127677E-7},{"$f":"+$L44*Photonic!BC50","v":1.0674624876652348E-8},{"$f":"+$L44*Photonic!BD50","v":1.8028618281577406E-6},89,41.72,-0.64,null,null,0.25600000000000001,0.107,7.2599999999999998E-2,0.1116,0.31259999999999999,0.38159999999999999,0.54900000000000004,0.28739999999999999,5.3199999999999997E-2,6.4799999999999996E-2,0.1278,7.8399999999999997E-2,0.24280000000000002,3.8600000000000002E-2,3.8600000000000002E-2,"R14","X",{"$f":"SUMPRODUCT(Photonic!$BB$12:$BB$506,CRI!$B$6:$B$500,CRI!$AH$6:$AH$500)*100/SUMPRODUCT(Photonic!$BC12:$BC506,CRI!$B$6:$B$500,CRI!$AH$6:$AH$500)","v":225.75512091417798},"u",{"$f":"4*AL44/(AL44+15*AL45+3*AL46)","v":0.52250530042959342},"x",{"$f":"+AL44/(SUM($AL$44:$AL$46))","v":0.69125527874041259},null,"R14","X",{"$f":"SUMPRODUCT(Photonic!$BB$12:$BB$506,CRI!$L$6:$L$500,CRI!$AH$6:$AH$500)*100/SUMPRODUCT(Photonic!$BC12:$BC506,CRI!$L$6:$L$500,CRI!$AH$6:$AH$500)","v":115.5986914646206},"u",{"$f":"4*AT44/(AT44+15*AT45+3*AT46)","v":0.28268760845286567},"x",{"$f":"+AT44/(SUM($AT$44:$AT$46))","v":0.52000685307030514}]
[{"$f":"Photonic!B51","v":399},{"$f":"Photonic!D51","v":5.2242374671142926E-5},null,null,null,null,null,null,306861196.41753411,10.722119371463867,306861196.41753411,3.3800736001869871E-5,{"$f":"+$L45*Photonic!BB51","v":4.3866595183226718E-7},{"$f":"+$L45*Photonic!BC51","v":1.2283187463079511E-8},{"$f":"+$L45*Photonic!BD51","v":2.0794888803070381E-6},91.899999999999991,42.56,-0.87000000000000011,null,null,0.25600000000000001,0.109,7.279999999999999E-2,0.1138,0.31280000000000002,0.39579999999999999,0.55000000000000004,0.30320000000000003,5.2600000000000001E-2,6.54E-2,0.12740000000000001,7.7200000000000005E-2,0.25340000000000001,3.8800000000000001E-2,3.8800000000000001E-2,null,"Y",100,"v",{"$f":"6*AL45/(AL44+15*AL45+3*AL46)","v":0.34717172636909527},"y",{"$f":"+AL45/(SUM($AL$44:$AL$46))","v":0.30619694292702093},null,null,"Y",100,"v",{"$f":"6*AT45/(AT44+15*AT45+3*AT46)","v":0.36681333266568583},"y",{"$f":"+AT45/(SUM($AT$44:$AT$46))","v":0.44983800982682842}]
[{"$f":"Photonic!B52","v":400},{"$f":"Photonic!D52","v":5.6254655227834027E-5},null,null,null,null,null,null,317475103.21358764,9.5214693596783135,317475103.21358764,3.4969856978227243E-5,{"$f":"+$L46*Photonic!BB52","v":5.0041865335843185E-7},{"$f":"+$L46*Photonic!BC52","v":1.3987942791290897E-8},{"$f":"+$L46*Photonic!BD52","v":2.3727047959727181E-6},94.8,43.4,-1.1000000000000001,null,null,0.25600000000000001,0.111,7.2999999999999995E-2,0.11600000000000001,0.313,0.41,0.55100000000000005,0.31900000000000001,5.1999999999999998E-2,6.6000000000000003E-2,0.127,7.5999999999999998E-2,0.26400000000000001,3.9E-2,3.9E-2,null,"Z",{"$f":"SUMPRODUCT(Photonic!$BD$12:$BD$506,CRI!$B$6:$B$500,CRI!$AH$6:$AH$500)*100/SUMPRODUCT(Photonic!$BC12:$BC506,CRI!$B$6:$B$500,CRI!$AH$6:$AH$500)","v":0.83207177322268056},null,null,"z",{"$f":"+AL46/(SUM($AL$44:$AL$46))","v":2.5477783325665022E-3},null,null,"Z",{"$f":"SUMPRODUCT(Photonic!$BD$12:$BD$506,CRI!$L$6:$L$500,CRI!$AH$6:$AH$500)*100/SUMPRODUCT(Photonic!$BC12:$BC506,CRI!$L$6:$L$500,CRI!$AH$6:$AH$500)","v":6.7035547117227994},null,null,"z",{"$f":"+AT46/(SUM($AT$44:$AT$46))","v":3.0155137102866429E-2}]
[{"$f":"Photonic!B53","v":401},{"$f":"Photonic!D53","v":6.0225572067445844E-5},null,null,null,null,null,null,328390193.74818879,10.742277931820894,328390193.74818879,3.6172153319060645E-5,{"$f":"+$L47*Photonic!BB53","v":5.8186525829040955E-7},{"$f":"+$L47*Photonic!BC53","v":1.6205124686939172E-8},{"$f":"+$L47*Photonic!BD53","v":2.7606587413107085E-6},95.8,43.69,-1.04,null,null,0.25559999999999999,0.112,7.2999999999999995E-2,0.11700000000000001,0.31340000000000001,0.42080000000000001,0.55180000000000007,0.33839999999999998,5.1999999999999998E-2,6.6200000000000009E-2,0.1258,7.4399999999999994E-2,0.27379999999999999,3.9E-2,3.9E-2]
[{"$f":"Photonic!B54","v":402},{"$f":"Photonic!D54","v":6.1425119862745247E-5},null,null,null,null,null,null,339612900.47809011,11.963086503963488,339612900.47809011,3.7408333558961869E-5,{"$f":"+$L48*Photonic!BB54","v":6.6818765403017684E-7},{"$f":"+$L48*Photonic!BC54","v":1.8554533445245089E-8},{"$f":"+$L48*Photonic!BD54","v":3.1718526024643772E-6},96.8,43.98,-0.98000000000000009,null,null,0.25519999999999998,0.113,7.2999999999999995E-2,0.11800000000000001,0.31380000000000002,0.43159999999999998,0.55260000000000009,0.35780000000000001,5.1999999999999998E-2,6.6400000000000001E-2,0.1246,7.2800000000000004E-2,0.28360000000000002,3.9E-2,3.9E-2]
[{"$f":"Photonic!B55","v":403},{"$f":"Photonic!D55","v":6.2624667658044643E-5},null,null,null,null,null,null,351149736.99300814,13.183895076106069,351149736.99300814,3.8679115169312109E-5,{"$f":"+$L49*Photonic!BB55","v":7.5958046369495121E-7},{"$f":"+$L49*Photonic!BC55","v":2.1041438652105788E-8},{"$f":"+$L49*Photonic!BD55","v":3.6072142806900473E-6},97.8,44.27,-0.92,null,null,0.25480000000000003,0.114,7.2999999999999995E-2,0.11899999999999999,0.31419999999999998,0.44240000000000002,0.5534,0.37719999999999998,5.1999999999999998E-2,6.6600000000000006E-2,0.1234,7.1199999999999999E-2,0.29339999999999999,3.9E-2,3.9E-2]
[{"$f":"Photonic!B56","v":404},{"$f":"Photonic!D56","v":4.1074171059734696E-5},null,null,null,null,null,null,363007297.83123648,14.404703648248649,363007297.83123648,3.9985224537971818E-5,{"$f":"+$L50*Photonic!BB56","v":8.5624359825612849E-7},{"$f":"+$L50*Photonic!BC56","v":2.3671252926479319E-8},{"$f":"+$L50*Photonic!BD56","v":4.0676968922478734E-6},98.8,44.56,-0.8600000000000001,null,null,0.25440000000000002,0.115,7.2999999999999995E-2,0.12,0.31459999999999999,0.45319999999999999,0.55420000000000003,0.39660000000000001,5.1999999999999998E-2,6.6799999999999998E-2,0.1222,6.9600000000000009E-2,0.30320000000000003,3.9E-2,3.9E-2]
[{"$f":"Photonic!B57","v":405},{"$f":"Photonic!D57","v":4.7402819772866029E-5},null,null,null,null,null,null,375192258.27102274,15.625512220391245,375192258.27102274,4.1327396946300827E-5,{"$f":"+$L51*Photonic!BB57","v":9.5838233518471606E-7},{"$f":"+$L51*Photonic!BC57","v":2.6449534045632532E-8},{"$f":"+$L51*Photonic!BD57","v":4.5542791434823514E-6},99.8,44.85,-0.8,null,null,0.254,0.11600000000000001,7.2999999999999995E-2,0.121,0.315,0.46400000000000002,0.55500000000000005,0.41599999999999998,5.1999999999999998E-2,6.7000000000000004E-2,0.121,6.8000000000000005E-2,0.313,3.9E-2,3.9E-2]
[{"$f":"Photonic!B58","v":406},{"$f":"Photonic!D58","v":5.3772832203076639E-5},null,null,null,null,null,null,387711374.09770221,16.846320792533824,387711374.09770221,4.27063765435082E-5,{"$f":"+$L52*Photonic!BB58","v":1.1639195863167724E-6},{"$f":"+$L52*Photonic!BC58","v":3.2200607913805185E-8},{"$f":"+$L52*Photonic!BD58","v":5.5364546551004037E-6},100.8,45.14,-0.74,null,null,0.25359999999999999,0.1164,7.3200000000000001E-2,0.1216,0.31580000000000003,0.46960000000000002,0.55580000000000007,0.42519999999999997,5.1799999999999999E-2,6.720000000000001E-2,0.12,6.720000000000001E-2,0.31859999999999999,3.9199999999999999E-2,3.9199999999999999E-2]
[{"$f":"Photonic!B59","v":407},{"$f":"Photonic!D59","v":4.9719187929306248E-5},null,null,null,null,null,null,400571481.34658366,18.067129364676418,400571481.34658366,4.4122916318331083E-5,{"$f":"+$L53*Photonic!BB59","v":1.3818414932574928E-6},{"$f":"+$L53*Photonic!BC59","v":3.829869136431138E-8},{"$f":"+$L53*Photonic!BD59","v":6.577844364736797E-6},101.8,45.43,-0.68,null,null,0.25319999999999998,0.1168,7.3399999999999993E-2,0.1222,0.31659999999999999,0.47520000000000001,0.55660000000000009,0.43440000000000001,5.16E-2,6.7400000000000002E-2,0.11899999999999999,6.6400000000000001E-2,0.32419999999999999,3.9399999999999998E-2,3.9399999999999998E-2]
[{"$f":"Photonic!B60","v":408},{"$f":"Photonic!D60","v":4.5665543655535857E-5},null,null,null,null,null,null,413779496.02161819,19.287937936819013,413779496.02161819,4.557777806804613E-5,{"$f":"+$L54*Photonic!BB60","v":1.612632943603608E-6},{"$f":"+$L54*Photonic!BC60","v":4.47573780628213E-8},{"$f":"+$L54*Photonic!BD60","v":7.6807671600271335E-6},102.8,45.72,-0.62,null,null,0.25280000000000002,0.1172,7.3599999999999999E-2,0.12279999999999999,0.31740000000000002,0.48080000000000001,0.55740000000000001,0.44359999999999999,5.1399999999999994E-2,6.7600000000000007E-2,0.11800000000000001,6.5600000000000006E-2,0.32980000000000004,3.9600000000000003E-2,3.9600000000000003E-2]
[{"$f":"Photonic!B61","v":409},{"$f":"Photonic!D61","v":5.1125554310002097E-5},null,null,null,null,null,null,427342413.78984147,20.508746508961593,427342413.78984147,4.7071732364812306E-5,{"$f":"+$L55*Photonic!BB61","v":1.8567915548623863E-6},{"$f":"+$L55*Photonic!BC61","v":5.1590618671834286E-8},{"$f":"+$L55*Photonic!BD61","v":8.8476028152901219E-6},103.8,46.01,-0.56000000000000005,null,null,0.25240000000000001,0.1176,7.3799999999999991E-2,0.1234,0.31819999999999998,0.4864,0.55820000000000003,0.45280000000000004,5.1199999999999996E-2,6.7799999999999999E-2,0.11700000000000001,6.4799999999999996E-2,0.33540000000000003,3.9800000000000002E-2,3.9800000000000002E-2]
[{"$f":"Photonic!B62","v":410},{"$f":"Photonic!D62","v":5.6544201247389053E-5},null,null,null,null,null,null,441267309.65167725,21.729555081104191,441267309.65167725,4.8605558519354883E-5,{"$f":"+$L56*Photonic!BB62","v":2.1148278511771311E-6},{"$f":"+$L56*Photonic!BC62","v":5.8812725808419402E-8},{"$f":"+$L56*Photonic!BD62","v":1.0080792836914203E-5},104.8,46.3,-0.5,null,null,0.252,0.11799999999999999,7.3999999999999996E-2,0.124,0.31900000000000001,0.49199999999999999,0.55900000000000005,0.46200000000000002,5.0999999999999997E-2,6.8000000000000005E-2,0.11600000000000001,6.4000000000000001E-2,0.34100000000000003,0.04,0.04]
[{"$f":"Photonic!B63","v":411},{"$f":"Photonic!D63","v":6.1425119862745247E-5},null,null,null,null,null,null,455561337.58708322,22.004946822411533,455561337.58708322,5.0180044541988415E-5,{"$f":"+$L57*Photonic!BB63","v":2.5257623619764449E-6},{"$f":"+$L57*Photonic!BC63","v":7.0452782536951727E-8},{"$f":"+$L57*Photonic!BD63","v":1.2052243098094778E-5},104.91,46.059999999999995,-0.52,null,null,0.25119999999999998,0.11839999999999999,7.3999999999999996E-2,0.1244,0.3196,0.49519999999999997,0.55920000000000003,0.46600000000000003,5.0799999999999998E-2,6.8200000000000011E-2,0.11520000000000001,6.4200000000000007E-2,0.34320000000000001,4.02E-2,4.02E-2]
[{"$f":"Photonic!B64","v":412},{"$f":"Photonic!D64","v":5.1704646349112156E-5},null,null,null,null,null,null,470231730.17766106,22.28033856371886,470231730.17766106,5.1795987100992194E-5,{"$f":"+$L58*Photonic!BB64","v":2.960555030718512E-6},{"$f":"+$L58*Photonic!BC64","v":8.2769987387385527E-8},{"$f":"+$L58*Photonic!BD64","v":1.4138232639086828E-5},105.02,45.82,-0.54,null,null,0.25040000000000001,0.11879999999999999,7.3999999999999996E-2,0.12479999999999999,0.32019999999999998,0.49840000000000001,0.55940000000000001,0.47000000000000003,5.0599999999999999E-2,6.8400000000000002E-2,0.1144,6.4399999999999999E-2,0.34539999999999998,4.0399999999999998E-2,4.0399999999999998E-2]
[{"$f":"Photonic!B65","v":413},{"$f":"Photonic!D65","v":4.8478276416927561E-5},null,null,null,null,null,null,485285798.20475513,22.555730305026206,485285798.20475513,5.3454191478340833E-5,{"$f":"+$L59*Photonic!BB65","v":3.4201060791672028E-6},{"$f":"+$L59*Photonic!BC65","v":9.5789911129186773E-8},{"$f":"+$L59*Photonic!BD65","v":1.6343084502587927E-5},105.13,45.58,-0.55999999999999994,null,null,0.24959999999999999,0.1192,7.3999999999999996E-2,0.12520000000000001,0.32080000000000003,0.50160000000000005,0.5596000000000001,0.47399999999999998,5.04E-2,6.8600000000000008E-2,0.11360000000000001,6.4600000000000005E-2,0.34760000000000002,4.0600000000000004E-2,4.0600000000000004E-2]
[{"$f":"Photonic!B66","v":414},{"$f":"Photonic!D66","v":4.5293270201822249E-5},null,null,null,null,null,null,500730930.22363842,22.831122046333533,500730930.22363842,5.515547152280093E-5,{"$f":"+$L60*Photonic!BB66","v":3.9053383166434428E-6},{"$f":"+$L60*Photonic!BC66","v":1.0953876644428265E-7},{"$f":"+$L60*Photonic!BD66","v":1.8671230219898573E-5},105.24,45.34,-0.57999999999999996,null,null,0.24879999999999999,0.1196,7.3999999999999996E-2,0.12559999999999999,0.32140000000000002,0.50480000000000003,0.55980000000000008,0.47799999999999998,5.0200000000000002E-2,6.88E-2,0.1128,6.4799999999999996E-2,0.3498,4.0800000000000003E-2,4.0800000000000003E-2]
[{"$f":"Photonic!B67","v":415},{"$f":"Photonic!D67","v":5.1415100329557123E-5},null,null,null,null,null,null,516574592.11387444,23.106513787640889,516574592.11387444,5.6900649600403431E-5,{"$f":"+$L61*Photonic!BB67","v":4.4171974284793184E-6},{"$f":"+$L61*Photonic!BC67","v":1.2404341612887947E-7},{"$f":"+$L61*Photonic!BD67","v":2.1127211196629795E-5},105.35,45.1,-0.6,null,null,0.248,0.12,7.3999999999999996E-2,0.126,0.32200000000000001,0.50800000000000001,0.56000000000000005,0.48199999999999998,0.05,6.9000000000000006E-2,0.112,6.5000000000000002E-2,0.35199999999999998,4.1000000000000002E-2,4.1000000000000002E-2]
[{"$f":"Photonic!B68","v":416},{"$f":"Photonic!D68","v":5.7536930457292011E-5},null,null,null,null,null,null,532824326.60594994,23.381905528948231,532824326.60594994,5.8690556542302256E-5,{"$f":"+$L62*Photonic!BB68","v":5.222285721134055E-6},{"$f":"+$L62*Photonic!BC68","v":1.4930877584361695E-7},{"$f":"+$L62*Photonic!BD68","v":2.501156757606753E-5},105.46,44.86,-0.62,null,null,0.2472,0.1202,7.3999999999999996E-2,0.12640000000000001,0.32280000000000003,0.50980000000000003,0.56020000000000003,0.48359999999999997,0.05,6.9000000000000006E-2,0.11120000000000001,6.7000000000000004E-2,0.35339999999999999,4.1200000000000001E-2,4.1200000000000001E-2]
[{"$f":"Photonic!B69","v":417},{"$f":"Photonic!D69","v":4.082598875725896E-5},null,null,null,null,null,null,549487752.78430212,23.657297270255576,549487752.78430212,6.0526031590032812E-5,{"$f":"+$L63*Photonic!BB69","v":6.0725767494279926E-6},{"$f":"+$L63*Photonic!BC69","v":1.7600969986381542E-7},{"$f":"+$L63*Photonic!BD69","v":2.9114231715437585E-5},105.57,44.62,-0.64,null,null,0.24640000000000001,0.12039999999999999,7.3999999999999996E-2,0.1268,0.3236,0.51160000000000005,0.56040000000000001,0.48519999999999996,0.05,6.9000000000000006E-2,0.1104,6.9000000000000006E-2,0.3548,4.1399999999999999E-2,4.1399999999999999E-2]
[{"$f":"Photonic!B70","v":418},{"$f":"Photonic!D70","v":3.5614160405268456E-5},null,null,null,null,null,null,566572565.56684244,23.932689011562921,566572565.56684244,6.2407922338181566E-5,{"$f":"+$L64*Photonic!BB70","v":6.9697167667281176E-6},{"$f":"+$L64*Photonic!BC70","v":2.0419872189053008E-7},{"$f":"+$L64*Photonic!BD70","v":3.3443157422584738E-5},105.68,44.38,-0.65999999999999992,null,null,0.24559999999999998,0.1206,7.3999999999999996E-2,0.12720000000000001,0.32440000000000002,0.51339999999999997,0.5606000000000001,0.48680000000000001,0.05,6.9000000000000006E-2,0.1096,7.0999999999999994E-2,0.35619999999999996,4.1600000000000005E-2,4.1600000000000005E-2]
[{"$f":"Photonic!B71","v":419},{"$f":"Photonic!D71","v":3.0402332053277948E-5},null,null,null,null,null,null,584086535.16113067,24.208080752870263,584086535.16113067,6.4337084674483683E-5,{"$f":"+$L65*Photonic!BB71","v":7.9153915275017272E-6},{"$f":"+$L65*Photonic!BC71","v":2.3392963987642268E-7},{"$f":"+$L65*Photonic!BD71","v":3.8006489400604489E-5},105.79,44.14,-0.67999999999999994,null,null,0.24479999999999999,0.12079999999999999,7.3999999999999996E-2,0.12759999999999999,0.32519999999999999,0.51519999999999999,0.56080000000000008,0.4884,0.05,6.9000000000000006E-2,0.10879999999999999,7.2999999999999995E-2,0.35759999999999997,4.1800000000000004E-2,4.1800000000000004E-2]
[{"$f":"Photonic!B72","v":420},{"$f":"Photonic!D72","v":3.6069161293140644E-5},null,null,null,null,null,null,602037506.49732971,24.483472494177605,602037506.49732971,6.6314382717363012E-5,{"$f":"+$L66*Photonic!BB72","v":8.9113267495592417E-6},{"$f":"+$L66*Photonic!BC72","v":2.6525753086945208E-7},{"$f":"+$L66*Photonic!BD72","v":4.2812565482329557E-5},105.9,43.9,-0.7,null,null,0.24399999999999999,0.121,7.3999999999999996E-2,0.128,0.32600000000000001,0.51700000000000002,0.56100000000000005,0.49,0.05,6.9000000000000006E-2,0.108,7.4999999999999997E-2,0.35899999999999999,4.2000000000000003E-2,4.2000000000000003E-2]
[{"$f":"Photonic!B73","v":421},{"$f":"Photonic!D73","v":4.173599053300333E-5},null,null,null,null,null,null,620433398.63808632,24.12034418159751,620433398.63808632,6.8340688750930488E-5,{"$f":"+$L67*Photonic!BB73","v":1.02824033480875E-5},{"$f":"+$L67*Photonic!BC73","v":3.184676095793361E-7},{"$f":"+$L67*Photonic!BD73","v":4.9498477455411443E-5},104.99000000000001,43.22,-0.75,null,null,0.2432,0.1212,7.3799999999999991E-2,0.12859999999999999,0.32680000000000003,0.51839999999999997,0.56040000000000001,0.48959999999999998,4.9800000000000004E-2,6.9200000000000012E-2,0.1074,7.8600000000000003E-2,0.3594,4.2000000000000003E-2,4.2000000000000003E-2]
[{"$f":"Photonic!B74","v":422},{"$f":"Photonic!D74","v":4.2439173723351261E-5},null,null,null,null,null,null,639282204.16551101,23.757215869017415,639282204.16551101,7.0416883157460098E-5,{"$f":"+$L68*Photonic!BB74","v":1.1726946053510775E-5},{"$f":"+$L68*Photonic!BC74","v":3.7461781839768771E-7},{"$f":"+$L68*Photonic!BD74","v":5.6543348837777312E-5},104.08,42.54,-0.79999999999999993,null,null,0.2424,0.12139999999999999,7.3599999999999999E-2,0.12920000000000001,0.3276,0.51980000000000004,0.55980000000000008,0.48919999999999997,4.9600000000000005E-2,6.9400000000000003E-2,0.10679999999999999,8.2199999999999995E-2,0.35980000000000001,4.2000000000000003E-2,4.2000000000000003E-2]
[{"$f":"Photonic!B75","v":423},{"$f":"Photonic!D75","v":4.3183720630778476E-5},null,null,null,null,null,null,658591988.54543793,23.39408755643732,658591988.54543793,7.2543854347362061E-5,{"$f":"+$L69*Photonic!BB75","v":1.3247523417789175E-5},{"$f":"+$L69*Photonic!BC75","v":4.3381224899722512E-7},{"$f":"+$L69*Photonic!BD75","v":6.3959740062438701E-5},103.17,41.86,-0.85,null,null,0.24159999999999998,0.1216,7.3399999999999993E-2,0.1298,0.32840000000000003,0.5212,0.55920000000000003,0.48880000000000001,4.9399999999999999E-2,6.9600000000000009E-2,0.1062,8.5800000000000001E-2,0.36019999999999996,4.2000000000000003E-2,4.2000000000000003E-2]
[{"$f":"Photonic!B76","v":424},{"$f":"Photonic!D76","v":4.3804176386967819E-5},null,null,null,null,null,null,678370889.4690963,23.030959243857215,678370889.4690963,7.4722498686668031E-5,{"$f":"+$L70*Photonic!BB76","v":1.4846762709051442E-5},{"$f":"+$L70*Photonic!BC76","v":4.9615739127947569E-7},{"$f":"+$L70*Photonic!BD76","v":7.1760498838728507E-5},102.25999999999999,41.18,-0.89999999999999991,null,null,0.24079999999999999,0.12179999999999999,7.3200000000000001E-2,0.13040000000000002,0.32919999999999999,0.52260000000000006,0.5586000000000001,0.4884,4.9200000000000001E-2,6.9800000000000001E-2,0.1056,8.9399999999999993E-2,0.36059999999999998,4.2000000000000003E-2,4.2000000000000003E-2]
[{"$f":"Photonic!B77","v":425},{"$f":"Photonic!D77","v":4.4465995860236453E-5},null,null,null,null,null,null,698627116.17246246,{"$f":"+P71+$H$11*Q71+$H$12*R71","v":22.667830931277123},{"$f":"IF($E$6<=$K$4,I71,J71)","v":698627116.17246246},{"$f":"+K71/$L$4","v":7.6953720422057777E-5},{"$f":"+$L71*Photonic!BB77","v":1.6527350535045349E-5},{"$f":"+$L71*Photonic!BC77","v":5.6176215908102179E-7},{"$f":"+$L71*Photonic!BD77","v":7.9958763204539141E-5},101.35,40.5,-0.95,null,null,0.24,0.122,7.2999999999999995E-2,0.13100000000000001,0.33,0.52400000000000002,0.55800000000000005,0.48799999999999999,4.9000000000000002E-2,7.0000000000000007E-2,0.105,9.2999999999999999E-2,0.36099999999999999,4.2000000000000003E-2,4.2000000000000003E-2]
[{"$f":"Photonic!B78","v":426},{"$f":"Photonic!D78","v":3.9171440074087368E-5},null,null,null,null,null,null,719368948.73341203,22.304702618697043,719368948.73341203,7.9238431603440585E-5,{"$f":"+$L72*Photonic!BB78","v":1.8113588510820105E-5},{"$f":"+$L72*Photonic!BC78","v":6.4658560188407523E-7},{"$f":"+$L72*Photonic!BD78","v":8.7824708051989413E-5},100.44,39.82,-1,null,null,0.2394,0.122,7.2999999999999995E-2,0.1318,0.33080000000000004,0.52539999999999998,0.5576000000000001,0.48680000000000001,4.8800000000000003E-2,7.0400000000000004E-2,0.10479999999999999,9.9000000000000005E-2,0.36159999999999998,4.2200000000000001E-2,4.2200000000000001E-2]
[{"$f":"Photonic!B79","v":427},{"$f":"Photonic!D79","v":3.3876884287938283E-5},null,null,null,null,null,null,740604737.34693015,21.941574306116948,740604737.34693015,8.1577552004119641E-5,{"$f":"+$L73*Photonic!BB79","v":1.9776193311942691E-5},{"$f":"+$L73*Photonic!BC79","v":7.3582951907715914E-7},{"$f":"+$L73*Photonic!BD79","v":9.6071435668691575E-5},99.53,39.14,-1.05,null,null,0.23879999999999998,0.122,7.2999999999999995E-2,0.1326,0.33160000000000001,0.52680000000000005,0.55720000000000003,0.48559999999999998,4.8600000000000004E-2,7.0800000000000002E-2,0.1046,0.105,0.36219999999999997,4.24E-2,4.24E-2]
[{"$f":"Photonic!B80","v":428},{"$f":"Photonic!D80","v":4.0743261323100379E-5},null,null,null,null,null,null,762342901.57857668,21.578445993536839,762342901.57857668,8.3972009038561391E-5,{"$f":"+$L74*Photonic!BB80","v":2.1517659372113277E-5},{"$f":"+$L74*Photonic!BC80","v":8.2964344930098651E-7},{"$f":"+$L74*Photonic!BD80","v":1.0471141583090528E-4},98.61999999999999,38.46,-1.0999999999999999,null,null,0.2382,0.122,7.2999999999999995E-2,0.13340000000000002,0.33240000000000003,0.5282,0.55680000000000007,0.4844,4.8399999999999999E-2,7.1199999999999999E-2,0.10439999999999999,0.111,0.36280000000000001,4.2599999999999999E-2,4.2599999999999999E-2]
[{"$f":"Photonic!B81","v":429},{"$f":"Photonic!D81","v":4.7609638358262468E-5},null,null,null,null,null,null,784591929.59642446,21.215317680956751,784591929.59642446,8.6422737677793504E-5,{"$f":"+$L75*Photonic!BB81","v":2.3340534455592403E-5},{"$f":"+$L75*Photonic!BC81","v":9.2818020265950222E-7},{"$f":"+$L75*Photonic!BD81","v":1.1375738537790281E-4},97.71,37.78,-1.1499999999999999,null,null,0.23759999999999998,0.122,7.2999999999999995E-2,0.13420000000000001,0.3332,0.52960000000000007,0.55640000000000001,0.48319999999999996,4.82E-2,7.1599999999999997E-2,0.1042,0.11699999999999999,0.3634,4.2799999999999998E-2,4.2799999999999998E-2]
[{"$f":"Photonic!B82","v":430},{"$f":"Photonic!D82","v":3.3752793136700412E-5},null,null,null,null,null,null,{"$f":"$G$5*((A76*0.000000001)^(-5)) / (EXP($G$6/(($E$6*0.000000001*A76)))-1)","v":807360377.38174033},20.852189368376663,807360377.38174033,8.8930680362461482E-5,{"$f":"+$L76*Photonic!BB82","v":2.5247420154902813E-5},{"$f":"+$L76*Photonic!BC82","v":1.0315958922045531E-6},{"$f":"+$L76*Photonic!BD82","v":1.2322235071022663E-4},96.8,37.1,-1.2,null,null,0.23699999999999999,0.122,7.2999999999999995E-2,0.13500000000000001,0.33400000000000002,0.53100000000000003,0.55600000000000005,0.48199999999999998,4.8000000000000001E-2,7.1999999999999995E-2,0.104,0.123,0.36399999999999999,4.2999999999999997E-2,4.2999999999999997E-2]
[{"$f":"Photonic!B83","v":431},{"$f":"Photonic!D83","v":2.9533693994612865E-5},null,null,null,null,null,null,830656867.91858566,20.985388707421158,830656867.91858566,9.1496786913563275E-5,{"$f":"+$L77*Photonic!BB83","v":2.6792089144029595E-5},{"$f":"+$L77*Photonic!BC83","v":1.1572513608827482E-6},{"$f":"+$L77*Photonic!BD83","v":1.3112148341579393E-4},98.509999999999991,37.06,-1.3399999999999999,null,null,0.23599999999999999,0.122,7.2999999999999995E-2,0.1358,0.33500000000000002,0.53239999999999998,0.55500000000000005,0.48019999999999996,4.7800000000000002E-2,7.22E-2,0.104,0.13039999999999999,0.36419999999999997,4.3199999999999995E-2,4.3199999999999995E-2]
[{"$f":"Photonic!B84","v":432},{"$f":"Photonic!D84","v":2.5314594852525312E-5},null,null,null,null,null,null,854490090.36265433,21.118588046465664,854490090.36265433,9.4122014440896779E-5,{"$f":"+$L78*Photonic!BB84","v":2.8400376637396194E-5},{"$f":"+$L78*Photonic!BC84","v":1.2890951097825223E-6},{"$f":"+$L78*Photonic!BD84","v":1.3935178374838308E-4},100.22,37.020000000000003,-1.48,null,null,0.23499999999999999,0.122,7.2999999999999995E-2,0.1366,0.33600000000000002,0.53380000000000005,0.55400000000000005,0.47839999999999999,4.7600000000000003E-2,7.2399999999999992E-2,0.104,0.13780000000000001,0.3644,4.3399999999999994E-2,4.3399999999999994E-2]
[{"$f":"Photonic!B85","v":433},{"$f":"Photonic!D85","v":3.3794156853779709E-5},null,null,null,null,null,null,878868799.18955445,21.25178738551017,878868799.18955445,9.680732724924319E-5,{"$f":"+$L79*Photonic!BB85","v":3.007416428324989E-5},{"$f":"+$L79*Photonic!BC85","v":1.4273272329628416E-6},{"$f":"+$L79*Photonic!BD85","v":1.4792314495407958E-4},101.92999999999999,36.979999999999997,-1.6199999999999999,null,null,0.23400000000000001,0.122,7.2999999999999995E-2,0.13740000000000002,0.33700000000000002,0.53520000000000001,0.55300000000000005,0.47659999999999997,4.7399999999999998E-2,7.2599999999999998E-2,0.104,0.1452,0.36459999999999998,4.36E-2,4.36E-2]
[{"$f":"Photonic!B86","v":434},{"$f":"Photonic!D86","v":4.2273718855034092E-5},null,null,null,null,null,null,903801813.32281446,21.384986724554675,903801813.32281446,9.9553696742316891E-5,{"$f":"+$L80*Photonic!BB86","v":3.1815370404909638E-5},{"$f":"+$L80*Photonic!BC86","v":1.5721519789546684E-6},{"$f":"+$L80*Photonic!BD86","v":1.5684565457315934E-4},103.64,36.94,-1.76,null,null,0.23300000000000001,0.122,7.2999999999999995E-2,0.13820000000000002,0.33800000000000002,0.53660000000000008,0.55200000000000005,0.4748,4.7199999999999999E-2,7.279999999999999E-2,0.104,0.15260000000000001,0.36480000000000001,4.3799999999999999E-2,4.3799999999999999E-2]
[{"$f":"Photonic!B87","v":435},{"$f":"Photonic!D87","v":4.4879633031029351E-5},null,null,null,null,null,null,929298015.24190652,21.51818606359917,929298015.24190652,1.0236210132451435E-4,{"$f":"+$L81*Photonic!BB87","v":3.3625950285102965E-5},{"$f":"+$L81*Photonic!BC87","v":1.7237777863048218E-6},{"$f":"+$L81*Photonic!BD87","v":1.661295959656338E-4},105.35,36.9,-1.9,null,null,0.23200000000000001,0.122,7.2999999999999995E-2,0.13900000000000001,0.33900000000000002,0.53800000000000003,0.55100000000000005,0.47299999999999998,4.7E-2,7.2999999999999995E-2,0.104,0.16,0.36499999999999999,4.3999999999999997E-2,4.3999999999999997E-2]
[{"$f":"Photonic!B88","v":436},{"$f":"Photonic!D88","v":4.7444183489945313E-5},null,null,null,null,null,null,955366350.07052422,21.651385402643676,955366350.07052422,1.0523352630048797E-4,{"$f":"+$L82*Photonic!BB88","v":3.4985517219755033E-5},{"$f":"+$L82*Photonic!BC88","v":1.9017802873024188E-6},{"$f":"+$L82*Photonic!BD88","v":1.7340169996741807E-4},107.06,36.86,-2.04,null,null,0.2316,0.1222,7.2999999999999995E-2,0.14000000000000001,0.34040000000000004,0.53920000000000001,0.54960000000000009,0.4708,4.6800000000000001E-2,7.3599999999999999E-2,0.1042,0.1694,0.3654,4.3999999999999997E-2,4.3999999999999997E-2]
[{"$f":"Photonic!B89","v":437},{"$f":"Photonic!D89","v":4.2439173723351261E-5},null,null,null,null,null,null,982015824.64542198,21.784584741688164,982015824.64542198,1.0816896377257883E-4,{"$f":"+$L83*Photonic!BB89","v":3.6389337440660788E-5},{"$f":"+$L83*Photonic!BC89","v":2.0880936766658618E-6},{"$f":"+$L83*Photonic!BD89","v":1.8092340880601537E-4},108.77,36.82,-2.1800000000000002,null,null,0.23120000000000002,0.12239999999999999,7.2999999999999995E-2,0.14100000000000001,0.34179999999999999,0.54039999999999999,0.54820000000000002,0.46860000000000002,4.6600000000000003E-2,7.4200000000000002E-2,0.10439999999999999,0.17879999999999999,0.36580000000000001,4.3999999999999997E-2,4.3999999999999997E-2]
[{"$f":"Photonic!B90","v":438},{"$f":"Photonic!D90","v":3.7434163956757202E-5},null,null,null,null,null,null,1009255506.5661371,21.917784080732673,1009255506.5661371,1.1116941253614361E-4,{"$f":"+$L84*Photonic!BB90","v":3.7838510606102131E-5},{"$f":"+$L84*Photonic!BC90","v":2.2829750558422449E-6},{"$f":"+$L84*Photonic!BD90","v":1.8870118422710088E-4},110.48,36.78,-2.3199999999999998,null,null,0.23080000000000001,0.1226,7.2999999999999995E-2,0.14199999999999999,0.34320000000000001,0.54160000000000008,0.54680000000000006,0.46639999999999998,4.6399999999999997E-2,7.4799999999999991E-2,0.1046,0.18820000000000001,0.36619999999999997,4.3999999999999997E-2,4.3999999999999997E-2]
[{"$f":"Photonic!B91","v":439},{"$f":"Photonic!D91","v":3.9833259547356002E-5},null,null,null,null,null,null,1037094523.2258047,22.050983419777165,1037094523.2258047,1.1423587797279899E-4,{"$f":"+$L85*Photonic!BB91","v":3.9334154447106037E-5},{"$f":"+$L85*Photonic!BC91","v":2.4866865917118884E-6},{"$f":"+$L85*Photonic!BD91","v":1.9674159847987333E-4},112.19,36.74,-2.46,null,null,0.23040000000000002,0.12279999999999999,7.2999999999999995E-2,0.14299999999999999,0.34459999999999996,0.54280000000000006,0.5454,0.4642,4.6199999999999998E-2,7.5399999999999995E-2,0.10479999999999999,0.1976,0.36659999999999998,4.3999999999999997E-2,4.3999999999999997E-2]
[{"$f":"Photonic!B92","v":440},{"$f":"Photonic!D92","v":4.2190991420875525E-5},null,null,null,null,null,null,1065542060.8235104,22.18418275882167,1065542060.8235104,1.173693719416323E-4,{"$f":"+$L86*Photonic!BB92","v":4.0877404859831697E-5},{"$f":"+$L86*Photonic!BC92","v":2.6994955546575427E-6},{"$f":"+$L86*Photonic!BD92","v":2.0505133494434812E-4},113.9,36.700000000000003,-2.6,null,null,0.23,0.123,7.2999999999999995E-2,0.14399999999999999,0.34599999999999997,0.54400000000000004,0.54400000000000004,0.46200000000000002,4.5999999999999999E-2,7.5999999999999998E-2,0.105,0.20699999999999999,0.36699999999999999,4.3999999999999997E-2,4.3999999999999997E-2]
[{"$f":"Photonic!B93","v":441},{"$f":"Photonic!D93","v":3.0071422316643631E-5},null,null,null,null,null,null,1094607363.3583336,23.135397201252239,1094607363.3583336,1.2057091266839556E-4,{"$f":"+$L87*Photonic!BB93","v":4.1987132343991394E-5},{"$f":"+$L87*Photonic!BC93","v":2.937107432602116E-6},{"$f":"+$L87*Photonic!BD93","v":2.115016367336941E-4},115.07000000000001,36.620000000000005,-2.63,null,null,0.22920000000000001,0.1232,7.2999999999999995E-2,0.1454,0.34719999999999995,0.5454,0.54220000000000002,0.45960000000000001,4.5600000000000002E-2,7.6399999999999996E-2,0.1052,0.21679999999999999,0.3674,4.4199999999999996E-2,4.4199999999999996E-2]
[{"$f":"Photonic!B94","v":442},{"$f":"Photonic!D94","v":3.2594609058480299E-5},null,null,null,null,null,null,1124299731.60551,24.086611643682815,1124299731.60551,1.2384152463272983E-4,{"$f":"+$L88*Photonic!BB94","v":4.3120628144919468E-5},{"$f":"+$L88*Photonic!BC94","v":3.1852040135538114E-6},{"$f":"+$L88*Photonic!BD94","v":2.1811910513903587E-4},116.24000000000001,36.54,-2.66,null,null,0.22840000000000002,0.1234,7.2999999999999995E-2,0.14679999999999999,0.34839999999999999,0.54680000000000006,0.54039999999999999,0.4572,4.5199999999999997E-2,7.6799999999999993E-2,0.10539999999999999,0.2266,0.36780000000000002,4.4399999999999995E-2,4.4399999999999995E-2]
[{"$f":"Photonic!B95","v":443},{"$f":"Photonic!D95","v":3.5117795800316977E-5},null,null,null,null,null,null,1154628522.0750132,25.037826086113366,1154628522.0750132,1.2718223845345299E-4,{"$f":"+$L89*Photonic!BB95","v":4.4278241953092746E-5},{"$f":"+$L89*Photonic!BC95","v":3.444095017319507E-6},{"$f":"+$L89*Photonic!BD95","v":2.2490703556527102E-4},117.41,36.46,-2.69,null,null,0.2276,0.1236,7.2999999999999995E-2,0.1482,0.34959999999999997,0.54820000000000002,0.53860000000000008,0.45480000000000004,4.48E-2,7.7200000000000005E-2,0.1056,0.2364,0.36819999999999997,4.4600000000000001E-2,4.4600000000000001E-2]
[{"$f":"Photonic!B96","v":444},{"$f":"Photonic!D96","v":3.5241886951554848E-5},null,null,null,null,null,null,1185603145.9528303,25.989040528543946,1185603145.9528303,1.3059409077194147E-4,{"$f":"+$L90*Photonic!BB96","v":4.546032537407591E-5},{"$f":"+$L90*Photonic!BC96","v":3.7140959415540152E-6},{"$f":"+$L90*Photonic!BD96","v":2.3186876341285592E-4},118.58,36.379999999999995,-2.72,null,null,0.2268,0.12379999999999999,7.2999999999999995E-2,0.14959999999999998,0.3508,0.54960000000000009,0.53680000000000005,0.45240000000000002,4.4399999999999995E-2,7.7600000000000002E-2,0.10579999999999999,0.2462,0.36859999999999998,4.48E-2,4.48E-2]
[{"$f":"Photonic!B97","v":445},{"$f":"Photonic!D97","v":3.5365978102792713E-5},null,null,null,null,null,null,1217233068.0253503,26.940254970974514,1217233068.0253503,1.3407812413365159E-4,{"$f":"+$L91*Photonic!BB97","v":4.6667231885958771E-5},{"$f":"+$L91*Photonic!BC97","v":3.9955280991828173E-6},{"$f":"+$L91*Photonic!BD97","v":2.3900766408064731E-4},119.75,36.299999999999997,-2.75,null,null,0.22600000000000001,0.124,7.2999999999999995E-2,0.151,0.35199999999999998,0.55100000000000005,0.53500000000000003,0.45,4.3999999999999997E-2,7.8E-2,0.106,0.25600000000000001,0.36899999999999999,4.4999999999999998E-2,4.4999999999999998E-2]
[{"$f":"Photonic!B98","v":446},{"$f":"Photonic!D98","v":3.7599618825074358E-5},null,null,null,null,null,null,1249527805.5871301,27.891469413405076,1249527805.5871301,1.3763538686781008E-4,{"$f":"+$L92*Photonic!BB98","v":4.7578901615559533E-5},{"$f":"+$L92*Photonic!BC98","v":4.327256563123949E-6},{"$f":"+$L92*Photonic!BD98","v":2.4506008158890958E-4},120.92,36.22,-2.78,null,null,0.2258,0.1246,7.3200000000000001E-2,0.153,0.35359999999999997,0.55200000000000005,0.53239999999999998,0.44780000000000003,4.36E-2,7.9000000000000001E-2,0.10679999999999999,0.26479999999999998,0.36959999999999998,4.4999999999999998E-2,4.4999999999999998E-2]
[{"$f":"Photonic!B99","v":447},{"$f":"Photonic!D99","v":3.9833259547356002E-5},null,null,null,null,null,null,1282496927.3324037,28.842683855835645,1282496927.3324037,1.4126693296531408E-4,{"$f":"+$L93*Photonic!BB99","v":4.8499198357919768E-5},{"$f":"+$L93*Photonic!BC99","v":4.6731101424925894E-6},{"$f":"+$L93*Photonic!BD99","v":2.5122967865324645E-4},122.09,36.14,-2.81,null,null,0.22559999999999999,0.12520000000000001,7.3399999999999993E-2,0.155,0.35519999999999996,0.55300000000000005,0.52980000000000005,0.4456,4.3200000000000002E-2,0.08,0.1076,0.27360000000000001,0.37019999999999997,4.4999999999999998E-2,4.4999999999999998E-2]
[{"$f":"Photonic!B100","v":448},{"$f":"Photonic!D100","v":4.1032807342655405E-5},null,null,null,null,null,null,1316150052.2307024,29.793898298266207,1316150052.2307024,1.4497382195488052E-4,{"$f":"+$L94*Photonic!BB100","v":4.9427954752584778E-5},{"$f":"+$L94*Photonic!BC100","v":5.0334910982734517E-6},{"$f":"+$L94*Photonic!BD100","v":2.5751786978138599E-4},123.25999999999999,36.059999999999995,-2.84,null,null,0.22540000000000002,0.1258,7.3599999999999999E-2,0.157,0.35680000000000001,0.55400000000000005,0.5272,0.44340000000000002,4.2799999999999998E-2,8.1000000000000003E-2,0.1084,0.28239999999999998,0.37080000000000002,4.4999999999999998E-2,4.4999999999999998E-2]
[{"$f":"Photonic!B101","v":449},{"$f":"Photonic!D101","v":4.2232355137954809E-5},null,null,null,null,null,null,1350496848.3869293,30.745112740696769,1350496848.3869293,1.4875711877748371E-4,{"$f":"+$L95*Photonic!BB101","v":5.0364995218730215E-5},{"$f":"+$L95*Photonic!BC101","v":5.4088088387493072E-6},{"$f":"+$L95*Photonic!BD101","v":2.6392607019196183E-4},124.42999999999999,35.979999999999997,-2.87,null,null,0.22520000000000001,0.12640000000000001,7.3799999999999991E-2,0.159,0.3584,0.55500000000000005,0.52460000000000007,0.44119999999999998,4.24E-2,8.2000000000000003E-2,0.10920000000000001,0.29120000000000001,0.37140000000000001,4.4999999999999998E-2,4.4999999999999998E-2]
[{"$f":"Photonic!B102","v":450},{"$f":"Photonic!D102","v":4.0991443625576115E-5},null,null,null,null,null,null,1385547031.8861985,31.696327183127337,1385547031.8861985,1.526178936591142E-4,{"$f":"+$L96*Photonic!BB102","v":5.1310135848194193E-5},{"$f":"+$L96*Photonic!BC102","v":5.7994799590463394E-6},{"$f":"+$L96*Photonic!BD102","v":2.704556955322529E-4},125.6,35.9,-2.9,null,null,0.22500000000000001,0.127,7.3999999999999996E-2,0.161,0.36,0.55600000000000005,0.52200000000000002,0.439,4.2000000000000003E-2,8.3000000000000004E-2,0.11,0.3,0.372,4.4999999999999998E-2,4.4999999999999998E-2]
[{"$f":"Photonic!B103","v":451},{"$f":"Photonic!D103","v":3.9750532113197428E-5},null,null,null,null,null,null,1421310365.623889,32.353963192076165,1421310365.623889,1.5655722198190948E-4,{"$f":"+$L97*Photonic!BB103","v":5.2086587753381286E-5},{"$f":"+$L97*Photonic!BC103","v":6.2622888792763794E-6},{"$f":"+$L97*Photonic!BD103","v":2.7655958508881893E-4},125.58999999999999,35.57,-2.89,null,null,0.22440000000000002,0.12720000000000001,7.4200000000000002E-2,0.16320000000000001,0.36180000000000001,0.55600000000000005,0.51880000000000004,0.43640000000000001,4.1800000000000004E-2,8.4000000000000005E-2,0.111,0.30619999999999997,0.37240000000000001,4.5199999999999997E-2,4.5199999999999997E-2]
[{"$f":"Photonic!B104","v":452},{"$f":"Photonic!D104","v":3.1850062151053084E-5},null,null,null,null,null,null,1457796658.1211648,33.011599201024993,1457796658.1211648,1.6057618415368362E-4,{"$f":"+$L98*Photonic!BB104","v":5.2861679823392649E-5},{"$f":"+$L98*Photonic!BC104","v":6.7441997344547125E-6},{"$f":"+$L98*Photonic!BD104","v":2.8275956613332641E-4},125.58,35.24,-2.88,null,null,0.2238,0.12740000000000001,7.4399999999999994E-2,0.16539999999999999,0.36359999999999998,0.55600000000000005,0.51560000000000006,0.43380000000000002,4.1600000000000005E-2,8.5000000000000006E-2,0.112,0.31240000000000001,0.37280000000000002,4.5399999999999996E-2,4.5399999999999996E-2]
[{"$f":"Photonic!B105","v":453},{"$f":"Photonic!D105","v":2.3990955905988041E-5},null,null,null,null,null,null,1495015762.3264654,33.669235209973834,1495015762.3264654,1.6467586547591146E-4,{"$f":"+$L99*Photonic!BB105","v":5.3634929385504362E-5},{"$f":"+$L99*Photonic!BC105","v":7.2457380809401032E-6},{"$f":"+$L99*Photonic!BD105","v":2.8905620537332928E-4},125.57,34.909999999999997,-2.87,null,null,0.22320000000000001,0.12759999999999999,7.46E-2,0.1676,0.3654,0.55600000000000005,0.51239999999999997,0.43119999999999997,4.1399999999999999E-2,8.5999999999999993E-2,0.113,0.31859999999999999,0.37319999999999998,4.5600000000000002E-2,4.5600000000000002E-2]
[{"$f":"Photonic!B106","v":454},{"$f":"Photonic!D106","v":3.8095983430025836E-5},null,null,null,null,null,null,1532977574.403173,34.326871218922669,1532977574.403173,1.6885735601019025E-4,{"$f":"+$L100*Photonic!BB106","v":5.44058401064833E-5},{"$f":"+$L100*Photonic!BC106","v":7.7674383764687521E-6},{"$f":"+$L100*Photonic!BD106","v":2.9545005352574194E-4},125.56,34.58,-2.86,null,null,0.22259999999999999,0.1278,7.4799999999999991E-2,0.16979999999999998,0.36719999999999997,0.55600000000000005,0.50919999999999999,0.42859999999999998,4.1200000000000001E-2,8.6999999999999994E-2,0.114,0.32480000000000003,0.37359999999999999,4.58E-2,4.58E-2]
[{"$f":"Photonic!B107","v":455},{"$f":"Photonic!D107","v":4.934691447559264E-5},null,null,null,null,null,null,1571692032.5039814,34.984507227871497,1571692032.5039814,1.7312175044323662E-4,{"$f":"+$L101*Photonic!BB107","v":5.5173901866259504E-5},{"$f":"+$L101*Photonic!BC107","v":8.3098440212753585E-6},{"$f":"+$L101*Photonic!BD107","v":3.0194164494804897E-4},125.55,34.25,-2.85,null,null,0.222,0.128,7.4999999999999997E-2,0.17199999999999999,0.36899999999999999,0.55600000000000005,0.50600000000000001,0.42599999999999999,4.1000000000000002E-2,8.7999999999999995E-2,0.115,0.33100000000000002,0.374,4.5999999999999999E-2,4.5999999999999999E-2]
[{"$f":"Photonic!B108","v":456},{"$f":"Photonic!D108","v":2.688641610153832E-5},null,null,null,null,null,null,1611169115.5322585,35.64214323682031,1611169115.5322585,1.7747014795045058E-4,{"$f":"+$L102*Photonic!BB108","v":5.5569452726245086E-5},{"$f":"+$L102*Photonic!BC108","v":8.9444954567027097E-6},{"$f":"+$L102*Photonic!BD108","v":3.068671822240831E-4},125.53999999999999,33.92,-2.84,null,null,0.22159999999999999,0.12859999999999999,7.5399999999999995E-2,0.17479999999999998,0.37140000000000001,0.55560000000000009,0.50239999999999996,0.4234,4.0399999999999998E-2,8.9399999999999993E-2,0.11660000000000001,0.33400000000000002,0.37440000000000001,4.6199999999999998E-2,4.6199999999999998E-2]
[{"$f":"Photonic!B109","v":457},{"$f":"Photonic!D109","v":3.267733649263888E-5},null,null,null,null,null,null,1651418841.8907938,36.299779245769138,1651418841.8907938,1.8190365205809022E-4,{"$f":"+$L103*Photonic!BB109","v":5.5942649153945063E-5},{"$f":"+$L103*Photonic!BC109","v":9.6045128286671626E-6},{"$f":"+$L103*Photonic!BD109","v":3.1180832613885475E-4},125.53,33.590000000000003,-2.83,null,null,0.22120000000000001,0.12920000000000001,7.5799999999999992E-2,0.17759999999999998,0.37380000000000002,0.55520000000000003,0.49880000000000002,0.42080000000000001,3.9800000000000002E-2,9.0799999999999992E-2,0.1182,0.33700000000000002,0.37480000000000002,4.6399999999999997E-2,4.6399999999999997E-2]
[{"$f":"Photonic!B110","v":458},{"$f":"Photonic!D110","v":3.8509620600818734E-5},null,null,null,null,null,null,1692451268.218313,36.957415254717972,1692451268.218313,1.8642337050409899E-4,{"$f":"+$L104*Photonic!BB110","v":5.6292400957417729E-5},{"$f":"+$L104*Photonic!BC110","v":1.0290570051826264E-5},{"$f":"+$L104*Photonic!BD110","v":3.1676313422574485E-4},125.52,33.26,-2.82,null,null,0.2208,0.1298,7.6200000000000004E-2,0.1804,0.37619999999999998,0.55480000000000007,0.49519999999999997,0.41819999999999996,3.9199999999999999E-2,9.2200000000000004E-2,0.1198,0.33999999999999997,0.37519999999999998,4.6600000000000003E-2,4.6600000000000003E-2]
[{"$f":"Photonic!B111","v":459},{"$f":"Photonic!D111","v":3.9088712639928787E-5},null,null,null,null,null,null,1734276488.1142044,37.615051263666807,1734276488.1142044,1.9103041509763432E-4,{"$f":"+$L105*Photonic!BB111","v":5.6617594426636857E-5},{"$f":"+$L105*Photonic!BC111","v":1.1003351909623737E-5},{"$f":"+$L105*Photonic!BD111","v":3.2172960449913378E-4},125.51,32.93,-2.81,null,null,0.22040000000000001,0.13040000000000002,7.6600000000000001E-2,0.1832,0.37859999999999999,0.5544,0.49159999999999998,0.41559999999999997,3.8600000000000002E-2,9.3600000000000003E-2,0.12139999999999999,0.34299999999999997,0.37559999999999999,4.6800000000000001E-2,4.6800000000000001E-2]
[{"$f":"Photonic!B112","v":460},{"$f":"Photonic!D112","v":3.9667804679038847E-5},null,null,null,null,null,null,1776904630.8516943,38.272687272615627,1776904630.8516943,1.9572590157732397E-4,{"$f":"+$L106*Photonic!BB112","v":5.6917092178685811E-5},{"$f":"+$L106*Photonic!BC112","v":1.1743554094639438E-5},{"$f":"+$L106*Photonic!BD112","v":3.2670567491286919E-4},125.5,32.6,-2.8,null,null,0.22,0.13100000000000001,7.6999999999999999E-2,0.186,0.38100000000000001,0.55400000000000005,0.48799999999999999,0.41299999999999998,3.7999999999999999E-2,9.5000000000000001E-2,0.123,0.34599999999999997,0.376,4.7E-2,4.7E-2]
[{"$f":"Photonic!B113","v":461},{"$f":"Photonic!D113","v":3.8220074581263708E-5},null,null,null,null,null,null,1820345860.0800514,38.871152496903335,1820345860.0800514,2.0051094946831405E-4,{"$f":"+$L107*Photonic!BB113","v":5.6716527166607314E-5},{"$f":"+$L107*Photonic!BC113","v":1.2588077407620756E-5},{"$f":"+$L107*Photonic!BD113","v":3.2903445785851398E-4},125.08,32.130000000000003,-2.78,null,null,0.21959999999999999,0.13159999999999999,7.7600000000000002E-2,0.1898,0.3836,0.55300000000000005,0.48419999999999996,0.4098,3.7400000000000003E-2,9.6600000000000005E-2,0.12520000000000001,0.34619999999999995,0.37659999999999999,4.7199999999999999E-2,4.7199999999999999E-2]
[{"$f":"Photonic!B114","v":462},{"$f":"Photonic!D114","v":3.6730980766409278E-5},null,null,null,null,null,null,1864610372.5160408,39.469617721191049,1864610372.5160408,2.0538668193813267E-4,{"$f":"+$L108*Photonic!BB114","v":5.6464906598431432E-5},{"$f":"+$L108*Photonic!BC114","v":1.3465150867863977E-5},{"$f":"+$L108*Photonic!BD114","v":3.3123942516254286E-4},124.66,31.66,-2.76,null,null,0.21920000000000001,0.13220000000000001,7.8200000000000006E-2,0.19359999999999999,0.38619999999999999,0.55200000000000005,0.48039999999999999,0.40660000000000002,3.6799999999999999E-2,9.8199999999999996E-2,0.12740000000000001,0.34639999999999999,0.37719999999999998,4.7399999999999998E-2,4.7399999999999998E-2]
[{"$f":"Photonic!B115","v":463},{"$f":"Photonic!D115","v":3.9254167508245949E-5},null,null,null,null,null,null,1909708396.6251502,40.068082945478778,1909708396.6251502,2.1035422565142723E-4,{"$f":"+$L109*Photonic!BB115","v":5.6160371164418039E-5},{"$f":"+$L109*Photonic!BC115","v":1.4375607781018536E-5},{"$f":"+$L109*Photonic!BD115","v":3.3331468471371251E-4},124.24000000000001,31.19,-2.74,null,null,0.21879999999999999,0.1328,7.8799999999999995E-2,0.19739999999999999,0.38880000000000003,0.55100000000000005,0.47659999999999997,0.40339999999999998,3.6200000000000003E-2,9.98E-2,0.12959999999999999,0.34659999999999996,0.37780000000000002,4.7600000000000003E-2,4.7600000000000003E-2]
[{"$f":"Photonic!B116","v":464},{"$f":"Photonic!D116","v":4.173599053300333E-5},null,null,null,null,null,null,1955650191.2928817,40.666548169766493,1955650191.2928817,2.1541471062360722E-4,{"$f":"+$L110*Photonic!BB116","v":5.5801026639939213E-5},{"$f":"+$L110*Photonic!BC116","v":1.5320294219550943E-5},{"$f":"+$L110*Photonic!BD116","v":3.3525422243773235E-4},123.82000000000001,30.72,-2.72,null,null,0.21840000000000001,0.13340000000000002,7.9399999999999998E-2,0.20119999999999999,0.39140000000000003,0.55000000000000004,0.4728,0.4002,3.56E-2,0.10139999999999999,0.1318,0.3468,0.37840000000000001,4.7800000000000002E-2,4.7800000000000002E-2]
[{"$f":"Photonic!B117","v":465},{"$f":"Photonic!D117","v":3.1477788697339477E-5},null,null,null,null,null,null,2002446044.48651,41.265013394054201,2002446044.48651,2.2056927007343705E-4,{"$f":"+$L111*Photonic!BB117","v":5.538494371544004E-5},{"$f":"+$L111*Photonic!BC117","v":1.6300069058426996E-5},{"$f":"+$L111*Photonic!BD117","v":3.3705190159921916E-4},123.4,30.25,-2.7,null,null,0.218,0.13400000000000001,0.08,0.20499999999999999,0.39400000000000002,0.54900000000000004,0.46899999999999997,0.39700000000000002,3.5000000000000003E-2,0.10299999999999999,0.13400000000000001,0.34699999999999998,0.379,4.8000000000000001E-2,4.8000000000000001E-2]
[{"$f":"Photonic!B118","v":466},{"$f":"Photonic!D118","v":3.3628701985462547E-5},null,null,null,null,null,null,2050106271.9078553,41.863478618341915,2050106271.9078553,2.2581904027463908E-4,{"$f":"+$L112*Photonic!BB118","v":5.4185730351980198E-5},{"$f":"+$L112*Photonic!BC118","v":1.7459424917873995E-5},{"$f":"+$L112*Photonic!BD118","v":3.3421398615878802E-4},122.98,29.78,-2.68,null,null,0.21759999999999999,0.1348,8.1000000000000003E-2,0.20979999999999999,0.39580000000000004,0.5474,0.46479999999999999,0.39400000000000002,3.4600000000000006E-2,0.105,0.1368,0.3458,0.38,4.8399999999999999E-2,4.8399999999999999E-2]
[{"$f":"Photonic!B119","v":467},{"$f":"Photonic!D119","v":3.5779615273585611E-5},null,null,null,null,null,null,2098641215.6371834,42.461943842629623,2098641215.6371834,2.3116516040651931E-4,{"$f":"+$L113*Photonic!BB119","v":5.2891513361653248E-5},{"$f":"+$L113*Photonic!BC119","v":1.8662425729939117E-5},{"$f":"+$L113*Photonic!BD119","v":3.3100909182866148E-4},122.56,29.31,-2.66,null,null,0.2172,0.1356,8.2000000000000003E-2,0.21459999999999999,0.39760000000000001,0.54580000000000006,0.46060000000000001,0.39100000000000001,3.4200000000000001E-2,0.107,0.1396,0.34460000000000002,0.38100000000000001,4.8800000000000003E-2,4.8800000000000003E-2]
[{"$f":"Photonic!B120","v":468},{"$f":"Photonic!D120","v":3.3628701985462547E-5},null,null,null,null,null,null,2148061242.7689209,43.06040906691733,2148061242.7689209,2.3660877240369151E-4,{"$f":"+$L114*Photonic!BB120","v":5.1499318966297876E-5},{"$f":"+$L114*Photonic!BC120","v":1.9910154980225834E-5},{"$f":"+$L114*Photonic!BD120","v":3.27424897862766E-4},122.14,28.84,-2.64,null,null,0.21679999999999999,0.13640000000000002,8.3000000000000004E-2,0.21940000000000001,0.39940000000000003,0.54420000000000002,0.45639999999999997,0.38800000000000001,3.3800000000000004E-2,0.109,0.1424,0.34339999999999998,0.38200000000000001,4.9200000000000001E-2,4.9200000000000001E-2]
[{"$f":"Photonic!B121","v":469},{"$f":"Photonic!D121","v":3.1519152414418767E-5},null,null,null,null,null,null,2198376744.0393958,43.658874291205038,2198376744.0393958,2.4215102080492304E-4,{"$f":"+$L115*Photonic!BB121","v":5.0006123004383048E-5},{"$f":"+$L115*Photonic!BC121","v":2.1203711985762282E-5},{"$f":"+$L115*Photonic!BD121","v":3.2344886732180145E-4},121.72,28.369999999999997,-2.62,null,null,0.21640000000000001,0.13720000000000002,8.4000000000000005E-2,0.22420000000000001,0.4012,0.54260000000000008,0.45219999999999999,0.38500000000000001,3.3399999999999999E-2,0.111,0.1452,0.3422,0.38300000000000001,4.9600000000000005E-2,4.9600000000000005E-2]
[{"$f":"Photonic!B122","v":470},{"$f":"Photonic!D122","v":3.5490069254030584E-5},null,null,null,null,null,null,2249598132.4470286,44.257339515492752,2249598132.4470286,2.4779305260114886E-4,{"$f":"+$L116*Photonic!BB122","v":4.840885075616044E-5},{"$f":"+$L116*Photonic!BC122","v":2.2544211925652526E-5},{"$f":"+$L116*Photonic!BD122","v":3.1906824625134331E-4},121.3,27.9,-2.6,null,null,0.216,0.13800000000000001,8.5000000000000006E-2,0.22900000000000001,0.40300000000000002,0.54100000000000004,0.44800000000000001,0.38200000000000001,3.3000000000000002E-2,0.113,0.14799999999999999,0.34100000000000003,0.38400000000000001,0.05,0.05]
[{"$f":"Photonic!B123","v":471},{"$f":"Photonic!D123","v":3.9419622376563104E-5},null,null,null,null,null,null,2301735841.8654637,44.857605019174763,2301735841.8654637,2.535360170827083E-4,{"$f":"+$L117*Photonic!BB123","v":4.683013064331289E-5},{"$f":"+$L117*Photonic!BC123","v":2.4162996572050431E-5},{"$f":"+$L117*Photonic!BD123","v":3.1400232886879756E-4},121.3,27.54,-2.6,null,null,0.21559999999999999,0.13900000000000001,8.6800000000000002E-2,0.23400000000000001,0.40440000000000004,0.53900000000000003,0.44419999999999998,0.37880000000000003,3.2600000000000004E-2,0.1154,0.15179999999999999,0.33840000000000003,0.38500000000000001,5.04E-2,5.04E-2]
[{"$f":"Photonic!B124","v":472},{"$f":"Photonic!D124","v":4.2604628591668423E-5},null,null,null,null,null,null,2354800325.6498995,45.457870522856759,2354800325.6498995,2.5938106568583214E-4,{"$f":"+$L118*Photonic!BB124","v":4.5146830769013205E-5},{"$f":"+$L118*Photonic!BC124","v":2.5841616812148086E-5},{"$f":"+$L118*Photonic!BD124","v":3.0849331418705031E-4},121.3,27.18,-2.6,null,null,0.2152,0.14000000000000001,8.8599999999999998E-2,0.23900000000000002,0.40579999999999999,0.53700000000000003,0.44040000000000001,0.37559999999999999,3.2199999999999999E-2,0.1178,0.15559999999999999,0.33580000000000004,0.38600000000000001,5.0799999999999998E-2,5.0799999999999998E-2]
[{"$f":"Photonic!B125","v":473},{"$f":"Photonic!D125","v":4.5748271089694437E-5},null,null,null,null,null,null,2408802055.2371473,46.058136026538754,2408802055.2371473,2.6532935183843948E-4,{"$f":"+$L119*Photonic!BB125","v":4.3355877407808363E-5},{"$f":"+$L119*Photonic!BC125","v":2.7581516782309463E-5},{"$f":"+$L119*Photonic!BD125","v":3.0252746564878133E-4},121.3,26.82,-2.6,null,null,0.21479999999999999,0.14099999999999999,9.0400000000000008E-2,0.24399999999999999,0.40720000000000001,0.53500000000000003,0.43659999999999999,0.37240000000000001,3.1800000000000002E-2,0.1202,0.15940000000000001,0.3332,0.38700000000000001,5.1200000000000002E-2,5.1200000000000002E-2]
[{"$f":"Photonic!B126","v":474},{"$f":"Photonic!D126","v":2.6845052384459029E-5},null,null,null,null,null,null,2463751518.739697,46.658401530220765,2463751518.739697,2.7138203080527394E-4,{"$f":"+$L120*Photonic!BB126","v":4.1454147969567202E-5},{"$f":"+$L120*Photonic!BC126","v":2.9384160767471843E-5},{"$f":"+$L120*Photonic!BD126","v":2.9609082194603255E-4},121.3,26.46,-2.6,null,null,0.21440000000000001,0.14199999999999999,9.2200000000000004E-2,0.249,0.40859999999999996,0.53300000000000003,0.43280000000000002,0.36919999999999997,3.1399999999999997E-2,0.1226,0.16320000000000001,0.3306,0.38800000000000001,5.16E-2,5.16E-2]
[{"$f":"Photonic!B127","v":475},{"$f":"Photonic!D127","v":2.2501862091133611E-5},null,null,null,null,null,null,2519659219.5342598,47.258667033902746,2519659219.5342598,2.7754025953243195E-4,{"$f":"+$L121*Photonic!BB127","v":3.9438470879558582E-5},{"$f":"+$L121*Photonic!BC127","v":3.1251033223351841E-5},{"$f":"+$L121*Photonic!BD127","v":2.8916919640684086E-4},121.3,26.1,-2.6,null,null,0.214,0.14299999999999999,9.4E-2,0.254,0.41,0.53100000000000003,0.42899999999999999,0.36599999999999999,3.1E-2,0.125,0.16700000000000001,0.32800000000000001,0.38900000000000001,5.1999999999999998E-2,5.1999999999999998E-2]
[{"$f":"Photonic!B128","v":476},{"$f":"Photonic!D128","v":1.8200035514887481E-5},null,null,null,null,null,null,2576535674.84518,47.858932537584757,2576535674.84518,2.8380519649132574E-4,{"$f":"+$L122*Photonic!BB128","v":3.7691600535619993E-5},{"$f":"+$L122*Photonic!BC128","v":3.3456091783183443E-5},{"$f":"+$L122*Photonic!BD128","v":2.827011942769745E-4},121.3,25.740000000000002,-2.6,null,null,0.214,0.1444,9.7000000000000003E-2,0.25940000000000002,0.41099999999999998,0.52860000000000007,0.42480000000000001,0.36319999999999997,3.0800000000000001E-2,0.12839999999999999,0.17200000000000001,0.32380000000000003,0.3906,5.2600000000000001E-2,5.2600000000000001E-2]
[{"$f":"Photonic!B129","v":477},{"$f":"Photonic!D129","v":2.7341416989410508E-5},null,null,null,null,null,null,2634391414.3230405,48.459198041266752,2634391414.3230405,2.9017800152211646E-4,{"$f":"+$L123*Photonic!BB129","v":3.5841626036005734E-5},{"$f":"+$L123*Photonic!BC129","v":3.5740644091476036E-5},{"$f":"+$L123*Photonic!BD129","v":2.7576195840649774E-4},121.3,25.380000000000003,-2.6,null,null,0.214,0.14579999999999999,0.1,0.26480000000000004,0.41199999999999998,0.5262,0.42059999999999997,0.3604,3.0599999999999999E-2,0.1318,0.17700000000000002,0.3196,0.39219999999999999,5.3199999999999997E-2,5.3199999999999997E-2]
[{"$f":"Photonic!B130","v":478},{"$f":"Photonic!D130","v":3.6441434746854245E-5},null,null,null,null,null,null,2693236978.6189666,49.059463544948748,2693236978.6189666,2.966598356766743E-4,{"$f":"+$L124*Photonic!BB130","v":3.3885673070332445E-5},{"$f":"+$L124*Photonic!BC130","v":3.8106549212340168E-5},{"$f":"+$L124*Photonic!BD130","v":2.6833772116462216E-4},121.3,25.02,-2.6,null,null,0.214,0.1472,0.10299999999999999,0.2702,0.41299999999999998,0.52380000000000004,0.41639999999999999,0.35759999999999997,3.04E-2,0.13519999999999999,0.182,0.31540000000000001,0.39380000000000004,5.3800000000000001E-2,5.3800000000000001E-2]
[{"$f":"Photonic!B131","v":479},{"$f":"Photonic!D131","v":3.8592348034977315E-5},null,null,null,null,null,null,2753082917.9548788,49.659729048630759,2753082917.9548788,3.0325186106109172E-4,{"$f":"+$L125*Photonic!BB131","v":3.1820824284862477E-5},{"$f":"+$L125*Photonic!BC131","v":4.0555690890866158E-5},{"$f":"+$L125*Photonic!BD131","v":2.6041450316760187E-4},121.3,24.66,-2.6,null,null,0.214,0.14859999999999998,0.106,0.27560000000000001,0.41399999999999998,0.52139999999999997,0.41219999999999996,0.3548,3.0199999999999998E-2,0.1386,0.187,0.31119999999999998,0.39540000000000003,5.4399999999999997E-2,5.4399999999999997E-2]
[{"$f":"Photonic!B132","v":480},{"$f":"Photonic!D132","v":4.0701897606021088E-5},null,null,null,null,null,null,2813939790.690217,50.259994552312754,2813939790.690217,3.099552406778083E-4,{"$f":"+$L126*Photonic!BB132","v":2.9644119218425587E-5},{"$f":"+$L126*Photonic!BC132","v":4.308997755902891E-5},{"$f":"+$L126*Photonic!BD132","v":2.5197811290902423E-4},121.3,24.3,-2.6,null,null,0.214,0.15,0.109,0.28100000000000003,0.41499999999999998,0.51900000000000002,0.40799999999999997,0.35199999999999998,0.03,0.14199999999999999,0.192,0.307,0.39700000000000002,5.5E-2,5.5E-2]
[{"$f":"Photonic!B133","v":481},{"$f":"Photonic!D133","v":4.1198262210972561E-5},null,null,null,null,null,null,2875818161.8854585,51.119445351197726,2875818161.8854585,3.1677113826738228E-4,{"$f":"+$L127*Photonic!BB133","v":2.7908170823632913E-5},{"$f":"+$L127*Photonic!BC133","v":4.5955889655278757E-5},{"$f":"+$L127*Photonic!BD133","v":2.4505415256364691E-4},120.52,23.88,-2.52,null,null,0.214,0.15179999999999999,0.1124,0.28640000000000004,0.41559999999999997,0.51600000000000001,0.40339999999999998,0.34899999999999998,2.98E-2,0.14599999999999999,0.19739999999999999,0.30199999999999999,0.39860000000000001,5.5399999999999998E-2,5.5399999999999998E-2]
[{"$f":"Photonic!B134","v":482},{"$f":"Photonic!D134","v":4.1694626815924039E-5},null,null,null,null,null,null,2938728601.8627791,51.97889615008269,2938728601.8627791,3.2370071814994772E-4,{"$f":"+$L128*Photonic!BB134","v":2.6078624657032388E-5},{"$f":"+$L128*Photonic!BC134","v":4.8921536935437906E-5},{"$f":"+$L128*Photonic!BD134","v":2.376772523015991E-4},119.74,23.46,-2.44,null,null,0.214,0.15359999999999999,0.1158,0.2918,0.41619999999999996,0.51300000000000001,0.39879999999999999,0.34599999999999997,2.9600000000000001E-2,0.15,0.20280000000000001,0.29699999999999999,0.4002,5.5800000000000002E-2,5.5800000000000002E-2]
[{"$f":"Photonic!B135","v":483},{"$f":"Photonic!D135","v":3.5117795800316977E-5},null,null,null,null,null,null,3002681684.7643361,52.838346948967676,3002681684.7643361,3.307451450664091E-4,{"$f":"+$L129*Photonic!BB135","v":2.4152994963619593E-5},{"$f":"+$L129*Photonic!BC135","v":5.198916786269871E-5},{"$f":"+$L129*Photonic!BD135","v":2.2983480130664766E-4},118.96000000000001,23.04,-2.3600000000000003,null,null,0.214,0.15540000000000001,0.1192,0.29720000000000002,0.4168,0.51,0.39419999999999999,0.34300000000000003,2.9399999999999999E-2,0.154,0.2082,0.29199999999999998,0.40180000000000005,5.62E-2,5.62E-2]
[{"$f":"Photonic!B136","v":484},{"$f":"Photonic!D136","v":2.8540964784709908E-5},null,null,null,null,null,null,3067687987.1085072,53.697797747852633,3067687987.1085072,3.3790558401941161E-4,{"$f":"+$L130*Photonic!BB136","v":2.2128760886263229E-5},{"$f":"+$L130*Photonic!BC136","v":5.5161059157664826E-5},{"$f":"+$L130*Photonic!BD136","v":2.2151400560392528E-4},118.18,22.62,-2.2800000000000002,null,null,0.214,0.15720000000000001,0.1226,0.30259999999999998,0.41739999999999999,0.50700000000000001,0.3896,0.34,2.92E-2,0.158,0.21360000000000001,0.28699999999999998,0.40340000000000004,5.6600000000000004E-2,5.6600000000000004E-2]
[{"$f":"Photonic!B137","v":485},{"$f":"Photonic!D137","v":2.7010507252776191E-5},null,null,null,null,null,null,3133758086.3443785,54.557248546737597,3133758086.3443785,3.4518320011411776E-4,{"$f":"+$L131*Photonic!BB137","v":2.0003366446613123E-5},{"$f":"+$L131*Photonic!BC137","v":5.843951577932014E-5},{"$f":"+$L131*Photonic!BD137","v":2.1270188791031936E-4},117.4,22.2,-2.2000000000000002,null,null,0.214,0.159,0.126,0.308,0.41799999999999998,0.504,0.38500000000000001,0.33700000000000002,2.9000000000000001E-2,0.16200000000000001,0.219,0.28199999999999997,0.40500000000000003,5.7000000000000002E-2,5.7000000000000002E-2]
[{"$f":"Photonic!B138","v":486},{"$f":"Photonic!D138","v":2.3453227583957275E-5},null,null,null,null,null,null,3200902559.4050627,55.416699345622561,3200902559.4050627,3.5257915839885566E-4,{"$f":"+$L132*Photonic!BB138","v":1.8602781555440424E-5},{"$f":"+$L132*Photonic!BC138","v":6.2422024519567007E-5},{"$f":"+$L132*Photonic!BD138","v":2.0660997650509582E-4},116.62,21.78,-2.12,null,null,0.21440000000000001,0.16200000000000001,0.13039999999999999,0.31280000000000002,0.41819999999999996,0.50080000000000002,0.38059999999999999,0.33460000000000001,2.8800000000000003E-2,0.16739999999999999,0.22559999999999999,0.27699999999999997,0.40720000000000001,5.8000000000000003E-2,5.8000000000000003E-2]
[{"$f":"Photonic!B139","v":487},{"$f":"Photonic!D139","v":1.9895947915138356E-5},null,null,null,null,null,null,3269131981.2599974,56.276150144507533,3269131981.2599974,3.6009462370565482E-4,{"$f":"+$L133*Photonic!BB139","v":1.7131141628172822E-5},{"$f":"+$L133*Photonic!BC139","v":6.6541165325320544E-5},{"$f":"+$L133*Photonic!BD139","v":2.0013771109861329E-4},115.84,21.36,-2.04,null,null,0.21479999999999999,0.16500000000000001,0.1348,0.31759999999999999,0.41839999999999999,0.49759999999999999,0.37619999999999998,0.3322,2.86E-2,0.17280000000000001,0.23219999999999999,0.27199999999999996,0.40939999999999999,5.9000000000000004E-2,5.9000000000000004E-2]
[{"$f":"Photonic!B140","v":488},{"$f":"Photonic!D140","v":2.29568629790058E-5},null,null,null,null,null,null,3338456923.4667802,57.13560094339249,3338456923.4667802,3.677307604907308E-4,{"$f":"+$L134*Photonic!BB140","v":1.5586636014160117E-5},{"$f":"+$L134*Photonic!BC140","v":7.0799938778801384E-5},{"$f":"+$L134*Photonic!BD140","v":1.9327487494480219E-4},115.06,20.94,-1.9600000000000002,null,null,0.2152,0.16799999999999998,0.13919999999999999,0.32240000000000002,0.41859999999999997,0.49440000000000001,0.37180000000000002,0.32980000000000004,2.8400000000000002E-2,0.1782,0.23880000000000001,0.26700000000000002,0.41160000000000002,0.06,0.06]
[{"$f":"Photonic!B141","v":489},{"$f":"Photonic!D141","v":2.5976414325793946E-5},null,null,null,null,null,null,3408887952.7227917,{"$f":"+P135+$H$11*Q135+$H$12*R135","v":57.995051742277468},{"$f":"IF($E$6<=$K$4,I135,J135)","v":3408887952.7227917},{"$f":"+K135/$L$4","v":3.7548873267494659E-4},{"$f":"+$L135*Photonic!BB141","v":1.3967429878042661E-5},{"$f":"+$L135*Photonic!BC141","v":7.5201381425207608E-5},{"$f":"+$L135*Photonic!BD141","v":1.8601111034744573E-4},114.28,20.52,-1.8800000000000001,null,null,0.21559999999999999,0.17099999999999999,0.14360000000000001,0.32719999999999999,0.41880000000000001,0.49119999999999997,0.3674,0.32740000000000002,2.8199999999999999E-2,0.18360000000000001,0.24540000000000001,0.26200000000000001,0.4138,6.0999999999999999E-2,6.0999999999999999E-2]
[{"$f":"Photonic!B142","v":490},{"$f":"Photonic!D142","v":2.4032319623067331E-5},null,null,null,null,null,null,3480435629.4169803,58.854502541162425,3480435629.4169803,3.8336970348429203E-4,{"$f":"+$L136*Photonic!BB142","v":1.2271664208532186E-5},{"$f":"+$L136*Photonic!BC142","v":7.9748565718802434E-5},{"$f":"+$L136*Photonic!BD142","v":1.7833591866682296E-4},113.5,20.100000000000001,-1.8,null,null,0.216,0.17399999999999999,0.14799999999999999,0.33200000000000002,0.41899999999999998,0.48799999999999999,0.36299999999999999,0.32500000000000001,2.8000000000000001E-2,0.189,0.252,0.25700000000000001,0.41599999999999998,6.2E-2,6.2E-2]
[{"$f":"Photonic!B143","v":491},{"$f":"Photonic!D143","v":2.2046861203261426E-5},null,null,null,null,null,null,3553110506.1823001,59.816968061872245,3553110506.1823001,3.9137483529043474E-4,{"$f":"+$L137*Photonic!BB143","v":1.117296879787133E-5},{"$f":"+$L137*Photonic!BC143","v":8.5372941070914279E-5},{"$f":"+$L137*Photonic!BD143","v":1.7330234256594565E-4},113.46,19.71,-1.77,null,null,0.21640000000000001,0.1772,0.15279999999999999,0.33600000000000002,0.41859999999999997,0.48419999999999996,0.35859999999999997,0.32200000000000001,2.8000000000000001E-2,0.19500000000000001,0.25979999999999998,0.25159999999999999,0.41859999999999997,6.3E-2,6.3E-2]
[{"$f":"Photonic!B144","v":492},{"$f":"Photonic!D144","v":2.7961872745599851E-5},null,null,null,null,null,null,3626923126.4489651,60.779433582582072,3626923126.4489651,3.9950528945136119E-4,{"$f":"+$L138*Photonic!BB144","v":1.0021989691176845E-5},{"$f":"+$L138*Photonic!BC144","v":9.1187881327852094E-5},{"$f":"+$L138*Photonic!BD144","v":1.6796320983345688E-4},113.42,19.32,-1.74,null,null,0.21679999999999999,0.1804,0.15759999999999999,0.34,0.41819999999999996,0.48039999999999999,0.35420000000000001,0.31900000000000001,2.8000000000000001E-2,0.20100000000000001,0.2676,0.2462,0.42119999999999996,6.4000000000000001E-2,6.4000000000000001E-2]
[{"$f":"Photonic!B145","v":493},{"$f":"Photonic!D145","v":3.3835520570859E-5},null,null,null,null,null,null,3701884022.9990773,61.741899103291885,3701884022.9990773,4.077622261521693E-4,{"$f":"+$L139*Photonic!BB145","v":8.8174503783145076E-6},{"$f":"+$L139*Photonic!BC145","v":9.7197466323440296E-5},{"$f":"+$L139*Photonic!BD145","v":1.6231056964432331E-4},113.38,18.93,-1.71,null,null,0.2172,0.18359999999999999,0.16239999999999999,0.34399999999999997,0.4178,0.47659999999999997,0.3498,0.316,2.8000000000000001E-2,0.20699999999999999,0.27539999999999998,0.24080000000000001,0.42380000000000001,6.5000000000000002E-2,6.5000000000000002E-2]
[{"$f":"Photonic!B146","v":494},{"$f":"Photonic!D146","v":3.9005985205770213E-5},null,null,null,null,null,null,{"$f":"$G$5*((A140*0.000000001)^(-5)) / (EXP($G$6/(($E$6*0.000000001*A140)))-1)","v":3778003716.5228043},62.70436462400172,3778003716.5228043,4.1614680424603131E-4,{"$f":"+$L140*Photonic!BB146","v":7.5580582587164193E-6},{"$f":"+$L140*Photonic!BC146","v":1.0340582250627085E-4},{"$f":"+$L140*Photonic!BD146","v":1.5633636683193207E-4},113.34,18.54,-1.68,null,null,0.21759999999999999,0.18679999999999999,0.16719999999999999,0.34799999999999998,0.41739999999999999,0.4728,0.34540000000000004,0.313,2.8000000000000001E-2,0.21299999999999999,0.28320000000000001,0.2354,0.4264,6.6000000000000003E-2,6.6000000000000003E-2]
[{"$f":"Photonic!B147","v":495},{"$f":"Photonic!D147","v":3.5159159517396267E-5},null,null,null,null,null,null,3855292714.1765924,63.66683014471154,3855292714.1765924,4.2466018109538114E-4,{"$f":"+$L141*Photonic!BB147","v":6.2425046621021023E-6},{"$f":"+$L141*Photonic!BC147","v":1.0981712283126557E-4},{"$f":"+$L141*Photonic!BD147","v":1.5003244198099816E-4},113.3,18.149999999999999,-1.65,null,null,0.218,0.19,0.17199999999999999,0.35199999999999998,0.41699999999999998,0.46899999999999997,0.34100000000000003,0.31,2.8000000000000001E-2,0.219,0.29099999999999998,0.23,0.42899999999999999,6.7000000000000004E-2,6.7000000000000004E-2]
[{"$f":"Photonic!B148","v":496},{"$f":"Photonic!D148","v":3.1353697546101612E-5},null,null,null,null,null,null,3933761508.1436939,64.629295665421353,3933761508.1436939,4.3330351241335671E-4,{"$f":"+$L142*Photonic!BB148","v":5.5202867481461641E-6},{"$f":"+$L142*Photonic!BC148","v":1.1763323754997808E-4},{"$f":"+$L142*Photonic!BD148","v":1.4604061582379775E-4},113.25999999999999,17.759999999999998,-1.6199999999999999,null,null,0.219,0.19339999999999999,0.1772,0.35559999999999997,0.41619999999999996,0.4652,0.33760000000000001,0.30780000000000002,2.8000000000000001E-2,0.2276,0.29780000000000001,0.2248,0.43180000000000002,6.8600000000000008E-2,6.8600000000000008E-2]
[{"$f":"Photonic!B149","v":497},{"$f":"Photonic!D149","v":3.027824090204008E-5},null,null,null,null,null,null,4013420574.1974068,65.59176118613118,4013420574.1974068,4.4207795210554065E-4,{"$f":"+$L143*Photonic!BB149","v":4.7656003236977283E-6},{"$f":"+$L143*Photonic!BC149","v":1.2570928646073154E-4},{"$f":"+$L143*Photonic!BD149","v":1.4180976547641534E-4},113.22,17.369999999999997,-1.5899999999999999,null,null,0.22,0.1968,0.18240000000000001,0.35919999999999996,0.41539999999999999,0.46139999999999998,0.3342,0.30559999999999998,2.8000000000000001E-2,0.23619999999999999,0.30459999999999998,0.21959999999999999,0.43459999999999999,7.0199999999999999E-2,7.0199999999999999E-2]
[{"$f":"Photonic!B150","v":498},{"$f":"Photonic!D150","v":2.9202784257978548E-5},null,null,null,null,null,null,4094280370.267262,66.554226706840979,4094280370.267262,4.5098465211202619E-4,{"$f":"+$L144*Photonic!BB150","v":3.9776846316280706E-6},{"$f":"+$L144*Photonic!BC150","v":1.3405067799377867E-4},{"$f":"+$L144*Photonic!BD150","v":1.3733384626115423E-4},113.17999999999999,16.98,-1.56,null,null,0.221,0.20019999999999999,0.18759999999999999,0.36280000000000001,0.41459999999999997,0.45760000000000001,0.33080000000000004,0.3034,2.8000000000000001E-2,0.24480000000000002,0.31140000000000001,0.21440000000000001,0.43740000000000001,7.1800000000000003E-2,7.1800000000000003E-2]
[{"$f":"Photonic!B151","v":499},{"$f":"Photonic!D151","v":2.5025048832970282E-5},null,null,null,null,null,null,4176351335.0086632,67.51669222755082,4176351335.0086632,4.6002476224986296E-4,{"$f":"+$L145*Photonic!BB151","v":3.1557698690340598E-6},{"$f":"+$L145*Photonic!BC151","v":1.4266287926892749E-4},{"$f":"+$L145*Photonic!BD151","v":1.3260673796614551E-4},113.14,16.59,-1.53,null,null,0.222,0.2036,0.1928,0.3664,0.4138,0.45379999999999998,0.32740000000000002,0.30119999999999997,2.8000000000000001E-2,0.25340000000000001,0.31819999999999998,0.2092,0.44019999999999998,7.3399999999999993E-2,7.3399999999999993E-2]
[{"$f":"Photonic!B152","v":500},{"$f":"Photonic!D152","v":2.0888677125041314E-5},null,null,null,null,null,null,4259643886.3761168,68.479157748260633,4259643886.3761168,4.6919943005589845E-4,{"$f":"+$L146*Photonic!BB152","v":2.2990772072739022E-6},{"$f":"+$L146*Photonic!BC152","v":1.5155141590805521E-4},{"$f":"+$L146*Photonic!BD152","v":1.2762224497520438E-4},113.1,16.2,-1.5,null,null,0.223,0.20699999999999999,0.19800000000000001,0.37,0.41299999999999998,0.45,0.32400000000000001,0.29899999999999999,2.8000000000000001E-2,0.26200000000000001,0.32500000000000001,0.20399999999999999,0.443,7.4999999999999997E-2,7.4999999999999997E-2]
[{"$f":"Photonic!B153","v":501},{"$f":"Photonic!D153","v":2.3660046169353724E-5},null,null,null,null,null,null,4344168420.2005854,68.984164262476284,4344168420.2005854,4.7850980063007359E-4,{"$f":"+$L147*Photonic!BB153","v":2.1054431227723235E-6},{"$f":"+$L147*Photonic!BC153","v":1.6262634084213682E-4},{"$f":"+$L147*Photonic!BD153","v":1.2444125875185695E-4},112.86999999999999,15.899999999999999,-1.48,null,null,0.22340000000000002,0.21059999999999998,0.2026,0.37259999999999999,0.41219999999999996,0.44619999999999999,0.32140000000000002,0.29699999999999999,2.8199999999999999E-2,0.27060000000000001,0.32940000000000003,0.19879999999999998,0.44519999999999998,7.6600000000000001E-2,7.6600000000000001E-2]
[{"$f":"Photonic!B154","v":502},{"$f":"Photonic!D154","v":2.6431415213666135E-5},null,null,null,null,null,null,4429935308.7710714,69.489170776691964,4429935308.7710714,4.8795701647918425E-4,{"$f":"+$L148*Photonic!BB154","v":1.9030323642688185E-6},{"$f":"+$L148*Photonic!BC154","v":1.7406402691845459E-4},{"$f":"+$L148*Photonic!BD154","v":1.210718949288152E-4},112.64,15.6,-1.46,null,null,0.2238,0.2142,0.2072,0.37519999999999998,0.41139999999999999,0.44240000000000002,0.31880000000000003,0.29499999999999998,2.8400000000000002E-2,0.2792,0.33379999999999999,0.19359999999999999,0.44740000000000002,7.8200000000000006E-2,7.8200000000000006E-2]
[{"$f":"Photonic!B155","v":503},{"$f":"Photonic!D155","v":2.4694139096335965E-5},null,null,null,null,null,null,4516954899.4209967,69.994177290907601,4516954899.4209967,4.9754221736117118E-4,{"$f":"+$L149*Photonic!BB155","v":1.6916435390279818E-6},{"$f":"+$L149*Photonic!BC155","v":1.8587182156178634E-4},{"$f":"+$L149*Photonic!BD155","v":1.1750952089636141E-4},112.41,15.299999999999999,-1.44,null,null,0.22420000000000001,0.21779999999999999,0.21180000000000002,0.37780000000000002,0.41059999999999997,0.43859999999999999,0.31619999999999998,0.29299999999999998,2.86E-2,0.2878,0.3382,0.18839999999999998,0.4496,7.9799999999999996E-2,7.9799999999999996E-2]
[{"$f":"Photonic!B156","v":504},{"$f":"Photonic!D156","v":2.29568629790058E-5},null,null,null,null,null,null,4605237513.1194448,70.49918380512328,4605237513.1194448,5.0726654012994536E-4,{"$f":"+$L150*Photonic!BB156","v":1.4710729663768415E-6},{"$f":"+$L150*Photonic!BC156","v":1.9805714792833586E-4},{"$f":"+$L150*Photonic!BD156","v":1.1374944895873894E-4},112.18,15,-1.42,null,null,0.22459999999999999,0.22140000000000001,0.21640000000000001,0.38040000000000002,0.4098,0.43480000000000002,0.31359999999999999,0.29099999999999998,2.8800000000000003E-2,0.2964,0.34259999999999996,0.1832,0.45180000000000003,8.14E-2,8.14E-2]
[{"$f":"Photonic!B157","v":505},{"$f":"Photonic!D157","v":4.9553733060989093E-5},null,null,null,null,null,null,4694793443.0678473,71.004190319338932,4694793443.0678473,5.1713111858081302E-4,{"$f":"+$L151*Photonic!BB157","v":1.2411146845939511E-6},{"$f":"+$L151*Photonic!BC157","v":2.1062750459796515E-4},{"$f":"+$L151*Photonic!BD157","v":1.097869364747066E-4},111.95,14.7,-1.4,null,null,0.22500000000000001,0.22500000000000001,0.221,0.38300000000000001,0.40899999999999997,0.43099999999999999,0.311,0.28899999999999998,2.9000000000000001E-2,0.30499999999999999,0.34699999999999998,0.17799999999999999,0.45400000000000001,8.3000000000000004E-2,8.3000000000000004E-2]
[{"$f":"Photonic!B158","v":506},{"$f":"Photonic!D158","v":7.1972867717964126E-5},null,null,null,null,null,null,4785632953.3020849,71.509196833554583,4785632953.3020849,5.2713708329649774E-4,{"$f":"+$L152*Photonic!BB158","v":1.9925781748607612E-6},{"$f":"+$L152*Photonic!BC158","v":2.2479233780095848E-4},{"$f":"+$L152*Photonic!BD158","v":1.0620757954257836E-4},111.72,14.399999999999999,-1.38,null,null,0.22520000000000001,0.22839999999999999,0.22500000000000001,0.38440000000000002,0.4078,0.42759999999999998,0.309,0.2878,2.92E-2,0.317,0.3488,0.17319999999999999,0.45540000000000003,8.48E-2,8.48E-2]
[{"$f":"Photonic!B159","v":507},{"$f":"Photonic!D159","v":2.7134598404014059E-5},null,null,null,null,null,null,4877766277.3006964,72.014203347770234,4877766277.3006964,5.3728556149383383E-4,{"$f":"+$L153*Photonic!BB159","v":2.7723934973081823E-6},{"$f":"+$L153*Photonic!BC159","v":2.3940370049042246E-4},{"$f":"+$L153*Photonic!BD159","v":1.0243886515441436E-4},111.49,14.1,-1.3599999999999999,null,null,0.22540000000000002,0.23180000000000001,0.22900000000000001,0.38580000000000003,0.40660000000000002,0.42419999999999997,0.307,0.28659999999999997,2.9399999999999999E-2,0.32900000000000001,0.35059999999999997,0.16839999999999999,0.45680000000000004,8.6599999999999996E-2,8.6599999999999996E-2]
[{"$f":"Photonic!B160","v":508},{"$f":"Photonic!D160","v":3.0650514355753688E-5},null,null,null,null,null,null,4971203616.5991821,72.5192098619859,4971203616.5991821,5.4757767687113276E-4,{"$f":"+$L154*Photonic!BB160","v":3.581158006737208E-6},{"$f":"+$L154*Photonic!BC160","v":2.5447029799555284E-4},{"$f":"+$L154*Photonic!BD160","v":9.8476369408504515E-5},111.26,13.799999999999999,-1.34,null,null,0.22559999999999999,0.23519999999999999,0.23299999999999998,0.38719999999999999,0.40539999999999998,0.42080000000000001,0.30499999999999999,0.28539999999999999,2.9600000000000001E-2,0.34099999999999997,0.35239999999999999,0.1636,0.4582,8.8400000000000006E-2,8.8400000000000006E-2]
[{"$f":"Photonic!B161","v":509},{"$f":"Photonic!D161","v":3.4207794024572607E-5},null,null,null,null,null,null,5065955139.4108953,73.024216376201565,5065955139.4108953,5.5801454945627422E-4,{"$f":"+$L155*Photonic!BB161","v":4.4194752316936914E-6},{"$f":"+$L155*Photonic!BC161","v":2.7000091989991287E-4},{"$f":"+$L155*Photonic!BD161","v":9.431561914909947E-5},111.03,13.5,-1.32,null,null,0.2258,0.23860000000000001,0.23699999999999999,0.3886,0.4042,0.41739999999999999,0.30299999999999999,0.28419999999999995,2.98E-2,0.35299999999999998,0.35419999999999996,0.1588,0.45960000000000001,9.0200000000000002E-2,9.0200000000000002E-2]
[{"$f":"Photonic!B162","v":510},{"$f":"Photonic!D162","v":3.6565525898092116E-5},null,null,null,null,null,null,5162030979.2546396,73.529222890417216,5162030979.2546396,5.6859729545553591E-4,{"$f":"+$L156*Photonic!BB162","v":5.2879548477364835E-6},{"$f":"+$L156*Photonic!BC162","v":2.8600443961413456E-4},{"$f":"+$L156*Photonic!BD162","v":8.9952092141065782E-5},110.8,13.2,-1.3,null,null,0.22600000000000001,0.24199999999999999,0.24099999999999999,0.39,0.40300000000000002,0.41399999999999998,0.30099999999999999,0.28299999999999997,0.03,0.36499999999999999,0.35599999999999998,0.154,0.46100000000000002,9.1999999999999998E-2,9.1999999999999998E-2]
[{"$f":"Photonic!B163","v":511},{"$f":"Photonic!D163","v":3.1850062151053084E-5},null,null,null,null,null,null,5259441233.5894241,73.983621442362335,5259441233.5894241,5.7932702710321228E-4,{"$f":"+$L157*Photonic!BB163","v":7.6818763793885942E-6},{"$f":"+$L157*Photonic!BC163","v":3.0359053528316736E-4},{"$f":"+$L157*Photonic!BD163","v":8.6261794335668306E-5},110.37,12.74,-1.29,null,null,0.22600000000000001,0.2442,0.24479999999999999,0.39080000000000004,0.40160000000000001,0.41020000000000001,0.29899999999999999,0.28159999999999996,0.03,0.37519999999999998,0.35539999999999999,0.14899999999999999,0.46200000000000002,9.3600000000000003E-2,9.3600000000000003E-2]
[{"$f":"Photonic!B164","v":512},{"$f":"Photonic!D164","v":2.7713690443124115E-5},null,null,null,null,null,null,5358195962.4566908,74.438019994307425,5358195962.4566908,5.9020485251205562E-4,{"$f":"+$L158*Photonic!BB164","v":1.0163327560257597E-5},{"$f":"+$L158*Photonic!BC164","v":3.2170886100727126E-4},{"$f":"+$L158*Photonic!BD164","v":8.2392597410682969E-5},109.94,12.28,-1.28,null,null,0.22600000000000001,0.24640000000000001,0.24859999999999999,0.3916,0.4002,0.40639999999999998,0.29699999999999999,0.2802,0.03,0.38539999999999996,0.3548,0.14399999999999999,0.46300000000000002,9.5200000000000007E-2,9.5200000000000007E-2]
[{"$f":"Photonic!B165","v":513},{"$f":"Photonic!D165","v":2.3577318735195143E-5},null,null,null,null,null,null,5458305187.1299257,74.892418546252543,5458305187.1299257,6.0123187552453105E-4,{"$f":"+$L159*Photonic!BB165","v":1.2734091123609569E-5},{"$f":"+$L159*Photonic!BC165","v":3.4036938937194748E-4},{"$f":"+$L159*Photonic!BD165","v":7.8340513380846391E-5},109.51,11.82,-1.27,null,null,0.22600000000000001,0.24859999999999999,0.25240000000000001,0.39240000000000003,0.39880000000000004,0.40260000000000001,0.29499999999999998,0.27879999999999999,0.03,0.39560000000000001,0.35419999999999996,0.13900000000000001,0.46400000000000002,9.6799999999999997E-2,9.6799999999999997E-2]
[{"$f":"Photonic!B166","v":514},{"$f":"Photonic!D166","v":3.0857332941150133E-5},null,null,null,null,null,null,5559778888.7724237,75.346817098197633,5559778888.7724237,6.1240919556496945E-4,{"$f":"+$L160*Photonic!BB166","v":1.5395967176503332E-5},{"$f":"+$L160*Photonic!BC166","v":3.5958218326792747E-4},{"$f":"+$L160*Photonic!BD166","v":7.4101512663361294E-5},109.08,11.36,-1.26,null,null,0.22600000000000001,0.25080000000000002,0.25619999999999998,0.39319999999999999,0.39740000000000003,0.39879999999999999,0.29299999999999998,0.27740000000000004,0.03,0.40579999999999999,0.35359999999999997,0.13400000000000001,0.46500000000000002,9.8400000000000001E-2,9.8400000000000001E-2]
[{"$f":"Photonic!B167","v":515},{"$f":"Photonic!D167","v":3.2015517019370246E-5},null,null,null,null,null,null,5662627007.1032658,75.801215650142751,5662627007.1032658,6.2373790749262463E-4,{"$f":"+$L161*Photonic!BB167","v":1.8150773108035378E-5},{"$f":"+$L161*Photonic!BC167","v":3.793573953370143E-4},{"$f":"+$L161*Photonic!BD167","v":6.9671524266926168E-5},108.65,10.9,-1.25,null,null,0.22600000000000001,0.253,0.26,0.39400000000000002,0.39600000000000002,0.39500000000000002,0.29099999999999998,0.27600000000000002,0.03,0.41599999999999998,0.35299999999999998,0.129,0.46600000000000003,0.1,0.1]
[{"$f":"Photonic!B168","v":516},{"$f":"Photonic!D168","v":2.9740512580009314E-5},null,null,null,null,null,null,5766859439.0715322,76.255614202087841,5766859439.0715322,6.3521910145563861E-4,{"$f":"+$L162*Photonic!BB168","v":2.2825963191706917E-5},{"$f":"+$L162*Photonic!BC168","v":3.992733184109562E-4},{"$f":"+$L162*Photonic!BD168","v":6.6704357843856601E-5},108.22,10.44,-1.24,null,null,0.2258,0.25440000000000002,0.2636,0.39419999999999999,0.39460000000000001,0.39140000000000003,0.28939999999999999,0.27480000000000004,3.0199999999999998E-2,0.42580000000000001,0.35159999999999997,0.125,0.46660000000000001,0.10160000000000001,0.10160000000000001]
[{"$f":"Photonic!B169","v":517},{"$f":"Photonic!D169","v":2.8706419653027066E-5},null,null,null,null,null,null,5872486037.539403,76.710012754032959,5872486037.539403,6.4685386274598465E-4,{"$f":"+$L163*Photonic!BB169","v":2.7664646001920273E-5},{"$f":"+$L163*Photonic!BC169","v":4.1975640861312432E-4},{"$f":"+$L163*Photonic!BD169","v":6.3598671785185202E-5},107.79,9.98,-1.23,null,null,0.22559999999999999,0.25580000000000003,0.26719999999999999,0.39440000000000003,0.39319999999999999,0.38780000000000003,0.2878,0.27360000000000001,3.04E-2,0.43559999999999999,0.35019999999999996,0.121,0.4672,0.1032,0.1032]
[{"$f":"Photonic!B170","v":518},{"$f":"Photonic!D170","v":2.7630963008965534E-5},null,null,null,null,null,null,5979516609.9742899,77.164411305978064,5979516609.9742899,6.5864327165540617E-4,{"$f":"+$L164*Photonic!BB170","v":3.267002356065146E-5},{"$f":"+$L164*Photonic!BC170","v":4.4081676885353023E-4},{"$f":"+$L164*Photonic!BD170","v":6.0351482981784868E-5},107.36,9.52,-1.22,null,null,0.22540000000000002,0.25719999999999998,0.27080000000000004,0.39460000000000001,0.39180000000000004,0.38419999999999999,0.28619999999999995,0.27240000000000003,3.0599999999999999E-2,0.44540000000000002,0.3488,0.11700000000000001,0.46779999999999999,0.1048,0.1048]
[{"$f":"Photonic!B171","v":519},{"$f":"Photonic!D171","v":3.1477788697339477E-5},null,null,null,null,null,null,6087960917.1499844,77.618809857923182,6087960917.1499844,6.7058840333234795E-4,{"$f":"+$L165*Photonic!BB171","v":3.7845327130464394E-5},{"$f":"+$L165*Photonic!BC171","v":4.624645864741204E-4},{"$f":"+$L165*Photonic!BD171","v":5.6959778979049635E-5},106.93,9.06,-1.21,null,null,0.22520000000000001,0.2586,0.27440000000000003,0.39480000000000004,0.39040000000000002,0.38059999999999999,0.28459999999999996,0.2712,3.0800000000000001E-2,0.45519999999999999,0.34739999999999999,0.113,0.46839999999999998,0.10639999999999999,0.10639999999999999]
[{"$f":"Photonic!B172","v":520},{"$f":"Photonic!D172","v":3.5283250668634139E-5},null,null,null,null,null,null,6197828671.8574362,78.073208409868286,6197828671.8574362,6.826903276399486E-4,{"$f":"+$L166*Photonic!BB172","v":4.319381702977955E-5},{"$f":"+$L166*Photonic!BC172","v":4.8471013262436349E-4},{"$f":"+$L166*Photonic!BD172","v":5.342051813782598E-5},106.5,8.6,-1.2,null,null,0.22500000000000001,0.26,0.27800000000000002,0.39500000000000002,0.38900000000000001,0.377,0.28299999999999997,0.27,3.1E-2,0.46500000000000002,0.34599999999999997,0.109,0.46899999999999997,0.108,0.108]
[{"$f":"Photonic!B173","v":521},{"$f":"Photonic!D173","v":3.2015517019370246E-5},null,null,null,null,null,null,6309129537.6251135,78.954844715239219,6309129537.6251135,6.9495010901508847E-4,{"$f":"+$L167*Photonic!BB173","v":5.040890110751846E-5},{"$f":"+$L167*Photonic!BC173","v":5.0497854721472384E-4},{"$f":"+$L167*Photonic!BD173","v":5.1461055572567307E-5},106.73,8.35,-1.18,null,null,0.22500000000000001,0.26080000000000003,0.2828,0.39440000000000003,0.38740000000000002,0.37319999999999998,0.28099999999999997,0.26840000000000003,3.1E-2,0.4738,0.34339999999999998,0.1052,0.46939999999999998,0.1106,0.1106]
[{"$f":"Photonic!B174","v":522},{"$f":"Photonic!D174","v":2.4900957681732414E-5},null,null,null,null,null,null,6421873127.4495726,79.836481020610151,6421873127.4495726,7.0736880632856175E-4,{"$f":"+$L168*Photonic!BB174","v":5.7864183095289005E-5},{"$f":"+$L168*Photonic!BC174","v":5.257730863678933E-4},{"$f":"+$L168*Photonic!BD174","v":4.9409711122050033E-5},106.96000000000001,8.1,-1.1599999999999999,null,null,0.22500000000000001,0.2616,0.28760000000000002,0.39380000000000004,0.38580000000000003,0.36940000000000001,0.27899999999999997,0.26680000000000004,3.1E-2,0.48260000000000003,0.34079999999999999,0.1014,0.4698,0.1132,0.1132]
[{"$f":"Photonic!B175","v":523},{"$f":"Photonic!D175","v":1.7745034627015292E-5},null,null,null,null,null,null,6536069002.535738,80.718117325981083,6536069002.535738,7.1994747274631884E-4,{"$f":"+$L169*Photonic!BB175","v":6.5564176448061766E-5},{"$f":"+$L169*Photonic!BC175","v":5.4710248348938269E-4},{"$f":"+$L169*Photonic!BD175","v":4.726455158579583E-5},107.19,7.85,-1.1400000000000001,null,null,0.22500000000000001,0.26240000000000002,0.29239999999999999,0.39319999999999999,0.38419999999999999,0.36559999999999998,0.27700000000000002,0.26519999999999999,3.1E-2,0.4914,0.3382,9.7599999999999992E-2,0.47019999999999995,0.1158,0.1158]
[{"$f":"Photonic!B176","v":524},{"$f":"Photonic!D176","v":2.1715951466627103E-5},null,null,null,null,null,null,6651726671.0479755,81.599753631352016,6651726671.0479755,7.3268715559189656E-4,{"$f":"+$L170*Photonic!BB176","v":7.3513433069157357E-5},{"$f":"+$L170*Photonic!BC176","v":5.6897553754644322E-4},{"$f":"+$L170*Photonic!BD176","v":4.5023625711122047E-5},107.42,7.6,-1.1200000000000001,null,null,0.22500000000000001,0.26319999999999999,0.29720000000000002,0.3926,0.3826,0.36180000000000001,0.27500000000000002,0.2636,3.1E-2,0.50019999999999998,0.33560000000000001,9.3799999999999994E-2,0.47059999999999996,0.11839999999999999,0.11839999999999999]
[{"$f":"Photonic!B177","v":525},{"$f":"Photonic!D177","v":2.568686830623892E-5},null,null,null,null,null,null,6768855586.8717327,82.481389936722962,6768855586.8717327,7.4558889621001347E-4,{"$f":"+$L171*Photonic!BB177","v":8.1716543024617475E-5},{"$f":"+$L171*Photonic!BC177","v":5.9140111247378265E-4},{"$f":"+$L171*Photonic!BD177","v":4.2684964308023271E-5},107.65,7.35,-1.1000000000000001,null,null,0.22500000000000001,0.26400000000000001,0.30199999999999999,0.39200000000000002,0.38100000000000001,0.35799999999999998,0.27300000000000002,0.26200000000000001,3.1E-2,0.50900000000000001,0.33300000000000002,0.09,0.47099999999999997,0.121,0.121]
[{"$f":"Photonic!B178","v":526},{"$f":"Photonic!D178","v":2.7217325838172637E-5},null,null,null,null,null,null,6887465148.385725,83.363026242093909,6887465148.385725,7.5865372983132599E-4,{"$f":"+$L172*Photonic!BB178","v":9.1630197489027548E-5},{"$f":"+$L172*Photonic!BC178","v":6.1220321382468687E-4},{"$f":"+$L172*Photonic!BD178","v":4.1143309076212475E-5},107.88000000000001,7.1,-1.08,null,null,0.22540000000000002,0.2646,0.30940000000000001,0.3906,0.37919999999999998,0.35459999999999997,0.27140000000000003,0.26080000000000003,3.1199999999999999E-2,0.51639999999999997,0.32919999999999999,8.6999999999999994E-2,0.47159999999999996,0.1234,0.1234]
[{"$f":"Photonic!B179","v":527},{"$f":"Photonic!D179","v":2.8747783370106357E-5},null,null,null,null,null,null,7007564697.2454824,84.244662547464827,7007564697.2454824,7.7188268543843636E-4,{"$f":"+$L173*Photonic!BB179","v":1.0185763917045606E-4},{"$f":"+$L173*Photonic!BC179","v":6.3349955759303353E-4},{"$f":"+$L173*Photonic!BD179","v":3.9531199852044085E-5},108.11,6.85,-1.06,null,null,0.2258,0.26519999999999999,0.31680000000000003,0.38919999999999999,0.37740000000000001,0.35120000000000001,0.26980000000000004,0.2596,3.1399999999999997E-2,0.52380000000000004,0.32540000000000002,8.3999999999999991E-2,0.47219999999999995,0.1258,0.1258]
[{"$f":"Photonic!B180","v":528},{"$f":"Photonic!D180","v":3.7351436522598622E-5},null,null,null,null,null,null,7129163517.1780586,85.126298852835774,7129163517.1780586,7.8527678563312974E-4,{"$f":"+$L174*Photonic!BB180","v":1.1240451909552621E-4},{"$f":"+$L174*Photonic!BC180","v":6.5529777207513407E-4},{"$f":"+$L174*Photonic!BD180","v":3.7847199960374321E-5},108.34,6.6,-1.04,null,null,0.22620000000000001,0.26580000000000004,0.32419999999999999,0.38780000000000003,0.37559999999999999,0.3478,0.26819999999999999,0.25840000000000002,3.1600000000000003E-2,0.53120000000000001,0.3216,8.1000000000000003E-2,0.4728,0.12820000000000001,0.12820000000000001]
[{"$f":"Photonic!B181","v":529},{"$f":"Photonic!D181","v":4.5955089675090883E-5},null,null,null,null,null,null,7252270832.7880526,86.007935158206692,7252270832.7880526,7.9883704650485752E-4,{"$f":"+$L175*Photonic!BB181","v":1.2327653301662963E-4},{"$f":"+$L175*Photonic!BC181","v":6.7760553632728029E-4},{"$f":"+$L175*Photonic!BD181","v":3.6089860086996456E-5},108.57,6.35,-1.02,null,null,0.2266,0.26640000000000003,0.33160000000000001,0.38640000000000002,0.37380000000000002,0.34440000000000004,0.2666,0.25719999999999998,3.1800000000000002E-2,0.53860000000000008,0.31780000000000003,7.8E-2,0.47339999999999999,0.13059999999999999,0.13059999999999999]
[{"$f":"Photonic!B182","v":530},{"$f":"Photonic!D182","v":3.2966882512193907E-5},null,null,null,null,null,null,7376895808.3754044,86.889571463577624,7376895808.3754044,8.1256447750051818E-4,{"$f":"+$L176*Photonic!BB182","v":1.3447942102633577E-4},{"$f":"+$L176*Photonic!BC182","v":7.0043057960544669E-4},{"$f":"+$L176*Photonic!BD182","v":3.4257718371421852E-5},108.8,6.1,-1,null,null,0.22700000000000001,0.26700000000000002,0.33900000000000002,0.38500000000000001,0.372,0.34100000000000003,0.26500000000000001,0.25600000000000001,3.2000000000000001E-2,0.54600000000000004,0.314,7.4999999999999997E-2,0.47399999999999998,0.13300000000000001,0.13300000000000001]
[{"$f":"Photonic!B183","v":531},{"$f":"Photonic!D183","v":3.631734359561638E-5},null,null,null,null,null,null,7503047546.7649412,87.443341410055893,7503047546.7649412,8.2646008129553107E-4,{"$f":"+$L177*Photonic!BB183","v":1.4673798743402154E-4},{"$f":"+$L177*Photonic!BC183","v":7.2114427313604151E-4},{"$f":"+$L177*Photonic!BD183","v":3.28071593871074E-5},108.45,5.91,-0.95,null,null,0.2276,0.26740000000000003,0.34520000000000001,0.38340000000000002,0.37019999999999997,0.33780000000000004,0.26400000000000001,0.255,3.2000000000000001E-2,0.55300000000000005,0.31,7.2399999999999992E-2,0.47439999999999999,0.1348,0.1348]
[{"$f":"Photonic!B184","v":532},{"$f":"Photonic!D184","v":3.9667804679038847E-5},null,null,null,null,null,null,7630735088.1481314,87.997111356534134,7630735088.1481314,8.4052485366625644E-4,{"$f":"+$L178*Photonic!BB184","v":1.5936351225512223E-4},{"$f":"+$L178*Photonic!BC184","v":7.4230111926681778E-4},{"$f":"+$L178*Photonic!BD184","v":3.129442135170206E-5},108.1,5.72,-0.9,null,null,0.22820000000000001,0.26780000000000004,0.35139999999999999,0.38180000000000003,0.36840000000000001,0.33460000000000001,0.26300000000000001,0.254,3.2000000000000001E-2,0.56000000000000005,0.30599999999999999,6.9800000000000001E-2,0.4748,0.1366,0.1366]
[{"$f":"Photonic!B185","v":533},{"$f":"Photonic!D185","v":2.9988694882485047E-5},null,null,null,null,null,null,7759967408.9367199,88.550881303012403,7759967408.9367199,8.5475978336372281E-4,{"$f":"+$L179*Photonic!BB185","v":1.7236231031529471E-4},{"$f":"+$L179*Photonic!BC185","v":7.6390736598999274E-4},{"$f":"+$L179*Photonic!BD185","v":2.9718288147989914E-5},107.75,5.53,-0.85,null,null,0.2288,0.26819999999999999,0.35760000000000003,0.38019999999999998,0.36659999999999998,0.33140000000000003,0.26200000000000001,0.253,3.2000000000000001E-2,0.56699999999999995,0.30199999999999999,6.7199999999999996E-2,0.47519999999999996,0.1384,0.1384]
[{"$f":"Photonic!B186","v":534},{"$f":"Photonic!D186","v":2.0350948803010544E-5},null,null,null,null,null,null,7890753420.6289206,89.104651249490658,7890753420.6289206,8.6916585198873898E-4,{"$f":"+$L180*Photonic!BB186","v":1.8574074256999353E-4},{"$f":"+$L180*Photonic!BC186","v":7.85969296636377E-4},{"$f":"+$L180*Photonic!BD186","v":2.8077533682644222E-5},107.39999999999999,5.34,-0.8,null,null,0.22940000000000002,0.26860000000000001,0.36380000000000001,0.37859999999999999,0.36480000000000001,0.32819999999999999,0.26100000000000001,0.252,3.2000000000000001E-2,0.57399999999999995,0.29799999999999999,6.4600000000000005E-2,0.47559999999999997,0.14019999999999999,0.14019999999999999]
[{"$f":"Photonic!B187","v":535},{"$f":"Photonic!D187","v":1.9275492158949012E-5},null,null,null,null,null,null,8023101968.6882401,89.658421195968913,8023101968.6882401,8.837440338683955E-4,{"$f":"+$L181*Photonic!BB187","v":1.9950521564579028E-4},{"$f":"+$L181*Photonic!BC187","v":8.0849322938450171E-4},{"$f":"+$L181*Photonic!BD187","v":2.6370921970632919E-5},107.05,5.15,-0.75,null,null,0.23,0.26900000000000002,0.37,0.377,0.36299999999999999,0.32500000000000001,0.26,0.251,3.2000000000000001E-2,0.58099999999999996,0.29399999999999998,6.2E-2,0.47599999999999998,0.14199999999999999,0.14199999999999999]
[{"$f":"Photonic!B188","v":536},{"$f":"Photonic!D188","v":1.8200035514887481E-5},null,null,null,null,null,null,8157021831.4347849,90.212191142447182,8157021831.4347849,8.9849529593394339E-4,{"$f":"+$L182*Photonic!BB188","v":2.1445285723351362E-4},{"$f":"+$L182*Photonic!BC188","v":8.2902363965233091E-4},{"$f":"+$L182*Photonic!BD188","v":2.5096770606026905E-5},106.7,4.96,-0.7,null,null,0.23120000000000002,0.26960000000000001,0.37440000000000001,0.375,0.36099999999999999,0.32180000000000003,0.25940000000000002,0.25080000000000002,3.2199999999999999E-2,0.58679999999999999,0.28939999999999999,5.9799999999999999E-2,0.47739999999999999,0.14359999999999998,0.14359999999999998]
[{"$f":"Photonic!B189","v":537},{"$f":"Photonic!D189","v":2.7217325838172637E-5},null,null,null,null,null,null,8292521718.9495363,90.765961088925422,8292521718.9495363,9.1342059760009925E-4,{"$f":"+$L183*Photonic!BB189","v":2.2982575656216097E-4},{"$f":"+$L183*Photonic!BC189","v":8.4994700027286841E-4},{"$f":"+$L183*Photonic!BD189","v":2.3770857631944982E-5},106.35,4.7700000000000005,-0.65,null,null,0.2324,0.2702,0.37880000000000003,0.373,0.35899999999999999,0.31859999999999999,0.25880000000000003,0.25059999999999999,3.2399999999999998E-2,0.59260000000000002,0.2848,5.7599999999999998E-2,0.4788,0.1452,0.1452]
[{"$f":"Photonic!B190","v":538},{"$f":"Photonic!D190","v":3.6234616161457799E-5},null,null,null,null,null,null,8429610271.9917774,91.319731035403692,8429610271.9917774,9.2852089064580001E-4,{"$f":"+$L184*Photonic!BB190","v":2.4563091641143994E-4},{"$f":"+$L184*Photonic!BC190","v":8.7126829252857994E-4},{"$f":"+$L184*Photonic!BD190","v":2.2392209798814113E-5},106,4.58,-0.6,null,null,0.2336,0.27080000000000004,0.38319999999999999,0.371,0.35699999999999998,0.31540000000000001,0.25819999999999999,0.25040000000000001,3.2600000000000004E-2,0.59839999999999993,0.2802,5.5399999999999998E-2,0.48019999999999996,0.14679999999999999,0.14679999999999999]
[{"$f":"Photonic!B191","v":539},{"$f":"Photonic!D191","v":4.479690559687077E-5},null,null,null,null,null,null,8568296060.9294243,91.873500981881932,8568296060.9294243,9.4379711909637969E-4,{"$f":"+$L185*Photonic!BB191","v":2.6187538663567249E-4},{"$f":"+$L185*Photonic!BC191","v":8.9299252017542151E-4},{"$f":"+$L185*Photonic!BD191","v":2.0959846420892397E-5},105.64999999999999,4.3900000000000006,-0.55000000000000004,null,null,0.23479999999999998,0.27140000000000003,0.3876,0.36899999999999999,0.35499999999999998,0.31219999999999998,0.2576,0.25019999999999998,3.2800000000000003E-2,0.60419999999999996,0.27560000000000001,5.3199999999999997E-2,0.48159999999999997,0.1484,0.1484]
[{"$f":"Photonic!B192","v":540},{"$f":"Photonic!D192","v":4.6575545431280233E-5},null,null,null,null,null,null,8708587584.6829071,92.427270928360215,8708587584.6829071,9.5925021910723716E-4,{"$f":"+$L186*Photonic!BB192","v":2.7856626362874167E-4},{"$f":"+$L186*Photonic!BC192","v":9.1512470902830418E-4},{"$f":"+$L186*Photonic!BD192","v":1.9472779447876914E-5},105.3,4.2,-0.5,null,null,0.23599999999999999,0.27200000000000002,0.39200000000000002,0.36699999999999999,0.35299999999999998,0.309,0.25700000000000001,0.25,3.3000000000000002E-2,0.61,0.27100000000000002,5.0999999999999997E-2,0.48299999999999998,0.15,0.15]
[{"$f":"Photonic!B193","v":541},{"$f":"Photonic!D193","v":4.3018265762461307E-5},null,null,null,null,null,null,8850493269.6823006,92.955559150193253,8850493269.6823006,9.7488111884896456E-4,{"$f":"+$L187*Photonic!BB193","v":2.9661732922098592E-4},{"$f":"+$L187*Photonic!BC193","v":9.3516446206705773E-4},{"$f":"+$L187*Photonic!BD193","v":1.8444750768622409E-5},105.21,3.97,-0.48,null,null,0.23779999999999998,0.27280000000000004,0.39340000000000003,0.3644,0.3508,0.30580000000000002,0.25700000000000001,0.25019999999999998,3.32E-2,0.61480000000000001,0.26640000000000003,4.8999999999999995E-2,0.4844,0.15079999999999999,0.15079999999999999]
[{"$f":"Photonic!B194","v":542},{"$f":"Photonic!D194","v":4.8850549870641162E-5},null,null,null,null,null,null,8994021468.8383427,93.48384737202629,8994021468.8383427,9.9069073839400524E-4,{"$f":"+$L188*Photonic!BB194","v":3.1515853769790097E-4},{"$f":"+$L188*Photonic!BC194","v":9.5554103099578587E-4},{"$f":"+$L188*Photonic!BD194","v":1.7376715551430853E-5},105.11999999999999,3.74,-0.46,null,null,0.23959999999999998,0.27360000000000001,0.39480000000000004,0.36180000000000001,0.34860000000000002,0.30259999999999998,0.25700000000000001,0.25040000000000001,3.3399999999999999E-2,0.61960000000000004,0.26180000000000003,4.7E-2,0.48580000000000001,0.15159999999999998,0.15159999999999998]
[{"$f":"Photonic!B195","v":543},{"$f":"Photonic!D195","v":5.4641470261741725E-5},null,null,null,null,null,null,9139180460.5268497,94.012135593859341,9139180460.5268497,1.0066799896047865E-3,{"$f":"+$L189*Photonic!BB195","v":3.3419762294899702E-4},{"$f":"+$L189*Photonic!BC195","v":9.7625812031892976E-4},{"$f":"+$L189*Photonic!BD195","v":1.6267948632013351E-5},105.03,3.51,-0.44,null,null,0.2414,0.27440000000000003,0.3962,0.35919999999999996,0.34639999999999999,0.2994,0.25700000000000001,0.25059999999999999,3.3600000000000005E-2,0.62439999999999996,0.25719999999999998,4.4999999999999998E-2,0.48719999999999997,0.15240000000000001,0.15240000000000001]
[{"$f":"Photonic!B196","v":544},{"$f":"Photonic!D196","v":4.9512369343909795E-5},null,null,null,null,null,null,9285978447.5870609,94.540423815692392,9285978447.5870609,1.0228497760233881E-3,{"$f":"+$L190*Photonic!BB196","v":3.5374236653992855E-4},{"$f":"+$L190*Photonic!BC196","v":9.973194456138442E-4},{"$f":"+$L190*Photonic!BD196","v":1.5117719689625675E-5},104.94,3.28,-0.42000000000000004,null,null,0.2432,0.2752,0.39760000000000001,0.35659999999999997,0.34420000000000001,0.29619999999999996,0.25700000000000001,0.25080000000000002,3.3800000000000004E-2,0.62919999999999998,0.25259999999999999,4.3000000000000003E-2,0.48859999999999998,0.1532,0.1532]
[{"$f":"Photonic!B197","v":545},{"$f":"Photonic!D197","v":4.4341904708998589E-5},null,null,null,null,null,null,9434423556.3342266,95.068712037525444,9434423556.3342266,1.0392009927627788E-3,{"$f":"+$L191*Photonic!BB197","v":3.7380059709677153E-4},{"$f":"+$L191*Photonic!BC197","v":1.0187287332053519E-3},{"$f":"+$L191*Photonic!BD197","v":1.3925293303021235E-5},104.85,3.05,-0.4,null,null,0.245,0.27600000000000002,0.39900000000000002,0.35399999999999998,0.34200000000000003,0.29299999999999998,0.25700000000000001,0.251,3.4000000000000002E-2,0.63400000000000001,0.248,4.1000000000000002E-2,0.49,0.154,0.154]
[{"$f":"Photonic!B198","v":546},{"$f":"Photonic!D198","v":3.6855071917647143E-5},null,null,null,null,null,null,9584523835.5858765,95.597000259358481,9584523835.5858765,1.0557345263995592E-3,{"$f":"+$L192*Photonic!BB198","v":3.9531979341031492E-4},{"$f":"+$L192*Photonic!BC198","v":1.0380298583918385E-3},{"$f":"+$L192*Photonic!BD198","v":1.3165009544202504E-5},104.75999999999999,2.82,-0.38,null,null,0.24659999999999999,0.2772,0.3992,0.35139999999999999,0.33980000000000005,0.29020000000000001,0.25740000000000002,0.25159999999999999,3.4200000000000001E-2,0.63780000000000003,0.24379999999999999,3.9800000000000002E-2,0.49319999999999997,0.1542,0.1542]
[{"$f":"Photonic!B199","v":547},{"$f":"Photonic!D199","v":4.02468967181489E-5},null,null,null,null,null,null,9736287255.7024574,96.125288481191546,9736287255.7024574,1.0724512548682887E-3,{"$f":"+$L193*Photonic!BB199","v":4.1739802839473793E-4},{"$f":"+$L193*Photonic!BC199","v":1.0576085295009115E-3},{"$f":"+$L193*Photonic!BD199","v":1.2376087481180052E-5},104.67,2.59,-0.36,null,null,0.2482,0.27839999999999998,0.39940000000000003,0.3488,0.33760000000000001,0.28739999999999999,0.25780000000000003,0.25219999999999998,3.44E-2,0.64160000000000006,0.23960000000000001,3.8600000000000002E-2,0.49640000000000001,0.15440000000000001,0.15440000000000001]
[{"$f":"Photonic!B200","v":548},{"$f":"Photonic!D200","v":4.3638721518650657E-5},null,null,null,null,null,null,9889721707.6424313,96.653576703024584,9889721707.6424313,1.0893520473574047E-3,{"$f":"+$L194*Photonic!BB200","v":4.4004375953002366E-4},{"$f":"+$L194*Photonic!BC200","v":1.0774672165207355E-3},{"$f":"+$L194*Photonic!BD200","v":1.1558025222462065E-5},104.58,2.36,-0.34,null,null,0.24979999999999999,0.27960000000000002,0.39960000000000001,0.34620000000000001,0.33540000000000003,0.28460000000000002,0.25819999999999999,0.25280000000000002,3.4600000000000006E-2,0.64539999999999997,0.2354,3.7400000000000003E-2,0.49959999999999999,0.15459999999999999,0.15459999999999999]
[{"$f":"Photonic!B201","v":549},{"$f":"Photonic!D201","v":4.4093722406522853E-5},null,null,null,null,null,null,10044835002.031473,97.181864924857635,10044835002.031473,1.1064377642066947E-3,{"$f":"+$L195*Photonic!BB201","v":4.6326549187334309E-4},{"$f":"+$L195*Photonic!BC201","v":1.0976083908483254E-3},{"$f":"+$L195*Photonic!BD201","v":1.0710317557520806E-5},104.49000000000001,2.13,-0.32,null,null,0.25140000000000001,0.28079999999999999,0.39980000000000004,0.34360000000000002,0.3332,0.28179999999999999,0.2586,0.25340000000000001,3.4800000000000005E-2,0.6492,0.23120000000000002,3.6200000000000003E-2,0.50280000000000002,0.15479999999999999,0.15479999999999999]
[{"$f":"Photonic!B202","v":550},{"$f":"Photonic!D202","v":4.4590087011474325E-5},null,null,null,null,null,null,10201634868.246408,97.710153146690672,10201634868.246408,1.1237092568063916E-3,{"$f":"+$L196*Photonic!BB202","v":4.8707177736273045E-4},{"$f":"+$L196*Photonic!BC202","v":1.1180345250595193E-3},{"$f":"+$L196*Photonic!BD202","v":9.8324559970559277E-6},104.4,1.9,-0.3,null,null,0.253,0.28199999999999997,0.4,0.34100000000000003,0.33100000000000002,0.27900000000000003,0.25900000000000001,0.254,3.5000000000000003E-2,0.65300000000000002,0.22700000000000001,3.5000000000000003E-2,0.50600000000000001,0.155,0.155]
[{"$f":"Photonic!B203","v":551},{"$f":"Photonic!D203","v":4.1074171059734696E-5},null,null,null,null,null,null,10360128953.513556,97.939137832021629,10360128953.513556,1.1411673674978566E-3,{"$f":"+$L197*Photonic!BB203","v":5.1257814645901221E-4},{"$f":"+$L197*Photonic!BC203","v":1.1365570513331652E-3},{"$f":"+$L197*Photonic!BD203","v":9.3005140451075318E-6},103.96000000000001,1.71,-0.27,null,null,0.25480000000000003,0.28339999999999999,0.39860000000000001,0.3382,0.32880000000000004,0.2762,0.25919999999999999,0.25480000000000003,3.5400000000000001E-2,0.65560000000000007,0.2228,3.3800000000000004E-2,0.51,0.15440000000000001,0.15440000000000001]
[{"$f":"Photonic!B204","v":552},{"$f":"Photonic!D204","v":3.7558255107995067E-5},null,null,null,null,null,null,10520324822.021961,98.168122517352558,10520324822.021961,1.1588129294759022E-3,{"$f":"+$L198*Photonic!BB204","v":5.3872054278405221E-4},{"$f":"+$L198*Photonic!BC204","v":1.1553017262995902E-3},{"$f":"+$L198*Photonic!BD204","v":8.7490376175430616E-6},103.52000000000001,1.52,-0.24,null,null,0.25659999999999999,0.2848,0.3972,0.33540000000000003,0.3266,0.27340000000000003,0.25940000000000002,0.25559999999999999,3.5799999999999998E-2,0.65820000000000001,0.21859999999999999,3.2600000000000004E-2,0.51400000000000001,0.15379999999999999,0.15379999999999999]
[{"$f":"Photonic!B205","v":553},{"$f":"Photonic!D205","v":4.9222823324354776E-5},null,null,null,null,null,null,10682229954.051193,{"$f":"+P199+$H$11*Q199+$H$12*R199","v":98.397107202683472},{"$f":"IF($E$6<=$K$4,I199,J199)","v":10682229954.051193},{"$f":"+K199/$L$4","v":1.1766467666927192E-3},{"$f":"+$L199*Photonic!BB205","v":5.6550820254018779E-4},{"$f":"+$L199*Photonic!BC205","v":1.1742699402239999E-3},{"$f":"+$L199*Photonic!BD205","v":8.1776950285143995E-6},103.08,1.3299999999999998,-0.21,null,null,0.25840000000000002,0.28619999999999995,0.39580000000000004,0.33260000000000001,0.32440000000000002,0.27060000000000001,0.2596,0.25640000000000002,3.6200000000000003E-2,0.66080000000000005,0.21440000000000001,3.1400000000000004E-2,0.51800000000000002,0.1532,0.1532]
[{"$f":"Photonic!B206","v":554},{"$f":"Photonic!D206","v":5.4186469373869537E-5},null,null,null,null,null,null,10845851745.114023,98.6260918880144,10845851745.114023,1.1946696937634414E-3,{"$f":"+$L200*Photonic!BB206","v":5.9295040910560884E-4},{"$f":"+$L200*Photonic!BC206","v":1.1934630773727405E-3},{"$f":"+$L200*Photonic!BD206","v":7.5861525553978525E-6},102.64,1.1399999999999999,-0.18,null,null,0.26019999999999999,0.28759999999999997,0.39440000000000003,0.32980000000000004,0.32219999999999999,0.26780000000000004,0.25980000000000003,0.25719999999999998,3.6600000000000001E-2,0.66339999999999999,0.2102,3.0200000000000001E-2,0.52200000000000002,0.15259999999999999,0.15259999999999999]
[{"$f":"Photonic!B207","v":555},{"$f":"Photonic!D207","v":4.4259177274840008E-5},null,null,null,null,null,null,11011197505.114208,98.855076573345343,11011197505.114208,1.2128825158733778E-3,{"$f":"+$L201*Photonic!BB207","v":6.2105649225296315E-4},{"$f":"+$L201*Photonic!BC207","v":1.2128825158733778E-3},{"$f":"+$L201*Photonic!BD207","v":6.9740744662719223E-6},102.2,0.95,-0.15,null,null,0.26200000000000001,0.28899999999999998,0.39300000000000002,0.32700000000000001,0.32,0.26500000000000001,0.26,0.25800000000000001,3.6999999999999998E-2,0.66600000000000004,0.20599999999999999,2.9000000000000001E-2,0.52600000000000002,0.152,0.152]
[{"$f":"Photonic!B208","v":556},{"$f":"Photonic!D208","v":3.8302802015422282E-5},null,null,null,null,null,null,11178274457.518881,99.084061258676272,11178274457.518881,1.2312860286868494E-3,{"$f":"+$L202*Photonic!BB208","v":6.5078391760214742E-4},{"$f":"+$L202*Photonic!BC208","v":1.2300547426581626E-3},{"$f":"+$L202*Photonic!BD208","v":6.6243188343352503E-6},101.76,0.76,-0.12,null,null,0.26400000000000001,0.29099999999999998,0.39040000000000002,0.32400000000000001,0.31759999999999999,0.2626,0.26,0.25919999999999999,3.78E-2,0.66839999999999999,0.2024,2.8200000000000003E-2,0.53139999999999998,0.151,0.151]
[{"$f":"Photonic!B209","v":557},{"$f":"Photonic!D209","v":3.2346426756004563E-5},null,null,null,null,null,null,11347089738.546402,99.313045944007214,11347089738.546402,1.2498810182577323E-3,{"$f":"+$L203*Photonic!BB209","v":6.8122265138101184E-4},{"$f":"+$L203*Photonic!BC209","v":1.2473812562212169E-3},{"$f":"+$L203*Photonic!BD209","v":6.2619039014712389E-6},101.32000000000001,0.56999999999999995,-0.09,null,null,0.26600000000000001,0.29299999999999998,0.38780000000000003,0.32100000000000001,0.31519999999999998,0.26019999999999999,0.26,0.26040000000000002,3.8600000000000002E-2,0.67080000000000006,0.1988,2.7400000000000001E-2,0.53680000000000005,0.15,0.15]
[{"$f":"Photonic!B210","v":558},{"$f":"Photonic!D210","v":3.9419622376563104E-5},null,null,null,null,null,null,{"$f":"$G$5*((A204*0.000000001)^(-5)) / (EXP($G$6/(($E$6*0.000000001*A204)))-1)","v":11517650396.369036},99.542030629338129,11517650396.369036,1.2686682609416324E-3,{"$f":"+$L204*Photonic!BB210","v":7.1238260188394547E-4},{"$f":"+$L204*Photonic!BC210","v":1.2648622561588076E-3},{"$f":"+$L204*Photonic!BD210","v":5.8866207307691747E-6},100.88,0.38,-0.06,null,null,0.26800000000000002,0.29499999999999998,0.38519999999999999,0.318,0.31280000000000002,0.25780000000000003,0.26,0.2616,3.9399999999999998E-2,0.67320000000000002,0.19519999999999998,2.6600000000000002E-2,0.54220000000000002,0.14899999999999999,0.14899999999999999]
[{"$f":"Photonic!B211","v":559},{"$f":"Photonic!D211","v":4.6492817997121652E-5},null,null,null,null,null,null,11689963390.330858,99.771015314669071,11689963390.330858,1.2876485233097373E-3,{"$f":"+$L205*Photonic!BB211","v":7.4427372295826134E-4},{"$f":"+$L205*Photonic!BC211","v":1.2824979292164983E-3},{"$f":"+$L205*Photonic!BD211","v":5.4982591945325774E-6},100.44,0.19,-0.03,null,null,0.27,0.29699999999999999,0.3826,0.315,0.31040000000000001,0.25540000000000002,0.26,0.26280000000000003,4.02E-2,0.67560000000000009,0.19159999999999999,2.58E-2,0.54760000000000009,0.14799999999999999,0.14799999999999999]
[{"$f":"Photonic!B212","v":560},{"$f":"Photonic!D212","v":5.1952828651587892E-5},null,null,null,null,null,null,11864035590.180981,100,11864035590.180981,1.3068225620643569E-3,{"$f":"+$L206*Photonic!BB212","v":7.7690601314726025E-4},{"$f":"+$L206*Photonic!BC212","v":1.3002884492540352E-3},{"$f":"+$L206*Photonic!BD212","v":5.0966079920509912E-6},100,0,0,null,null,0.27200000000000002,0.29899999999999999,0.38,0.312,0.308,0.253,0.26,0.26400000000000001,4.1000000000000002E-2,0.67800000000000005,0.188,2.5000000000000001E-2,0.55300000000000005,0.14699999999999999,0.14699999999999999]
[{"$f":"Photonic!B213","v":561},{"$f":"Photonic!D213","v":5.7330111871895558E-5},null,null,null,null,null,null,12039873775.321835,100.10156992945043,12039873775.321835,1.3261911239561214E-3,{"$f":"+$L207*Photonic!BB213","v":8.1067411025189794E-4},{"$f":"+$L207*Photonic!BC213","v":1.3152102614497649E-3},{"$f":"+$L207*Photonic!BD213","v":4.8671214249189648E-6},99.6,-0.16,0.02,null,null,0.2742,0.30099999999999999,0.377,0.30880000000000002,0.30559999999999998,0.25059999999999999,0.2596,0.26500000000000001,4.1599999999999998E-2,0.67980000000000007,0.18440000000000001,2.4400000000000002E-2,0.55880000000000007,0.14560000000000001,0.14560000000000001]
[{"$f":"Photonic!B214","v":562},{"$f":"Photonic!D214","v":4.6575545431280233E-5},null,null,null,null,null,null,12217484634.073128,100.20313985890087,12217484634.073128,1.3457549457029064E-3,{"$f":"+$L208*Photonic!BB214","v":8.4521485119816745E-4},{"$f":"+$L208*Photonic!BC214","v":1.3301980185305808E-3},{"$f":"+$L208*Photonic!BD214","v":4.6293970132179976E-6},99.2,-0.32,0.04,null,null,0.27639999999999998,0.30299999999999999,0.374,0.30559999999999998,0.30319999999999997,0.2482,0.25919999999999999,0.26600000000000001,4.2200000000000001E-2,0.68160000000000009,0.18080000000000002,2.3800000000000002E-2,0.56459999999999999,0.14419999999999999,0.14419999999999999]
[{"$f":"Photonic!B215","v":563},{"$f":"Photonic!D215","v":3.9957350698593874E-5},null,null,null,null,null,null,12396874762.950602,100.30470978835132,12396874762.950602,1.3655147539103883E-3,{"$f":"+$L209*Photonic!BB215","v":8.8053853391157472E-4},{"$f":"+$L209*Photonic!BC215","v":1.3452505149623582E-3},{"$f":"+$L209*Photonic!BD215","v":4.3833023600523459E-6},98.8,-0.48000000000000004,6.0000000000000005E-2,null,null,0.27860000000000001,0.30499999999999999,0.371,0.3024,0.30080000000000001,0.24579999999999999,0.25880000000000003,0.26700000000000002,4.2799999999999998E-2,0.68340000000000001,0.1772,2.3199999999999998E-2,0.57040000000000002,0.14280000000000001,0.14280000000000001]
[{"$f":"Photonic!B216","v":564},{"$f":"Photonic!D216","v":3.3339155965907514E-5},null,null,null,null,null,null,12578050665.960617,100.40627971780175,12578050665.960617,1.3854712649943423E-3,{"$f":"+$L210*Photonic!BB216","v":9.1665549834555671E-4},{"$f":"+$L210*Photonic!BC216","v":1.3603665256726447E-3},{"$f":"+$L210*Photonic!BD216","v":4.1287043696831397E-6},98.4,-0.64,0.08,null,null,0.28079999999999999,0.307,0.36799999999999999,0.29919999999999997,0.2984,0.24340000000000001,0.25840000000000002,0.26800000000000002,4.3400000000000001E-2,0.68520000000000003,0.1736,2.2599999999999999E-2,0.57619999999999993,0.1414,0.1414]
[{"$f":"Photonic!B217","v":565},{"$f":"Photonic!D217","v":3.6110525010219928E-5},null,null,null,null,null,null,12761018753.910137,100.50784964725219,12761018753.910137,1.4056251851046378E-3,{"$f":"+$L211*Photonic!BB217","v":9.5357612557498621E-4},{"$f":"+$L211*Photonic!BC217","v":1.3755448061433986E-3},{"$f":"+$L211*Photonic!BD217","v":3.865469259037754E-6},98,-0.8,0.1,null,null,0.28299999999999997,0.309,0.36499999999999999,0.29599999999999999,0.29599999999999999,0.24099999999999999,0.25800000000000001,0.26900000000000002,4.3999999999999997E-2,0.68700000000000006,0.17,2.1999999999999999E-2,0.58199999999999996,0.14000000000000001,0.14000000000000001]
[{"$f":"Photonic!B218","v":566},{"$f":"Photonic!D218","v":3.8881894054532342E-5},null,null,null,null,null,null,12945785343.731749,100.60941957670261,12945785343.731749,1.4259772100508887E-3,{"$f":"+$L212*Photonic!BB218","v":9.9125379779477479E-4},{"$f":"+$L212*Photonic!BC218","v":1.3878750989983291E-3},{"$f":"+$L212*Photonic!BD218","v":3.7360602903333285E-6},97.6,-0.96000000000000008,0.12000000000000001,null,null,0.28599999999999998,0.31159999999999999,0.36180000000000001,0.2928,0.29359999999999997,0.23960000000000001,0.2576,0.26960000000000001,4.48E-2,0.68820000000000003,0.1666,2.1399999999999999E-2,0.58919999999999995,0.1386,0.1386]
[{"$f":"Photonic!B219","v":567},{"$f":"Photonic!D219","v":3.9047348922849497E-5},null,null,null,null,null,null,13132356657.824615,100.71098950615306,13132356657.824615,1.4465280252298606E-3,{"$f":"+$L213*Photonic!BB219","v":1.0297543706006332E-3},{"$f":"+$L213*Photonic!BC219","v":1.4001812673014959E-3},{"$f":"+$L213*Photonic!BD219","v":3.6018547828223528E-6},97.2,-1.1200000000000001,0.14000000000000001,null,null,0.28899999999999998,0.31419999999999998,0.35859999999999997,0.28960000000000002,0.29119999999999996,0.2382,0.25719999999999998,0.2702,4.5600000000000002E-2,0.68940000000000001,0.16320000000000001,2.0799999999999999E-2,0.59639999999999993,0.13720000000000002,0.13720000000000002]
[{"$f":"Photonic!B220","v":568},{"$f":"Photonic!D220","v":4.3555994084492077E-5},null,null,null,null,null,null,13320738823.410728,100.81255943560348,13320738823.410728,1.4672783055545608E-3,{"$f":"+$L214*Photonic!BB220","v":1.0690883189931643E-3},{"$f":"+$L214*Photonic!BC220","v":1.4124607880590424E-3},{"$f":"+$L214*Photonic!BD220","v":3.462776801108763E-6},96.8,-1.28,0.16,null,null,0.29199999999999998,0.31680000000000003,0.35539999999999999,0.28639999999999999,0.2888,0.23680000000000001,0.25680000000000003,0.27080000000000004,4.6399999999999997E-2,0.69059999999999999,0.1598,2.0199999999999999E-2,0.60360000000000003,0.1358,0.1358]
[{"$f":"Photonic!B221","v":569},{"$f":"Photonic!D221","v":4.8064639246134663E-5},null,null,null,null,null,null,13510937871.906437,100.91412936505394,13510937871.906437,1.4882287153850132E-3,{"$f":"+$L215*Photonic!BB221","v":1.1092661552993734E-3},{"$f":"+$L215*Photonic!BC221","v":1.4247111138123809E-3},{"$f":"+$L215*Photonic!BD221","v":3.3187500353085792E-6},96.4,-1.4400000000000002,0.18000000000000002,null,null,0.29499999999999998,0.31940000000000002,0.35219999999999996,0.28320000000000001,0.28639999999999999,0.2354,0.25640000000000002,0.27140000000000003,4.7199999999999999E-2,0.69179999999999997,0.15640000000000001,1.9599999999999999E-2,0.61080000000000001,0.13440000000000002,0.13440000000000002]
[{"$f":"Photonic!B222","v":570},{"$f":"Photonic!D222","v":5.1125554310002097E-5},null,null,null,null,null,null,13702959738.309875,101.01569929450437,13702959738.309875,1.5093799084607829E-3,{"$f":"+$L216*Photonic!BB222","v":1.1502984282379626E-3},{"$f":"+$L216*Photonic!BC222","v":1.4369296728546652E-3},{"$f":"+$L216*Photonic!BD222","v":3.169697807767644E-6},96,-1.6,0.2,null,null,0.29799999999999999,0.32200000000000001,0.34899999999999998,0.28000000000000003,0.28399999999999997,0.23400000000000001,0.25600000000000001,0.27200000000000002,4.8000000000000001E-2,0.69299999999999995,0.153,1.9E-2,0.61799999999999999,0.13300000000000001,0.13300000000000001]
[{"$f":"Photonic!B223","v":571},{"$f":"Photonic!D223","v":5.4186469373869537E-5},null,null,null,null,null,null,13896810260.603586,101.5946839798353,13896810260.603586,1.5307325278351755E-3,{"$f":"+$L217*Photonic!BB223","v":1.1911854385107767E-3},{"$f":"+$L217*Photonic!BC223","v":1.4460524043953336E-3},{"$f":"+$L217*Photonic!BD223","v":3.1226943567837575E-6},95.91,-1.79,0.23,null,null,0.30199999999999999,0.32340000000000002,0.34559999999999996,0.27660000000000001,0.28139999999999998,0.2326,0.25559999999999999,0.27240000000000003,4.8800000000000003E-2,0.69399999999999995,0.15,1.8599999999999998E-2,0.62460000000000004,0.13140000000000002,0.13140000000000002]
[{"$f":"Photonic!B224","v":572},{"$f":"Photonic!D224","v":6.0308299501604425E-5},null,null,null,null,null,null,14092495179.172916,102.17366866516622,14092495179.172916,1.5522872058111733E-3,{"$f":"+$L218*Photonic!BB224","v":1.2329196360875824E-3},{"$f":"+$L218*Photonic!BC224","v":1.4550519352391612E-3},{"$f":"+$L218*Photonic!BD224","v":3.0735286675061232E-6},95.82,-1.98,0.26,null,null,0.30599999999999999,0.32480000000000003,0.3422,0.2732,0.27879999999999999,0.23120000000000002,0.25519999999999998,0.27280000000000004,4.9599999999999998E-2,0.69499999999999995,0.14699999999999999,1.8200000000000001E-2,0.63119999999999998,0.1298,0.1298]
[{"$f":"Photonic!B225","v":573},{"$f":"Photonic!D225","v":6.6471493346418589E-5},null,null,null,null,null,null,14290020136.239658,102.75265335049716,14290020136.239658,1.5740445638790508E-3,{"$f":"+$L219*Photonic!BB225","v":1.2755112718937501E-3},{"$f":"+$L219*Photonic!BC225","v":1.4639244061900724E-3},{"$f":"+$L219*Photonic!BD225","v":3.0221655626477772E-6},95.73,-2.17,0.28999999999999998,null,null,0.31,0.32619999999999999,0.33879999999999999,0.26980000000000004,0.2762,0.2298,0.25480000000000003,0.2732,5.04E-2,0.69599999999999995,0.14400000000000002,1.78E-2,0.63780000000000003,0.12820000000000001,0.12820000000000001]
[{"$f":"Photonic!B226","v":574},{"$f":"Photonic!D226","v":5.6130564076596155E-5},null,null,null,null,null,null,14489390675.311394,103.33163803582809,14489390675.311394,1.5960052126557209E-3,{"$f":"+$L220*Photonic!BB226","v":1.3189706278429409E-3},{"$f":"+$L220*Photonic!BC226","v":1.4726659298216868E-3},{"$f":"+$L220*Photonic!BD226","v":2.9685696955396406E-6},95.64,-2.36,0.32,null,null,0.314,0.3276,0.33540000000000003,0.26640000000000003,0.27360000000000001,0.22840000000000002,0.25440000000000002,0.27360000000000001,5.1199999999999996E-2,0.69699999999999995,0.14100000000000001,1.7400000000000002E-2,0.64439999999999997,0.12659999999999999,0.12659999999999999]
[{"$f":"Photonic!B227","v":575},{"$f":"Photonic!D227","v":5.7867840193926328E-5},null,null,null,null,null,null,14690612240.6464,103.91062272115902,14690612240.6464,1.6181697518257928E-3,{"$f":"+$L221*Photonic!BB227","v":1.3633080159132305E-3},{"$f":"+$L221*Photonic!BC227","v":1.4812725908213307E-3},{"$f":"+$L221*Photonic!BD227","v":2.9127055532864269E-6},95.55,-2.5499999999999998,0.35,null,null,0.318,0.32900000000000001,0.33200000000000002,0.26300000000000001,0.27100000000000002,0.22700000000000001,0.254,0.27400000000000002,5.1999999999999998E-2,0.69799999999999995,0.13800000000000001,1.7000000000000001E-2,0.65100000000000002,0.125,0.125]
[{"$f":"Photonic!B228","v":576},{"$f":"Photonic!D228","v":5.956375259417721E-5},null,null,null,null,null,null,14893690176.733725,104.48960740648994,14893690176.733725,1.6405387700843034E-3,{"$f":"+$L222*Photonic!BB228","v":1.40636826604247E-3},{"$f":"+$L222*Photonic!BC228","v":1.4868530981028058E-3},{"$f":"+$L222*Photonic!BD228","v":2.9037536230492169E-6},95.46,-2.7399999999999998,0.38,null,null,0.3226,0.33019999999999999,0.3286,0.25980000000000003,0.26880000000000004,0.2266,0.254,0.27480000000000004,5.3599999999999995E-2,0.6986,0.13540000000000002,1.7000000000000001E-2,0.65680000000000005,0.1236,0.1236]
[{"$f":"Photonic!B229","v":577},{"$f":"Photonic!D229","v":5.1291009178319258E-5},null,null,null,null,null,null,15098629727.789055,105.06859209182088,15098629727.789055,1.6631128450811873E-3,{"$f":"+$L223*Photonic!BB229","v":1.4502676631676971E-3},{"$f":"+$L223*Photonic!BC229","v":1.4922113691206447E-3},{"$f":"+$L223*Photonic!BD229","v":2.893816350441266E-6},95.36999999999999,-2.9299999999999997,0.41,null,null,0.32719999999999999,0.33140000000000003,0.32519999999999999,0.25659999999999999,0.2666,0.22620000000000001,0.254,0.27560000000000001,5.5199999999999999E-2,0.69919999999999993,0.1328,1.7000000000000001E-2,0.66260000000000008,0.1222,0.1222]
[{"$f":"Photonic!B230","v":578},{"$f":"Photonic!D230","v":4.3018265762461307E-5},null,null,null,null,null,null,15305436037.266144,105.64757677715183,15305436037.266144,1.68589254336746E-3,{"$f":"+$L224*Photonic!BB230","v":1.4950157896073961E-3},{"$f":"+$L224*Photonic!BC230","v":1.4973423213172432E-3},{"$f":"+$L224*Photonic!BD230","v":2.8828762491583563E-6},95.28,-3.12,0.44,null,null,0.33180000000000004,0.33260000000000001,0.32180000000000003,0.25340000000000001,0.26440000000000002,0.2258,0.254,0.27640000000000003,5.6799999999999996E-2,0.69979999999999998,0.13020000000000001,1.7000000000000001E-2,0.66839999999999999,0.12079999999999999,0.12079999999999999]
[{"$f":"Photonic!B231","v":579},{"$f":"Photonic!D231","v":3.8095983430025836E-5},null,null,null,null,null,null,15514114147.383127,106.22656146248275,15514114147.383127,1.7088784203430419E-3,{"$f":"+$L225*Photonic!BB231","v":1.5406222510760659E-3},{"$f":"+$L225*Photonic!BC231","v":1.5022408417551612E-3},{"$f":"+$L225*Photonic!BD231","v":2.8709157461763104E-6},95.19,-3.31,0.47,null,null,0.33640000000000003,0.33380000000000004,0.31840000000000002,0.25019999999999998,0.26219999999999999,0.22540000000000002,0.254,0.2772,5.8400000000000001E-2,0.70039999999999991,0.12759999999999999,1.7000000000000001E-2,0.67420000000000002,0.11939999999999999,0.11939999999999999]
[{"$f":"Photonic!B232","v":580},{"$f":"Photonic!D232","v":3.3132337380511068E-5},null,null,null,null,null,null,15724668998.664894,106.80554614781367,15724668998.664894,1.7320710202063502E-3,{"$f":"+$L226*Photonic!BB232","v":1.5870966758150787E-3},{"$f":"+$L226*Photonic!BC232","v":1.5069017875795248E-3},{"$f":"+$L226*Photonic!BD232","v":2.857917183340478E-6},95.1,-3.5,0.5,null,null,0.34100000000000003,0.33500000000000002,0.315,0.247,0.26,0.22500000000000001,0.254,0.27800000000000002,0.06,0.70099999999999996,0.125,1.7000000000000001E-2,0.68,0.11799999999999999,0.11799999999999999]
[{"$f":"Photonic!B233","v":581},{"$f":"Photonic!D233","v":5.6709656115706215E-5},null,null,null,null,null,null,15937105429.500343,108.08382823699229,15937105429.500343,1.7554708759055318E-3,{"$f":"+$L227*Photonic!BB233","v":1.6304111307060218E-3},{"$f":"+$L227*Photonic!BC233","v":1.5084059048305872E-3},{"$f":"+$L227*Photonic!BD233","v":2.8087534014488512E-6},94.5,-3.5,0.66,null,null,0.34620000000000001,0.33580000000000004,0.31180000000000002,0.24340000000000001,0.25740000000000002,0.22440000000000002,0.255,0.2792,6.3199999999999992E-2,0.7016,0.12280000000000001,1.7000000000000001E-2,0.68420000000000003,0.1168,0.1168]
[{"$f":"Photonic!B234","v":582},{"$f":"Photonic!D234","v":6.2500576506806772E-5},null,null,null,null,null,null,16151428175.715544,109.36211032617088,16151428175.715544,1.7790785090914456E-3,{"$f":"+$L228*Photonic!BB234","v":1.6745042743270505E-3},{"$f":"+$L228*Photonic!BC234","v":1.5095836965342735E-3},{"$f":"+$L228*Photonic!BD234","v":2.7575716890917406E-6},93.899999999999991,-3.5,0.82000000000000006,null,null,0.35139999999999999,0.33660000000000001,0.30859999999999999,0.23980000000000001,0.25480000000000003,0.2238,0.25600000000000001,0.28039999999999998,6.6400000000000001E-2,0.70219999999999994,0.1206,1.7000000000000001E-2,0.68840000000000001,0.11559999999999999,0.11559999999999999]
[{"$f":"Photonic!B235","v":583},{"$f":"Photonic!D235","v":6.8250133180828052E-5},null,null,null,null,null,null,16367641870.161461,110.64039241534948,16367641870.161461,1.802894430072251E-3,{"$f":"+$L229*Photonic!BB235","v":1.7193843600713044E-3},{"$f":"+$L229*Photonic!BC235","v":1.5104288956259305E-3},{"$f":"+$L229*Photonic!BD235","v":2.7043416451083765E-6},93.3,-3.5,0.98,null,null,0.35660000000000003,0.33740000000000003,0.3054,0.23619999999999999,0.25219999999999998,0.22320000000000001,0.25700000000000001,0.28160000000000002,6.9599999999999995E-2,0.70279999999999998,0.11840000000000001,1.7000000000000001E-2,0.69259999999999999,0.1144,0.1144]
[{"$f":"Photonic!B236","v":584},{"$f":"Photonic!D236","v":7.5116510215990134E-5},null,null,null,null,null,null,16585751042.31768,111.91867450452808,16585751042.31768,1.8269191377697587E-3,{"$f":"+$L230*Photonic!BB236","v":1.7650596557648747E-3},{"$f":"+$L230*Photonic!BC236","v":1.5109352037011013E-3},{"$f":"+$L230*Photonic!BD236","v":2.6490327497661498E-6},92.699999999999989,-3.5,1.1400000000000001,null,null,0.36180000000000001,0.3382,0.30219999999999997,0.2326,0.24959999999999999,0.22259999999999999,0.25800000000000001,0.2828,7.2800000000000004E-2,0.70339999999999991,0.1162,1.7000000000000001E-2,0.69679999999999997,0.1132,0.1132]
[{"$f":"Photonic!B237","v":585},{"$f":"Photonic!D237","v":8.198288725115223E-5},null,null,null,null,null,null,16805760117.911154,113.19695659370669,16805760117.911154,1.851153119677435E-3,{"$f":"+$L231*Photonic!BB237","v":1.8115384429163378E-3},{"$f":"+$L231*Photonic!BC237","v":1.5110962915926903E-3},{"$f":"+$L231*Photonic!BD237","v":2.591614367548409E-6},92.1,-3.5,1.3,null,null,0.36699999999999999,0.33900000000000002,0.29899999999999999,0.22900000000000001,0.247,0.222,0.25900000000000001,0.28399999999999997,7.5999999999999998E-2,0.70399999999999996,0.114,1.7000000000000001E-2,0.70099999999999996,0.112,0.112]
[{"$f":"Photonic!B238","v":586},{"$f":"Photonic!D238","v":9.2365180238053961E-5},null,null,null,null,null,null,17027673418.549736,114.4752386828853,17027673418.549736,1.8755968518200362E-3,{"$f":"+$L232*Photonic!BB238","v":1.8533522731574506E-3},{"$f":"+$L232*Photonic!BC238","v":1.5088051314781099E-3},{"$f":"+$L232*Photonic!BD238","v":2.5132997814388487E-6},91.5,-3.5,1.46,null,null,0.37159999999999999,0.33940000000000003,0.29619999999999996,0.22600000000000001,0.24399999999999999,0.2218,0.26119999999999999,0.28619999999999995,8.1199999999999994E-2,0.70419999999999994,0.1124,1.6800000000000002E-2,0.70419999999999994,0.1108,0.1108]
[{"$f":"Photonic!B239","v":587},{"$f":"Photonic!D239","v":1.0456747677644442E-4},null,null,null,null,null,null,17251495161.371498,115.75352077206389,17251495161.371498,1.9002507987149798E-3,{"$f":"+$L233*Photonic!BB239","v":1.8958422168619611E-3},{"$f":"+$L233*Photonic!BC239","v":1.5061007780455189E-3},{"$f":"+$L233*Photonic!BD239","v":2.4323210223551743E-6},90.899999999999991,-3.5,1.62,null,null,0.37619999999999998,0.33980000000000005,0.29339999999999999,0.223,0.24099999999999999,0.22159999999999999,0.26340000000000002,0.28839999999999999,8.6399999999999991E-2,0.70439999999999992,0.1108,1.66E-2,0.70739999999999992,0.1096,0.1096]
[{"$f":"Photonic!B240","v":588},{"$f":"Photonic!D240","v":1.1681113703191419E-4},null,null,null,null,null,null,17477229458.708954,117.0318028612425,17477229458.708954,1.9251154133353605E-3,{"$f":"+$L234*Photonic!BB240","v":1.939014746619642E-3},{"$f":"+$L234*Photonic!BC240","v":1.5029761054991826E-3},{"$f":"+$L234*Photonic!BD240","v":2.3486408042691397E-6},90.3,-3.5,1.78,null,null,0.38080000000000003,0.3402,0.29059999999999997,0.22,0.23800000000000002,0.22140000000000001,0.2656,0.29059999999999997,9.1600000000000001E-2,0.7046,0.10920000000000001,1.6400000000000001E-2,0.71060000000000001,0.1084,0.1084]
[{"$f":"Photonic!B241","v":589},{"$f":"Photonic!D241","v":1.4142254869409159E-4},null,null,null,null,null,null,17704880317.767876,118.3100849504211,17704880317.767876,1.9501911370745704E-3,{"$f":"+$L235*Photonic!BB241","v":1.9828763405319405E-3},{"$f":"+$L235*Photonic!BC241","v":1.4994239576511543E-3},{"$f":"+$L235*Photonic!BD241","v":2.2622217190065016E-6},89.699999999999989,-3.5,1.9400000000000002,null,null,0.38540000000000002,0.34060000000000001,0.2878,0.217,0.23500000000000001,0.22120000000000001,0.26780000000000004,0.2928,9.6799999999999997E-2,0.70479999999999998,0.1076,1.6199999999999999E-2,0.71379999999999999,0.1072,0.1072]
[{"$f":"Photonic!B242","v":590},{"$f":"Photonic!D242","v":1.6603396035626896E-4},null,null,null,null,null,null,17934451640.321785,119.5883670395997,17934451640.321785,1.9754783997126477E-3,{"$f":"+$L236*Photonic!BB242","v":2.0274334816250904E-3},{"$f":"+$L236*Photonic!BC242","v":1.4954371485824743E-3},{"$f":"+$L236*Photonic!BD242","v":2.1730262396839124E-6},89.1,-3.5,2.1,null,null,0.39,0.34100000000000003,0.28499999999999998,0.214,0.23200000000000001,0.221,0.27,0.29499999999999998,0.10199999999999999,0.70499999999999996,0.106,1.6E-2,0.71699999999999997,0.106,0.106]
[{"$f":"Photonic!B243","v":591},{"$f":"Photonic!D243","v":2.1624951289052669E-4},null,null,null,null,null,null,18165947222.421036,121.40318893659571,18165947222.421036,2.0009776193842324E-3,{"$f":"+$L237*Photonic!BB243","v":2.0657692746998942E-3},{"$f":"+$L237*Photonic!BC243","v":1.4898879158411118E-3},{"$f":"+$L237*Photonic!BD243","v":2.1610558289349709E-6},89.24,-3.73,2.21,null,null,0.39379999999999998,0.34100000000000003,0.28239999999999998,0.21079999999999999,0.2296,0.2208,0.27279999999999999,0.29919999999999997,0.10879999999999999,0.70499999999999996,0.1048,1.6E-2,0.71939999999999993,0.105,0.105]
[{"$f":"Photonic!B244","v":592},{"$f":"Photonic!D244","v":2.6650642914186371E-4},null,null,null,null,null,null,18399370754.116745,123.21801083359173,18399370754.116745,2.0266892025481566E-3,{"$f":"+$L238*Photonic!BB244","v":2.1046356692781586E-3},{"$f":"+$L238*Photonic!BC244","v":1.4838607665376585E-3},{"$f":"+$L238*Photonic!BD244","v":2.1482905547010461E-6},89.38,-3.96,2.3199999999999998,null,null,0.39760000000000001,0.34100000000000003,0.27979999999999999,0.20760000000000001,0.22720000000000001,0.22059999999999999,0.27560000000000001,0.3034,0.11559999999999999,0.70499999999999996,0.1036,1.6E-2,0.7218,0.104,0.104]
[{"$f":"Photonic!B245","v":593},{"$f":"Photonic!D245","v":4.1181716724140847E-4},null,null,null,null,null,null,18634725819.199684,125.03283273058774,18634725819.199684,2.052613543958685E-3,{"$f":"+$L239*Photonic!BB245","v":2.144036951206605E-3},{"$f":"+$L239*Photonic!BC245","v":1.4773480721288238E-3},{"$f":"+$L239*Photonic!BD245","v":2.1347180857170328E-6},89.52,-4.1900000000000004,2.4300000000000002,null,null,0.40139999999999998,0.34100000000000003,0.2772,0.2044,0.2248,0.22040000000000001,0.27839999999999998,0.30759999999999998,0.12240000000000001,0.70499999999999996,0.1024,1.6E-2,0.72419999999999995,0.10300000000000001,0.10300000000000001]
[{"$f":"Photonic!B246","v":594},{"$f":"Photonic!D246","v":5.2457465999955228E-4},null,null,null,null,null,null,18872015894.953705,126.84765462758375,18872015894.953705,2.0787510266383523E-3,{"$f":"+$L240*Photonic!BB246","v":2.1839774036067853E-3},{"$f":"+$L240*Photonic!BC246","v":1.4703421761618392E-3},{"$f":"+$L240*Photonic!BD246","v":2.1203260471711197E-6},89.66,-4.42,2.54,null,null,0.4052,0.34100000000000003,0.27460000000000001,0.20120000000000002,0.22240000000000001,0.22020000000000001,0.28120000000000001,0.31180000000000002,0.12920000000000001,0.70499999999999996,0.1012,1.6E-2,0.72660000000000002,0.10200000000000001,0.10200000000000001]
[{"$f":"Photonic!B247","v":595},{"$f":"Photonic!D247","v":6.372907890406168E-4},null,null,null,null,null,null,19111244351.924244,128.66247652457974,19111244351.924244,2.1051020218524671E-3,{"$f":"+$L241*Photonic!BB247","v":2.2244613064915019E-3},{"$f":"+$L241*Photonic!BC247","v":1.4628353949852793E-3},{"$f":"+$L241*Photonic!BD247","v":2.1051020218524671E-6},89.8,-4.6500000000000004,2.65,null,null,0.40899999999999997,0.34100000000000003,0.27200000000000002,0.19800000000000001,0.22,0.22,0.28399999999999997,0.316,0.13600000000000001,0.70499999999999996,0.1,1.6E-2,0.72899999999999998,0.10100000000000001,0.10100000000000001]
[{"$f":"Photonic!B248","v":596},{"$f":"Photonic!D248","v":7.8173288908149651E-4},null,null,null,null,null,null,19352414453.700912,130.47729842157577,19352414453.700912,2.1316668890851605E-3,{"$f":"+$L242*Photonic!BB248","v":2.2548772352742829E-3},{"$f":"+$L242*Photonic!BC248","v":1.4540526183827696E-3},{"$f":"+$L242*Photonic!BD248","v":2.0464002135217539E-6},89.94,-4.88,2.76,null,null,0.41199999999999998,0.3412,0.27040000000000003,0.19540000000000002,0.218,0.22,0.28759999999999997,0.32240000000000002,0.14680000000000001,0.70519999999999994,9.920000000000001E-2,1.6E-2,0.73039999999999994,0.1004,0.1004]
[{"$f":"Photonic!B249","v":597},{"$f":"Photonic!D249","v":9.2621635283945546E-4},null,null,null,null,null,null,19595529356.715019,132.29212031857179,19595529356.715019,2.1584459760170868E-3,{"$f":"+$L243*Photonic!BB249","v":2.2855784440044932E-3},{"$f":"+$L243*Photonic!BC249","v":1.4447342295872767E-3},{"$f":"+$L243*Photonic!BD249","v":1.9857702979357197E-6},90.08,-5.1100000000000003,2.87,null,null,0.41499999999999998,0.34140000000000004,0.26880000000000004,0.1928,0.216,0.22,0.29119999999999996,0.32879999999999998,0.15760000000000002,0.70539999999999992,9.8400000000000001E-2,1.6E-2,0.73180000000000001,9.98E-2,9.98E-2]
[{"$f":"Photonic!B250","v":598},{"$f":"Photonic!D250","v":1.3381162475150225E-3},null,null,null,null,null,null,19840592110.051605,134.10694221556778,19840592110.051605,2.1854396185047166E-3,{"$f":"+$L244*Photonic!BB250","v":2.3165659956149998E-3},{"$f":"+$L244*Photonic!BC250","v":1.4348722359254567E-3},{"$f":"+$L244*Photonic!BD250","v":1.9231868642841506E-6},90.22,-5.34,2.98,null,null,0.41799999999999998,0.34160000000000001,0.26719999999999999,0.19020000000000001,0.214,0.22,0.29480000000000001,0.3352,0.16839999999999999,0.7056,9.7600000000000006E-2,1.6E-2,0.73319999999999996,9.920000000000001E-2,9.920000000000001E-2]
[{"$f":"Photonic!B251","v":599},{"$f":"Photonic!D251","v":1.5949022031432533E-3},null,null,null,null,null,null,20087605655.275238,135.92176411256384,20087605655.275238,2.2126481405611497E-3,{"$f":"+$L245*Photonic!BB251","v":2.3478409419494359E-3},{"$f":"+$L245*Photonic!BC251","v":1.424458619930457E-3},{"$f":"+$L245*Photonic!BD251","v":1.8586244380713659E-6},90.36,-5.57,3.0900000000000003,null,null,0.42099999999999999,0.34180000000000005,0.2656,0.18759999999999999,0.21199999999999999,0.22,0.2984,0.34159999999999996,0.1792,0.70579999999999998,9.6799999999999997E-2,1.6E-2,0.73460000000000003,9.8600000000000007E-2,9.8600000000000007E-2]
[{"$f":"Photonic!B252","v":600},{"$f":"Photonic!D252","v":1.8516467950544045E-3},null,null,null,null,null,null,20336572826.271008,137.73658600955983,20336572826.271008,2.2400718543386E-3,{"$f":"+$L246*Photonic!BB252","v":2.3794043236784611E-3},{"$f":"+$L246*Photonic!BC252","v":1.4134853400876567E-3},{"$f":"+$L246*Photonic!BD252","v":1.79205748347088E-6},90.5,-5.8,3.2,null,null,0.42399999999999999,0.34200000000000003,0.26400000000000001,0.185,0.21,0.22,0.30199999999999999,0.34799999999999998,0.19,0.70599999999999996,9.6000000000000002E-2,1.6E-2,0.73599999999999999,9.8000000000000004E-2,9.8000000000000004E-2]
[{"$f":"Photonic!B253","v":601},{"$f":"Photonic!D253","v":2.1805297095518371E-3},null,null,null,null,null,null,20587496349.098991,139.00655626948802,20587496349.098991,2.2677110601123647E-3,{"$f":"+$L247*Photonic!BB253","v":2.401233887331781E-3},{"$f":"+$L247*Photonic!BC253","v":1.4018082689190594E-3},{"$f":"+$L247*Photonic!BD253","v":1.7234604056853972E-6},90.48,-5.9399999999999995,3.29,null,null,0.42619999999999997,0.34200000000000003,0.2626,0.183,0.20799999999999999,0.22,0.30640000000000001,0.35519999999999996,0.20319999999999999,0.70619999999999994,9.5200000000000007E-2,1.6E-2,0.73719999999999997,9.74E-2,9.74E-2]
[{"$f":"Photonic!B254","v":602},{"$f":"Photonic!D254","v":2.5093712603321905E-3},null,null,null,null,null,null,20840378841.863468,140.2765265294162,20840378841.863468,2.2955660462664188E-3,{"$f":"+$L248*Photonic!BB254","v":2.4231076957969811E-3},{"$f":"+$L248*Photonic!BC254","v":1.3895520391259885E-3},{"$f":"+$L248*Photonic!BD254","v":1.6528075533118217E-6},90.460000000000008,-6.08,3.38,null,null,0.4284,0.34200000000000003,0.26119999999999999,0.18099999999999999,0.20599999999999999,0.22,0.31080000000000002,0.3624,0.21640000000000001,0.70639999999999992,9.4399999999999998E-2,1.6E-2,0.73839999999999995,9.6799999999999997E-2,9.6799999999999997E-2]
[{"$f":"Photonic!B255","v":603},{"$f":"Photonic!D255","v":2.8959151964381533E-3},null,null,null,null,null,null,21095222814.59552,141.54649678934436,21095222814.59552,2.3236370892804827E-3,{"$f":"+$L249*Photonic!BB255","v":2.4450238908244951E-3},{"$f":"+$L249*Photonic!BC255","v":1.3767085026569004E-3},{"$f":"+$L249*Photonic!BD255","v":1.5800732207107282E-6},90.44,-6.22,3.47,null,null,0.43059999999999998,0.34200000000000003,0.25980000000000003,0.17899999999999999,0.20400000000000001,0.22,0.31519999999999998,0.36959999999999998,0.2296,0.70660000000000001,9.3600000000000003E-2,1.6E-2,0.73960000000000004,9.6200000000000008E-2,9.6200000000000008E-2]
[{"$f":"Photonic!B256","v":604},{"$f":"Photonic!D256","v":3.282417768827036E-3},null,null,null,null,null,null,21352030669.150047,142.81646704927257,21352030669.150047,2.3519244537186807E-3,{"$f":"+$L250*Photonic!BB256","v":2.4669805979945988E-3},{"$f":"+$L250*Photonic!BC256","v":1.3632694903534959E-3},{"$f":"+$L250*Photonic!BD256","v":1.5052316503799555E-6},90.42,-6.36,3.56,null,null,0.43280000000000002,0.34200000000000003,0.25840000000000002,0.17699999999999999,0.20200000000000001,0.22,0.3196,0.37680000000000002,0.24280000000000002,0.70679999999999998,9.2799999999999994E-2,1.6E-2,0.74080000000000001,9.5600000000000004E-2,9.5600000000000004E-2]
[{"$f":"Photonic!B257","v":605},{"$f":"Photonic!D257","v":4.2018918357825674E-3},null,null,null,null,null,null,21610804699.116943,144.08643730920076,21610804699.116943,2.3804283922197536E-3,{"$f":"+$L251*Photonic!BB257","v":2.4889759269049747E-3},{"$f":"+$L251*Photonic!BC257","v":1.3492268127101564E-3},{"$f":"+$L251*Photonic!BD257","v":1.4282570353318521E-6},90.4,-6.5,3.65,null,null,0.435,0.34200000000000003,0.25700000000000001,0.17499999999999999,0.2,0.22,0.32400000000000001,0.38400000000000001,0.25600000000000001,0.70699999999999996,9.1999999999999998E-2,1.6E-2,0.74199999999999999,9.5000000000000001E-2,9.5000000000000001E-2]
[{"$f":"Photonic!B258","v":606},{"$f":"Photonic!D258","v":4.7467347171509713E-3},null,null,null,null,null,null,21871547089.745049,145.35640756912895,21871547089.745049,2.4091491454886847E-3,{"$f":"+$L252*Photonic!BB258","v":2.4982876638717662E-3},{"$f":"+$L252*Photonic!BC258","v":1.3347649925665509E-3},{"$f":"+$L252*Photonic!BD258","v":1.3202137317277991E-6},90.38000000000001,-6.64,3.7399999999999998,null,null,0.43640000000000001,0.34200000000000003,0.25600000000000001,0.17379999999999998,0.1988,0.22,0.32800000000000001,0.39400000000000002,0.27200000000000002,0.70699999999999996,9.1600000000000001E-2,1.6E-2,0.74260000000000004,9.4600000000000004E-2,9.4600000000000004E-2]
[{"$f":"Photonic!B259","v":607},{"$f":"Photonic!D259","v":5.2915775985193751E-3},null,null,null,null,null,null,22134259917.880714,146.62637782905711,22134259917.880714,2.4380869422899317E-3,{"$f":"+$L253*Photonic!BB259","v":2.5073286114509659E-3},{"$f":"+$L253*Photonic!BC259","v":1.3196877001226941E-3},{"$f":"+$L253*Photonic!BD259","v":1.2092911233758062E-6},90.36,-6.78,3.8299999999999996,null,null,0.43780000000000002,0.34200000000000003,0.255,0.1726,0.1976,0.22,0.33200000000000002,0.40400000000000003,0.28800000000000003,0.70699999999999996,9.1200000000000003E-2,1.6E-2,0.74319999999999997,9.4200000000000006E-2,9.4200000000000006E-2]
[{"$f":"Photonic!B260","v":608},{"$f":"Photonic!D260","v":5.9416497761374931E-3},null,null,null,null,null,null,22398945151.919899,147.89634808898532,22398945151.919899,2.4672419994421512E-3,{"$f":"+$L254*Photonic!BB260","v":2.516093391031106E-3},{"$f":"+$L254*Photonic!BC260","v":1.3039867415451658E-3},{"$f":"+$L254*Photonic!BD260","v":1.0954554477523152E-6},90.34,-6.92,3.92,null,null,0.43919999999999998,0.34200000000000003,0.254,0.1714,0.19640000000000002,0.22,0.33599999999999997,0.41399999999999998,0.30399999999999999,0.70699999999999996,9.0799999999999992E-2,1.6E-2,0.74380000000000002,9.3799999999999994E-2,9.3799999999999994E-2]
[{"$f":"Photonic!B261","v":609},{"$f":"Photonic!D261","v":6.591721953755611E-3},null,null,null,null,null,null,22665604651.772896,149.16631834891348,22665604651.772896,2.4966145218143112E-3,{"$f":"+$L255*Photonic!BB261","v":2.5245766044586313E-3},{"$f":"+$L255*Photonic!BC261","v":1.2876539057709491E-3},{"$f":"+$L255*Photonic!BD261","v":9.7867289255121005E-7},90.32,-7.0600000000000005,4.01,null,null,0.44059999999999999,0.34200000000000003,0.253,0.17020000000000002,0.19520000000000001,0.22,0.33999999999999997,0.42399999999999999,0.32,0.70699999999999996,9.0399999999999994E-2,1.6E-2,0.74439999999999995,9.3399999999999997E-2,9.3399999999999997E-2]
[{"$f":"Photonic!B262","v":610},{"$f":"Photonic!D262","v":8.0535157153377099E-3},null,null,null,null,null,null,22934240168.843628,150.43628860884166,22934240168.843628,2.5262047023234127E-3,{"$f":"+$L256*Photonic!BB262","v":2.5327728345494534E-3},{"$f":"+$L256*Photonic!BC262","v":1.2706809652686766E-3},{"$f":"+$L256*Photonic!BD262","v":8.5890959878996043E-7},90.3,-7.2,4.0999999999999996,null,null,0.442,0.34200000000000003,0.252,0.16900000000000001,0.19400000000000001,0.22,0.34399999999999997,0.434,0.33600000000000002,0.70699999999999996,0.09,1.6E-2,0.745,9.2999999999999999E-2,9.2999999999999999E-2]
[{"$f":"Photonic!B263","v":611},{"$f":"Photonic!D263","v":8.9470547316845266E-3},null,null,null,null,null,null,23204853346.021263,151.18408097704889,23204853346.021263,2.5560127219335644E-3,{"$f":"+$L257*Photonic!BB263","v":2.5298391516609645E-3},{"$f":"+$L257*Photonic!BC263","v":1.254082081889484E-3},{"$f":"+$L257*Photonic!BD263","v":8.1792407101874072E-7},90.11,-7.34,4.16,null,null,0.44319999999999998,0.34180000000000005,0.251,0.16800000000000001,0.193,0.22,0.34759999999999996,0.44359999999999999,0.35239999999999999,0.70699999999999996,8.9399999999999993E-2,1.6E-2,0.74539999999999995,9.2399999999999996E-2,9.2399999999999996E-2]
[{"$f":"Photonic!B264","v":612},{"$f":"Photonic!D264","v":9.8405937480313434E-3},null,null,null,null,null,null,23477445717.685722,151.93187334525607,23477445717.685722,2.5860387496565908E-3,{"$f":"+$L258*Photonic!BB264","v":2.5263529753145166E-3},{"$f":"+$L258*Photonic!BC264","v":1.2368506131857542E-3},{"$f":"+$L258*Photonic!BD264","v":7.7581162489697737E-7},89.92,-7.48,4.22,null,null,0.44440000000000002,0.34160000000000001,0.25,0.16700000000000001,0.192,0.22,0.35119999999999996,0.45319999999999999,0.36880000000000002,0.70699999999999996,8.879999999999999E-2,1.6E-2,0.74580000000000002,9.1799999999999993E-2,9.1799999999999993E-2]
[{"$f":"Photonic!B265","v":613},{"$f":"Photonic!D265","v":1.0882876690995285E-2},null,null,null,null,null,null,23752018709.7257,152.67966571346327,23752018709.7257,2.6162829425540168E-3,{"$f":"+$L259*Photonic!BB265","v":2.5223060592574763E-3},{"$f":"+$L259*Photonic!BC265","v":1.2189785485947674E-3},{"$f":"+$L259*Photonic!BD265","v":7.3255922391512474E-7},89.72999999999999,-7.62,4.28,null,null,0.4456,0.34140000000000004,0.249,0.16600000000000001,0.191,0.22,0.3548,0.46279999999999999,0.38519999999999999,0.70699999999999996,8.8200000000000001E-2,1.6E-2,0.74619999999999997,9.1200000000000003E-2,9.1200000000000003E-2]
[{"$f":"Photonic!B266","v":614},{"$f":"Photonic!D266","v":1.1925200997676307E-2},null,null,null,null,null,null,24028573639.569992,153.42745808167047,24028573639.569992,2.6467454457405177E-3,{"$f":"+$L260*Photonic!BB266","v":2.51769013780621E-3},{"$f":"+$L260*Photonic!BC266","v":1.2004578643700691E-3},{"$f":"+$L260*Photonic!BD266","v":6.8815381589253471E-7},89.539999999999992,-7.7600000000000007,4.34,null,null,0.44680000000000003,0.3412,0.248,0.16500000000000001,0.19,0.22,0.3584,0.47239999999999999,0.40160000000000001,0.70699999999999996,8.7599999999999997E-2,1.6E-2,0.74660000000000004,9.06E-2,9.06E-2]
[{"$f":"Photonic!B267","v":615},{"$f":"Photonic!D267","v":1.4334720244979091E-2},null,null,null,null,null,null,24307111716.231857,154.17525044987767,24307111716.231857,2.677426392388806E-3,{"$f":"+$L261*Photonic!BB267","v":2.5124969266176558E-3},{"$f":"+$L261*Photonic!BC267","v":1.1812805243219412E-3},{"$f":"+$L261*Photonic!BD267","v":6.425823341733135E-7},89.35,-7.9,4.4000000000000004,null,null,0.44800000000000001,0.34100000000000003,0.247,0.16400000000000001,0.189,0.22,0.36199999999999999,0.48199999999999998,0.41799999999999998,0.70699999999999996,8.6999999999999994E-2,1.6E-2,0.747,0.09,0.09]
[{"$f":"Photonic!B268","v":616},{"$f":"Photonic!D268","v":1.5725947505223922E-2},null,null,null,null,null,null,24587634040.365528,154.92304281808487,24587634040.365528,2.7083259037358567E-3,{"$f":"+$L262*Photonic!BB268","v":2.4960473194010403E-3},{"$f":"+$L262*Photonic!BC268","v":1.1623051448472802E-3},{"$f":"+$L262*Photonic!BD268","v":6.229149578592471E-7},89.16,-8.0400000000000009,4.46,null,null,0.44840000000000002,0.34100000000000003,0.24579999999999999,0.16320000000000001,0.18820000000000001,0.22059999999999999,0.36499999999999999,0.49119999999999997,0.43540000000000001,0.70719999999999994,8.6599999999999996E-2,1.6E-2,0.74719999999999998,8.9799999999999991E-2,8.9799999999999991E-2]
[{"$f":"Photonic!B269","v":617},{"$f":"Photonic!D269","v":1.7117133401751673E-2},null,null,null,null,null,null,24870141604.335876,{"$f":"+P263+$H$11*Q263+$H$12*R263","v":155.67083518629207},{"$f":"IF($E$6<=$K$4,I263,J263)","v":24870141604.335876},{"$f":"+K263/$L$4","v":2.7394440890905806E-3},{"$f":"+$L263*Photonic!BB269","v":2.4787585895727207E-3},{"$f":"+$L263*Photonic!BC269","v":1.1426769184414629E-3},{"$f":"+$L263*Photonic!BD269","v":6.0267769959992777E-7},88.97,-8.18,4.5200000000000005,null,null,0.44880000000000003,0.34100000000000003,0.24459999999999998,0.16240000000000002,0.18740000000000001,0.22120000000000001,0.36799999999999999,0.50039999999999996,0.45279999999999998,0.70739999999999992,8.6199999999999999E-2,1.6E-2,0.74739999999999995,8.9599999999999999E-2,8.9599999999999999E-2]
[{"$f":"Photonic!B270","v":618},{"$f":"Photonic!D270","v":1.8701777403059262E-2},null,null,null,null,null,null,25154635292.300705,156.41862755449927,25154635292.300705,2.7707810458428876E-3,{"$f":"+$L264*Photonic!BB270","v":2.4606198155712349E-3},{"$f":"+$L264*Photonic!BC270","v":1.1223879860500368E-3},{"$f":"+$L264*Photonic!BD270","v":5.8186401962700642E-7},88.78,-8.32,4.58,null,null,0.44919999999999999,0.34100000000000003,0.24340000000000001,0.16159999999999999,0.18659999999999999,0.2218,0.371,0.50960000000000005,0.47020000000000001,0.70760000000000001,8.5800000000000001E-2,1.6E-2,0.74760000000000004,8.9399999999999993E-2,8.9399999999999993E-2]
[{"$f":"Photonic!B271","v":619},{"$f":"Photonic!D271","v":2.0286380040649775E-2},null,null,null,null,null,null,25441115880.304996,157.16641992270647,25441115880.304996,2.8023368594740704E-3,{"$f":"+$L265*Photonic!BB271","v":2.441620058922568E-3},{"$f":"+$L265*Photonic!BC271","v":1.1014304792476887E-3},{"$f":"+$L265*Photonic!BD271","v":5.6046737189481406E-7},88.59,-8.4599999999999991,4.6400000000000006,null,null,0.4496,0.34100000000000003,0.2422,0.1608,0.18579999999999999,0.22240000000000001,0.374,0.51880000000000004,0.48759999999999998,0.70779999999999998,8.5400000000000004E-2,1.6E-2,0.74780000000000002,8.9200000000000002E-2,8.9200000000000002E-2]
[{"$f":"Photonic!B272","v":620},{"$f":"Photonic!D272","v":2.3809038278273322E-2},null,null,null,null,null,null,25729584036.387627,157.91421229091367,25729584036.387627,2.8341116035685574E-3,{"$f":"+$L266*Photonic!BB272","v":2.4217483652493326E-3},{"$f":"+$L266*Photonic!BC272","v":1.0797965209596203E-3},{"$f":"+$L266*Photonic!BD272","v":5.3848120467802596E-7},88.4,-8.6,4.7,null,null,0.45,0.34100000000000003,0.24099999999999999,0.16,0.185,0.223,0.377,0.52800000000000002,0.505,0.70799999999999996,8.5000000000000006E-2,1.6E-2,0.748,8.8999999999999996E-2,8.8999999999999996E-2]
[{"$f":"Photonic!B273","v":621},{"$f":"Photonic!D273","v":2.5740103410119966E-2},null,null,null,null,null,null,26020040320.700611,158.09384918912883,26020040320.700611,2.866105339827047E-3,{"$f":"+$L267*Photonic!BB273","v":2.3899879207749781E-3},{"$f":"+$L267*Photonic!BC273","v":1.0575928703961803E-3},{"$f":"+$L267*Photonic!BD273","v":4.9297011845025212E-7},87.960000000000008,-8.69,4.74,null,null,0.45019999999999999,0.34060000000000001,0.23979999999999999,0.15920000000000001,0.18459999999999999,0.2238,0.37940000000000002,0.53600000000000003,0.5202,0.70799999999999996,8.4400000000000003E-2,1.6E-2,0.748,8.8599999999999998E-2,8.8599999999999998E-2]
[{"$f":"Photonic!B274","v":622},{"$f":"Photonic!D274","v":2.7671127178249526E-2},null,null,null,null,null,null,{"$f":"$G$5*((A268*0.000000001)^(-5)) / (EXP($G$6/(($E$6*0.000000001*A268)))-1)","v":26312485185.640251},158.27348608734397,26312485185.640251,2.898318118080956E-3,{"$f":"+$L268*Photonic!BB274","v":2.3570861927105181E-3},{"$f":"+$L268*Photonic!BC274","v":1.0346995681549012E-3},{"$f":"+$L268*Photonic!BD274","v":4.4634099018446726E-7},87.52000000000001,-8.7799999999999994,4.78,null,null,0.45040000000000002,0.3402,0.23859999999999998,0.15840000000000001,0.1842,0.22459999999999999,0.38180000000000003,0.54400000000000004,0.53539999999999999,0.70799999999999996,8.3799999999999999E-2,1.6E-2,0.748,8.8200000000000001E-2,8.8200000000000001E-2]
[{"$f":"Photonic!B275","v":623},{"$f":"Photonic!D275","v":2.9672841538867595E-2},null,null,null,null,null,null,26606918975.989788,158.45312298555911,26606918975.989788,2.9307499763081305E-3,{"$f":"+$L269*Photonic!BB275","v":2.3230296612208766E-3},{"$f":"+$L269*Photonic!BC275","v":1.0111087418263052E-3},{"$f":"+$L269*Photonic!BD275","v":3.9858199677790574E-7},87.08,-8.870000000000001,4.82,null,null,0.4506,0.33980000000000005,0.2374,0.15759999999999999,0.18379999999999999,0.22540000000000002,0.38419999999999999,0.55199999999999994,0.55059999999999998,0.70799999999999996,8.320000000000001E-2,1.6E-2,0.748,8.7799999999999989E-2,8.7799999999999989E-2]
[{"$f":"Photonic!B276","v":624},{"$f":"Photonic!D276","v":3.167455589948566E-2},null,null,null,null,null,null,26903341929.07444,158.63275988377427,26903341929.07444,2.963400940649924E-3,{"$f":"+$L270*Photonic!BB276","v":2.2878047942005539E-3},{"$f":"+$L270*Photonic!BC276","v":9.8681251323642482E-4},{"$f":"+$L270*Photonic!BD276","v":3.4968131099669105E-7},86.64,-8.9600000000000009,4.8600000000000003,null,null,0.45080000000000003,0.33940000000000003,0.23619999999999999,0.15679999999999999,0.18340000000000001,0.22620000000000001,0.3866,0.55999999999999994,0.56579999999999997,0.70799999999999996,8.2600000000000007E-2,1.6E-2,0.748,8.7399999999999992E-2,8.7399999999999992E-2]
[{"$f":"Photonic!B277","v":625},{"$f":"Photonic!D277","v":3.5458963738786958E-2},null,null,null,null,null,null,27201754174.928314,158.81239678198941,27201754174.928314,2.9962710254295829E-3,{"$f":"+$L271*Photonic!BB277","v":2.2513980485077884E-3},{"$f":"+$L271*Photonic!BC277","v":9.6180299916289618E-4},{"$f":"+$L271*Photonic!BD277","v":2.996271025429583E-7},86.2,-9.0500000000000007,4.9000000000000004,null,null,0.45100000000000001,0.33900000000000002,0.23499999999999999,0.156,0.183,0.22700000000000001,0.38900000000000001,0.56799999999999995,0.58099999999999996,0.70799999999999996,8.2000000000000003E-2,1.6E-2,0.748,8.6999999999999994E-2,8.6999999999999994E-2]
[{"$f":"Photonic!B278","v":626},{"$f":"Photonic!D278","v":3.7083937364246859E-2},null,null,null,null,null,null,27502155736.472157,158.99203368020457,27502155736.472157,3.0293602331718252E-3,{"$f":"+$L272*Photonic!BB278","v":2.2102212261221636E-3},{"$f":"+$L272*Photonic!BC278","v":9.3849580023663154E-4},{"$f":"+$L272*Photonic!BD278","v":5.4528484197092862E-7},85.76,-9.14,4.9400000000000004,null,null,0.45100000000000001,0.33900000000000002,0.23379999999999998,0.15559999999999999,0.18240000000000001,0.22820000000000001,0.39119999999999999,0.57519999999999993,0.59299999999999997,0.70839999999999992,8.1600000000000006E-2,1.6400000000000001E-2,0.748,8.6799999999999988E-2,8.6799999999999988E-2]
[{"$f":"Photonic!B279","v":627},{"$f":"Photonic!D279","v":3.870886962598967E-2},null,null,null,null,null,null,27804546529.703144,159.17167057841974,27804546529.703144,3.0626685546237477E-3,{"$f":"+$L273*Photonic!BB279","v":2.1677568029626884E-3},{"$f":"+$L273*Photonic!BC279","v":9.1451283041065119E-4},{"$f":"+$L273*Photonic!BD279","v":7.9629382420217453E-7},85.320000000000007,-9.23,4.9800000000000004,null,null,0.45100000000000001,0.33900000000000002,0.2326,0.1552,0.18179999999999999,0.22940000000000002,0.39340000000000003,0.58239999999999992,0.60499999999999998,0.70879999999999999,8.1200000000000008E-2,1.6799999999999999E-2,0.748,8.6599999999999996E-2,8.6599999999999996E-2]
[{"$f":"Photonic!B280","v":628},{"$f":"Photonic!D280","v":3.9763975321248195E-2},null,null,null,null,null,null,28108926363.896255,159.35130747663487,28108926363.896255,3.0961959687770034E-3,{"$f":"+$L274*Photonic!BB280","v":2.123990434581024E-3},{"$f":"+$L274*Photonic!BC280","v":8.8984672142651078E-4},{"$f":"+$L274*Photonic!BD280","v":1.0527066293841812E-6},84.88,-9.32,5.0199999999999996,null,null,0.45100000000000001,0.33900000000000002,0.23139999999999999,0.15479999999999999,0.1812,0.2306,0.39560000000000001,0.58960000000000001,0.61699999999999999,0.70919999999999994,8.0799999999999997E-2,1.72E-2,0.748,8.6399999999999991E-2,8.6399999999999991E-2]
[{"$f":"Photonic!B281","v":629},{"$f":"Photonic!D281","v":4.0819122380223796E-2},null,null,null,null,null,null,28415294941.816082,159.53094437485001,28415294941.816082,3.1299424428911371E-3,{"$f":"+$L275*Photonic!BB281","v":2.0789077705682933E-3},{"$f":"+$L275*Photonic!BC281","v":8.6449010272653202E-4},{"$f":"+$L275*Photonic!BD281","v":1.3145758260142776E-6},84.44,-9.41,5.0599999999999996,null,null,0.45100000000000001,0.33900000000000002,0.23020000000000002,0.15440000000000001,0.18059999999999998,0.23180000000000001,0.39780000000000004,0.5968,0.629,0.70960000000000001,8.0399999999999999E-2,1.7599999999999998E-2,0.748,8.6199999999999999E-2,8.6199999999999999E-2]
[{"$f":"Photonic!B282","v":630},{"$f":"Photonic!D282","v":4.1363717079289722E-2},null,null,null,null,null,null,28723651859.940357,159.71058127306517,28723651859.940357,3.1639079325182029E-3,{"$f":"+$L276*Photonic!BB282","v":2.0324944558496936E-3},{"$f":"+$L276*Photonic!BC282","v":8.3843560211732378E-4},{"$f":"+$L276*Photonic!BD282","v":1.5819539662591016E-6},84,-9.5,5.0999999999999996,null,null,0.45100000000000001,0.33900000000000002,0.22900000000000001,0.154,0.18,0.23300000000000001,0.4,0.60399999999999998,0.64100000000000001,0.71,0.08,1.7999999999999999E-2,0.748,8.5999999999999993E-2,8.5999999999999993E-2]
[{"$f":"Photonic!B283","v":631},{"$f":"Photonic!D283","v":4.0817219649238151E-2},null,null,null,null,null,null,29033996608.694393,161.93229994700897,29033996608.694393,3.1980923815285909E-3,{"$f":"+$L277*Photonic!BB283","v":1.990172889025242E-3},{"$f":"+$L277*Photonic!BC283","v":8.167927942424022E-4},{"$f":"+$L277*Photonic!BD283","v":1.4711224955031519E-6},84.11,-9.64,5.26,null,null,0.45100000000000001,0.33880000000000005,0.22800000000000001,0.15359999999999999,0.1794,0.23420000000000002,0.40200000000000002,0.60899999999999999,0.6492,0.71019999999999994,7.9799999999999996E-2,1.7999999999999999E-2,0.748,8.5800000000000001E-2,8.5800000000000001E-2]
[{"$f":"Photonic!B284","v":632},{"$f":"Photonic!D284","v":4.0270722219186574E-2},null,null,null,null,null,null,29346328572.696415,164.1540186209528,29346328572.696415,3.2324957221380479E-3,{"$f":"+$L278*Photonic!BB284","v":1.9466089238715323E-3},{"$f":"+$L278*Photonic!BC284","v":7.9454744850153219E-4},{"$f":"+$L278*Photonic!BD284","v":1.3576482032979802E-6},84.22,-9.7799999999999994,5.42,null,null,0.45100000000000001,0.33860000000000001,0.22700000000000001,0.1532,0.17879999999999999,0.2354,0.40400000000000003,0.61399999999999999,0.65739999999999998,0.71039999999999992,7.9600000000000004E-2,1.7999999999999999E-2,0.748,8.5599999999999996E-2,8.5599999999999996E-2]
[{"$f":"Photonic!B285","v":633},{"$f":"Photonic!D285","v":3.8930496422100509E-2},null,null,null,null,null,null,29660647031.013149,166.37573729489662,29660647031.013149,3.2671178749358316E-3,{"$f":"+$L279*Photonic!BB285","v":1.9017893150001478E-3},{"$f":"+$L279*Photonic!BC285","v":7.7169324205984336E-4},{"$f":"+$L279*Photonic!BD285","v":1.2415047924756159E-6},84.33,-9.92,5.58,null,null,0.45100000000000001,0.33840000000000003,0.22600000000000001,0.15279999999999999,0.1782,0.2366,0.40599999999999997,0.61899999999999999,0.66560000000000008,0.71060000000000001,7.9399999999999998E-2,1.7999999999999999E-2,0.748,8.5400000000000004E-2,8.5400000000000004E-2]
[{"$f":"Photonic!B286","v":634},{"$f":"Photonic!D286","v":3.7590270625014438E-2},null,null,null,null,null,null,29976951157.426666,168.59745596884045,29976951157.426666,3.3019587489141046E-3,{"$f":"+$L280*Photonic!BB286","v":1.8557008168897269E-3},{"$f":"+$L280*Photonic!BC286","v":7.4822385250393605E-4},{"$f":"+$L280*Photonic!BD286","v":1.1226659746307955E-6},84.44,-10.059999999999999,5.74,null,null,0.45100000000000001,0.3382,0.22500000000000001,0.15240000000000001,0.17759999999999998,0.23779999999999998,0.40799999999999997,0.624,0.67380000000000007,0.71079999999999999,7.9200000000000007E-2,1.7999999999999999E-2,0.748,8.5199999999999998E-2,8.5199999999999998E-2]
[{"$f":"Photonic!B287","v":635},{"$f":"Photonic!D287","v":3.3543616819430445E-2},null,null,null,null,null,null,30295240020.711361,170.81917464278428,30295240020.711361,3.3370182414984412E-3,{"$f":"+$L281*Photonic!BB287","v":1.8083301850680055E-3},{"$f":"+$L281*Photonic!BC287","v":7.2413295840516171E-4},{"$f":"+$L281*Photonic!BD287","v":1.0011054724495322E-6},84.55,-10.199999999999999,5.9,null,null,0.45100000000000001,0.33800000000000002,0.224,0.152,0.17699999999999999,0.23899999999999999,0.41,0.629,0.68200000000000005,0.71099999999999997,7.9000000000000001E-2,1.7999999999999999E-2,0.748,8.5000000000000006E-2,8.5000000000000006E-2]
[{"$f":"Photonic!B288","v":636},{"$f":"Photonic!D288","v":3.1133435752654391E-2},null,null,null,null,null,null,30615512584.921322,173.0408933167281,30615512584.921322,3.3722962385794833E-3,{"$f":"+$L282*Photonic!BB288","v":1.7640481624009278E-3},{"$f":"+$L282*Photonic!BC288","v":7.0346099536768025E-4},{"$f":"+$L282*Photonic!BD288","v":9.4424294680225522E-7},84.66,-10.34,6.0600000000000005,null,null,0.45100000000000001,0.33800000000000002,0.22320000000000001,0.15179999999999999,0.17679999999999998,0.24,0.41199999999999998,0.63280000000000003,0.68900000000000006,0.71119999999999994,7.8799999999999995E-2,1.7999999999999999E-2,0.748,8.48E-2,8.48E-2]
[{"$f":"Photonic!B289","v":637},{"$f":"Photonic!D289","v":2.872325468587834E-2},null,null,null,null,null,null,30937767709.68774,175.26261199067193,30937767709.68774,3.4077926145456984E-3,{"$f":"+$L283*Photonic!BB289","v":1.7185498155153959E-3},{"$f":"+$L283*Photonic!BC289","v":6.8224008143204879E-4},{"$f":"+$L283*Photonic!BD289","v":8.8602607978188152E-7},84.77,-10.48,6.2200000000000006,null,null,0.45100000000000001,0.33800000000000002,0.22240000000000001,0.15159999999999998,0.17659999999999998,0.24099999999999999,0.41399999999999998,0.63660000000000005,0.69600000000000006,0.71139999999999992,7.8600000000000003E-2,1.7999999999999999E-2,0.748,8.4600000000000009E-2,8.4600000000000009E-2]
[{"$f":"Photonic!B290","v":638},{"$f":"Photonic!D290","v":2.6118540057678385E-2},null,null,null,null,null,null,31262004150.527016,177.48433066461575,31262004150.527016,3.4435072323173183E-3,{"$f":"+$L284*Photonic!BB290","v":1.6718227612900582E-3},{"$f":"+$L284*Photonic!BC290","v":6.6046468715846168E-4},{"$f":"+$L284*Photonic!BD290","v":8.264417357561564E-7},84.88,-10.62,6.38,null,null,0.45100000000000001,0.33800000000000002,0.22159999999999999,0.15140000000000001,0.1764,0.24199999999999999,0.41599999999999998,0.64039999999999997,0.70299999999999996,0.71160000000000001,7.8399999999999997E-2,1.7999999999999999E-2,0.748,8.4400000000000003E-2,8.4400000000000003E-2]
[{"$f":"Photonic!B291","v":639},{"$f":"Photonic!D291","v":2.3513866793195514E-2},null,null,null,null,null,null,31588220559.158092,179.70604933855958,31588220559.158092,3.4794399433812941E-3,{"$f":"+$L285*Photonic!BB291","v":1.6238546215760501E-3},{"$f":"+$L285*Photonic!BC291","v":6.3812928561612925E-4},{"$f":"+$L285*Photonic!BD291","v":7.6547678754388471E-7},84.99,-10.76,6.54,null,null,0.45100000000000001,0.33800000000000002,0.2208,0.1512,0.1762,0.24299999999999999,0.41799999999999998,0.64419999999999999,0.71,0.71179999999999999,7.8200000000000006E-2,1.7999999999999999E-2,0.748,8.4200000000000011E-2,8.4200000000000011E-2]
[{"$f":"Photonic!B292","v":640},{"$f":"Photonic!D292","v":1.8583766718232048E-2},null,null,null,null,null,null,31916415483.829933,181.92776801250341,31916415483.829933,3.5155905878273656E-3,{"$f":"+$L286*Photonic!BB292","v":1.5746330242878772E-3},{"$f":"+$L286*Photonic!BC292","v":6.1522835286978894E-4},{"$f":"+$L286*Photonic!BD292","v":7.0311811756547312E-7},85.1,-10.9,6.7,null,null,0.45100000000000001,0.33800000000000002,0.22,0.151,0.17599999999999999,0.24399999999999999,0.42,0.64800000000000002,0.71699999999999997,0.71199999999999997,7.8E-2,1.7999999999999999E-2,0.748,8.4000000000000005E-2,8.4000000000000005E-2]
[{"$f":"Photonic!B293","v":641},{"$f":"Photonic!D293","v":1.641610112469187E-2},null,null,null,null,null,null,32246587369.658909,182.27877571240748,32246587369.658909,3.5519589943852274E-3,{"$f":"+$L287*Photonic!BB293","v":1.5290473079029529E-3},{"$f":"+$L287*Photonic!BC293","v":5.9530832745896415E-4},{"$f":"+$L287*Photonic!BD293","v":6.3935261898934098E-7},84.78,-10.88,6.76,null,null,0.45100000000000001,0.33780000000000004,0.21940000000000001,0.15059999999999998,0.17579999999999998,0.24540000000000001,0.42180000000000001,0.65100000000000002,0.72160000000000002,0.71239999999999992,7.8E-2,1.7999999999999999E-2,0.748,8.4000000000000005E-2,8.4000000000000005E-2]
[{"$f":"Photonic!B294","v":642},{"$f":"Photonic!D294","v":1.4248435531151694E-2},null,null,null,null,null,null,32578734558.975498,182.62978341231158,32578734558.975498,3.5885449804627149E-3,{"$f":"+$L288*Photonic!BB294","v":1.4822843896299292E-3},{"$f":"+$L288*Photonic!BC294","v":5.7488490587012696E-4},{"$f":"+$L288*Photonic!BD294","v":5.741671968740344E-7},84.46,-10.860000000000001,6.82,null,null,0.45100000000000001,0.33760000000000001,0.21879999999999999,0.1502,0.17559999999999998,0.24679999999999999,0.42359999999999998,0.65400000000000003,0.72619999999999996,0.71279999999999999,7.8E-2,1.7999999999999999E-2,0.748,8.4000000000000005E-2,8.4000000000000005E-2]
[{"$f":"Photonic!B295","v":643},{"$f":"Photonic!D295","v":1.2498419388961105E-2},null,null,null,null,null,null,32912855291.68047,182.98079111221568,32912855291.68047,3.6253483521850407E-3,{"$f":"+$L289*Photonic!BB295","v":1.4343328220584894E-3},{"$f":"+$L289*Photonic!BC295","v":5.5395322821387416E-4},{"$f":"+$L289*Photonic!BD295","v":5.0754876930590573E-7},84.14,-10.84,6.88,null,null,0.45100000000000001,0.33740000000000003,0.21820000000000001,0.14979999999999999,0.1754,0.2482,0.4254,0.65700000000000003,0.73080000000000001,0.71319999999999995,7.8E-2,1.7999999999999999E-2,0.748,8.4000000000000005E-2,8.4000000000000005E-2]
[{"$f":"Photonic!B296","v":644},{"$f":"Photonic!D296","v":1.0748403246770514E-2},null,null,null,null,null,null,33248947705.610123,183.33179881211976,33248947705.610123,3.662368904435023E-3,{"$f":"+$L290*Photonic!BB296","v":1.3851811670354144E-3},{"$f":"+$L290*Photonic!BC296","v":5.325084387048524E-4},{"$f":"+$L290*Photonic!BD296","v":4.3948426853220275E-7},83.82,-10.82,6.94,null,null,0.45100000000000001,0.3372,0.21759999999999999,0.14940000000000001,0.17519999999999999,0.24959999999999999,0.42719999999999997,0.66,0.73539999999999994,0.71360000000000001,7.8E-2,1.7999999999999999E-2,0.748,8.4000000000000005E-2,8.4000000000000005E-2]
[{"$f":"Photonic!B297","v":645},{"$f":"Photonic!D297","v":8.0562043569478627E-3},null,null,null,null,null,null,33587009836.911522,183.68280651202383,33587009836.911522,3.6996064208944194E-3,{"$f":"+$L291*Photonic!BB297","v":1.3348179966587066E-3},{"$f":"+$L291*Photonic!BC297","v":5.1054568608342992E-4},{"$f":"+$L291*Photonic!BD297","v":3.6996064208944198E-7},83.5,-10.8,7,null,null,0.45100000000000001,0.33700000000000002,0.217,0.14899999999999999,0.17499999999999999,0.251,0.42899999999999999,0.66300000000000003,0.74,0.71399999999999997,7.8E-2,1.7999999999999999E-2,0.748,8.4000000000000005E-2,8.4000000000000005E-2]
[{"$f":"Photonic!B298","v":646},{"$f":"Photonic!D298","v":7.0477569345547804E-3},null,null,null,null,null,null,33927039620.425922,184.03381421192796,33927039620.425922,3.7370606740861614E-3,{"$f":"+$L292*Photonic!BB298","v":1.2905565331889149E-3},{"$f":"+$L292*Photonic!BC298","v":4.9254459684455612E-4},{"$f":"+$L292*Photonic!BD298","v":2.9896485392689296E-7},83.18,-10.780000000000001,7.06,null,null,0.45080000000000003,0.33680000000000004,0.21679999999999999,0.14879999999999999,0.17499999999999999,0.25240000000000001,0.43080000000000002,0.66560000000000008,0.74360000000000004,0.71439999999999992,7.8E-2,1.8199999999999997E-2,0.748,8.4000000000000005E-2,8.4000000000000005E-2]
[{"$f":"Photonic!B299","v":647},{"$f":"Photonic!D299","v":6.0393508758787755E-3},null,null,null,null,null,null,34269034890.081089,184.38482191183203,34269034890.081089,3.7747314254175674E-3,{"$f":"+$L293*Photonic!BB299","v":1.2452084026167473E-3},{"$f":"+$L293*Photonic!BC299","v":4.7410626703244652E-4},{"$f":"+$L293*Photonic!BD299","v":2.2648388552505406E-7},82.86,-10.76,7.12,null,null,0.4506,0.33660000000000001,0.21659999999999999,0.14859999999999998,0.17499999999999999,0.25380000000000003,0.43259999999999998,0.66820000000000002,0.74719999999999998,0.71479999999999999,7.8E-2,1.84E-2,0.748,8.4000000000000005E-2,8.4000000000000005E-2]
[{"$f":"Photonic!B300","v":648},{"$f":"Photonic!D300","v":5.2764384780683562E-3},null,null,null,null,null,null,34612993379.293648,184.73582961173611,34612993379.293648,3.8126184252246613E-3,{"$f":"+$L294*Photonic!BB300","v":1.1987634852591378E-3},{"$f":"+$L294*Photonic!BC300","v":4.5522663997182459E-4},{"$f":"+$L294*Photonic!BD300","v":1.5250473700898646E-7},82.54,-10.74,7.18,null,null,0.45040000000000002,0.33640000000000003,0.21640000000000001,0.1484,0.17499999999999999,0.25519999999999998,0.43440000000000001,0.67080000000000006,0.75080000000000002,0.71519999999999995,7.8E-2,1.8599999999999998E-2,0.748,8.4000000000000005E-2,8.4000000000000005E-2]
[{"$f":"Photonic!B301","v":649},{"$f":"Photonic!D301","v":4.5134847165408569E-3},null,null,null,null,null,null,34958912721.378029,185.08683731164018,34958912721.378029,3.8507214128172189E-3,{"$f":"+$L295*Photonic!BB301","v":1.1512116735758358E-3},{"$f":"+$L295*Photonic!BC301","v":4.3590166393090915E-4},{"$f":"+$L295*Photonic!BD301","v":7.7014428256344378E-8},82.22,-10.719999999999999,7.24,null,null,0.45019999999999999,0.3362,0.2162,0.1482,0.17499999999999999,0.25659999999999999,0.43619999999999998,0.6734,0.75439999999999996,0.71560000000000001,7.8E-2,1.8800000000000001E-2,0.748,8.4000000000000005E-2,8.4000000000000005E-2]
[{"$f":"Photonic!B302","v":650},{"$f":"Photonic!D302","v":3.3826420553101553E-3},null,null,null,null,null,null,35306790449.965927,185.43784501154431,35306790449.965927,3.8890401165249705E-3,{"$f":"+$L296*Photonic!BB302","v":1.1025428730348291E-3},{"$f":"+$L296*Photonic!BC302","v":4.1612729246817183E-4},{"$f":"+$L296*Photonic!BD302","v":0},81.900000000000006,-10.7,7.3,null,null,0.45,0.33600000000000002,0.216,0.14799999999999999,0.17499999999999999,0.25800000000000001,0.438,0.67600000000000005,0.75800000000000001,0.71599999999999997,7.8E-2,1.9E-2,0.748,8.4000000000000005E-2,8.4000000000000005E-2]
[{"$f":"Photonic!B303","v":651},{"$f":"Photonic!D303","v":2.960359867647686E-3},null,null,null,null,null,null,35656623999.433014,187.25071175199815,35656623999.433014,3.927574253744604E-3,{"$f":"+$L297*Photonic!BB303","v":1.0625659386080651E-3},{"$f":"+$L297*Photonic!BC303","v":4.0029836794165002E-4},{"$f":"+$L297*Photonic!BD303","v":0},81.97,-10.83,7.43,null,null,0.45,0.33580000000000004,0.216,0.14799999999999999,0.17499999999999999,0.25900000000000001,0.43940000000000001,0.67780000000000007,0.76039999999999996,0.71639999999999993,7.8E-2,1.9199999999999998E-2,0.748,8.4000000000000005E-2,8.4000000000000005E-2]
[{"$f":"Photonic!B304","v":652},{"$f":"Photonic!D304","v":2.5381190437022967E-3},null,null,null,null,null,null,36008410705.333916,189.06357849245205,36008410705.333916,3.9663235309876756E-3,{"$f":"+$L298*Photonic!BB304","v":1.0216456151118053E-3},{"$f":"+$L298*Photonic!BC304","v":3.8409877074084651E-4},{"$f":"+$L298*Photonic!BD304","v":0},82.04,-10.959999999999999,7.56,null,null,0.45,0.33560000000000001,0.216,0.14799999999999999,0.17499999999999999,0.26,0.44080000000000003,0.67960000000000009,0.76280000000000003,0.71679999999999999,7.8E-2,1.9400000000000001E-2,0.748,8.4000000000000005E-2,8.4000000000000005E-2]
[{"$f":"Photonic!B305","v":653},{"$f":"Photonic!D305","v":2.2303316249153021E-3},null,null,null,null,null,null,36362147804.84613,190.87644523290598,36362147804.84613,4.005287643929511E-3,{"$f":"+$L299*Photonic!BB305","v":9.7977346345803689E-4},{"$f":"+$L299*Photonic!BC305","v":3.6752519420697196E-4},{"$f":"+$L299*Photonic!BD305","v":0},82.11,-11.09,7.69,null,null,0.45,0.33540000000000003,0.216,0.14799999999999999,0.17499999999999999,0.26100000000000001,0.44219999999999998,0.68140000000000001,0.76519999999999999,0.71719999999999995,7.8E-2,1.9599999999999999E-2,0.748,8.4000000000000005E-2,8.4000000000000005E-2]
[{"$f":"Photonic!B306","v":654},{"$f":"Photonic!D306","v":1.9225028424112278E-3},null,null,null,null,null,null,36717832437.220673,192.68931197335985,36717832437.220673,4.0444662774588407E-3,{"$f":"+$L300*Photonic!BB306","v":9.3694105783611507E-4},{"$f":"+$L300*Photonic!BC306","v":3.5057433693013232E-4},{"$f":"+$L300*Photonic!BD306","v":0},82.18,-11.219999999999999,7.82,null,null,0.45,0.3352,0.216,0.14799999999999999,0.17499999999999999,0.26200000000000001,0.44359999999999999,0.68320000000000003,0.76760000000000006,0.71760000000000002,7.8E-2,1.9800000000000002E-2,0.748,8.4000000000000005E-2,8.4000000000000005E-2]
[{"$f":"Photonic!B307","v":655},{"$f":"Photonic!D307","v":1.4943056432064204E-3},null,null,null,null,null,null,37075461644.242126,194.50217871381375,37075461644.242126,4.0838591057284742E-3,{"$f":"+$L301*Photonic!BB307","v":8.9313998642281728E-4},{"$f":"+$L301*Photonic!BC307","v":3.3324290302744349E-4},{"$f":"+$L301*Photonic!BD307","v":0},82.25,-11.35,7.95,null,null,0.45,0.33500000000000002,0.216,0.14799999999999999,0.17499999999999999,0.26300000000000001,0.44500000000000001,0.68500000000000005,0.77,0.71799999999999997,7.8E-2,0.02,0.748,8.4000000000000005E-2,8.4000000000000005E-2]
[{"$f":"Photonic!B308","v":656},{"$f":"Photonic!D308","v":1.3185925730535978E-3},null,null,null,null,null,null,37435032370.694641,196.31504545426765,37435032370.694641,4.1234657922066325E-3,{"$f":"+$L302*Photonic!BB308","v":8.5743347683144727E-4},{"$f":"+$L302*Photonic!BC308","v":3.194861295801699E-4},{"$f":"+$L302*Photonic!BD308","v":0},82.32,-11.48,8.08,null,null,0.45019999999999999,0.33480000000000004,0.21659999999999999,0.14799999999999999,0.17499999999999999,0.26400000000000001,0.44640000000000002,0.68659999999999999,0.7722,0.71839999999999993,7.8600000000000003E-2,2.06E-2,0.74780000000000002,8.4200000000000011E-2,8.4200000000000011E-2]
[{"$f":"Photonic!B309","v":657},{"$f":"Photonic!D309","v":1.1428795029007749E-3},null,null,null,null,null,null,37796541464.837311,198.12791219472155,37796541464.837311,4.1632859897293107E-3,{"$f":"+$L303*Photonic!BB309","v":8.2091673145482551E-4},{"$f":"+$L303*Photonic!BC309","v":3.0541866020654228E-4},{"$f":"+$L303*Photonic!BD309","v":0},82.39,-11.61,8.2100000000000009,null,null,0.45040000000000002,0.33460000000000001,0.2172,0.14799999999999999,0.17499999999999999,0.26500000000000001,0.44780000000000003,0.68820000000000003,0.77439999999999998,0.71879999999999999,7.9200000000000007E-2,2.12E-2,0.74760000000000004,8.4400000000000003E-2,8.4400000000000003E-2]
[{"$f":"Photonic!B310","v":658},{"$f":"Photonic!D310","v":9.0942268370526385E-4},null,null,null,null,null,null,38159985678.885651,199.94077893517542,38159985678.885651,4.2033193405533091E-3,{"$f":"+$L304*Photonic!BB310","v":7.8358279146594791E-4},{"$f":"+$L304*Photonic!BC310","v":2.9103783113991108E-4},{"$f":"+$L304*Photonic!BD310","v":0},82.46,-11.74,8.34,null,null,0.4506,0.33440000000000003,0.21779999999999999,0.14799999999999999,0.17499999999999999,0.26600000000000001,0.44919999999999999,0.68979999999999997,0.77660000000000007,0.71919999999999995,7.9799999999999996E-2,2.18E-2,0.74739999999999995,8.4600000000000009E-2,8.4600000000000009E-2]
[{"$f":"Photonic!B311","v":659},{"$f":"Photonic!D311","v":8.0324202196272712E-4},null,null,null,null,null,null,38525361669.501038,201.75364567562929,38525361669.501038,4.2435654764101487E-3,{"$f":"+$L305*Photonic!BB311","v":7.4542471158620669E-4},{"$f":"+$L305*Photonic!BC311","v":2.7634098382382886E-4},{"$f":"+$L305*Photonic!BD311","v":0},82.53,-11.87,8.4699999999999989,null,null,0.45080000000000003,0.3342,0.21840000000000001,0.14799999999999999,0.17499999999999999,0.26700000000000002,0.4506,0.69140000000000001,0.77880000000000005,0.71960000000000002,8.0399999999999999E-2,2.24E-2,0.74719999999999998,8.48E-2,8.48E-2]
[{"$f":"Photonic!B312","v":660},{"$f":"Photonic!D312","v":6.9706136022019039E-4},null,null,null,null,null,null,38892665998.287239,203.56651241608319,38892665998.287239,4.2840240185607614E-3,{"$f":"+$L306*Photonic!BB312","v":7.0643556066066952E-4},{"$f":"+$L306*Photonic!BC312","v":2.6132546513220643E-4},{"$f":"+$L306*Photonic!BD312","v":0},82.6,-12,8.6,null,null,0.45100000000000001,0.33400000000000002,0.219,0.14799999999999999,0.17499999999999999,0.26800000000000002,0.45200000000000001,0.69299999999999995,0.78100000000000003,0.72,8.1000000000000003E-2,2.3E-2,0.747,8.5000000000000006E-2,8.5000000000000006E-2]
[{"$f":"Photonic!B313","v":661},{"$f":"Photonic!D313","v":6.2732213322450796E-4},null,null,null,null,null,null,39261895132.294197,205.53870481834605,39261895132.294197,4.3246945778509854E-3,{"$f":"+$L307*Photonic!BB313","v":6.753443052772099E-4},{"$f":"+$L307*Photonic!BC313","v":2.4960407225524747E-4},{"$f":"+$L307*Photonic!BD313","v":0},82.83,-12.2,8.7199999999999989,null,null,0.45100000000000001,0.33360000000000001,0.22,0.1482,0.1754,0.26900000000000002,0.45300000000000001,0.69439999999999991,0.78280000000000005,0.72039999999999993,8.14E-2,2.3199999999999998E-2,0.747,8.5400000000000004E-2,8.5400000000000004E-2]
[{"$f":"Photonic!B314","v":662},{"$f":"Photonic!D314","v":5.5758290622882553E-4},null,null,null,null,null,null,39633045444.52829,207.51089722060888,39633045444.52829,4.3655767547677643E-3,{"$f":"+$L308*Photonic!BB314","v":6.4357332518786376E-4},{"$f":"+$L308*Photonic!BC314","v":2.3762707391551896E-4},{"$f":"+$L308*Photonic!BD314","v":0},83.06,-12.4,8.84,null,null,0.45100000000000001,0.3332,0.221,0.1484,0.17579999999999998,0.27,0.45400000000000001,0.69579999999999997,0.78460000000000008,0.7208,8.1799999999999998E-2,2.3400000000000001E-2,0.747,8.5800000000000001E-2,8.5800000000000001E-2]
[{"$f":"Photonic!B315","v":663},{"$f":"Photonic!D315","v":4.2571537618004991E-4},null,null,null,null,null,null,40006113214.469719,209.48308962287172,40006113214.469719,4.4066701394961444E-3,{"$f":"+$L309*Photonic!BB315","v":6.1111701494532525E-4},{"$f":"+$L309*Photonic!BC315","v":2.2539236429494879E-4},{"$f":"+$L309*Photonic!BD315","v":0},83.289999999999992,-12.6,8.9599999999999991,null,null,0.45100000000000001,0.33280000000000004,0.222,0.14859999999999998,0.1762,0.27100000000000002,0.45500000000000002,0.69719999999999993,0.78639999999999999,0.72119999999999995,8.2200000000000009E-2,2.3599999999999999E-2,0.747,8.6199999999999999E-2,8.6199999999999999E-2]
[{"$f":"Photonic!B316","v":664},{"$f":"Photonic!D316","v":4.0027669017628665E-4},null,null,null,null,null,null,40381094628.596634,211.45528202513458,40381094628.596634,4.4479743119770002E-3,{"$f":"+$L310*Photonic!BB316","v":5.7796978209829141E-4},{"$f":"+$L310*Photonic!BC316","v":2.1289784246846714E-4},{"$f":"+$L310*Photonic!BD316","v":0},83.52,-12.8,9.08,null,null,0.45100000000000001,0.33240000000000003,0.223,0.14879999999999999,0.17659999999999998,0.27200000000000002,0.45600000000000002,0.6986,0.78820000000000001,0.72160000000000002,8.2600000000000007E-2,2.3800000000000002E-2,0.747,8.6599999999999996E-2,8.6599999999999996E-2]
[{"$f":"Photonic!B317","v":665},{"$f":"Photonic!D317","v":3.7479664045544421E-4},null,null,null,null,null,null,40757985780.91571,213.42747442739739,40757985780.91571,4.4894888419654833E-3,{"$f":"+$L311*Photonic!BB317","v":5.4412604764621654E-4},{"$f":"+$L311*Photonic!BC317","v":2.0014141257482124E-4},{"$f":"+$L311*Photonic!BD317","v":0},83.75,-13,9.1999999999999993,null,null,0.45100000000000001,0.33200000000000002,0.224,0.14899999999999999,0.17699999999999999,0.27300000000000002,0.45700000000000002,0.7,0.79,0.72199999999999998,8.3000000000000004E-2,2.4E-2,0.747,8.6999999999999994E-2,8.6999999999999994E-2]
[{"$f":"Photonic!B318","v":666},{"$f":"Photonic!D318","v":3.1320606572438178E-4},null,null,null,null,null,null,41136782673.499214,215.39966682966025,41136782673.499214,4.5312132890901772E-3,{"$f":"+$L312*Photonic!BB318","v":5.1855204880347984E-4},{"$f":"+$L312*Photonic!BC318","v":1.9060095579228923E-4},{"$f":"+$L312*Photonic!BD318","v":0},83.98,-13.2,9.32,null,null,0.45140000000000002,0.33200000000000002,0.22520000000000001,0.14940000000000001,0.17759999999999998,0.27400000000000002,0.45800000000000002,0.70099999999999996,0.79139999999999999,0.72260000000000002,8.4000000000000005E-2,2.4400000000000002E-2,0.747,8.7999999999999995E-2,8.7999999999999995E-2]
[{"$f":"Photonic!B319","v":667},{"$f":"Photonic!D319","v":2.8119054870501156E-4},null,null,null,null,null,null,41517481217.027672,217.37185923192311,41517481217.027672,4.5731472029128719E-3,{"$f":"+$L313*Photonic!BB319","v":4.9243649080965807E-4},{"$f":"+$L313*Photonic!BC319","v":1.8085882558079825E-4},{"$f":"+$L313*Photonic!BD319","v":0},84.210000000000008,-13.4,9.44,null,null,0.45180000000000003,0.33200000000000002,0.22640000000000002,0.14979999999999999,0.1782,0.27500000000000002,0.45900000000000002,0.70199999999999996,0.79280000000000006,0.72319999999999995,8.5000000000000006E-2,2.4799999999999999E-2,0.747,8.8999999999999996E-2,8.8999999999999996E-2]
[{"$f":"Photonic!B320","v":668},{"$f":"Photonic!D320","v":2.4921639540272057E-4},null,null,null,null,null,null,41900077231.340515,219.34405163418592,41900077231.340515,4.615290122989218E-3,{"$f":"+$L314*Photonic!BB320","v":4.6577507921207194E-4},{"$f":"+$L314*Photonic!BC320","v":1.7091342383453674E-4},{"$f":"+$L314*Photonic!BD320","v":0},84.44,-13.6,9.56,null,null,0.45219999999999999,0.33200000000000002,0.2276,0.1502,0.17879999999999999,0.27600000000000002,0.46,0.70299999999999996,0.79420000000000002,0.7238,8.5999999999999993E-2,2.52E-2,0.747,0.09,0.09]
[{"$f":"Photonic!B321","v":669},{"$f":"Photonic!D321","v":2.315127244927846E-4},null,null,null,null,null,null,42284566445.99025,221.31624403644878,42284566445.99025,4.6576415789297684E-3,{"$f":"+$L315*Photonic!BB321","v":4.3856353107202701E-4},{"$f":"+$L315*Photonic!BC321","v":1.6076315673833988E-4},{"$f":"+$L315*Photonic!BD321","v":0},84.67,-13.8,9.68,null,null,0.4526,0.33200000000000002,0.2288,0.15059999999999998,0.1794,0.27700000000000002,0.46100000000000002,0.70399999999999996,0.79560000000000008,0.72439999999999993,8.6999999999999994E-2,2.5599999999999998E-2,0.747,9.0999999999999998E-2,9.0999999999999998E-2]
[{"$f":"Photonic!B322","v":670},{"$f":"Photonic!D322","v":2.1380905358284858E-4},null,null,null,null,null,null,42670944500.804604,223.28843643871164,42670944500.804604,4.7002010904619012E-3,{"$f":"+$L316*Photonic!BB322","v":4.1079757530637021E-4},{"$f":"+$L316*Photonic!BC322","v":1.5040643489478084E-4},{"$f":"+$L316*Photonic!BD322","v":0},84.9,-14,9.8000000000000007,null,null,0.45300000000000001,0.33200000000000002,0.23,0.151,0.18,0.27800000000000002,0.46200000000000002,0.70499999999999996,0.79700000000000004,0.72499999999999998,8.7999999999999995E-2,2.5999999999999999E-2,0.747,9.1999999999999998E-2,9.1999999999999998E-2]
[{"$f":"Photonic!B323","v":671},{"$f":"Photonic!D323","v":1.7662307192856713E-4},null,null,null,null,null,null,43059206946.453789,223.3313107939305,43059206946.453789,4.742968167492298E-3,{"$f":"+$L317*Photonic!BB323","v":3.9195888936156354E-4},{"$f":"+$L317*Photonic!BC323","v":1.4342735738496709E-4},{"$f":"+$L317*Photonic!BD323","v":0},84.54,-13.96,9.84,null,null,0.45319999999999999,0.33180000000000004,0.2316,0.15159999999999998,0.18059999999999998,0.27860000000000001,0.46280000000000004,0.70579999999999998,0.79820000000000002,0.7258,8.8999999999999996E-2,2.6799999999999997E-2,0.747,9.2799999999999994E-2,9.2799999999999994E-2]
[{"$f":"Photonic!B324","v":672},{"$f":"Photonic!D324","v":1.5751303463793528E-4},null,null,null,null,null,null,43449349245.022751,223.37418514914938,43449349245.022751,4.7859423101699831E-3,{"$f":"+$L318*Photonic!BB324","v":3.727291871160383E-4},{"$f":"+$L318*Photonic!BC324","v":1.363036369936411E-4},{"$f":"+$L318*Photonic!BD324","v":0},84.18,-13.92,9.8800000000000008,null,null,0.45340000000000003,0.33160000000000001,0.23319999999999999,0.1522,0.1812,0.2792,0.46360000000000001,0.70660000000000001,0.7994,0.72660000000000002,0.09,2.76E-2,0.747,9.3600000000000003E-2,9.3600000000000003E-2]
[{"$f":"Photonic!B325","v":673},{"$f":"Photonic!D325","v":1.3836163363022412E-4},null,null,null,null,null,null,43841366770.589958,223.41705950436824,43841366770.589958,4.8291230089500727E-3,{"$f":"+$L319*Photonic!BB325","v":3.5310547441442933E-4},{"$f":"+$L319*Photonic!BC325","v":1.2903416679914596E-4},{"$f":"+$L319*Photonic!BD325","v":0},83.82,-13.88,9.92,null,null,0.4536,0.33140000000000003,0.23480000000000001,0.15279999999999999,0.18179999999999999,0.27980000000000005,0.46440000000000003,0.70739999999999992,0.80060000000000009,0.72739999999999994,9.0999999999999998E-2,2.8399999999999998E-2,0.747,9.4399999999999998E-2,9.4399999999999998E-2]
[{"$f":"Photonic!B326","v":674},{"$f":"Photonic!D326","v":1.3377026103442296E-4},null,null,null,null,null,null,44235254809.811035,223.45993385958712,44235254809.811035,4.8725097446580641E-3,{"$f":"+$L320*Photonic!BB326","v":3.330847661448253E-4},{"$f":"+$L320*Photonic!BC326","v":1.2161784322666528E-4},{"$f":"+$L320*Photonic!BD326","v":0},83.46,-13.84,9.9600000000000009,null,null,0.45380000000000004,0.33119999999999999,0.2364,0.15340000000000001,0.18240000000000001,0.28040000000000004,0.4652,0.70819999999999994,0.80180000000000007,0.72819999999999996,9.1999999999999998E-2,2.92E-2,0.747,9.5200000000000007E-2,9.5200000000000007E-2]
[{"$f":"Photonic!B327","v":675},{"$f":"Photonic!D327","v":1.291788884386218E-4},null,null,null,null,null,null,44631008562.507774,223.50280821480595,44631008562.507774,4.9161019885547172E-3,{"$f":"+$L321*Photonic!BB327","v":3.1266408647208003E-4},{"$f":"+$L321*Photonic!BC327","v":1.1405356613446944E-4},{"$f":"+$L321*Photonic!BD327","v":0},83.1,-13.8,10,null,null,0.45400000000000001,0.33100000000000002,0.23799999999999999,0.154,0.183,0.28100000000000003,0.46600000000000003,0.70899999999999996,0.80300000000000005,0.72899999999999998,9.2999999999999999E-2,0.03,0.747,9.6000000000000002E-2,9.6000000000000002E-2]
[{"$f":"Photonic!B328","v":676},{"$f":"Photonic!D328","v":1.1370885825096746E-4},null,null,null,null,null,null,45028623142.262222,223.54568257002484,45028623142.262222,4.9598992024014873E-3,{"$f":"+$L322*Photonic!BB328","v":2.9875456855745121E-4},{"$f":"+$L322*Photonic!BC328","v":1.0891938648473666E-4},{"$f":"+$L322*Photonic!BD328","v":0},82.74,-13.76,10.039999999999999,null,null,0.45419999999999999,0.33100000000000002,0.24059999999999998,0.15479999999999999,0.18359999999999999,0.28140000000000004,0.46640000000000004,0.70960000000000001,0.80420000000000003,0.72939999999999994,9.4799999999999995E-2,3.1E-2,0.747,9.7199999999999995E-2,9.7199999999999995E-2]
[{"$f":"Photonic!B329","v":677},{"$f":"Photonic!D329","v":1.0895203078684914E-4},null,null,null,null,null,null,45428093577.016129,223.58855692524372,45428093577.016129,5.003900838526561E-3,{"$f":"+$L323*Photonic!BB329","v":2.8456183288532848E-4},{"$f":"+$L323*Photonic!BC329","v":1.0368082537427034E-4},{"$f":"+$L323*Photonic!BD329","v":0},82.38,-13.72,10.08,null,null,0.45440000000000003,0.33100000000000002,0.2432,0.15559999999999999,0.1842,0.28179999999999999,0.46680000000000005,0.71019999999999994,0.8054,0.7298,9.6599999999999991E-2,3.2000000000000001E-2,0.747,9.8400000000000001E-2,9.8400000000000001E-2]
[{"$f":"Photonic!B330","v":678},{"$f":"Photonic!D330","v":1.0423656703981011E-4},null,null,null,null,null,null,45829414809.674965,223.63143128046261,45829414809.674965,5.0481063398913834E-3,{"$f":"+$L324*Photonic!BB330","v":2.7008378539686881E-4},{"$f":"+$L324*Photonic!BC330","v":9.8337111501084154E-5},{"$f":"+$L324*Photonic!BD330","v":0},82.02,-13.68,10.119999999999999,null,null,0.4546,0.33100000000000002,0.24579999999999999,0.15640000000000001,0.18479999999999999,0.28220000000000001,0.4672,0.71079999999999999,0.80660000000000009,0.73019999999999996,9.8400000000000001E-2,3.3000000000000002E-2,0.747,9.9599999999999994E-2,9.9599999999999994E-2]
[{"$f":"Photonic!B331","v":679},{"$f":"Photonic!D331","v":9.4722912111573464E-5},null,null,null,null,null,null,46232581698.716568,223.67430563568149,46232581698.716568,5.0925151401577037E-3,{"$f":"+$L325*Photonic!BB331","v":2.5531833906694665E-4},{"$f":"+$L325*Photonic!BC331","v":9.2887476156476519E-5},{"$f":"+$L325*Photonic!BD331","v":0},81.66,-13.64,10.16,null,null,0.45480000000000004,0.33100000000000002,0.24840000000000001,0.15720000000000001,0.18540000000000001,0.28259999999999996,0.46760000000000002,0.71139999999999992,0.80780000000000007,0.73060000000000003,0.1002,3.4000000000000002E-2,0.747,0.1008,0.1008]
[{"$f":"Photonic!B332","v":680},{"$f":"Photonic!D332","v":1.0179610773213201E-4},null,null,null,null,null,null,46637589018.804955,223.71717999090032,46637589018.804955,5.137126663755185E-3,{"$f":"+$L326*Photonic!BB332","v":2.4026341406382999E-4},{"$f":"+$L326*Photonic!BC332","v":8.7331153283838159E-5},{"$f":"+$L326*Photonic!BD332","v":0},81.3,-13.6,10.199999999999999,null,null,0.45500000000000002,0.33100000000000002,0.251,0.158,0.186,0.28299999999999997,0.46800000000000003,0.71199999999999997,0.80900000000000005,0.73099999999999998,0.10199999999999999,3.5000000000000003E-2,0.747,0.10199999999999999,0.10199999999999999]
[{"$f":"Photonic!B333","v":681},{"$f":"Photonic!D333","v":1.0882793963561127E-4},null,null,null,null,null,null,47044431461.408691,{"$f":"+P327+$H$11*Q327+$H$12*R327","v":220.27993534169764},{"$f":"IF($E$6<=$K$4,I327,J327)","v":47044431461.408691},{"$f":"+K327/$L$4","v":5.1819403259495203E-3},{"$f":"+$L327*Photonic!BB333","v":2.2798464658047509E-4},{"$f":"+$L327*Photonic!BC333","v":8.2828134169977144E-5},{"$f":"+$L327*Photonic!BD333","v":0},80.36,-13.44,10.01,null,null,0.45540000000000003,0.33080000000000004,0.25459999999999999,0.1588,0.18659999999999999,0.28359999999999996,0.46840000000000004,0.71260000000000001,0.81,0.73180000000000001,0.104,3.6600000000000001E-2,0.747,0.1036,0.1036]
[{"$f":"Photonic!B334","v":682},{"$f":"Photonic!D334","v":9.9893376746484691E-5},null,null,null,null,null,null,47453103635.422821,216.84269069249495,47453103635.422821,5.2269555329109325E-3,{"$f":"+$L328*Photonic!BB334","v":2.1546556097765446E-4},{"$f":"+$L328*Photonic!BC334","v":7.8237070416610846E-5},{"$f":"+$L328*Photonic!BD334","v":0},79.42,-13.28,9.82,null,null,0.45580000000000004,0.3306,0.25819999999999999,0.15959999999999999,0.18720000000000001,0.28419999999999995,0.46879999999999999,0.71319999999999995,0.81100000000000005,0.73260000000000003,0.106,3.8199999999999998E-2,0.747,0.1052,0.1052]
[{"$f":"Photonic!B335","v":683},{"$f":"Photonic!D335","v":9.1000177574437403E-5},null,null,null,null,null,null,47863600067.795876,213.40544604329222,47863600067.795876,5.2721716817832444E-3,{"$f":"+$L329*Photonic!BB335","v":2.0270445682120215E-4},{"$f":"+$L329*Photonic!BC335","v":7.355733930423983E-5},{"$f":"+$L329*Photonic!BD335","v":0},78.47999999999999,-13.120000000000001,9.629999999999999,null,null,0.45619999999999999,0.33040000000000003,0.26180000000000003,0.16040000000000001,0.18779999999999999,0.2848,0.46920000000000001,0.71379999999999999,0.81199999999999994,0.73339999999999994,0.108,3.9800000000000002E-2,0.747,0.10679999999999999,0.10679999999999999]
[{"$f":"Photonic!B336","v":684},{"$f":"Photonic!D336","v":8.2189705836548682E-5},null,null,null,null,null,null,48275915204.161194,209.96820139408953,48275915204.161194,5.3175881607534174E-3,{"$f":"+$L330*Photonic!BB336","v":1.8969964004671741E-4},{"$f":"+$L330*Photonic!BC336","v":6.878832044750621E-5},{"$f":"+$L330*Photonic!BD336","v":0},77.539999999999992,-12.96,9.44,null,null,0.45660000000000001,0.33019999999999999,0.26540000000000002,0.16120000000000001,0.18840000000000001,0.28539999999999999,0.46959999999999996,0.71439999999999992,0.81299999999999994,0.73419999999999996,0.11,4.1399999999999999E-2,0.747,0.1084,0.1084]
[{"$f":"Photonic!B337","v":685},{"$f":"Photonic!D337","v":7.5695602255100201E-5},null,null,null,null,null,null,48690043409.471687,206.53095674488685,48690043409.471687,5.3632043491214703E-3,{"$f":"+$L331*Photonic!BB337","v":1.7644942308609637E-4},{"$f":"+$L331*Photonic!BC337","v":6.3929395841527922E-5},{"$f":"+$L331*Photonic!BD337","v":0},76.599999999999994,-12.8,9.25,null,null,0.45700000000000002,0.33,0.26900000000000002,0.16200000000000001,0.189,0.28599999999999998,0.47,0.71499999999999997,0.81399999999999995,0.73499999999999999,0.112,4.2999999999999997E-2,0.747,0.11,0.11]
[{"$f":"Photonic!B338","v":686},{"$f":"Photonic!D338","v":6.9242862390730996E-5},null,null,null,null,null,null,{"$f":"$G$5*((A332*0.000000001)^(-5)) / (EXP($G$6/(($E$6*0.000000001*A332)))-1)","v":49105978968.638855},203.09371209568414,49105978968.638855,5.4090196173708647E-3,{"$f":"+$L332*Photonic!BB338","v":1.6692234539206487E-4},{"$f":"+$L332*Photonic!BC338","v":6.0462021282971524E-5},{"$f":"+$L332*Photonic!BD338","v":0},75.66,-12.64,9.06,null,null,0.4572,0.32980000000000004,0.27279999999999999,0.16259999999999999,0.18959999999999999,0.28699999999999998,0.47059999999999996,0.71539999999999992,0.81499999999999995,0.73580000000000001,0.11460000000000001,4.5599999999999995E-2,0.747,0.11260000000000001,0.11260000000000001]
[{"$f":"Photonic!B339","v":687},{"$f":"Photonic!D339","v":9.2158361652657509E-5},null,null,null,null,null,null,49523716087.175774,199.65646744648143,49523716087.175774,5.4550333272393352E-3,{"$f":"+$L333*Photonic!BB339","v":1.5721406049103764E-4},{"$f":"+$L333*Photonic!BC339","v":5.6928727803069704E-5},{"$f":"+$L333*Photonic!BD339","v":0},74.72,-12.48,8.870000000000001,null,null,0.45740000000000003,0.3296,0.27660000000000001,0.16320000000000001,0.19020000000000001,0.28799999999999998,0.47119999999999995,0.71579999999999999,0.81599999999999995,0.73660000000000003,0.1172,4.82E-2,0.747,0.1152,0.1152]
[{"$f":"Photonic!B340","v":688},{"$f":"Photonic!D340","v":9.2778817408846866E-5},null,null,null,null,null,null,49943248891.843552,196.21922279727875,49943248891.843552,5.5012448317900923E-3,{"$f":"+$L334*Photonic!BB340","v":1.4732333659533869E-4},{"$f":"+$L334*Photonic!BC340","v":5.3329067399373155E-5},{"$f":"+$L334*Photonic!BD340","v":0},73.78,-12.32,8.68,null,null,0.45760000000000001,0.32940000000000003,0.28039999999999998,0.1638,0.1908,0.28899999999999998,0.4718,0.71619999999999995,0.81699999999999995,0.73739999999999994,0.1198,5.0799999999999998E-2,0.747,0.1178,0.1178]
[{"$f":"Photonic!B341","v":689},{"$f":"Photonic!D341","v":9.3399273165036196E-5},null,null,null,null,null,null,50364571431.301331,192.78197814807604,50364571431.301331,5.5476534754834205E-3,{"$f":"+$L335*Photonic!BB341","v":1.3724894698345983E-4},{"$f":"+$L335*Photonic!BC341","v":4.9662593912527576E-5},{"$f":"+$L335*Photonic!BD341","v":0},72.84,-12.16,8.49,null,null,0.45780000000000004,0.32919999999999999,0.28420000000000001,0.16440000000000002,0.19140000000000001,0.28999999999999998,0.47239999999999999,0.71660000000000001,0.81799999999999995,0.73819999999999997,0.12239999999999999,5.3400000000000003E-2,0.747,0.12039999999999999,0.12039999999999999]
[{"$f":"Photonic!B342","v":690},{"$f":"Photonic!D342","v":1.0163065286381485E-4},null,null,null,null,null,null,50787677676.760078,189.34473349887332,50787677676.760078,5.5942585942486958E-3,{"$f":"+$L336*Photonic!BB342","v":1.269896700894454E-4},{"$f":"+$L336*Photonic!BC342","v":4.5928863058781795E-5},{"$f":"+$L336*Photonic!BD342","v":0},71.900000000000006,-12,8.3000000000000007,null,null,0.45800000000000002,0.32900000000000001,0.28799999999999998,0.16500000000000001,0.192,0.29099999999999998,0.47299999999999998,0.71699999999999997,0.81899999999999995,0.73899999999999999,0.125,5.6000000000000001E-2,0.747,0.123,0.123]
[{"$f":"Photonic!B343","v":691},{"$f":"Photonic!D343","v":7.8963335904364094E-5},null,null,null,null,null,null,51212561522.63974,191.32760023932721,51212561522.63974,5.6410595155567669E-3,{"$f":"+$L337*Photonic!BB343","v":1.2031251734779473E-4},{"$f":"+$L337*Photonic!BC343","v":4.3507235619683122E-5},{"$f":"+$L337*Photonic!BD343","v":0},72.14,-12.13,8.43,null,null,0.45840000000000003,0.32880000000000004,0.2928,0.1656,0.19259999999999999,0.29199999999999998,0.4738,0.71739999999999993,0.82,0.73960000000000004,0.12820000000000001,5.96E-2,0.74680000000000002,0.1258,0.1258]
[{"$f":"Photonic!B344","v":692},{"$f":"Photonic!D344","v":5.6296018944913317E-5},null,null,null,null,null,null,51639216787.22905,193.3104669797811,51639216787.22905,5.6880555584926376E-3,{"$f":"+$L338*Photonic!BB344","v":1.1351083672527909E-4},{"$f":"+$L338*Photonic!BC344","v":4.1040458465636074E-5},{"$f":"+$L338*Photonic!BD344","v":0},72.38,-12.26,8.56,null,null,0.45880000000000004,0.3286,0.29759999999999998,0.16620000000000001,0.19320000000000001,0.29299999999999998,0.47459999999999997,0.71779999999999999,0.82099999999999995,0.74019999999999997,0.13139999999999999,6.3200000000000006E-2,0.74660000000000004,0.12859999999999999,0.12859999999999999]
[{"$f":"Photonic!B345","v":693},{"$f":"Photonic!D345","v":6.0101480916207972E-5},null,null,null,null,null,null,52067637213.349236,195.29333372023501,52067637213.349236,5.7352460338285722E-3,{"$f":"+$L339*Photonic!BB345","v":1.0658381229267019E-4},{"$f":"+$L339*Photonic!BC345","v":3.8528235806053585E-5},{"$f":"+$L339*Photonic!BD345","v":0},72.62,-12.39,8.69,null,null,0.4592,0.32840000000000003,0.3024,0.1668,0.1938,0.29399999999999998,0.47539999999999999,0.71819999999999995,0.82199999999999995,0.74080000000000001,0.1346,6.6799999999999998E-2,0.74639999999999995,0.13140000000000002,0.13140000000000002]
[{"$f":"Photonic!B346","v":694},{"$f":"Photonic!D346","v":6.3906942887502621E-5},null,null,null,null,null,null,52497816469.020287,197.2762004606889,52497816469.020287,5.7826302440974831E-3,{"$f":"+$L340*Photonic!BB346","v":9.9530631761405889E-5},{"$f":"+$L340*Photonic!BC346","v":3.5970273170383987E-5},{"$f":"+$L340*Photonic!BD346","v":0},72.86,-12.52,8.82,null,null,0.45960000000000001,0.32819999999999999,0.30719999999999997,0.16740000000000002,0.19440000000000002,0.29499999999999998,0.47619999999999996,0.71860000000000002,0.82299999999999995,0.74139999999999995,0.13779999999999998,7.039999999999999E-2,0.74619999999999997,0.13420000000000001,0.13420000000000001]
[{"$f":"Photonic!B347","v":695},{"$f":"Photonic!D347","v":6.2748758809282515E-5},null,null,null,null,null,null,52929748148.130539,199.25906720114278,52929748148.130539,5.8302074836666887E-3,{"$f":"+$L341*Photonic!BB347","v":9.235048654128035E-5},{"$f":"+$L341*Photonic!BC347","v":3.3366277429024461E-5},{"$f":"+$L341*Photonic!BD347","v":0},73.099999999999994,-12.65,8.9499999999999993,null,null,0.46,0.32800000000000001,0.312,0.16800000000000001,0.19500000000000001,0.29599999999999999,0.47699999999999998,0.71899999999999997,0.82399999999999995,0.74199999999999999,0.14099999999999999,7.3999999999999996E-2,0.746,0.13700000000000001,0.13700000000000001]
[{"$f":"Photonic!B348","v":696},{"$f":"Photonic!D348","v":6.4734217229088417E-5},null,null,null,null,null,null,53363425771.108315,201.24193394159667,53363425771.108315,5.8779770388118916E-3,{"$f":"+$L342*Photonic!BB348","v":8.7839313272597151E-5},{"$f":"+$L342*Photonic!BC348","v":3.1734022437137636E-5},{"$f":"+$L342*Photonic!BD348","v":0},73.339999999999989,-12.780000000000001,9.08,null,null,0.46040000000000003,0.32800000000000001,0.31759999999999999,0.16840000000000002,0.1958,0.29719999999999996,0.47819999999999996,0.71939999999999993,0.82479999999999998,0.74280000000000002,0.14499999999999999,7.8600000000000003E-2,0.746,0.14000000000000001,0.14000000000000001]
[{"$f":"Photonic!B349","v":697},{"$f":"Photonic!D349","v":6.6678311931815028E-5},null,null,null,null,null,null,53798842785.59726,203.22480068205056,53798842785.59726,5.9259381877915683E-3,{"$f":"+$L343*Photonic!BB349","v":8.3245209286820831E-5},{"$f":"+$L343*Photonic!BC349","v":3.007176592776709E-5},{"$f":"+$L343*Photonic!BD349","v":0},73.58,-12.91,9.2099999999999991,null,null,0.46080000000000004,0.32800000000000001,0.32319999999999999,0.16880000000000001,0.1966,0.2984,0.47939999999999999,0.7198,0.8256,0.74360000000000004,0.14899999999999999,8.3199999999999996E-2,0.746,0.14300000000000002,0.14300000000000002]
[{"$f":"Photonic!B350","v":698},{"$f":"Photonic!D350","v":9.5963823623952164E-5},null,null,null,null,null,null,54235992567.133652,205.20766742250447,54235992567.133652,5.974090200921575E-3,{"$f":"+$L344*Photonic!BB350","v":7.8567649868400001E-5},{"$f":"+$L344*Photonic!BC350","v":2.8379318090457851E-5},{"$f":"+$L344*Photonic!BD350","v":0},73.819999999999993,-13.040000000000001,9.34,null,null,0.4612,0.32800000000000001,0.32880000000000004,0.16920000000000002,0.19740000000000002,0.29959999999999998,0.48059999999999997,0.72019999999999995,0.82639999999999991,0.74439999999999995,0.153,8.7800000000000003E-2,0.746,0.14599999999999999,0.14599999999999999]
[{"$f":"Photonic!B351","v":699},{"$f":"Photonic!D351","v":1.1333658479725384E-4},null,null,null,null,null,null,54674868419.826218,207.19053416295836,54674868419.826218,6.0224323406500285E-3,{"$f":"+$L345*Photonic!BB351","v":7.3806112821134221E-5},{"$f":"+$L345*Photonic!BC351","v":2.6656490026185157E-5},{"$f":"+$L345*Photonic!BD351","v":0},74.06,-13.17,9.4699999999999989,null,null,0.46160000000000001,0.32800000000000001,0.33440000000000003,0.1696,0.19820000000000002,0.30080000000000001,0.48180000000000001,0.72060000000000002,0.82719999999999994,0.74519999999999997,0.157,9.2399999999999996E-2,0.746,0.14899999999999999,0.14899999999999999]
[{"$f":"Photonic!B352","v":700},{"$f":"Photonic!D352","v":7.8591062450650479E-5},null,null,null,null,null,null,55115463577.038269,209.17340090341224,55115463577.038269,6.0709638616324446E-3,{"$f":"+$L346*Photonic!BB352","v":6.8960078504282939E-5},{"$f":"+$L346*Photonic!BC352","v":2.4903093760416286E-5},{"$f":"+$L346*Photonic!BD352","v":0},74.3,-13.3,9.6,null,null,0.46200000000000002,0.32800000000000001,0.34,0.17,0.19900000000000001,0.30199999999999999,0.48299999999999998,0.72099999999999997,0.82799999999999996,0.746,0.161,9.7000000000000003E-2,0.746,0.152,0.152]
[{"$f":"Photonic!B353","v":701},{"$f":"Photonic!D353","v":6.4237852624136945E-5},null,null,null,null,null,null,55557771202.073051,208.02538580002619,55557771202.073051,6.1196840108072286E-3,{"$f":"+$L347*Photonic!BB353","v":6.5538143945338933E-5},{"$f":"+$L347*Photonic!BC353","v":2.3667265943395875E-5},{"$f":"+$L347*Photonic!BD353","v":0},74.509999999999991,-13.26,9.49,null,null,0.4622,0.32780000000000004,0.34520000000000001,0.17020000000000002,0.19920000000000002,0.30419999999999997,0.48419999999999996,0.7208,0.82839999999999991,0.74639999999999995,0.16520000000000001,0.1032,0.746,0.15540000000000001,0.15540000000000001]
[{"$f":"Photonic!B354","v":702},{"$f":"Photonic!D354","v":6.5975128741467117E-5},null,null,null,null,null,null,56001784388.859337,206.87737069664013,56001784388.859337,6.1685920274711908E-3,{"$f":"+$L348*Photonic!BB354","v":6.2054802077954685E-5},{"$f":"+$L348*Photonic!BC354","v":2.2409261117397339E-5},{"$f":"+$L348*Photonic!BD354","v":0},74.72,-13.22,9.3800000000000008,null,null,0.46240000000000003,0.3276,0.35039999999999999,0.17040000000000002,0.19940000000000002,0.30640000000000001,0.4854,0.72060000000000002,0.82879999999999998,0.74680000000000002,0.1694,0.1094,0.746,0.1588,0.1588]
[{"$f":"Photonic!B355","v":703},{"$f":"Photonic!D355","v":6.7712404858797276E-5},null,null,null,null,null,null,56447496162.641136,205.72935559325404,56447496162.641136,6.2176871433555232E-3,{"$f":"+$L349*Photonic!BB355","v":5.8509679556404148E-5},{"$f":"+$L349*Photonic!BC355","v":2.112894445055074E-5},{"$f":"+$L349*Photonic!BD355","v":0},74.929999999999993,-13.18,9.27,null,null,0.46260000000000001,0.32740000000000002,0.35560000000000003,0.1706,0.1996,0.30859999999999999,0.48659999999999998,0.72039999999999993,0.82919999999999994,0.74719999999999998,0.1736,0.11560000000000001,0.746,0.16220000000000001,0.16220000000000001]
[{"$f":"Photonic!B356","v":704},{"$f":"Photonic!D356","v":8.4464710275909617E-5},null,null,null,null,null,null,56894899480.667999,204.58134048986798,56894899480.667999,6.2669685827018325E-3,{"$f":"+$L350*Photonic!BB356","v":5.4902404965617677E-5},{"$f":"+$L350*Photonic!BC356","v":1.9826181808235516E-5},{"$f":"+$L350*Photonic!BD356","v":0},75.14,-13.14,9.16,null,null,0.46280000000000004,0.32719999999999999,0.36080000000000001,0.17080000000000001,0.19980000000000001,0.31080000000000002,0.48780000000000001,0.72019999999999995,0.8296,0.74760000000000004,0.17779999999999999,0.12180000000000001,0.746,0.1656,0.1656]
[{"$f":"Photonic!B357","v":705},{"$f":"Photonic!D357","v":1.0121701569302196E-4},null,null,null,null,null,null,57343987232.888138,203.43332538648193,57343987232.888138,6.3164355623384887E-3,{"$f":"+$L351*Photonic!BB357","v":5.1232608846127486E-5},{"$f":"+$L351*Photonic!BC357","v":1.8500839762089435E-5},{"$f":"+$L351*Photonic!BD357","v":0},75.349999999999994,-13.1,9.0500000000000007,null,null,0.46300000000000002,0.32700000000000001,0.36599999999999999,0.17100000000000001,0.2,0.313,0.48899999999999999,0.72,0.83,0.748,0.182,0.128,0.746,0.16900000000000001,0.16900000000000001]
[{"$f":"Photonic!B358","v":706},{"$f":"Photonic!D358","v":7.0566501337268278E-5},null,null,null,null,null,null,57794752242.642281,202.28531028309587,57794752242.642281,6.366087291757052E-3,{"$f":"+$L352*Photonic!BB358","v":4.8680196302607831E-5},{"$f":"+$L352*Photonic!BC358","v":1.7579313447457926E-5},{"$f":"+$L352*Photonic!BD358","v":0},75.56,-13.06,8.9400000000000013,null,null,0.4632,0.32680000000000003,0.37080000000000002,0.17080000000000001,0.19980000000000001,0.31540000000000001,0.4904,0.7198,0.83019999999999994,0.74819999999999998,0.1862,0.1356,0.74580000000000002,0.17280000000000001,0.17280000000000001]
[{"$f":"Photonic!B359","v":707},{"$f":"Photonic!D359","v":7.8301516431095446E-5},null,null,null,null,null,null,58247187267.359726,201.13729517970978,58247187267.359726,6.4159229731889453E-3,{"$f":"+$L353*Photonic!BB359","v":4.6083008347226921E-5},{"$f":"+$L353*Photonic!BC359","v":1.6641621007857488E-5},{"$f":"+$L353*Photonic!BD359","v":0},75.77,-13.02,8.83,null,null,0.46340000000000003,0.3266,0.37559999999999999,0.1706,0.1996,0.31780000000000003,0.49180000000000001,0.71960000000000002,0.83039999999999992,0.74839999999999995,0.19040000000000001,0.14319999999999999,0.74560000000000004,0.17660000000000001,0.17660000000000001]
[{"$f":"Photonic!B360","v":708},{"$f":"Photonic!D360","v":8.6036531524922614E-5},null,null,null,null,null,null,58701284999.256813,199.98928007632372,58701284999.256813,6.4659418016823882E-3,{"$f":"+$L354*Photonic!BB360","v":4.344078340042296E-5},{"$f":"+$L354*Photonic!BC360","v":1.5687667999241809E-5},{"$f":"+$L354*Photonic!BD360","v":0},75.98,-12.98,8.7200000000000006,null,null,0.46360000000000001,0.32640000000000002,0.38040000000000002,0.17040000000000002,0.19940000000000002,0.32019999999999998,0.49319999999999997,0.71939999999999993,0.8306,0.74860000000000004,0.1946,0.15080000000000002,0.74539999999999995,0.1804,0.1804]
[{"$f":"Photonic!B361","v":709},{"$f":"Photonic!D361","v":7.7184696069954631E-5},null,null,null,null,null,null,59157038066.03492,198.84126497293764,59157038066.03492,6.5161429651792828E-3,{"$f":"+$L355*Photonic!BB361","v":4.0753261332824271E-5},{"$f":"+$L355*Photonic!BC361","v":1.4717360501153928E-5},{"$f":"+$L355*Photonic!BD361","v":0},76.19,-12.94,8.61,null,null,0.46380000000000005,0.32619999999999999,0.38519999999999999,0.17020000000000002,0.19920000000000002,0.3226,0.49459999999999998,0.71919999999999995,0.83079999999999998,0.74880000000000002,0.1988,0.15840000000000001,0.74519999999999997,0.1842,0.1842]
[{"$f":"Photonic!B362","v":710},{"$f":"Photonic!D362","v":7.5199237650148715E-5},null,null,null,null,null,null,59614439031.581184,197.69324986955158,59614439031.581184,6.5665256445923978E-3,{"$f":"+$L356*Photonic!BB362","v":3.8020183482189984E-5},{"$f":"+$L356*Photonic!BC362","v":1.3730605122842704E-5},{"$f":"+$L356*Photonic!BD362","v":0},76.400000000000006,-12.9,8.5,null,null,0.46400000000000002,0.32600000000000001,0.39,0.17,0.19900000000000001,0.32500000000000001,0.496,0.71899999999999997,0.83099999999999996,0.749,0.20300000000000001,0.16600000000000001,0.745,0.188,0.188]
[{"$f":"Photonic!B363","v":711},{"$f":"Photonic!D363","v":7.3213779230342813E-5},null,null,null,null,null,null,60073480396.671234,194.23885745026092,60073480396.671234,6.6170890138827756E-3,{"$f":"+$L357*Photonic!BB363","v":3.6088280063913884E-5},{"$f":"+$L357*Photonic!BC363","v":1.3033018521743516E-5},{"$f":"+$L357*Photonic!BD363","v":0},75.09,-12.67,8.35,null,null,0.4642,0.32580000000000003,0.39440000000000003,0.1696,0.1988,0.3276,0.49740000000000001,0.71960000000000002,0.83139999999999992,0.74939999999999996,0.20700000000000002,0.17480000000000001,0.74480000000000002,0.1918,0.1918]
[{"$f":"Photonic!B364","v":712},{"$f":"Photonic!D364","v":8.5457439485812575E-5},null,null,null,null,null,null,60534154599.67038,190.78446503097024,60534154599.67038,6.6678322401369635E-3,{"$f":"+$L358*Photonic!BB364","v":3.4123298272124927E-5},{"$f":"+$L358*Photonic!BC364","v":1.2323487546221135E-5},{"$f":"+$L358*Photonic!BD364","v":0},73.78,-12.44,8.1999999999999993,null,null,0.46440000000000003,0.3256,0.39879999999999999,0.16920000000000002,0.1986,0.33019999999999999,0.49880000000000002,0.72019999999999995,0.83179999999999998,0.74980000000000002,0.21100000000000002,0.18360000000000001,0.74460000000000004,0.1956,0.1956]
[{"$f":"Photonic!B365","v":713},{"$f":"Photonic!D365","v":9.4764275828652768E-5},null,null,null,null,null,null,60996454017.239059,187.33007261167961,60996454017.239059,6.7187544836447271E-3,{"$f":"+$L359*Photonic!BB365","v":3.2125052688098894E-5},{"$f":"+$L359*Photonic!BC365","v":1.1601945242357715E-5},{"$f":"+$L359*Photonic!BD365","v":0},72.47,-12.21,8.0500000000000007,null,null,0.46460000000000001,0.32540000000000002,0.4032,0.16880000000000001,0.19840000000000002,0.33280000000000004,0.50019999999999998,0.7208,0.83219999999999994,0.75019999999999998,0.215,0.19239999999999999,0.74439999999999995,0.19939999999999999,0.19939999999999999]
[{"$f":"Photonic!B366","v":714},{"$f":"Photonic!D366","v":7.6191966860051673E-5},null,null,null,null,null,null,61460370965.03669,183.87568019238893,61460370965.03669,6.7698548979765695E-3,{"$f":"+$L360*Photonic!BB366","v":3.0093358992485446E-5},{"$f":"+$L360*Photonic!BC366","v":1.0868325053211585E-5},{"$f":"+$L360*Photonic!BD366","v":0},71.16,-11.98,7.9,null,null,0.46480000000000005,0.32519999999999999,0.40759999999999996,0.16840000000000002,0.19820000000000002,0.33540000000000003,0.50160000000000005,0.72139999999999993,0.83260000000000001,0.75060000000000004,0.219,0.20119999999999999,0.74419999999999997,0.20319999999999999,0.20319999999999999]
[{"$f":"Photonic!B367","v":715},{"$f":"Photonic!D367","v":7.7474242089509664E-5},null,null,null,null,null,null,61925897698.428604,180.42128777309827,61925897698.428604,6.8211326300616085E-3,{"$f":"+$L361*Photonic!BB367","v":2.8028033976923149E-5},{"$f":"+$L361*Photonic!BC367","v":1.0122560823011427E-5},{"$f":"+$L361*Photonic!BD367","v":0},69.849999999999994,-11.75,7.75,null,null,0.46500000000000002,0.32500000000000001,0.41199999999999998,0.16800000000000001,0.19800000000000001,0.33800000000000002,0.503,0.72199999999999998,0.83299999999999996,0.751,0.223,0.21,0.74399999999999999,0.20699999999999999,0.20699999999999999]
[{"$f":"Photonic!B368","v":716},{"$f":"Photonic!D368","v":8.7029260734825586E-5},null,null,null,null,null,null,62393026413.191902,176.96689535380759,62393026413.191902,6.8725868202653227E-3,{"$f":"+$L362*Photonic!BB368","v":2.6576293233966E-5},{"$f":"+$L362*Photonic!BC368","v":9.5982547531825489E-6},{"$f":"+$L362*Photonic!BD368","v":0},68.539999999999992,-11.52,7.6,null,null,0.4652,0.32480000000000003,0.4158,0.1676,0.1976,0.34060000000000001,0.50460000000000005,0.72260000000000002,0.83339999999999992,0.75139999999999996,0.2268,0.21939999999999998,0.74380000000000002,0.21079999999999999,0.21079999999999999]
[{"$f":"Photonic!B369","v":717},{"$f":"Photonic!D369","v":9.6542915663062217E-5},null,null,null,null,null,null,62861749246.222916,173.51250293451693,62861749246.222916,6.9242166024674773E-3,{"$f":"+$L363*Photonic!BB369","v":2.5100285183944602E-5},{"$f":"+$L363*Photonic!BC369","v":9.0651843759504207E-6},{"$f":"+$L363*Photonic!BD369","v":0},67.22999999999999,-11.29,7.45,null,null,0.46540000000000004,0.3246,0.41959999999999997,0.16720000000000002,0.19720000000000001,0.34320000000000001,0.50619999999999998,0.72319999999999995,0.83379999999999999,0.75180000000000002,0.2306,0.2288,0.74360000000000004,0.21459999999999999,0.21459999999999999]
[{"$f":"Photonic!B370","v":718},{"$f":"Photonic!D370","v":8.5829712939526176E-5},null,null,null,null,null,null,63332058276.245697,170.0581105152263,63332058276.245697,6.9760211041401659E-3,{"$f":"+$L364*Photonic!BB370","v":2.3599879395306184E-5},{"$f":"+$L364*Photonic!BC370","v":8.5233025850384559E-6},{"$f":"+$L364*Photonic!BD370","v":0},65.92,-11.06,7.3,null,null,0.46560000000000001,0.32440000000000002,0.4234,0.1668,0.1968,0.3458,0.50780000000000003,0.7238,0.83419999999999994,0.75219999999999998,0.2344,0.2382,0.74339999999999995,0.21840000000000001,0.21840000000000001]
[{"$f":"Photonic!B371","v":719},{"$f":"Photonic!D371","v":8.1072885475407853E-5},null,null,null,null,null,null,63803945524.520096,166.60371809593562,63803945524.520096,7.027999446425807E-3,{"$f":"+$L365*Photonic!BB371","v":2.207494626122346E-5},{"$f":"+$L365*Photonic!BC371","v":7.9725625720254354E-6},{"$f":"+$L365*Photonic!BD371","v":0},64.61,-10.83,7.15,null,null,0.46580000000000005,0.32419999999999999,0.42719999999999997,0.16640000000000002,0.19640000000000002,0.34839999999999999,0.50939999999999996,0.72439999999999993,0.83460000000000001,0.75260000000000005,0.2382,0.24760000000000001,0.74319999999999997,0.22220000000000001,0.22220000000000001]
[{"$f":"Photonic!B372","v":720},{"$f":"Photonic!D372","v":7.6274694294210254E-5},null,null,null,null,null,null,64277402955.550766,163.14932567664493,64277402955.550766,7.0801507442152358E-3,{"$f":"+$L366*Photonic!BB372","v":2.0525357007479969E-5},{"$f":"+$L366*Photonic!BC372","v":7.4129178291933513E-6},{"$f":"+$L366*Photonic!BD372","v":0},63.3,-10.6,7,null,null,0.46600000000000003,0.32400000000000001,0.43099999999999999,0.16600000000000001,0.19600000000000001,0.35099999999999998,0.51100000000000001,0.72499999999999998,0.83499999999999996,0.753,0.24199999999999999,0.25700000000000001,0.74299999999999999,0.22600000000000001,0.22600000000000001]
[{"$f":"Photonic!B373","v":721},{"$f":"Photonic!D373","v":7.3999689854849319E-5},null,null,null,null,null,null,64752422477.796669,164.86042187777639,64752422477.796669,7.1324741062258603E-3,{"$f":"+$L367*Photonic!BB373","v":1.9464521835890375E-5},{"$f":"+$L367*Photonic!BC373","v":7.0297664790962069E-6},{"$f":"+$L367*Photonic!BD373","v":0},64.14,-10.7,7.06,null,null,0.46600000000000003,0.32400000000000001,0.43419999999999997,0.1656,0.1958,0.35359999999999997,0.51239999999999997,0.72539999999999993,0.83519999999999994,0.75319999999999998,0.245,0.2666,0.74319999999999997,0.22939999999999999,0.22939999999999999]
[{"$f":"Photonic!B374","v":722},{"$f":"Photonic!D374","v":7.1683321698409093E-5},null,null,null,null,null,null,65228995944.380943,166.57151807890779,65228995944.380943,7.1849686350798532E-3,{"$f":"+$L368*Photonic!BB374","v":1.8386334737169345E-5},{"$f":"+$L368*Photonic!BC374","v":6.6403480125408008E-6},{"$f":"+$L368*Photonic!BD374","v":0},64.98,-10.799999999999999,7.12,null,null,0.46600000000000003,0.32400000000000001,0.43740000000000001,0.16520000000000001,0.1956,0.35619999999999996,0.51380000000000003,0.7258,0.83539999999999992,0.75339999999999996,0.248,0.2762,0.74339999999999995,0.23280000000000001,0.23280000000000001]
[{"$f":"Photonic!B375","v":723},{"$f":"Photonic!D375","v":8.9841993496217283E-5},null,null,null,null,null,null,65707115153.799927,168.28261428003921,65707115153.799927,7.2376334273822479E-3,{"$f":"+$L369*Photonic!BB375","v":1.729070625801619E-5},{"$f":"+$L369*Photonic!BC375","v":6.2446301211454032E-6},{"$f":"+$L369*Photonic!BD375","v":0},65.819999999999993,-10.9,7.18,null,null,0.46600000000000003,0.32400000000000001,0.44059999999999999,0.1648,0.19540000000000002,0.35880000000000001,0.51519999999999999,0.72619999999999996,0.83560000000000001,0.75360000000000005,0.251,0.2858,0.74360000000000004,0.23619999999999999,0.23619999999999999]
[{"$f":"Photonic!B376","v":724},{"$f":"Photonic!D376","v":9.1124268725675274E-5},null,null,null,null,null,null,66186771850.63372,169.99371048117064,66186771850.63372,7.2904675737992097E-3,{"$f":"+$L370*Photonic!BB376","v":1.6177547546260446E-5},{"$f":"+$L370*Photonic!BC376","v":5.8425807136426867E-6},{"$f":"+$L370*Photonic!BD376","v":0},66.66,-11,7.24,null,null,0.46600000000000003,0.32400000000000001,0.44380000000000003,0.16440000000000002,0.19520000000000001,0.3614,0.51660000000000006,0.72660000000000002,0.83579999999999999,0.75380000000000003,0.254,0.2954,0.74380000000000002,0.23960000000000001,0.23960000000000001]
[{"$f":"Photonic!B377","v":725},{"$f":"Photonic!D377","v":9.2447907672212529E-5},null,null,null,null,null,null,66667957726.256454,171.70480668230206,66667957726.256454,7.3434701591362696E-3,{"$f":"+$L371*Photonic!BB377","v":1.5046770356070217E-5},{"$f":"+$L371*Photonic!BC377","v":5.4341679177608397E-6},{"$f":"+$L371*Photonic!BD377","v":0},67.5,-11.1,7.3,null,null,0.46600000000000003,0.32400000000000001,0.44700000000000001,0.16400000000000001,0.19500000000000001,0.36399999999999999,0.51800000000000002,0.72699999999999998,0.83599999999999997,0.754,0.25700000000000001,0.30499999999999999,0.74399999999999999,0.24299999999999999,0.24299999999999999]
[{"$f":"Photonic!B378","v":726},{"$f":"Photonic!D378","v":7.0566501337268278E-5},null,null,null,null,null,null,67150664419.545097,173.41590288343349,67150664419.545097,7.3966402624164006E-3,{"$f":"+$L372*Photonic!BB378","v":1.4254805113728888E-5},{"$f":"+$L372*Photonic!BC378","v":5.1480616226418144E-6},{"$f":"+$L372*Photonic!BD378","v":0},68.34,-11.2,7.3599999999999994,null,null,0.46600000000000003,0.32400000000000001,0.4496,0.16400000000000001,0.19500000000000001,0.3664,0.51939999999999997,0.72739999999999994,0.83599999999999997,0.75419999999999998,0.2596,0.31479999999999997,0.74419999999999997,0.24640000000000001,0.24640000000000001]
[{"$f":"Photonic!B379","v":727},{"$f":"Photonic!D379","v":8.8146081095966401E-5},null,null,null,null,null,null,67634883517.589882,175.12699908456491,67634883517.589882,7.4499769569582727E-3,{"$f":"+$L373*Photonic!BB379","v":1.3450188398092466E-5},{"$f":"+$L373*Photonic!BC379","v":4.8573849759367935E-6},{"$f":"+$L373*Photonic!BD379","v":0},69.180000000000007,-11.299999999999999,7.42,null,null,0.46600000000000003,0.32400000000000001,0.45219999999999999,0.16400000000000001,0.19500000000000001,0.36880000000000002,0.52080000000000004,0.7278,0.83599999999999997,0.75439999999999996,0.26219999999999999,0.3246,0.74439999999999995,0.24979999999999999,0.24979999999999999]
[{"$f":"Photonic!B380","v":728},{"$f":"Photonic!D380","v":1.0572566085466454E-4},null,null,null,null,null,null,68120606556.404297,176.83809528569631,68120606556.404297,7.5034793104544542E-3,{"$f":"+$L374*Photonic!BB380","v":1.2632857767081121E-5},{"$f":"+$L374*Photonic!BC380","v":4.5621154207563076E-6},{"$f":"+$L374*Photonic!BD380","v":0},70.02,-11.4,7.4799999999999995,null,null,0.46600000000000003,0.32400000000000001,0.45480000000000004,0.16400000000000001,0.19500000000000001,0.37119999999999997,0.5222,0.72819999999999996,0.83599999999999997,0.75460000000000005,0.26480000000000004,0.33439999999999998,0.74460000000000004,0.25319999999999998,0.25319999999999998]
[{"$f":"Photonic!B381","v":729},{"$f":"Photonic!D381","v":1.0150656171257699E-4},null,null,null,null,null,null,68607825021.633354,178.54919148682774,68607825021.633354,7.5571463850494305E-3,{"$f":"+$L375*Photonic!BB381","v":1.1802751224170201E-5},{"$f":"+$L375*Photonic!BC381","v":4.2622305611678784E-6},{"$f":"+$L375*Photonic!BD381","v":0},70.86,-11.5,7.54,null,null,0.46600000000000003,0.32400000000000001,0.45740000000000003,0.16400000000000001,0.19500000000000001,0.37359999999999999,0.52360000000000007,0.72860000000000003,0.83599999999999997,0.75480000000000003,0.26740000000000003,0.34420000000000001,0.74480000000000002,0.25659999999999999,0.25659999999999999]
[{"$f":"Photonic!B382","v":730},{"$f":"Photonic!D382","v":1.0092746967346693E-4},null,null,null,null,null,null,69096530349.262894,180.26028768795916,69096530349.262894,7.6109772374177345E-3,{"$f":"+$L376*Photonic!BB382","v":1.0959807221881538E-5},{"$f":"+$L376*Photonic!BC382","v":3.9577081634572219E-6},{"$f":"+$L376*Photonic!BD382","v":0},71.7,-11.6,7.6,null,null,0.46600000000000003,0.32400000000000001,0.46,0.16400000000000001,0.19500000000000001,0.376,0.52500000000000002,0.72899999999999998,0.83599999999999997,0.755,0.27,0.35399999999999998,0.745,0.26,0.26]
[{"$f":"Photonic!B383","v":731},{"$f":"Photonic!D383","v":1.0034837763435689E-4},null,null,null,null,null,null,69586713926.328308,181.35990246086749,69586713926.328308,7.6649709188420095E-3,{"$f":"+$L377*Photonic!BB383","v":1.0363040682274399E-5},{"$f":"+$L377*Photonic!BC383","v":3.7420388025786686E-6},{"$f":"+$L377*Photonic!BD383","v":0},72.23,-11.66,7.64,null,null,0.46600000000000003,0.32380000000000003,0.46240000000000003,0.16420000000000001,0.19520000000000001,0.37859999999999999,0.52639999999999998,0.72919999999999996,0.83619999999999994,0.755,0.27240000000000003,0.3634,0.74560000000000004,0.26340000000000002,0.26340000000000002]
[{"$f":"Photonic!B384","v":732},{"$f":"Photonic!D384","v":7.1393775678854073E-5},null,null,null,null,null,null,70078367091.622177,182.45951723377578,70078367091.622177,7.7191264752909583E-3,{"$f":"+$L378*Photonic!BB384","v":9.7569758647677723E-6},{"$f":"+$L378*Photonic!BC384","v":3.5230093233227933E-6},{"$f":"+$L378*Photonic!BD384","v":0},72.760000000000005,-11.72,7.68,null,null,0.46600000000000003,0.3236,0.46479999999999999,0.16440000000000002,0.19540000000000002,0.38119999999999998,0.52780000000000005,0.72939999999999994,0.83639999999999992,0.755,0.27479999999999999,0.37280000000000002,0.74619999999999997,0.26680000000000004,0.26680000000000004]
[{"$f":"Photonic!B385","v":733},{"$f":"Photonic!D385","v":7.8342880148174737E-5},null,null,null,null,null,null,70571481136.40126,183.55913200668408,70571481136.40126,7.7734429474972163E-3,{"$f":"+$L379*Photonic!BB385","v":9.1415689062567267E-6},{"$f":"+$L379*Photonic!BC385","v":3.3006038755073177E-6},{"$f":"+$L379*Photonic!BD385","v":0},73.289999999999992,-11.78,7.72,null,null,0.46600000000000003,0.32340000000000002,0.4672,0.1646,0.1956,0.38380000000000003,0.5292,0.72960000000000003,0.83660000000000001,0.755,0.2772,0.38219999999999998,0.74680000000000002,0.2702,0.2702]
[{"$f":"Photonic!B386","v":734},{"$f":"Photonic!D386","v":8.5250620900416123E-5},null,null,null,null,null,null,71066047305.093506,184.65874677959243,71066047305.093506,7.8279193710352295E-3,{"$f":"+$L380*Photonic!BB386","v":8.5167762756863296E-6},{"$f":"+$L380*Photonic!BC386","v":3.074806728942638E-6},{"$f":"+$L380*Photonic!BD386","v":0},73.819999999999993,-11.84,7.76,null,null,0.46600000000000003,0.32319999999999999,0.46959999999999996,0.1648,0.1958,0.38640000000000002,0.53060000000000007,0.7298,0.83679999999999999,0.755,0.27959999999999996,0.3916,0.74739999999999995,0.27360000000000001,0.27360000000000001]
[{"$f":"Photonic!B387","v":735},{"$f":"Photonic!D387","v":8.8683809417997177E-5},null,null,null,null,null,null,71562056796.004181,185.75836155250073,71562056796.004181,7.8825547763990318E-3,{"$f":"+$L381*Photonic!BB387","v":7.8825547763990313E-6},{"$f":"+$L381*Photonic!BC387","v":2.8456022742800506E-6},{"$f":"+$L381*Photonic!BD387","v":0},74.349999999999994,-11.9,7.8,null,null,0.46600000000000003,0.32300000000000001,0.47199999999999998,0.16500000000000001,0.19600000000000001,0.38900000000000001,0.53200000000000003,0.73,0.83699999999999997,0.755,0.28199999999999997,0.40100000000000002,0.748,0.27700000000000002,0.27700000000000002]
[{"$f":"Photonic!B388","v":736},{"$f":"Photonic!D388","v":9.3647455467511939E-5},null,null,null,null,null,null,72059500762.020035,186.85797632540908,72059500762.020035,7.9373481890798164E-3,{"$f":"+$L382*Photonic!BB388","v":7.445232601356868E-6},{"$f":"+$L382*Photonic!BC388","v":2.6875860968224257E-6},{"$f":"+$L382*Photonic!BD388","v":0},74.88,-11.96,7.84,null,null,0.4662,0.32280000000000003,0.4738,0.1656,0.19620000000000001,0.39140000000000003,0.53339999999999999,0.73,0.83719999999999994,0.755,0.28399999999999997,0.41000000000000003,0.74839999999999995,0.28040000000000004,0.28040000000000004]
[{"$f":"Photonic!B389","v":737},{"$f":"Photonic!D389","v":9.86111015170267E-5},null,null,null,null,null,null,72558370311.314407,187.95759109831738,72558370311.314407,7.9922986296435926E-3,{"$f":"+$L383*Photonic!BB389","v":7.0012535995677875E-6},{"$f":"+$L383*Photonic!BC389","v":2.5271648266933039E-6},{"$f":"+$L383*Photonic!BD389","v":0},75.41,-12.02,7.88,null,null,0.46640000000000004,0.3226,0.47559999999999997,0.16620000000000001,0.19640000000000002,0.39380000000000004,0.53480000000000005,0.73,0.83739999999999992,0.755,0.28599999999999998,0.41900000000000004,0.74880000000000002,0.2838,0.2838]
[{"$f":"Photonic!B390","v":738},{"$f":"Photonic!D390","v":1.0055519621975332E-4},null,null,null,null,null,null,73058656508.050171,189.05720587122568,73058656508.050171,8.0474051138086228E-3,{"$f":"+$L384*Photonic!BB390","v":6.5505877626402187E-6},{"$f":"+$L384*Photonic!BC390","v":2.3643276224369733E-6},{"$f":"+$L384*Photonic!BD390","v":0},75.94,-12.08,7.92,null,null,0.46660000000000001,0.32240000000000002,0.47739999999999999,0.1668,0.1966,0.3962,0.53620000000000001,0.73,0.83760000000000001,0.755,0.28799999999999998,0.42799999999999999,0.74919999999999998,0.28720000000000001,0.28720000000000001]
[{"$f":"Photonic!B391","v":739},{"$f":"Photonic!D391","v":9.8942011253661024E-5},null,null,null,null,null,null,73560350373.081345,190.15682064413403,73560350373.081345,8.1026666525227022E-3,{"$f":"+$L385*Photonic!BB391","v":6.0932053226970717E-6},{"$f":"+$L385*Photonic!BC391","v":2.1990637294946612E-6},{"$f":"+$L385*Photonic!BD391","v":0},76.47,-12.139999999999999,7.96,null,null,0.46680000000000005,0.32219999999999999,0.47919999999999996,0.16740000000000002,0.1968,0.39860000000000001,0.53760000000000008,0.73,0.83779999999999999,0.755,0.28999999999999998,0.437,0.74960000000000004,0.29059999999999997,0.29059999999999997]
[{"$f":"Photonic!B392","v":740},{"$f":"Photonic!D392","v":9.7370190004648026E-5},null,null,null,null,null,null,74063442884.655045,191.25643541704233,74063442884.655045,8.1580822520404793E-3,{"$f":"+$L386*Photonic!BB392","v":5.6290767539079303E-6},{"$f":"+$L386*Photonic!BC392","v":2.0313624807580792E-6},{"$f":"+$L386*Photonic!BD392","v":0},77,-12.2,8,null,null,0.46700000000000003,0.32200000000000001,0.48099999999999998,0.16800000000000001,0.19700000000000001,0.40100000000000002,0.53900000000000003,0.73,0.83799999999999997,0.755,0.29199999999999998,0.44600000000000001,0.75,0.29399999999999998,0.29399999999999998]
[{"$f":"Photonic!B393","v":741},{"$f":"Photonic!D393","v":1.2330524061336266E-4},null,null,null,null,null,null,74567924979.111053,188.21685038420583,74567924979.111053,8.2136509140005153E-3,{"$f":"+$L387*Photonic!BB393","v":5.315874871541134E-6},{"$f":"+$L387*Photonic!BC393","v":1.9185445804922403E-6},{"$f":"+$L387*Photonic!BD393","v":0},75.819999999999993,-12,7.87,null,null,0.46700000000000003,0.32180000000000003,0.4824,0.16880000000000001,0.1976,0.40340000000000004,0.54039999999999999,0.73,0.83819999999999995,0.755,0.29399999999999998,0.45379999999999998,0.75,0.29719999999999996,0.29719999999999996]
[{"$f":"Photonic!B394","v":742},{"$f":"Photonic!D394","v":1.2467024327697925E-4},null,null,null,null,null,null,75073787551.580322,185.17726535136933,75073787551.580322,8.2693716355022179E-3,{"$f":"+$L388*Photonic!BB394","v":4.9980082164975399E-6},{"$f":"+$L388*Photonic!BC394","v":1.8040461160011638E-6},{"$f":"+$L388*Photonic!BD394","v":0},74.64,-11.799999999999999,7.74,null,null,0.46700000000000003,0.3216,0.48380000000000001,0.1696,0.19820000000000002,0.40579999999999999,0.54180000000000006,0.73,0.83839999999999992,0.755,0.29599999999999999,0.46160000000000001,0.75,0.3004,0.3004]
[{"$f":"Photonic!B395","v":743},{"$f":"Photonic!D395","v":1.2603524594059578E-4},null,null,null,null,null,null,75581021456.682648,182.13768031853283,75581021456.682648,8.3252434091826959E-3,{"$f":"+$L389*Photonic!BB395","v":4.6754566985970022E-6},{"$f":"+$L389*Photonic!BC395","v":1.6878598487776997E-6},{"$f":"+$L389*Photonic!BD395","v":0},73.459999999999994,-11.6,7.6099999999999994,null,null,0.46700000000000003,0.32140000000000002,0.48519999999999996,0.1704,0.1988,0.40820000000000001,0.54320000000000002,0.73,0.83860000000000001,0.755,0.29799999999999999,0.46939999999999998,0.75,0.30359999999999998,0.30359999999999998]
[{"$f":"Photonic!B396","v":744},{"$f":"Photonic!D396","v":1.1941705120790943E-4},null,null,null,null,null,null,76089617509.222397,179.09809528569633,76089617509.222397,8.381265223293393E-3,{"$f":"+$L390*Photonic!BB396","v":4.3482003978446128E-6},{"$f":"+$L390*Photonic!BC396","v":1.5699786016273183E-6},{"$f":"+$L390*Photonic!BD396","v":0},72.28,-11.399999999999999,7.4799999999999995,null,null,0.46700000000000003,0.32119999999999999,0.48659999999999998,0.17119999999999999,0.19940000000000002,0.41059999999999997,0.54460000000000008,0.73,0.83879999999999999,0.755,0.3,0.47720000000000001,0.75,0.30680000000000002,0.30680000000000002]
[{"$f":"Photonic!B397","v":745},{"$f":"Photonic!D397","v":1.2615933709183368E-4},null,null,null,null,null,null,76599566484.884048,{"$f":"+P391+$H$11*Q391+$H$12*R391","v":176.0585102528598},{"$f":"IF($E$6<=$K$4,I391,J391)","v":76599566484.884048},{"$f":"+K391/$L$4","v":8.4374360617766996E-3},{"$f":"+$L391*Photonic!BB397","v":4.0162195654057096E-6},{"$f":"+$L391*Photonic!BC397","v":1.4503952590194146E-6},{"$f":"+$L391*Photonic!BD397","v":0},71.099999999999994,-11.2,7.35,null,null,0.46700000000000003,0.32100000000000001,0.48799999999999999,0.17199999999999999,0.2,0.41299999999999998,0.54600000000000004,0.73,0.83899999999999997,0.755,0.30199999999999999,0.48499999999999999,0.75,0.31,0.31]
[{"$f":"Photonic!B398","v":746},{"$f":"Photonic!D398","v":1.3290162297575789E-4},null,null,null,null,null,null,77110859120.924255,173.01892522002333,77110859120.924255,8.4937549043421837E-3,{"$f":"+$L392*Photonic!BB398","v":3.7984071932218249E-6},{"$f":"+$L392*Photonic!BC398","v":1.3719112921493495E-6},{"$f":"+$L392*Photonic!BD398","v":0},69.92,-11,7.22,null,null,0.46700000000000003,0.32080000000000003,0.48899999999999999,0.17299999999999999,0.2006,0.41539999999999999,0.5474,0.73,0.83899999999999997,0.75519999999999998,0.30359999999999998,0.49199999999999999,0.74980000000000002,0.313,0.313]
[{"$f":"Photonic!B399","v":747},{"$f":"Photonic!D399","v":1.5238393372010335E-4},null,null,null,null,null,null,77623486116.863602,169.97934018718681,77623486116.863602,8.5502207265427885E-3,{"$f":"+$L393*Photonic!BB399","v":3.5774123519855028E-6},{"$f":"+$L393*Photonic!BC399","v":1.292280360609677E-6},{"$f":"+$L393*Photonic!BD399","v":0},68.739999999999995,-10.799999999999999,7.09,null,null,0.46700000000000003,0.3206,0.49,0.17399999999999999,0.20120000000000002,0.4178,0.54880000000000007,0.73,0.83899999999999997,0.75539999999999996,0.30519999999999997,0.499,0.74960000000000004,0.316,0.316]
[{"$f":"Photonic!B400","v":748},{"$f":"Photonic!D400","v":1.5275620717381696E-4},null,null,null,null,null,null,78137438135.177887,166.93975515435031,78137438135.177887,8.6068324998509783E-3,{"$f":"+$L394*Photonic!BB400","v":3.3532219419419411E-6},{"$f":"+$L394*Photonic!BC400","v":1.2114977426790238E-6},{"$f":"+$L394*Photonic!BD400","v":0},67.56,-10.6,6.96,null,null,0.46700000000000003,0.32040000000000002,0.49099999999999999,0.17499999999999999,0.20180000000000001,0.42019999999999996,0.55020000000000002,0.73,0.83899999999999997,0.75560000000000005,0.30680000000000002,0.50600000000000001,0.74939999999999996,0.31900000000000001,0.31900000000000001]
[{"$f":"Photonic!B401","v":749},{"$f":"Photonic!D401","v":1.5201166026638973E-4},null,null,null,null,null,null,78652705801.984528,163.90017012151381,78652705801.984528,8.663589191734343E-3,{"$f":"+$L395*Photonic!BB401","v":3.125822980377751E-6},{"$f":"+$L395*Photonic!BC401","v":1.1295587588183237E-6},{"$f":"+$L395*Photonic!BD401","v":0},66.38,-10.399999999999999,6.83,null,null,0.46700000000000003,0.32019999999999998,0.49199999999999999,0.17599999999999999,0.20240000000000002,0.42259999999999998,0.55160000000000009,0.73,0.83899999999999997,0.75580000000000003,0.30840000000000001,0.51300000000000001,0.74919999999999998,0.32200000000000001,0.32200000000000001]
[{"$f":"Photonic!B402","v":750},{"$f":"Photonic!D402","v":1.3906481682057206E-4},null,null,null,null,null,null,{"$f":"$G$5*((A396*0.000000001)^(-5)) / (EXP($G$6/(($E$6*0.000000001*A396)))-1)","v":79169279707.730545},160.86058508867731,79169279707.730545,8.7204897657313825E-3,{"$f":"+$L396*Photonic!BB402","v":2.895202602222819E-6},{"$f":"+$L396*Photonic!BC402","v":1.046458771887766E-6},{"$f":"+$L396*Photonic!BD402","v":0},65.2,-10.199999999999999,6.7,null,null,0.46700000000000003,0.32,0.49299999999999999,0.17699999999999999,0.20300000000000001,0.42499999999999999,0.55300000000000005,0.73,0.83899999999999997,0.75600000000000001,0.31,0.52,0.749,0.32500000000000001,0.32500000000000001]
[{"$f":"Photonic!B403","v":751},{"$f":"Photonic!D403","v":1.3070934597055552E-4},null,null,null,null,null,null,79687150407.877335,156.94951862761769,79687150407.877335,8.7775331815269312E-3,{"$f":"+$L397*Photonic!BB403","v":2.7438568725453189E-6},{"$f":"+$L397*Photonic!BC403","v":9.9151014818528223E-7},{"$f":"+$L397*Photonic!BD403","v":0},63.45,-9.9599999999999991,6.55,null,null,0.46700000000000003,0.3196,0.49380000000000002,0.17779999999999999,0.2034,0.42719999999999997,0.55420000000000003,0.73,0.83899999999999997,0.75619999999999998,0.31080000000000002,0.5262,0.74880000000000002,0.32780000000000004,0.32780000000000004]
[{"$f":"Photonic!B404","v":752},{"$f":"Photonic!D404","v":1.223952388376183E-4},null,null,null,null,null,null,80206308423.583069,153.0384521665581,80206308423.583069,8.8347183950273286E-3,{"$f":"+$L398*Photonic!BB404","v":2.5903394334220124E-6},{"$f":"+$L398*Photonic!BC404","v":9.3577337240129464E-7},{"$f":"+$L398*Photonic!BD404","v":0},61.7,-9.7199999999999989,6.4,null,null,0.46700000000000003,0.31919999999999998,0.49459999999999998,0.17859999999999998,0.20380000000000001,0.4294,0.5554,0.73,0.83899999999999997,0.75639999999999996,0.31159999999999999,0.53239999999999998,0.74860000000000004,0.3306,0.3306]
[{"$f":"Photonic!B405","v":753},{"$f":"Photonic!D405","v":1.2500115301361354E-4},null,null,null,null,null,null,80726744242.38443,149.12738570549851,80726744242.38443,8.8920443584355087E-3,{"$f":"+$L399*Photonic!BB405","v":2.4346417453396421E-6},{"$f":"+$L399*Photonic!BC405","v":8.7924534616210309E-7},{"$f":"+$L399*Photonic!BD405","v":0},59.95,-9.48,6.25,null,null,0.46700000000000003,0.31880000000000003,0.49540000000000001,0.1794,0.20419999999999999,0.43159999999999998,0.55660000000000009,0.73,0.83899999999999997,0.75660000000000005,0.31240000000000001,0.53860000000000008,0.74839999999999995,0.33340000000000003,0.33340000000000003]
[{"$f":"Photonic!B406","v":754},{"$f":"Photonic!D406","v":1.2545615390148574E-4},null,null,null,null,null,null,81248448318.875015,145.21631924443889,81248448318.875015,8.9495100203257263E-3,{"$f":"+$L400*Photonic!BB406","v":2.2767553491708648E-6},{"$f":"+$L400*Photonic!BC406","v":8.2192300026671471E-7},{"$f":"+$L400*Photonic!BD406","v":0},58.2,-9.24,6.1000000000000005,null,null,0.46700000000000003,0.31840000000000002,0.49619999999999997,0.1802,0.2046,0.43380000000000002,0.55780000000000007,0.73,0.83899999999999997,0.75680000000000003,0.31319999999999998,0.54480000000000006,0.74819999999999998,0.3362,0.3362]
[{"$f":"Photonic!B407","v":755},{"$f":"Photonic!D407","v":1.259525185064372E-4},null,null,null,null,null,null,81771411075.383606,141.30525278337927,81771411075.383606,9.0071143257182702E-3,{"$f":"+$L401*Photonic!BB407","v":2.1166718665437933E-6},{"$f":"+$L401*Photonic!BC407","v":7.6380329482090927E-7},{"$f":"+$L401*Photonic!BD407","v":0},56.45,-9,5.95,null,null,0.46700000000000003,0.318,0.497,0.18099999999999999,0.20499999999999999,0.436,0.55900000000000005,0.73,0.83899999999999997,0.75700000000000001,0.314,0.55100000000000005,0.748,0.33900000000000002,0.33900000000000002]
[{"$f":"Photonic!B408","v":756},{"$f":"Photonic!D408","v":1.1449476887547395E-4},null,null,null,null,null,null,82295622902.648651,137.39418632231968,82295622902.648651,9.0648562161537577E-3,{"$f":"+$L402*Photonic!BB408","v":2.0051461950132112E-6},{"$f":"+$L402*Photonic!BC408","v":7.2373812029771594E-7},{"$f":"+$L402*Photonic!BD408","v":0},54.7,-8.76,5.8,null,null,0.46700000000000003,0.31759999999999999,0.49759999999999999,0.18179999999999999,0.20559999999999998,0.43819999999999998,0.56020000000000003,0.73,0.83899999999999997,0.75719999999999998,0.31459999999999999,0.55620000000000003,0.748,0.34179999999999999,0.34179999999999999]
[{"$f":"Photonic!B409","v":757},{"$f":"Photonic!D409","v":1.3095752827303126E-4},null,null,null,null,null,null,82821074160.491165,133.48311986126006,82821074160.491165,9.1227346297672492E-3,{"$f":"+$L403*Photonic!BB409","v":1.8920551622137274E-6},{"$f":"+$L403*Photonic!BC409","v":6.8311036907697168E-7},{"$f":"+$L403*Photonic!BD409","v":0},52.95,-8.52,5.65,null,null,0.46700000000000003,0.31719999999999998,0.49819999999999998,0.18259999999999998,0.20619999999999999,0.44040000000000001,0.56140000000000001,0.73,0.83899999999999997,0.75739999999999996,0.31519999999999998,0.56140000000000001,0.748,0.34460000000000002,0.34460000000000002]
[{"$f":"Photonic!B410","v":758},{"$f":"Photonic!D410","v":1.4742028767058857E-4},null,null,null,null,null,null,83347755178.48616,129.57205340020045,83347755178.48616,9.1807485013622164E-3,{"$f":"+$L404*Photonic!BB410","v":1.7773929098637249E-6},{"$f":"+$L404*Photonic!BC410","v":6.4191793521524621E-7},{"$f":"+$L404*Photonic!BD410","v":0},51.2,-8.2799999999999994,5.5,null,null,0.46700000000000003,0.31680000000000003,0.49880000000000002,0.18340000000000001,0.20679999999999998,0.44259999999999999,0.56259999999999999,0.73,0.83899999999999997,0.75760000000000005,0.31580000000000003,0.56659999999999999,0.748,0.34739999999999999,0.34739999999999999]
[{"$f":"Photonic!B411","v":759},{"$f":"Photonic!D411","v":1.4531073809954481E-4},null,null,null,null,null,null,83875656256.631058,125.66098693914086,83875656256.631058,9.2388967624841591E-3,{"$f":"+$L405*Photonic!BB411","v":1.6611536378946518E-6},{"$f":"+$L405*Photonic!BC411","v":6.0015873369097094E-7},{"$f":"+$L405*Photonic!BD411","v":0},49.45,-8.0399999999999991,5.3500000000000005,null,null,0.46700000000000003,0.31640000000000001,0.49940000000000001,0.1842,0.2074,0.44480000000000003,0.56379999999999997,0.73,0.83899999999999997,0.75780000000000003,0.31640000000000001,0.57179999999999997,0.748,0.35020000000000001,0.35020000000000001]
[{"$f":"Photonic!B412","v":760},{"$f":"Photonic!D412","v":0},null,null,null,null,null,null,84404767666.011444,121.74992047808124,84404767666.011444,9.297178341493937E-3,{"$f":"+$L406*Photonic!BB412","v":1.5433316046879936E-6},{"$f":"+$L406*Photonic!BC412","v":5.5783070048963625E-7},{"$f":"+$L406*Photonic!BD412","v":0},47.7,-7.8,5.2,null,null,0.46700000000000003,0.316,0.5,0.185,0.20799999999999999,0.44700000000000001,0.56499999999999995,0.73,0.83899999999999997,0.75800000000000001,0.317,0.57699999999999996,0.748,0.35299999999999998,0.35299999999999998]

{"sheet":"CCT_CM","index":9,"n_rows":1221,"n_cols":16,"rows_kept":1221,"cut":false,"hidden":true,"merged":[]}
["CCT calculation for color mixing",null,null,"X",{"$f":"CM!T15","v":100.88537440272476},"u",{"$f":"4*E1/(E1+15*E2+3*E3)","v":0.22499500780986084},"Set initial dm",9.9999999999999998E+100,null,"Index",{"$f":"MAX(F5:F1221)","v":557}]
[null,null,null,"Y",{"$f":"CM!T16","v":100},"v",{"$f":"6*E2/(E1+15*E2+3*E3)","v":0.3345306628565935},null,null,null,"Col",{"$f":"IF(L1<>1,L1+4,L1+5)","v":561}]
[null,null,null,"Z",{"$f":"CM!T17","v":64.22406244542185}]
["CCT","u","v","dc(i)","modify dm",null,null,null,"Tm=",{"$f":"INDIRECT(\"a\"&$L$2)","v":3997.8971493253198}]
[997.50623441396499,0.44859066043344298,0.35457467034460699,{"$f":"SQRT(($G$1-B5)^2+($G$2-C5)^2)","v":0.22449226736871172},{"$f":"IF((D5-$I$1)<0,D5,0)","v":0.22449226736871172},{"$f":"IF(E5<>0,1,0)","v":1},null,null,"dm=",{"$f":"INDIRECT(\"d\"&$L$2)","v":1.9251035135908837E-4}]
[1000,0.44800584882864802,0.354625418313254,{"$f":"SQRT(($G$1-B6)^2+($G$2-C6)^2)","v":0.22391434614327363},{"$f":"IF((D6-E5)<0,D6,0)","v":0.22391434614327363},{"$f":"IF(E6<>0,F5+1,0)","v":2},null,null,"T1=",{"$f":"INDIRECT(\"a\"&($L$2+1))","v":4007.8918921986401},"d1=",{"$f":"INDIRECT(\"d\"&($L$2+1))","v":2.4395583263309904E-4},"u1=",{"$f":"INDIRECT(\"b\"&($L$2+1))","v":0.224967043284788},"v1=",{"$f":"INDIRECT(\"c\"&($L$2+1))","v":0.33428831510312101}]
[1002.5,0.447421125440153,0.35467606264083401,0.22333655082979911,{"$f":"IF((D7-E6)<0,D7,0)","v":0.22333655082979911},{"$f":"IF(E7<>0,F6+1,0)","v":3},null,null,"T0=",{"$f":"INDIRECT(\"a\"&($L$2-1))","v":3987.9273309978298},"d0=",{"$f":"INDIRECT(\"d\"&($L$2-1))","v":3.3252446962923427E-4},"u0=",{"$f":"INDIRECT(\"b\"&($L$2-1))","v":0.225327481753618},"v0=",{"$f":"INDIRECT(\"c\"&($L$2-1))","v":0.33453645937492499}]
[1005.00625,0.44683649643810303,0.35472660177716497,0.22275888764688595,0.22275888764688595,4]
[1007.518765625,0.44625196797001898,0.35477703416879902,0.22218136278865855,0.22218136278865855,5,null,null,"a=",{"$f":"L7/(J7-J4)/(J7-J6)","v":1.6706158426679253E-6},"b=",{"$f":"J5/(J4-J7)/(J4-J6)","v":-1.9319470364994047E-6},"c=",{"$f":"L6/(J6-J7)/(J6-J4)","v":1.2225871047609047E-6}]
[1010.03756253906,0.44566754616069898,0.35482735825904999,0.22160398242464469,0.22160398242464469,6]
[1012.56265644541,0.44508323711209202,0.35487757248802598,0.22102675269962496,0.22102675269962496,7,null,null,"AA=",{"$f":"J9+L9+N9","v":9.6125591092942528E-7},"BB=",{"$f":"-(J9*(J6+J4)+L9*(J7+J6)+N9*(J4+J7))","v":-7.6904647837148371E-3},"CC=",{"$f":"J9*J4*J6+L9*J7*J6+N9*J7*J4","v":15.381951941752227}]
[1015.09406308652,0.44449904690317898,0.35492767529265601,0.22044967973348892,0.22044967973348892,8]
[1017.63179824424,0.44391498158985998,0.35497766510671702,0.21987276962109717,0.21987276962109717,9,null,null,"Tp=",{"$f":"-L11/(2*J11)","v":4000.2171618788961}]
[1020.17587773985,0.443331047204851,0.35502754036086898,0.21929602843215371,0.21929602843215371,10]
[1022.7263174342,0.44274724975756702,0.35507729948268402,0.21871946221106381,0.21871946221106381,11,null,null,"duv=",{"$f":"J11*J13^2+L11*J13+N11","v":1.8733643154256185E-4}]
[1025.2831332277899,0.44216359523401699,0.35512694089667701,0.21814307697680388,0.21814307697680388,12,null,null,"p=",{"$f":"SQRT((N6-N7)^2+(P6-P7)^2)","v":4.375973828093977E-4}]
[1027.8463410608499,0.44158008959670098,0.35517646302433398,0.21756687872279298,0.21756687872279298,13,null,null,"p1=",{"$f":"(L7^2+J16^2-L6^2)/(2*J16)","v":2.7713779103401959E-4}]
[1030.4159569135099,0.44099673878450701,0.35522586428415198,0.21699087341676526,0.21699087341676526,14,null,null,"Pt",{"$f":"J7+J17*(J6-J7)/J16","v":4000.5712237803559}]
[1032.99199680579,0.44041354871261201,0.35527514309166502,0.21641506700064475,0.21641506700064475,15,null,null,"p3=",{"$f":"SQRT(L7^2-J17^2)","v":1.8375844928325783E-4}]
[1035.5744767977999,0.43983052527238398,0.355324297859481,0.21583946539042251,0.21583946539042251,16,null,null,"LS=",{"$f":"J18+(J13-J18)*J19*100","v":4000.5647175937597}]
[1038.1634129898,0.43924767433128198,0.355373326997312,0.21526407447603069,0.21526407447603069,17]
[1040.75882152227,0.43866500173277401,0.35542222891201303,0.2146889001212352,0.2146889001212352,18]
[1043.36071857608,0.43808251329623299,0.355471002007614,0.21411394816350579,0.21411394816350579,19,null,null,"CCT=",{"$f":"IF(J18<0,J20,J13)","v":4000.2171618788961}]
[1045.9691203725199,0.43750021481686002,0.35551964468535502,0.21353922441391335,0.21353922441391335,20]
[1048.58404317345,0.43691811206558501,0.35556815534372299,0.21296473465700502,0.21296473465700502,21,null,null,null,{"$f":"IF(J23>0,J23,IF(ERROR.TYPE(J23)<=3,1,0))","v":4000.2171618788961}]
[1051.2055032813801,0.43633621078899598,0.355616532378489,0.21239048465070745,0.21239048465070745,22]
[1053.8335170395901,0.43575451670924797,0.35566477418274201,0.21181648012620946,0.21181648012620946,23]
[1056.46810083219,0.43517303552398501,0.355712879146931,0.21124272678785838,0.21124272678785838,24]
[1059.1092710842699,0.434591772906264,0.35576084565889898,0.21066923031305759,0.21066923031305759,25]
[1061.7570442619799,0.43401073450447702,0.35580867210392397,0.21009599635216272,0.21009599635216272,26]
[1064.41143687263,0.43342992594228102,0.35585635686475497,0.20952303052838472,0.20952303052838472,27]
[1067.07246546481,0.43284935281852499,0.35590389832165797,0.20895033843769165,0.20895033843769165,28]
[1069.74014662848,0.43226902070718198,0.35595129485244698,0.20837792564871316,0.20837792564871316,29]
[1072.4144969950501,0.43168893515727602,0.35599854483253301,0.2078057977026421,0.2078057977026421,30]
[1075.0955332375399,0.43110910169282901,0.35604564663496302,0.20723396011315454,0.20723396011315454,31]
[4.8254200123489302E-4,0.43052952581278903,0.356092598630458,0.20666241836631125,0.20666241836631125,32]
[1080.4777302508101,0.42995021299097202,0.35613939918746002,0.20609117792047357,0.20609117792047357,33]
[1083.1789245764301,0.429371168676007,0.35618604667217402,0.20552024420622159,0.20552024420622159,34]
[1085.88687188787,0.42879239829127602,0.35623253944861,0.20494962262626767,0.20494962262626767,35]
[1088.6015890675901,0.42821390723485803,0.356278875878627,0.20437931855537356,0.20437931855537356,36]
[1091.3230930402599,0.42763570087948499,0.35632505432197997,0.2038093373402802,0.2038093373402802,37]
[1094.05140077286,0.427057784572485,0.35637107313636401,0.20323968429962391,0.20323968429962391,38]
[1096.7865292747899,0.42648016363573599,0.356416930677458,0.20267036472386335,0.20267036472386335,39]
[1099.5284955979801,0.42590284336562001,0.35646262529897499,0.20210138387520754,0.20210138387520754,40]
[1102.2773168369799,0.425325829032981,0.35650815535270503,0.20153274698754634,0.20153274698754634,41]
[1105.0330101290699,0.424749125883081,0.35655351918856398,0.20096445926638021,0.20096445926638021,42]
[1107.79559265439,0.42417273913556303,0.35659871515464497,0.2003965258887567,0.2003965258887567,43]
[1110.5650816360301,0.42359667398440798,0.35664374159725998,0.19982895200319992,0.19982895200319992,44]
[1113.3414943401201,0.42302093559790599,0.35668859686099602,0.19926174272965577,0.19926174272965577,45]
[1116.12484807597,0.42244552911861699,0.35673327928875898,0.19869490315942537,0.19869490315942537,46]
[1118.9151601961601,0.42187045966334102,0.35677778722182901,0.19812843835510907,0.19812843835510907,47]
[1121.71244809665,0.42129573232308998,0.35682211899990901,0.19756235335055117,0.19756235335055117,48]
[1124.5167292168901,0.42072135216305601,0.35686627296117301,0.19699665315078155,0.19699665315078155,49]
[1127.32802103993,0.42014732422258999,0.35691024744232502,0.19643134273196797,0.19643134273196797,50]
[1130.1463410925301,0.41957365351517101,0.35695404077864401,0.19586642704135826,0.19586642704135826,51]
[1132.9717069452599,0.41900034502839201,0.35699765130404498,0.19530191099724015,0.19530191099724015,52]
[1135.8041362126301,0.418427403723932,0.357041077351123,0.19473779948888581,0.19473779948888581,53]
[1138.6436465531599,0.41785483453754402,0.35708431725121698,0.19417409737651439,0.19417409737651439,54]
[1141.4902556695399,0.41728264237903301,0.35712736933445799,0.19361080949124265,0.19361080949124265,55]
[1144.34398130871,0.41671083213224502,0.357170231929828,0.19304794063504804,0.19304794063504804,56]
[1147.2048412619899,0.41613940865505,0.357212903365212,0.19248549558072464,0.19248549558072464,57]
[1150.07285336514,0.415568376779337,0.35725538196745998,0.1919234790718527,0.1919234790718527,58]
[1152.9480354985501,0.41499774131099598,0.35729766606243901,0.19136189582275348,0.19136189582275348,59]
[1155.8304055873,0.41442750702991898,0.35733975397509199,0.1908007505184644,0.1908007505184644,60]
[1158.7199816012701,0.41385767868998602,0.35738164402950001,0.19024004781469911,0.19024004781469911,61]
[1161.6167815552701,0.41328826101906802,0.35742333454893299,0.18967979233782351,0.18967979233782351,62]
[1164.52082350916,0.41271925871902099,0.35746482385591599,0.18911998868482455,0.18911998868482455,63]
[1167.4321255679299,0.41215067646568398,0.35750611027228502,0.18856064142328183,0.18856064142328183,64]
[1170.35070588185,0.41158251890888098,0.35754719211924901,0.18800175509134387,0.18800175509134387,65]
[1173.27658264656,0.41101479067242302,0.35758806771745,{"$f":"SQRT(($G$1-B70)^2+($G$2-C70)^2)","v":0.18744333419770423},0.18744333419770423,66]
[1176.20977410317,0.41044749635411698,0.357628735387026,0.18688538322158471,{"$f":"IF((D71-E70)<0,D71,0)","v":0.18688538322158471},{"$f":"IF(E71<>0,F70+1,0)","v":67}]
[1179.15029853843,0.40988064052576201,0.35766919344767001,0.18632790661270601,0.18632790661270601,68]
[1182.09817428478,0.409314227733164,0.357709440218694,0.18577090879127664,0.18577090879127664,69]
[1185.05341972049,0.40874826249614499,0.35774947401909402,0.18521439414797725,0.18521439414797725,70]
[1188.0160532697901,0.40818274930854798,0.35778929316760899,0.18465836704393956,0.18465836704393956,71]
[1190.98609340296,0.40761769263825598,0.35782889598279,0.18410283181074089,0.18410283181074089,72]
[1193.96355863647,0.40705309692719899,0.35786828078306099,0.18354779275038535,0.18354779275038535,73]
[1196.94846753306,0.40648896659136902,0.35790744588678602,0.18299325413529449,0.18299325413529449,74]
[1199.9408387019,0.40592530602084997,0.35794638961233199,0.18243922020831174,0.18243922020831174,75]
[1202.9406907986499,0.40536211957981499,0.35798511027814001,0.18188569518267569,0.18188569518267569,76]
[1205.94804252565,0.40479941160656302,0.358023606202787,0.18133268324203164,0.18133268324203164,77]
[1208.9629126319601,0.40423718641353001,0.35806187570505499,0.18078018854041844,0.18078018854041844,78]
[1211.98531991354,0.403675448287316,0.35809991710399802,0.18022821520227122,0.18022821520227122,79]
[1215.0152832133199,0.40311420148870603,0.35813772871901201,0.17967676732241852,0.17967676732241852,80]
[1218.05282142136,0.40255345025270001,0.35817530886990201,0.1791258489660878,0.1791258489660878,81]
[1221.0979534749099,0.40199319878853101,0.35821265587695,0.1785754641688998,0.1785754641688998,82]
[1224.1506983586,0.40143345127970298,0.35824976806098902,0.17802561693688315,0.17802561693688315,83]
[1227.21107510449,0.40087421188401301,0.35828664374346803,0.17747631124647259,0.17747631124647259,84]
[1230.2791027922599,0.40031548473358203,0.35832328124652502,0.17692755104451641,0.17692755104451641,85]
[1233.3548005492401,0.39975727393489202,0.35835967889305798,0.17637934024829072,0.17637934024829072,86]
[1236.4381875506101,0.39919958356881402,0.358395835006799,0.17583168274550467,0.17583168274550467,87]
[1239.5292830194901,0.39864241769064301,0.35843174791238003,0.17528458239431188,0.17528458239431188,88]
[1242.62810622703,0.39808578033013597,0.35846741593541098,0.17473804302332652,0.17473804302332652,89]
[1245.7346764926001,0.397529675491547,0.35850283740255101,0.17419206843163593,0.17419206843163593,90]
[1248.84901318383,0.39697410715366399,0.35853801064158097,0.17364666238881488,0.17364666238881488,91]
[1251.9711357167901,0.39641907926984998,0.35857293398147699,0.17310182863494503,0.17310182863494503,92]
[1255.1010635560799,0.39586459576808303,0.35860760575248801,0.17255757088063331,0.17255757088063331,93]
[1258.23881621497,0.39531066055099501,0.35864202428620701,0.17201389280702897,0.17201389280702897,94]
[1261.38441325551,0.39475727749591799,0.35867618791564598,0.17147079806584831,0.17147079806584831,95]
[1264.5378742886501,0.39420445045492802,0.35871009497531597,0.17092829027939813,0.17092829027939813,96]
[1267.6992189743701,0.39365218325488199,0.35874374380129798,0.17038637304059107,0.17038637304059107,97]
[1270.8684670218099,0.39310047969747502,0.358777132731321,0.16984504991298249,0.16984504991298249,98]
[1274.04563818936,0.39254934355927801,0.35881026010484002,0.16930432443078788,0.16930432443078788,99]
[1277.23075228484,0.39199877859179,0.35884312426311199,0.16876420009891488,0.16876420009891488,100]
[1280.4238291655499,0.39144878852148501,0.35887572354927599,0.16822468039299068,0.16822468039299068,101]
[1283.62488873846,0.39089937704986299,0.35890805630842598,0.1676857687593924,0.1676857687593924,102]
[1286.8339509603099,0.39035054785349899,0.358940120887695,0.16714746861527793,0.16714746861527793,103]
[1290.0510358377101,0.38980230458409898,0.35897191563632902,0.16660978334862192,0.16660978334862192,104]
[1293.2761634272999,0.38925465086854599,0.35900343890576902,0.16607271631824341,0.16607271631824341,105]
[1296.5093538358699,0.38870759030895602,0.35903468904973301,0.16553627085384373,0.16553627085384373,106]
[1299.75062722046,0.38816112648273798,0.359065664424287,0.16500045025604673,0.16500045025604673,107]
[1303.00000378851,0.38761526294263798,0.35909636338793599,0.16446525779642682,0.16446525779642682,108]
[1306.25750379798,0.38707000321680701,0.35912678430169698,0.16393069671755775,0.16393069671755775,109]
[1309.5231475574799,0.38652535080884998,0.35915692552918199,0.16339677023304469,0.16339677023304469,110]
[1312.79695542637,0.38598130919788498,0.35918678543668098,0.16286348152756663,0.16286348152756663,111]
[1316.07894781494,0.385437881838603,0.35921636239324101,0.16233083375691898,0.16233083375691898,112]
[1319.36914518447,0.38489507216132801,0.35924565477075099,0.16179883004805756,0.16179883004805756,113]
[1322.66756804744,0.38435288357207498,0.359274660944019,0.16126747349913992,0.16126747349913992,114]
[1325.97423696755,0.38381131945261099,0.35930337929085898,0.16073676717957117,0.16073676717957117,115]
[1329.28917255997,0.38327038316051698,0.35933180819217297,0.16020671413005019,0.16020671413005019,116]
[1332.6123954913701,0.38273007802925002,0.35935994603203403,0.15967731736261681,0.15967731736261681,117]
[1335.9439264800999,0.38219040736820697,0.35938779119776398,0.15914857986069969,0.15914857986069969,118]
[1339.2837862962999,0.38165137446278302,0.35941534208002901,0.15862050457916238,0.15862050457916238,119]
[1342.6319957620401,0.38111298257444598,0.35944259707290999,0.15809309444436123,0.15809309444436123,120]
[1345.9885757514501,0.38057523494079099,0.35946955457399699,0.1575663523541882,0.1575663523541882,121]
[1349.3535471908301,0.38003813477560999,0.35949621298446799,0.15704028117812585,0.15704028117812585,122]
[1352.7269310587999,0.37950168526896,0.35952257070917398,0.15651488375730269,0.15651488375730269,123]
[1356.1087483864501,0.37896588958722299,0.359548626156726,0.1559901629045409,0.1559901629045409,124]
[1359.4990202574199,0.37843075087317901,0.35957437773958001,0.15546612140441696,0.15546612140441696,125]
[1362.8977678080601,0.37789627224607403,0.35959982387411699,0.15494276201331675,0.15494276201331675,126]
[1366.3050122275799,0.37736245680168101,0.35962496298073598,0.15442008745948649,0.15442008745948649,127]
[1369.7207747581499,0.37682930761237898,0.359649793483934,0.15389810044309954,0.15389810044309954,128]
[1373.14507669504,0.37629682772721301,0.35967431381239501,0.15337680363630624,0.15337680363630624,129]
[1376.5779393867799,0.375765020171969,0.35969852239907302,{"$f":"SQRT(($G$1-B134)^2+($G$2-C134)^2)","v":0.15285619968329783},0.15285619968329783,130]
[1380.0193842352501,0.37523388794924001,0.35972241768128199,0.15233629120036354,{"$f":"IF((D135-E134)<0,D135,0)","v":0.15233629120036354},{"$f":"IF(E135<>0,F134+1,0)","v":131}]
[1383.4694326958399,0.37470343403850198,0.35974599810077801,0.15181708077595585,0.15181708077595585,132]
[1386.9281062775799,0.37417366139618002,0.35976926210384802,0.15129857097074823,0.15129857097074823,133]
[1390.3954265432701,0.37364457295572101,0.35979220814139701,0.15078076431769905,0.15078076431769905,134]
[1393.8714151096301,0.37311617162766703,0.35981483466903103,0.15026366332211602,0.15026366332211602,135]
[1397.3560936474,0.37258846029972398,0.35983714014715101,0.14974727046171823,0.14974727046171823,136]
[1400.84948388152,0.37206144183683898,0.35985912304103002,0.14923158818670429,0.14923158818670429,137]
[1404.35160759122,0.37153511908126702,0.35988078182090999,0.14871661891981375,0.14871661891981375,138]
[1407.8624866102,0.37100949485265,0.35990211496208102,0.14820236505639811,0.14820236505639811,139]
[1411.3821428267299,0.37048457194808698,0.35992312094497497,0.1476888289644861,0.1476888289644861,140]
[1414.9105981837899,0.36996035314220799,0.35994379825524597,0.14717601298485058,0.14717601298485058,141]
[1418.4478746792499,0.36943684118724901,0.35996414538386501,0.14666391943107954,0.14666391943107954,142]
[1421.9939943659499,0.36891403881312301,0.35998416082720203,0.14615255058964149,0.14615255058964149,143]
[1425.54897935187,0.36839194872750503,0.36000384308711297,0.14564190871996585,0.14564190871996585,144]
[1429.1128518002499,0.36787057361589098,0.360023190671033,0.14513199605449936,0.14513199605449936,145]
[1432.6856339297501,0.367349916141684,0.36004220209205701,0.14462281479878744,0.14462281479878744,146]
[1436.26734801457,0.36682997894626801,0.36006087586903301,0.14411436713154588,0.14411436713154588,147]
[1439.85801638461,0.36631076464907902,0.36007921052664299,0.14360665520472871,0.14360665520472871,148]
[1443.45766142557,0.36579227584768698,0.36009720459549799,0.14309968114360913,0.14309968114360913,149]
[1447.0663055791299,0.36527451511786602,0.36011485661221998,0.14259344704684754,0.14259344704684754,150]
[1450.68397134308,0.364757485013672,0.360132165119531,0.14208795498656818,0.14208795498656818,151]
[1454.31068127144,0.36424118806751998,0.36014912866634002,0.14158320700843605,0.14158320700843605,152]
[1457.94645797462,0.36372562679025999,0.360165745807833,0.14107920513173305,0.14107920513173305,153]
[1461.5913241195501,0.36321080367125003,0.36018201510555597,0.14057595134943088,0.14057595134943088,154]
[1465.24530242985,0.36269672117844098,0.36019793512750498,0.14007344762827717,0.14007344762827717,155]
[1468.9084156859301,0.362183381758442,0.36021350444821298,0.13957169590886243,0.13957169590886243,156]
[1472.5806867251399,0.361670787836606,0.36022872164883402,0.13907069810570694,0.13907069810570694,157]
[1476.2621384419499,0.36115894181710401,0.36024358531723499,0.13857045610733854,0.13857045610733854,158]
[1479.95279378806,0.36064784608299499,0.36025809404808001,0.13807097177636493,0.13807097177636493,159]
[1483.6526757725301,0.36013750299631703,0.360272246442916,0.13757224694956813,0.13757224694956813,160]
[1487.3618074619601,0.35962791489814999,0.36028604111026002,0.13707428343797146,0.13707428343797146,161]
[1491.0802119806101,0.35911908410870202,0.36029947666568601,0.13657708302693042,0.13657708302693042,162]
[1494.8079125105701,0.35861101292737801,0.36031255173191301,0.13608064747620691,0.13608064747620691,163]
[1498.54493229184,0.35810370363286598,0.360325264938887,0.13558497852006013,0.13558497852006013,164]
[1502.2912946225699,0.357597158483207,0.36033761492387001,0.13509007786732341,0.13509007786732341,165]
[1506.04702285913,0.35709137971587501,0.36034960033152502,0.13459594720149057,0.13459594720149057,166]
[1509.81214041628,0.356586369547851,0.36036121981400299,0.13410258818079746,0.13410258818079746,167]
[1513.5866707673199,0.356082130175704,0.36037247203102302,0.13361000243830987,0.13361000243830987,168]
[1517.3706374442299,0.355578663775663,0.36038335564996499,0.13311819158200514,0.13311819158200514,169]
[1521.16406403784,0.35507597250370099,0.36039386934594903,0.13262715719486387,0.13262715719486387,170]
[1524.9669741979401,0.35457405849559998,0.360404011801922,0.13213690083494498,0.13213690083494498,171]
[1528.7793916334299,0.35407292386703998,0.360413781708741,0.13164742403548418,0.13164742403548418,172]
[1532.6013401125199,0.35357257071366699,0.360423177765261,0.13115872830497327,0.13115872830497327,173]
[1536.4328434628001,0.35307300111117301,0.36043219867841397,0.13067081512725026,0.13067081512725026,174]
[1540.27392557146,0.35257421711537101,0.360440843163293,0.13018368596158603,0.13018368596158603,175]
[1544.12461038538,0.35207622076227402,0.36044910994324197,0.12969734224277682,0.12969734224277682,176]
[1547.9849219113501,0.351579014068165,0.36045699774993001,0.1292117853812253,0.1292117853812253,177]
[1551.8548842161299,0.35108259902967798,0.36046450532343899,0.12872701676303566,0.12872701676303566,178]
[1555.73452142667,0.35058697762387397,0.360471631412347,0.12824303775010393,0.12824303775010393,179]
[1559.6238577302299,0.35009215180831499,0.36047837477380601,0.12775984968020518,0.12775984968020518,180]
[1563.5229173745599,0.34959812352113701,0.36048473417362698,0.12727745386708259,0.12727745386708259,181]
[1567.43172466799,0.34910489468112799,0.36049070838636099,0.12679585160054066,0.12679585160054066,182]
[1571.3503039796601,0.34861246718780597,0.36049629619537998,0.12631504414653946,0.12631504414653946,183]
[1575.27867973961,0.34812084292148798,0.36050149639295598,0.12583503274728006,0.12583503274728006,184]
[1579.2168764389601,0.34763002374336899,0.36050630778034298,0.12535581862130099,0.12535581862130099,185]
[1583.1649186300599,0.34714001149559598,0.36051072916785698,0.12487740296357022,0.12487740296357022,186]
[1587.1228309266401,0.34665080800134102,0.36051475937495397,0.12439978694557648,0.12439978694557648,187]
[1591.0906380039501,0.346162415064875,0.36051839723031098,0.1239229717154223,0.1239229717154223,188]
[1595.06836459896,0.34567483447164399,0.36052164157190397,0.12344695839791982,0.12344695839791982,189]
[1599.0560355104601,0.34518806798834201,0.36052449124708302,0.12297174809468317,0.12297174809468317,190]
[1603.05367559923,0.344702117362986,0.36052694511265698,0.12249734188422551,0.12249734188422551,191]
[1607.0613097882299,0.34421698432498299,0.36052900203496402,0.12202374082204631,0.12202374082204631,192]
[1611.0789630627,0.34373267058521501,0.360530660889952,0.12155094594073866,0.12155094594073866,193]
[1615.1066604703601,0.34324917783609799,0.36053192056325301,{"$f":"SQRT(($G$1-B198)^2+($G$2-C198)^2)","v":0.12107895825007053},0.12107895825007053,194]
[1619.14442712154,0.34276650775166601,0.36053277995026201,0.1206077787370925,{"$f":"IF((D199-E198)<0,D199,0)","v":0.1206077787370925},{"$f":"IF(E199<>0,F198+1,0)","v":195}]
[1623.1922881893399,0.34228466198763402,0.36053323795621001,0.1201374083662238,0.1201374083662238,196]
[1627.2502689098101,0.34180364218148201,0.36053329349623903,0.11966784807936054,0.11966784807936054,197]
[1631.3183945820899,0.34132344995251401,0.36053294549547699,0.11919909879595982,0.11919909879595982,198]
[1635.39669056854,0.34084408690194001,0.36053219288911298,0.11873116141314725,0.11873116141314725,199]
[1639.4851822949599,0.34036555461293899,0.36053103462246899,0.11826403680580577,0.11826403680580577,200]
[1643.5838952506999,0.33988785465073701,0.36052946965107102,0.11779772582667969,0.11779772582667969,201]
[1647.69285498883,0.33941098856267399,0.360527496940726,0.11733222930646985,0.11733222930646985,202]
[1651.8120871263,0.33893495787827599,0.36052511546758997,0.11686754805393273,0.11686754805393273,203]
[1655.94161734412,0.33845976410932399,0.36052232421823799,0.11640368285597739,0.11640368285597739,204]
[1660.08147138748,0.337985408749928,0.36051912218974103,0.11594063447776966,0.11594063447776966,205]
[1664.23167506594,0.33751189327658898,0.36051550838972901,0.1154784036628223,0.1154784036628223,206]
[1668.39225425361,0.337039219148276,0.36051148183646398,0.11501699113310276,0.11501699113310276,207]
[1672.56323488924,0.33656738780649298,0.36050704155890601,0.11455639758913003,0.11455639758913003,208]
[1676.74464297647,0.33609640067534702,0.36050218659678601,0.11409662371007516,0.11409662371007516,209]
[1680.9365045839099,0.33562625916161398,0.36049691600066902,0.11363767015385784,0.11363767015385784,210]
[1685.13884584537,0.33515696465481398,0.360491228832023,0.11317953755725434,0.11317953755725434,211]
[1689.35169295998,0.33468851852727299,0.36048512416328399,0.11272222653599205,0.11272222653599205,212]
[1693.57507219238,0.33422092213419302,0.36047860107792401,0.11226573768485351,0.11226573768485351,213]
[1697.8090098728601,0.333754176813718,0.36047165867051301,0.11181007157777582,0.11181007157777582,214]
[1702.05353239754,0.33328828388700699,0.36046429604678498,0.1113552287679586,0.1113552287679586,215]
[1706.30866622854,0.332823244658291,0.36045651232370202,0.11090120978795642,0.11090120978795642,216]
[1710.5744378941099,0.33235906041494701,0.36044830662951599,0.11044801514978808,0.11044801514978808,217]
[1714.85087398884,0.33189573242756099,0.36043967810383198,0.10999564534503627,0.10999564534503627,218]
[1719.1380011738099,0.33143326194999501,0.360430625897668,0.10954410084495109,0.10954410084495109,219]
[1723.4358461767499,0.33097165021945002,0.36042114917351797,0.10909338210055085,0.10909338210055085,220]
[1727.74443579219,0.33051089845653903,0.360411247105411,0.10864348954273279,0.10864348954273279,221]
[1732.06379688167,0.33005100786533897,0.36040091887897102,0.10819442358236389,0.10819442358236389,222]
[1736.39395637388,0.32959197963346898,0.36039016369147298,0.10774618461039726,0.10774618461039726,223]
[1740.73494126481,0.329133814932144,0.360378980751907,0.10729877299796711,0.10729877299796711,224]
[1745.0867786179699,0.328676514916246,0.36036736928102803,0.10685218909649823,0.10685218909649823,225]
[1749.44949556452,0.32822008072438202,0.36035532851141799,0.1064064332378061,0.1064064332378061,226]
[1753.8231193034301,0.32776451347895402,0.36034285768753899,0.10596150573420739,0.10596150573420739,227]
[1758.20767710169,0.32730981428621497,0.36032995606578799,0.10551740687861784,0.10551740687861784,228]
[1762.6031962944401,0.32685598423633599,0.36031662291455302,0.10507413694466212,0.10507413694466212,229]
[1767.0097042851801,0.32640302440346702,0.360302857514263,0.10463169618677658,0.10463169618677658,230]
[1771.4272285458901,0.32595093584579898,0.36028865915744401,0.10419008484031554,0.10419008484031554,231]
[1775.85579661725,0.32549971960562801,0.36027402714877099,0.10374930312165948,0.10374930312165948,232]
[1780.2954361088,0.32504937670941397,0.36025896080511399,0.10330935122831673,0.10330935122831673,233]
[1784.74617469907,0.32459990816784101,0.360243459455594,0.10287022933903049,0.10287022933903049,234]
[1789.2080401358201,0.32415131497588201,0.36022752244162998,0.1024319376138879,0.1024319376138879,235]
[1793.68106023616,0.32370359811285598,0.36021114911698698,0.10199447619442341,0.10199447619442341,236]
[1798.16526288675,0.32325675854248898,0.36019433884782398,0.10155784520372615,0.10155784520372615,237]
[1802.6606760439599,0.32281079721297701,0.36017709101274198,0.10112204474654998,0.10112204474654998,238]
[1807.1673277340701,0.32236571505703898,0.360159405002829,0.10068707490941375,0.10068707490941375,239]
[1811.6852460534101,0.32192151299198302,0.360141280221705,0.10025293576071528,0.10025293576071528,240]
[1816.2144591685401,0.32147819191976101,0.36012271608556801,9.9819627350834952E-2,9.9819627350834952E-2,241]
[1820.7549953164601,0.32103575272703,0.36010371202323599,9.9387149712245326E-2,9.9387149712245326E-2,242]
[1825.3068828047501,0.32059419628520802,0.36008426747618899,9.8955502859616476E-2,9.8955502859616476E-2,243]
[1829.87015001177,0.32015352345053499,0.36006438189861201,9.8524686789926735E-2,9.8524686789926735E-2,244]
[1834.4448253867899,0.31971373506412698,0.360044054757438,9.8094701482568047E-2,9.8094701482568047E-2,245]
[1839.0309374502599,0.31927483195203799,0.360023285532384,9.7665546899457223E-2,9.7665546899457223E-2,246]
[1843.62851479389,0.31883681492531402,0.36000207371599002,9.7237222985141356E-2,9.7237222985141356E-2,247]
[1848.23758608087,0.31839968478005198,0.35998041881366399,9.6809729666910038E-2,9.6809729666910038E-2,248]
[1852.8581800460699,0.31796344229745199,0.359958320343711,9.6383066854897753E-2,9.6383066854897753E-2,249]
[1857.4903254961901,0.31752808824388101,0.35993577783737402,9.5957234442201E-2,9.5957234442201E-2,250]
[1862.1340513099301,0.31709362337092201,0.35991279083886901,9.5532232304980452E-2,9.5532232304980452E-2,251]
[1866.7893864381999,0.31666004841543499,0.35988935890541901,9.5108060302575181E-2,9.5108060302575181E-2,252]
[1871.4563599042999,0.316227364099608,0.35986548160728898,9.4684718277607813E-2,9.4684718277607813E-2,253]
[1876.1350008040599,0.31579557113101703,0.35984115852781601,9.4262206056097947E-2,9.4262206056097947E-2,254]
[1880.8253383060701,0.315364670202674,0.359816389263447,9.3840523447566493E-2,9.3840523447566493E-2,255]
[1885.5274016518399,0.31493466199309,0.35979117342376099,9.3419670245151437E-2,9.3419670245151437E-2,256]
[1890.24122015597,0.31450554716632501,0.35976551063150802,9.2999646225715438E-2,9.2999646225715438E-2,257]
[1894.96682320635,0.314077326372041,0.35973940052263298,{"$f":"SQRT(($G$1-B262)^2+($G$2-C262)^2)","v":9.2580451149953599E-2},9.2580451149953599E-2,258]
[1899.7042402643699,0.313650000245557,0.35971284274630599,9.2162084762505148E-2,{"$f":"IF((D263-E262)<0,D263,0)","v":9.2162084762505148E-2},{"$f":"IF(E263<>0,F262+1,0)","v":259}]
[1904.45350086503,0.31322356940790602,0.35968583696494799,9.1744546792066506E-2,9.1744546792066506E-2,260]
[1909.2146346171901,0.312798034465883,0.359658382854259,9.1327836951496974E-2,9.1327836951496974E-2,261]
[1913.9876712037401,0.31237339601210001,0.359630480103243,9.0911954937931097E-2,9.0911954937931097E-2,262]
[1918.7726403817501,0.31194965462504098,0.359602128414232,9.0496900432890909E-2,9.0496900432890909E-2,263]
[1923.5695719826999,0.31152681086911399,0.35957332750291099,9.0082673102396857E-2,9.0082673102396857E-2,264]
[1928.3784959126599,0.311104865294698,0.35954407709833702,8.9669272597072081E-2,8.9669272597072081E-2,265]
[1933.19944215244,0.31068381843820497,0.35951437694296601,8.9256698552264577E-2,8.9256698552264577E-2,266]
[1938.03244075782,0.31026367082211997,0.359484226792669,8.884495058814551E-2,8.884495058814551E-2,267]
[1942.87752185971,0.30984442295506498,0.35945362641675399,8.8434028309832657E-2,8.8434028309832657E-2,268]
[1947.73471566436,0.30942607533184202,0.35942257559798602,8.8023931307494127E-2,8.8023931307494127E-2,269]
[1952.6040524535199,0.30900862843348498,0.35939107413260102,8.7614659156458996E-2,8.7614659156458996E-2,270]
[1957.4855625846601,0.30859208272731498,0.35935912183032698,8.7206211417334284E-2,8.7206211417334284E-2,271]
[1962.37927649112,0.30817643866698702,0.35932671851439901,8.6798587636112215E-2,8.6798587636112215E-2,272]
[1967.28522468235,0.307761696692541,0.35929386402156899,8.6391787344280671E-2,8.6391787344280671E-2,273]
[1972.20343774405,0.30734785723045599,0.35926055820212999,8.5985810058941736E-2,8.5985810058941736E-2,274]
[1977.1339463384099,0.30693492069369399,0.35922680091991999,8.5580655282914544E-2,8.5580655282914544E-2,275]
[1982.07678120426,0.30652288748175499,0.359192592052337,8.5176322504852936E-2,8.5176322504852936E-2,276]
[1987.0319731572699,0.30611175798072299,0.35915793149035302,8.4772811199354592E-2,8.4772811199354592E-2,277]
[1991.9995530901599,0.305701532563319,0.35912281913851901,8.4370120827074818E-2,8.4370120827074818E-2,278]
[1996.97955197289,0.30529221158894798,0.359087254914979,8.396825083483761E-2,8.396825083483761E-2,279]
[2001.97200085282,0.30488379540374899,0.35905123875147399,8.3567200655747534E-2,8.3567200655747534E-2,280]
[2006.9769308549501,0.304476284340643,0.35901477059335501,8.3166969709302305E-2,8.3166969709302305E-2,281]
[2011.9943731820899,0.30406967871938301,0.35897785039958202,8.2767557401504155E-2,8.2767557401504155E-2,282]
[2017.0243591150399,0.30366397884659901,0.358940478142734,8.2368963124969885E-2,8.2368963124969885E-2,283]
[2022.06692001283,0.30325918501585297,0.35890265380901498,8.1971186259049908E-2,8.1971186259049908E-2,284]
[2027.12208731286,0.30285529750768198,0.358864377398252,8.1574226169934053E-2,8.1574226169934053E-2,285]
[2032.18989253115,0.302452316589646,0.35882564892390101,8.1178082210764557E-2,8.1178082210764557E-2,286]
[2037.27036726247,0.30205024251637902,0.35878646841304901,8.0782753721751657E-2,8.0782753721751657E-2,287]
[2042.3635431806299,0.30164907552963499,0.35874683590641199,8.0388240030283512E-2,8.0388240030283512E-2,288]
[2047.4694520385799,0.30124881585833402,0.35870675145833603,7.9994540451037641E-2,7.9994540451037641E-2,289]
[2052.5881256686798,0.30084946371861199,0.35866621513679497,7.9601654286095155E-2,7.9601654286095155E-2,290]
[2057.71959598285,0.30045101931386597,0.358625227023391,7.9209580825052195E-2,7.9209580825052195E-2,291]
[2062.8638949728102,0.30005348283480299,0.35858378721334799,7.8818319345132962E-2,7.8818319345132962E-2,292]
[2068.0210547102402,0.29965685445948598,0.35854189581550699,7.8427869111300952E-2,7.8427869111300952E-2,293]
[2073.1911073470101,0.29926113435338098,0.358499552952324,7.8038229376372656E-2,7.8038229376372656E-2,294]
[2078.3740851153798,0.298866322669403,0.35845675875985999,7.7649399381127984E-2,7.7649399381127984E-2,295]
[2083.5700203281699,0.298472419547965,0.35841351338777999,7.7261378354426744E-2,7.7261378354426744E-2,296]
[2088.7789453789901,0.29807942511701802,0.35836981699933501,7.6874165513311984E-2,7.6874165513311984E-2,297]
[2094.0008927424401,0.29768733949210602,0.35832566977136399,7.6487760063133764E-2,7.6487760063133764E-2,298]
[2099.2358949742902,0.29729616277640603,0.35828107189427599,7.6102161197653326E-2,7.6102161197653326E-2,299]
[2104.48398471173,0.29690589506077802,0.35823602357204298,7.5717368099160048E-2,7.5717368099160048E-2,300]
[2109.74519467351,0.29651653642380499,0.35819052502218501,7.5333379938577166E-2,7.5333379938577166E-2,301]
[2115.01955766019,0.296128086931845,0.35814457647576098,7.4950195875581022E-2,7.4950195875581022E-2,302]
[2120.30710655434,0.29574054663907501,0.35809817817735401,7.4567815058711018E-2,7.4567815058711018E-2,303]
[2125.6078743207299,0.29535391558753499,0.35805133038505399,7.4186236625479463E-2,7.4186236625479463E-2,304]
[2130.9218940065298,0.29496819380717398,0.35800403337044401,7.3805459702484658E-2,7.3805459702484658E-2,305]
[2136.2491987415401,0.29458338131589501,0.35795628741858498,7.3425483405522754E-2,7.3425483405522754E-2,306]
[2141.5898217384001,0.29419947811960601,0.35790809282799702,7.3046306839704603E-2,7.3046306839704603E-2,307]
[2146.94379629274,0.29381648421225298,0.35785944991063801,7.2667929099555148E-2,7.2667929099555148E-2,308]
[2152.31115578348,0.29343439957587802,0.35781035899189101,7.2290349269139423E-2,7.2290349269139423E-2,309]
[2157.6919336729302,0.29305322418065699,0.35776082041053803,7.191356642216537E-2,7.191356642216537E-2,310]
[2163.0861635071201,0.29267295798494602,0.35771083451874303,7.1537579622098155E-2,7.1537579622098155E-2,311]
[2168.49387891588,0.29229360093532702,0.35766040168202501,7.1162387922270559E-2,7.1162387922270559E-2,312]
[2173.91511361317,0.29191515296664999,0.35760952227923998,7.0787990365993633E-2,7.0787990365993633E-2,313]
[2179.34990139721,0.291537614002086,0.35755819670255601,7.0414385986675404E-2,7.0414385986675404E-2,314]
[2184.7982761507001,0.29116098395315798,0.35750642535742599,7.004157380791802E-2,7.004157380791802E-2,315]
[2190.2602718410799,0.29078526271979899,0.357454208662565,6.9669552843642638E-2,6.9669552843642638E-2,316]
[2195.7359225206801,0.29041045019038902,0.357401547049921,6.9298322098192242E-2,6.9298322098192242E-2,317]
[2201.2252623269801,0.29003654624179998,0.35734844096465201,6.8927880566444305E-2,6.8927880566444305E-2,318]
[2206.7283254827998,0.289663550739444,0.35729489086509197,6.8558227233923186E-2,6.8558227233923186E-2,319]
[2212.2451462965,0.289291463537315,0.35724089722272501,6.818936107690915E-2,6.818936107690915E-2,320]
[2217.7757591622399,0.28892028447803297,0.35718646052215602,6.7821281062548949E-2,6.7821281062548949E-2,321]
[2223.3201985601499,0.28855001339288899,0.35713158126107902,{"$f":"SQRT(($G$1-B326)^2+($G$2-C326)^2)","v":6.7453986148966416E-2},6.7453986148966416E-2,322]
[2228.87849905655,0.28818065010189098,0.357076259950244,6.7087475285373566E-2,{"$f":"IF((D327-E326)<0,D327,0)","v":6.7087475285373566E-2},{"$f":"IF(E327<>0,F326+1,0)","v":323}]
[2234.45069530419,0.28781219441380301,0.35702049711342498,6.6721747412176208E-2,6.6721747412176208E-2,324]
[2240.0368220424498,0.28744464612619502,0.35696429328739099,6.6356801461090312E-2,6.6356801461090312E-2,325]
[2245.6369140975598,0.28707800502548703,0.356907649021864,6.5992636355249185E-2,6.5992636355249185E-2,326]
[2251.2510063827999,0.28671227088698698,0.35685056487949002,6.5629251009309081E-2,6.5629251009309081E-2,327]
[2256.8791338987598,0.28634744347494201,0.35679304143579998,6.5266644329564208E-2,6.5266644329564208E-2,328]
[2262.5213317335101,0.28598352254257903,0.35673507927917603,6.4904815214053543E-2,6.4904815214053543E-2,329]
[2268.1776350628402,0.28562050783214699,0.35667667901081002,6.454376255266682E-2,6.454376255266682E-2,330]
[2273.8480791504999,0.28525839907496697,0.356617841244668,6.4183485227259945E-2,6.4183485227259945E-2,331]
[2279.53269934837,0.28489719599147101,0.356558566607452,6.3823982111758923E-2,6.3823982111758923E-2,332]
[2285.2315310967401,0.28453689829124701,0.356498855738557,6.346525207226815E-2,6.346525207226815E-2,333]
[2290.9446099244801,0.28417750567308597,0.35643870929003102,6.3107293967181816E-2,6.3107293967181816E-2,334]
[2296.6719714493001,0.283819017825019,0.356378127926535,6.2750106647285808E-2,6.2750106647285808E-2,335]
[2302.4136513779199,0.28346143442437099,0.356317112325301,6.239368895587475E-2,6.239368895587475E-2,336]
[2308.1696855063601,0.28310475513779698,0.35625566317608598,6.2038039728851281E-2,6.2038039728851281E-2,337]
[2313.9401097201298,0.282748979621329,0.35619378118113099,6.168315779483708E-2,6.168315779483708E-2,338]
[2319.7249599944298,0.28239410752041899,0.356131467055114,6.1329041975278054E-2,6.1329041975278054E-2,339]
[2325.5242723944102,0.28204013846998599,0.35606872152510899,6.0975691084555701E-2,6.0975691084555701E-2,340]
[2331.3380830753999,0.28168707209445398,0.35600554533053402,6.0623103930085923E-2,6.0623103930085923E-2,341]
[2337.1664282830902,0.28133490800780397,0.35594193922310802,6.0271279312434173E-2,6.0271279312434173E-2,342]
[2343.0093443537999,0.28098364581361301,0.35587790396680302,5.9920216025416848E-2,5.9920216025416848E-2,343]
[2348.8668677146802,0.280633285105096,0.355813440337795,5.9569912856204665E-2,5.9569912856204665E-2,344]
[2354.7390348839699,0.28028382546515601,0.355748549124414,5.9220368585433884E-2,5.9220368585433884E-2,345]
[2360.6258824711799,0.27993526646642503,0.35568323112709899,5.8871581987310066E-2,5.8871581987310066E-2,346]
[2366.52744717736,0.27958760767130603,0.35561748715833902,5.8523551829708267E-2,5.8523551829708267E-2,347]
[2372.4437657952999,0.27924084863202098,0.35555131804263201,5.8176276874284963E-2,5.8176276874284963E-2,348]
[2378.3748752097899,0.278894988890655,0.355484724616424,5.7829755876579313E-2,5.7829755876579313E-2,349]
[2384.3208123978102,0.27855002797919398,0.35541770772806303,5.7483987586113588E-2,5.7483987586113588E-2,350]
[2390.2816144288099,0.27820596541957898,0.35535026823774402,5.7138970746505861E-2,5.7138970746505861E-2,351]
[2396.25731846488,0.27786280072374198,0.35528240701745101,5.6794704095564259E-2,5.6794704095564259E-2,352]
[2402.2479617610402,0.27752053339365401,0.35521412495091198,5.6451186365397324E-2,5.6451186365397324E-2,353]
[2408.2535816654399,0.27717916292136902,0.35514542293353202,5.6108416282512223E-2,5.6108416282512223E-2,354]
[2414.27421561961,0.27683868878906798,0.35507630187234601,5.5766392567920473E-2,5.5766392567920473E-2,355]
[2420.3099011586501,0.27649911046910403,0.35500676268596099,5.5425113937240436E-2,5.5425113937240436E-2,356]
[2426.3606759115501,0.27616042742404301,0.35493680630449498,5.5084579100794347E-2,5.5084579100794347E-2,357]
[2432.4265776013299,0.27582263910671301,0.35486643366952397,5.474478676371642E-2,5.474478676371642E-2,358]
[2438.5076440453299,0.27548574496024603,0.354795645734022,5.440573562605102E-2,5.440573562605102E-2,359]
[2444.6039131554498,0.27514974441812501,0.35472444346229898,5.4067424382854785E-2,5.4067424382854785E-2,360]
[2450.71542293833,0.27481463690422198,0.354652827829947,5.3729851724293537E-2,5.3729851724293537E-2,361]
[2456.8422114956802,0.27448042183285098,0.35458079982377799,5.3393016335749451E-2,5.3393016335749451E-2,362]
[2462.9843170244199,0.27414709860880798,0.35450836044175899,5.305691689791512E-2,5.305691689791512E-2,363]
[2469.1417778169798,0.27381466662741399,0.35443551069295798,5.2721552086894392E-2,5.2721552086894392E-2,364]
[2475.3146322615198,0.27348312527456498,0.35436225159747697,5.2386920574304441E-2,5.2386920574304441E-2,365]
[2481.50291884218,0.273152473926772,0.35428858418639098,5.2053021027370854E-2,5.2053021027370854E-2,366]
[2487.7066761392798,0.272822711951206,0.35421450950168498,5.1719852109026028E-2,5.1719852109026028E-2,367]
[2493.92594282963,0.272493838705747,0.35414002859619298,5.1387412478012241E-2,5.1387412478012241E-2,368]
[2500.1607576867,0.272165853539025,0.35406514253353,5.1055700788974097E-2,5.1055700788974097E-2,369]
[2506.41115958092,0.27183875579046501,0.35398985238802999,5.072471569255687E-2,5.072471569255687E-2,370]
[2512.6771874798701,0.27151254479033499,0.35391415924468,5.039445583550578E-2,5.039445583550578E-2,371]
[2518.9588804485702,0.271187219859786,0.353838064199055,5.0064919860758145E-2,5.0064919860758145E-2,372]
[2525.2562776496902,0.270862780310903,0.35376156835725298,4.9736106407545153E-2,4.9736106407545153E-2,373]
[2531.56941834382,0.27053922544674402,0.353684672835826,4.9408014111481144E-2,4.9408014111481144E-2,374]
[2537.8983418896801,0.27021655456138899,0.353607378761714,4.9080641604662453E-2,4.9080641604662453E-2,375]
[2544.2430877443999,0.26989476693998599,0.35352968727217898,4.8753987515763979E-2,4.8753987515763979E-2,376]
[2550.6036954637598,0.26957386185879301,0.35345159951473698,4.8428050470130157E-2,4.8428050470130157E-2,377]
[2556.98020470242,0.269253838585224,0.35337311664708498,4.8102829089867891E-2,4.8102829089867891E-2,378]
[2563.3726552141802,0.26893469637789702,0.353294239837041,4.7778321993946049E-2,4.7778321993946049E-2,379]
[2569.7810868522101,0.26861643448667299,0.35321497026246401,4.7454527798278287E-2,4.7454527798278287E-2,380]
[2576.2055395693401,0.26829905215271299,0.35313530911119401,4.7131445115830325E-2,4.7131445115830325E-2,381]
[2582.6460534182702,0.26798254860850801,0.353055257580976,4.6809072556695405E-2,4.6809072556695405E-2,382]
[2589.10266855181,0.26766692307793899,0.35297481687938997,4.6487408728199515E-2,4.6487408728199515E-2,383]
[2595.57542522319,0.26735217477631401,0.35289398822378398,4.6166452234986534E-2,4.6166452234986534E-2,384]
[2602.0643637862499,0.26703830291041297,0.352812772841199,4.5846201679106663E-2,4.5846201679106663E-2,385]
[2608.5695246957098,0.26672530667854,0.35273117196829601,{"$f":"SQRT(($G$1-B390)^2+($G$2-C390)^2)","v":4.5526655660112471E-2},4.5526655660112471E-2,386]
[2615.0909485074499,0.26641318527056501,0.35264918685128799,4.5207812775146544E-2,{"$f":"IF((D391-E390)<0,D391,0)","v":4.5207812775146544E-2},{"$f":"IF(E391<>0,F390+1,0)","v":387}]
[2621.6286758787201,0.26610193786796699,0.35256681874586598,4.4889671619028008E-2,4.4889671619028008E-2,388]
[2628.1827475684199,0.26579156364388601,0.35248406891712503,4.4572230784346696E-2,4.4572230784346696E-2,389]
[2634.7532044373402,0.26548206176316003,0.35240093863949301,4.4255488861543985E-2,4.4255488861543985E-2,390]
[2641.34008744843,0.26517343138238297,0.35231742919665199,4.393944443900992E-2,4.393944443900992E-2,391]
[2647.9434376670501,0.26486567164993902,0.35223354188147299,4.3624096103163396E-2,4.3624096103163396E-2,392]
[2654.5632962612199,0.26455878170605401,0.35214927799593498,4.330944243854138E-2,4.330944243854138E-2,393]
[2661.1997045018702,0.26425276068284198,0.35206463885105099,4.2995482027886028E-2,4.2995482027886028E-2,394]
[2667.8527037631302,0.263947607704349,0.35197962576679898,4.2682213452230958E-2,4.2682213452230958E-2,395]
[2674.5223355225398,0.2636433218866,0.35189424007203701,4.2369635290983372E-2,4.2369635290983372E-2,396]
[2681.2086413613401,0.26333990233764498,0.35180848310443702,4.2057746122012789E-2,4.2057746122012789E-2,397]
[2687.9116629647501,0.26303734815760699,0.35172235621040498,4.174654452173545E-2,4.174654452173545E-2,398]
[2694.63144212216,0.26273565843872299,0.35163586074500303,4.1436029065192559E-2,4.1436029065192559E-2,399]
[2701.3680207274601,0.26243483226539699,0.351548998071878,4.112619832614188E-2,4.112619832614188E-2,400]
[2708.12144077928,0.26213486871423802,0.35146176956318198,4.0817050877131854E-2,4.0817050877131854E-2,401]
[2714.8917443812302,0.26183576685411702,0.35137417659949399,4.0508585289592891E-2,4.0508585289592891E-2,402]
[2721.67897374218,0.26153752574620298,0.35128622056974701,4.0200800133911578E-2,4.0200800133911578E-2,403]
[2728.4831711765401,0.261240144444016,0.35119790287114799,3.9893693979516899E-2,3.9893693979516899E-2,404]
[2735.3043791044802,0.26094362199346899,0.35110922490910101,3.9587265394956939E-2,3.9587265394956939E-2,405]
[2742.14264005224,0.26064795743291802,0.35102018809712998,3.9281512947982829E-2,3.9281512947982829E-2,406]
[2748.9979966523701,0.26035314979320601,0.35093079385679898,3.8976435205625166E-2,3.8976435205625166E-2,407]
[2755.8704916440001,0.260059198097712,0.35084104361763802,3.8672030734277281E-2,3.8672030734277281E-2,408]
[2762.7601678731098,0.25976610136239298,0.35075093881705899,3.8368298099767162E-2,3.8368298099767162E-2,409]
[2769.6670682927902,0.25947385859583599,0.35066048090028301,3.806523586744303E-2,3.806523586744303E-2,410]
[2776.5912359635299,0.25918246879929902,0.35056967132025901,3.7762842602244481E-2,3.7762842602244481E-2,411]
[2783.53271405343,0.258891930966763,0.35047851153758403,3.7461116868784103E-2,3.7461116868784103E-2,412]
[2790.4915458385699,0.25860224408497301,0.35038700302042503,3.716005723141922E-2,3.716005723141922E-2,413]
[2797.4677747031601,0.25831340713349299,0.350295147244441,3.6859662254335686E-2,3.6859662254335686E-2,414]
[2804.4614441399199,0.25802541908474103,0.35020294569270299,3.655993050161261E-2,3.655993050161261E-2,415]
[2811.4725977502699,0.25773827890404399,0.35011039985561299,3.6260860537303673E-2,3.6260860537303673E-2,416]
[2818.50127924465,0.25745198554968501,0.35001751123082497,3.5962450925512264E-2,3.5962450925512264E-2,417]
[2825.5475324427598,0.25716653797294198,0.349924281323169,3.5664700230459437E-2,3.5664700230459437E-2,418]
[2832.6114012738699,0.256881935118144,0.34983071164456597,3.536760701656351E-2,3.536760701656351E-2,419]
[2839.6929297770498,0.256598175922713,0.349736803713949,3.5071169848508499E-2,3.5071169848508499E-2,420]
[2846.7921621014898,0.256315259317208,0.349642559057187,3.4775387291315595E-2,3.4775387291315595E-2,421]
[2853.90914250675,0.25603318422537902,0.34954797920700098,3.4480257910419476E-2,3.4480257910419476E-2,422]
[2861.04391536301,0.25575194956420499,0.34945306570288498,3.4185780271731796E-2,3.4185780271731796E-2,423]
[2868.1965251514198,0.25547155424395002,0.34935782009102501,3.3891952941719782E-2,3.3891952941719782E-2,424]
[2875.3670164642999,0.25519199716820301,0.34926224392421901,3.3598774487469819E-2,3.3598774487469819E-2,425]
[2882.55543400546,0.25491327723392498,0.34916633876179898,3.3306243476758285E-2,3.3306243476758285E-2,426]
[2889.7618225904698,0.25463539333149898,0.34907010616954498,3.301435847812078E-2,3.301435847812078E-2,427]
[2896.9862271469501,0.254358344344775,0.34897354771961198,3.2723118060921902E-2,3.2723118060921902E-2,428]
[2904.2286927148202,0.254082129151117,0.34887666499044301,3.2432520795420354E-2,3.2432520795420354E-2,429]
[2911.4892644465999,0.25380674662144898,0.34877945956668899,3.2142565252835716E-2,3.2142565252835716E-2,430]
[2918.76798760772,0.25353219562030299,0.34868193303913397,3.1853250005418714E-2,3.1853250005418714E-2,431]
[2926.0649075767401,0.25325847500586501,0.34858408700460802,3.1564573626513659E-2,3.1564573626513659E-2,432]
[2933.3800698456798,0.252985583630019,0.34848592306590898,3.1276534690622713E-2,3.1276534690622713E-2,433]
[2940.7135200202902,0.2527135203384,0.34838744283172401,3.0989131773477622E-2,3.0989131773477622E-2,434]
[2948.06530382034,0.252442283970435,0.34828864791654401,3.0702363452096718E-2,3.0702363452096718E-2,435]
[2955.4354670798998,0.25217187335939101,0.34818953994058699,3.0416228304852036E-2,3.0416228304852036E-2,436]
[2962.8240557476001,0.25190228733242398,0.348090120529717,3.0130724911534627E-2,3.0130724911534627E-2,437]
[2970.2311158869602,0.251633524710623,0.34799039131536103,2.98458518534142E-2,2.98458518534142E-2,438]
[2977.6566936766799,0.25136558430905698,0.34789035393443302,2.956160771330376E-2,2.956160771330376E-2,439]
[2985.1008354108699,0.25109846493682098,0.34779001002924698,2.9277991075618553E-2,2.9277991075618553E-2,440]
[2992.5635874994,0.25083216539708603,0.34768936124744099,2.899500052644249E-2,2.899500052644249E-2,441]
[3000.0449964681502,0.25056668448713998,0.34758840924189799,2.8712634653584722E-2,2.8712634653584722E-2,442]
[3007.5451089593198,0.25030202099844101,0.34748715567066002,2.8430892046644052E-2,2.8430892046644052E-2,443]
[3015.0639717317199,0.25003817371665499,0.34738560219685299,2.8149771297063284E-2,2.8149771297063284E-2,444]
[3022.6016316610499,0.249775141421714,0.34728375048860199,2.7869270998197693E-2,2.7869270998197693E-2,445]
[3030.1581357402001,0.24951292288784899,0.347181602218957,2.7589389745364734E-2,2.7589389745364734E-2,446]
[3037.7335310795502,0.249251516883646,0.347079159065805,2.7310126135908216E-2,2.7310126135908216E-2,447]
[3045.3278649072499,0.24899092217209001,0.34697642271179802,2.7031478769258193E-2,2.7031478769258193E-2,448]
[3052.9411845695199,0.24873113751060999,0.34687339484426599,2.6753446246984697E-2,2.6753446246984697E-2,449]
[3060.57353753094,0.24847216165112501,0.34677007715514202,{"$f":"SQRT(($G$1-B454)^2+($G$2-C454)^2)","v":2.6476027172857696E-2},2.6476027172857696E-2,450]
[3068.2249713747701,0.248213993340091,0.34666647134088102,2.6199220152904223E-2,{"$f":"IF((D455-E454)<0,D455,0)","v":2.6199220152904223E-2},{"$f":"IF(E455<>0,F454+1,0)","v":451}]
[3075.8955338032001,0.247956631318549,0.34656257910237798,2.5923023795466328E-2,2.5923023795466328E-2,452]
[3083.5852726377102,0.24770007432216701,0.34645840214489199,2.5647436711255692E-2,2.5647436711255692E-2,453]
[3091.29423581931,0.247444321081288,0.346353942177964,2.5372457513410537E-2,2.5372457513410537E-2,454]
[3099.0224714088499,0.24718937032097901,0.34624920091533901,2.5098084817555197E-2,2.5098084817555197E-2,455]
[3106.7700275873799,0.24693522076107199,0.34614418007488701,2.4824317241851659E-2,2.4824317241851659E-2,456]
[3114.53695265634,0.24668187111621301,0.34603888137852201,2.4551153407057328E-2,2.4551153407057328E-2,457]
[3122.3232950379802,0.24642932009590399,0.34593330655212701,2.427859193657882E-2,2.427859193657882E-2,458]
[3130.1291032755798,0.24617756640455599,0.34582745732546899,2.4006631456531112E-2,2.4006631456531112E-2,459]
[3137.9544260337698,0.245926608741528,0.34572133543212902,2.3735270595790815E-2,2.3735270595790815E-2,460]
[3145.7993120988499,0.24567644580117401,0.345614942609414,2.3464507986048166E-2,2.3464507986048166E-2,461]
[3153.6638103791001,0.24542707627289201,0.34550828059828698,2.3194342261869297E-2,2.3194342261869297E-2,462]
[3161.5479699050502,0.24517849884116499,0.34540135114328302,2.292477206074477E-2,2.292477206074477E-2,463]
[3169.4518398298101,0.244930712185608,0.34529415599243601,2.2655796023148541E-2,2.2655796023148541E-2,464]
[3177.3754694293798,0.24468371498101599,0.345186696897196,2.2387412792593417E-2,2.2387412792593417E-2,465]
[3185.31890810296,0.24443750589740601,0.34507897561235701,2.2119621015686521E-2,2.2119621015686521E-2,466]
[3193.2822053732102,0.244192083600063,0.34497099389597202,2.1852419342182152E-2,2.1852419342182152E-2,467]
[3201.26541088665,0.24394744674958499,0.34486275350928602,2.1585806425043017E-2,2.1585806425043017E-2,468]
[3209.2685744138598,0.24370359400193001,0.34475425621665101,2.1319780920494778E-2,2.1319780920494778E-2,469]
[3217.2917458499001,0.24346052400845899,0.34464550378545,2.1054341488081774E-2,2.1054341488081774E-2,470]
[3225.33497521452,0.243218235415981,0.34453649798602398,2.0789486790726827E-2,2.0789486790726827E-2,471]
[3233.39831265256,0.242976726866798,0.34442724059159402,2.0525215494788963E-2,2.0525215494788963E-2,472]
[3241.48180843419,0.24273599699875201,0.344317733378182,2.026152627012338E-2,2.026152627012338E-2,473]
[3249.5855129552801,0.24249604444526399,0.34420797812454201,1.9998417790140111E-2,1.9998417790140111E-2,474]
[3257.7094767376602,0.242256867835385,0.34409797661207397,1.9735888731865985E-2,1.9735888731865985E-2,475]
[3265.85375042951,0.24201846579383701,0.34398773062475801,1.9473937776008688E-2,1.9473937776008688E-2,476]
[3274.0183848055799,0.24178083694106001,0.34387724194907299,1.9212563607019999E-2,1.9212563607019999E-2,477]
[3282.2034307675899,0.24154397989325099,0.34376651237392603,1.8951764913158829E-2,1.8951764913158829E-2,478]
[3290.4089393445101,0.241307893262413,0.343655543690572,1.8691540386559801E-2,1.8691540386559801E-2,479]
[3298.6349616928701,0.241072575656398,0.343544337692544,1.8431888723303775E-2,1.8431888723303775E-2,480]
[3306.8815490971101,0.24083802567895199,0.34343289617557698,1.8172808623489137E-2,1.8172808623489137E-2,481]
[3315.1487529698502,0.24060424192975399,0.34332122093753298,1.7914298791300954E-2,1.7914298791300954E-2,482]
[3323.4366248522701,0.24037122300446701,0.34320931377832897,1.7656357935094586E-2,1.7656357935094586E-2,483]
[3331.7452164144001,0.24013896749477701,0.34309717649986099,1.7398984767470031E-2,1.7398984767470031E-2,484]
[3340.07457945544,0.23990747398843701,0.34298481090593202,1.7142178005356043E-2,1.7142178005356043E-2,485]
[3348.4247659040798,0.239676741069312,0.34287221880218099,1.6885936370099244E-2,1.6885936370099244E-2,486]
[3356.7958278188398,0.23944676731742101,0.34275940199600602,1.6630258587552248E-2,1.6630258587552248E-2,487]
[3365.1878173883802,0.23921755130898301,0.34264636229649398,1.6375143388172912E-2,1.6375143388172912E-2,488]
[3373.6007869318601,0.23898909161645401,0.34253310151434802,1.6120589507120302E-2,1.6120589507120302E-2,489]
[3382.0347888991901,0.238761386808579,0.34241962146181498,1.5866595684369302E-2,1.5866595684369302E-2,490]
[3390.4898758714298,0.23853443545042699,0.342305923952615,1.5613160664818387E-2,1.5613160664818387E-2,491]
[3398.9661005611101,0.23830823610343699,0.34219201080187001,1.5360283198413661E-2,1.5360283198413661E-2,492]
[3407.4635158125102,0.23808278732546201,0.342077883826028,1.5107962040277348E-2,1.5107962040277348E-2,493]
[3415.9821746020498,0.23785808767081101,0.34196354484279901,1.4856195950849605E-2,1.4856195950849605E-2,494]
[3424.5221300385501,0.23763413569028699,0.34184899567108101,1.4604983696032336E-2,1.4604983696032336E-2,495]
[3433.0834353636501,0.237410929931237,0.34173423813088799,1.435432404735607E-2,1.435432404735607E-2,496]
[3441.6661439520599,0.23718846893758999,0.34161927404328302,1.410421578215186E-2,1.410421578215186E-2,497]
[3450.2703093119399,0.23696675124989799,0.341504105230307,1.3854657683738548E-2,1.3854657683738548E-2,498]
[3458.8959850852102,0.236745775405378,0.341388733514909,1.3605648541628003E-2,1.3605648541628003E-2,499]
[3467.5432250479298,0.23652553993796099,0.34127316072087899,1.3357187151756324E-2,1.3357187151756324E-2,500]
[3476.2120831105499,0.23630604337832301,0.34115738867277501,1.3109272316717763E-2,1.3109272316717763E-2,501]
[3484.9026133183202,0.23608728425393299,0.34104141919585801,1.2861902846040742E-2,1.2861902846040742E-2,502]
[3493.6148698516099,0.23586926108909501,0.34092525411602398,1.2615077556484529E-2,1.2615077556484529E-2,503]
[3502.3489070262499,0.235651972404986,0.34080889525973401,1.2368795272361604E-2,1.2368795272361604E-2,504]
[3511.1047792938102,0.2354354167197,0.34069234445394497,1.2123054825900474E-2,1.2123054825900474E-2,505]
[3519.8825412420501,0.235219592548288,0.34057560352604899,1.1877855057648861E-2,1.1877855057648861E-2,506]
[3528.6822475951499,0.235004498402797,0.340458674303798,1.1633194816913583E-2,1.1633194816913583E-2,507]
[3537.50395321414,0.234790132792315,0.34034155861524401,1.1389072962265198E-2,1.1389072962265198E-2,508]
[3546.3477130971801,0.234576494223009,0.34022425828866698,1.1145488362089423E-2,1.1145488362089423E-2,509]
[3555.2135823799199,0.234363581198167,0.34010677515251297,1.0902439895215322E-2,1.0902439895215322E-2,510]
[3564.1016163358699,0.234151392218236,0.33998911103532797,1.0659926451616137E-2,1.0659926451616137E-2,511]
[3573.0118703767098,0.233939925780865,0.33987126776568999,1.0417946933204199E-2,1.0417946933204199E-2,512]
[3581.9444000526501,0.23372918038094401,0.339753247172146,1.0176500254729841E-2,1.0176500254729841E-2,513]
[3590.8992610527798,0.23351915451064401,0.33963505108314601,{"$f":"SQRT(($G$1-B518)^2+($G$2-C518)^2)","v":9.9355853448018054E-3},9.9355853448018054E-3,514]
[3599.87650920541,0.233309846659456,0.33951668132697999,9.6952011470506499E-3,{"$f":"IF((D519-E518)<0,D519,0)","v":9.6952011470506499E-3},{"$f":"IF(E519<>0,F518+1,0)","v":515}]
[3608.8762004784298,0.23310125531423401,0.33939813973171201,9.4553466214607734E-3,9.4553466214607734E-3,516]
[3617.8983909796202,0.23289337895923101,0.33927942812511902,9.2160207458944748E-3,9.2160207458944748E-3,517]
[3626.9431369570698,0.23268621607613901,0.339160548334625,8.977222517847749E-3,8.977222517847749E-3,518]
[3636.01049479946,0.23247976514413199,0.339041502187237,8.7389509564824788E-3,8.7389509564824788E-3,519]
[3645.1005210364601,0.23227402463989899,0.338922291509486,8.5012051049768826E-3,8.5012051049768826E-3,520]
[3654.21327233905,0.23206899303768799,0.33880291812736302,8.2639840332695887E-3,8.2639840332695887E-3,521]
[3663.3488055199,0.231864668809344,0.33868338386625302,8.0272868412613486E-3,8.0272868412613486E-3,522]
[3672.5071775337001,0.23166105042434601,0.33856369055088098,7.7911126625804907E-3,7.7911126625804907E-3,523]
[3681.68844547753,0.23145813634984599,0.33844384000524202,7.555460669017848E-3,7.555460669017848E-3,524]
[3690.89266659123,0.23125592505071099,0.33832383405254501,7.3203300757937765E-3,7.3203300757937765E-3,525]
[3700.1198982576998,0.23105441498955601,0.33820367451515398,7.0857201478228427E-3,7.0857201478228427E-3,526]
[3709.3701980033502,0.230853604626784,0.33808336321452098,6.8516302072193216E-3,6.8516302072193216E-3,527]
[3718.6436234983598,0.23065349242062699,0.33796290197113099,6.618059642345216E-3,6.618059642345216E-3,528]
[3727.9402325571,0.230454076827179,0.33784229260444198,6.3850079187639285E-3,6.3850079187639285E-3,529]
[3737.2600831384898,0.230255356300438,0.33772153693282297,6.1524745926066797E-3,6.1524745926066797E-3,530]
[3746.6032333463399,0.23005732929234199,0.337600636773496,5.9204593269823079E-3,5.9204593269823079E-3,531]
[3755.9697414297102,0.22985999425280401,0.33747959394247901,5.6889619122756242E-3,5.6889619122756242E-3,532]
[3765.35966578328,0.22966334962975299,0.33735841025452701,5.4579822914584157E-3,5.4579822914584157E-3,533]
[3774.7730649477398,0.22946739386917001,0.33723708752307002,5.2275205919073645E-3,5.2275205919073645E-3,534]
[3784.2099976101099,0.22927212541512301,0.337115627560161,4.9975771657807793E-3,4.9975771657807793E-3,535]
[3793.6705226041299,0.22907754270980701,0.33699403217641699,4.7681526417603457E-3,4.7681526417603457E-3,536]
[3803.15469891064,0.22888364419357801,0.33687230318095901,4.5392479920647174E-3,4.5392479920647174E-3,537]
[3812.6625856579199,0.22869042830499001,0.33675044238135798,4.31086462028029E-3,4.31086462028029E-3,538]
[3822.1942421220601,0.22849789348083399,0.33662845158357901,4.0830044779520541E-3,4.0830044779520541E-3,539]
[3831.7497277273701,0.22830603815617001,0.33650633259192297,3.8556702215408749E-3,3.8556702215408749E-3,540]
[3841.32910204669,0.22811486076436499,0.336384087208975,3.6288654270624403E-3,3.6288654270624403E-3,541]
[3850.9324248018002,0.22792435973713099,0.33626171723554499,3.4025948887119158E-3,3.4025948887119158E-3,542]
[3860.5597558638101,0.227734533504557,0.33613922447061201,3.1768650424584114E-3,3.1768650424584114E-3,543]
[3870.2111552534702,0.227545380495147,0.33601661071127598,2.9516845801489666E-3,2.9516845801489666E-3,544]
[3879.8866831415999,0.227356899135855,0.33589387775269802,2.7270653620270436E-3,2.7270653620270436E-3,545]
[3889.5863998494501,0.22716908785212001,0.33577102738804598,2.503023811519769E-3,2.503023811519769E-3,546]
[3899.31036584908,0.22698194506789901,0.335648061408446,2.2795831178227081E-3,2.2795831178227081E-3,547]
[3909.0586417637001,0.226795469205709,0.33552498160292399,2.0567768491607822E-3,2.0567768491607822E-3,548]
[3918.8312883681101,0.226609658686653,0.33540178975835599,1.8346551536733071E-3,1.8346551536733071E-3,549]
[3928.6283665890301,0.22642451193046001,0.33527848765941498,1.6132959947030771E-3,1.6132959947030771E-3,550]
[3938.4499375055002,0.22624002735551901,0.33515507708851799,1.3928269103161165E-3,1.3928269103161165E-3,551]
[3948.29606234926,0.22605620337891,0.33503155982577598,1.1734708387964999E-3,1.1734708387964999E-3,552]
[3958.1668025051399,0.22587303841644299,0.334907937648939,9.5565371083586456E-4,9.5565371083586456E-4,553]
[3968.0622195114001,0.22569053088268901,0.33478421233334898,7.4029702282213232E-4,7.4029702282213232E-4,554]
[3977.9823750601799,0.225508679191016,0.33466038565188699,5.2979834978659969E-4,5.2979834978659969E-4,555]
[3987.9273309978298,0.225327481753618,0.33453645937492499,3.3252446962923427E-4,3.3252446962923427E-4,556]
[3997.8971493253198,0.22514693698155699,0.33441243527026898,1.9251035135908837E-4,1.9251035135908837E-4,557]
[4007.8918921986401,0.224967043284788,0.33428831510312101,2.4395583263309904E-4,0,0]
[4017.91162192913,0.22478779907219501,0.33416410063601698,4.2107401073808145E-4,0,0]
[4027.9564009839601,0.22460920275162799,0.33403979362878899,6.2433816298817005E-4,0,0]
[4038.0262919864199,0.224431252729931,0.33391539583850599,8.3448984037733608E-4,0,0]
[4048.1213577163799,0.224253947412976,0.33379090901943698,1.0470941941482254E-3,0,0]
[4058.2416611106701,0.224077285205699,0.33366633492299103,1.2606655206656163E-3,0,0]
[4068.38726526345,0.223901264512126,0.33354167529767997,1.474574783802308E-3,0,0]
[4078.5582334266101,0.223725883735412,0.33341693188906502,1.6885119438066075E-3,0,0]
[4088.75462901017,0.22355114127787001,0.33329210643971202,1.9023071676260649E-3,0,0]
[4098.9765155826999,0.22337703554100199,0.33316720068914402,2.1158599539814259E-3,0,0]
[4109.2239568716504,0.223203564925535,0.333042216373795,2.3291072409738689E-3,0,0]
[4119.4970167638303,0.22303072783144801,0.33291715522696502,2.5420076129828626E-3,0,0]
[4129.7957593057399,0.22285852265800499,0.33279201897877397,2.754532871101713E-3,0,0]
[4140.12024870401,0.22268694780379,0.33266680935611698,2.9666632540384995E-3,0,0]
[4150.4705493257698,0.22251600166673299,0.332541528082617,3.1783845907485996E-3,0,0]
[4160.8467256990798,0.22234568264414301,0.33241617687858299,3.389686531953786E-3,0,0]
[4171.2488425133297,0.222175989132745,0.33229075746096698,3.6005614122362555E-3,0,0]
[4181.6769646196099,0.222006919528698,0.33216527154331599,3.8110034952688527E-3,0,0]
[4192.13115703116,0.221838472227638,0.33203972083573102,4.0210084597196907E-3,0,0]
[4202.6114849237401,0.22167064562470101,0.33191410704482399,4.2305730408805624E-3,0,0]
[4213.1180136360499,0.221503438114559,0.33178843187367402,{"$f":"SQRT(($G$1-B582)^2+($G$2-C582)^2)","v":4.43969477563872E-3},0,0]
[4223.6508086701397,0.22133684809144399,0.33166269702178602,4.6483718176443846E-3,{"$f":"IF((D583-E582)<0,D583,0)","v":0},{"$f":"IF(E583<>0,F582+1,0)","v":0}]
[4234.2099356918097,0.221170873949185,0.331536904185047,4.8566028011180189E-3,0,0]
[4244.7954605310397,0.22100551408123101,0.33141105505568602,5.0643867390099224E-3,0,0]
[4255.4074491823703,0.22084076688068599,0.33128515132223002,5.271722945804142E-3,0,0]
[4266.0459678053203,0.220676630740337,0.33115919466946803,5.4786109782853209E-3,0,0]
[4276.7110827248398,0.22051310405268201,0.33103318677840399,5.6850505895833132E-3,0,0]
[4287.40286043165,0.220350185209962,0.33090712932621902,5.8910416931370639E-3,0,0]
[4298.1213675827303,0.22018787260418801,0.33078102398623199,6.0965843341780372E-3,0,0]
[4308.8666710016796,0.220026164627173,0.33065487242786001,6.3016786669589462E-3,0,0]
[4319.6388376791901,0.219865059670555,0.33052867631657601,6.5063249364329008E-3,0,0]
[4330.4379347733902,0.21970455612583401,0.33040243731387298,6.7105234633814169E-3,0,0]
[4341.26402961032,0.219544652384394,0.33027615707722402,6.9142746322809721E-3,0,0]
[4352.1171896843398,0.21938534683753499,0.33014983726004299,7.1175788813210841E-3,0,0]
[4362.9974826585503,0.21922663787649899,0.33002347951164601,7.3204366941518623E-3,0,0]
[4373.9049763652001,0.21906852389250001,0.32989708547721602,7.5228485930141685E-3,0,0]
[4384.8397388061103,0.218911003276752,0.32977065679776302,7.7248151329977971E-3,0,0]
[4395.8018381531301,0.21875407442049499,0.32964419511008902,7.9263368972136202E-3,0,0]
[4406.79134274851,0.218597735715026,0.32951770204674902,8.1274144927147157E-3,0,0]
[4417.8083211053799,0.218441985551725,0.32939117923601302,8.3280485470390193E-3,0,0]
[4428.8528419081504,0.21828682232208099,0.329264628301838,8.5282397052580013E-3,0,0]
[4439.9249740129198,0.21813224441772,0.32913805086381998,8.7279886274624161E-3,0,0]
[4451.0247864479497,0.21797825023043499,0.32901144853717001,8.9272959865885123E-3,0,0]
[4462.1523484140698,0.21782483815221099,0.32888482293266902,9.1261624665607503E-3,0,0]
[4473.3077292851003,0.21767200657525099,0.328758175656643,9.3245887606741001E-3,0,0]
[4484.4909986083203,0.21751975389200401,0.32863150831091698,9.5225755702021027E-3,0,0]
[4495.7022261048396,0.21736807849519199,0.328504822492793,9.7201236031730764E-3,0,0]
[4506.9414816701001,0.217216978777835,0.32837811979500497,9.9172335733176114E-3,0,0]
[4518.2088353742702,0.21706645313328099,0.32825140180569501,1.0113906199132312E-2,0,0]
[4529.5043574627098,0.21691649995522699,0.32812467010836999,1.0310142203077171E-2,0,0]
[4540.8281183563604,0.216767117637749,0.32799792628188001,1.0505942310851219E-2,0,0]
[4552.1801886522599,0.21661830457532699,0.32787117190037401,1.0701307250771699E-2,0,0]
[4563.5606391238898,0.21647005916287099,0.32774440853327702,1.0896237753213066E-2,0,0]
[4574.9695407216996,0.21632237979574501,0.32761763774525399,1.1090734550120539E-2,0,0]
[4586.4069645734999,0.21617526486979699,0.32749086109617598,1.1284798374573813E-2,0,0]
[4597.8729819849304,0.216028712781379,0.32736408014109403,1.1478429960402858E-2,0,0]
[4609.3676644398902,0.21588272192737601,0.32723729643020399,1.1671630041845826E-2,0,0]
[4620.89108360099,0.21573729070523001,0.32711051150881798,1.1864399353244523E-2,0,0]
[4632.4433113100004,0.21559241751296601,0.32698372691733102,1.2056738628774884E-2,0,0]
[4644.0244195882697,0.215448100749214,0.32685694419119699,1.2248648602204383E-2,0,0]
[4655.6344806372399,0.21530433881323899,0.32673016486089101,1.2440130006677843E-2,0,0]
[4667.2735668388304,0.21516113010495999,0.32660339045188602,1.2631183574526287E-2,0,0]
[4678.9417507559301,0.21501847302498001,0.326476622484621,1.2821810037093052E-2,0,0]
[4690.6391051328201,0.21487636597460399,0.32634986247447201,1.3012010124586023E-2,0,0]
[4702.3657028956504,0.21473480735587,0.32622311193172598,1.3201784565934295E-2,0,0]
[4714.1216171528904,0.21459379557157099,0.32609637236154898,1.3391134088670343E-2,0,0]
[4725.9069211957703,0.214453329025275,0.32596964526396,1.3580059418823157E-2,0,0]
[4737.7216884987602,0.21431340612135399,0.325842932133806,1.3768561280815734E-2,0,0]
[4749.5659927200104,0.21417402526500601,0.325716234460728,1.3956640397384068E-2,0,0]
[4761.4399077018097,0.21403518486227899,0.325589553729141,1.4144297489495763E-2,0,0]
[4773.3435074710696,0.21389688332009399,0.325462891418204,1.4331533276283981E-2,0,0]
[4785.2768662397402,0.21375911904626799,0.32533624900179298,1.4518348474987779E-2,0,0]
[4797.2400584053403,0.213621890449539,0.32520962794847802,1.4704743800895051E-2,0,0]
[4809.2331585513502,0.21348519593958701,0.325083029721493,1.4890719967299945E-2,0,0]
[4821.2562414477297,0.213349033927061,0.32495645577871302,1.5076277685456467E-2,0,0]
[4833.3093820513504,0.21321340282359499,0.32482990757262897,1.5261417664547744E-2,0,0]
[4845.39265550648,0.213078301041838,0.32470338655032499,1.5446140611647549E-2,0,0]
[4857.5061371452502,0.21294372699547301,0.32457689415344598,1.5630447231701056E-2,0,0]
[4869.6499024881095,0.21280967909924001,0.324450431818184,1.581433822749452E-2,0,0]
[4881.82402724433,0.21267615576896001,0.324324000975247,1.5997814299639132E-2,0,0]
[4894.0285873124403,0.212543155421555,0.32419760304983702,1.6180876146555355E-2,0,0]
[4906.2636587807201,0.212410676475071,0.32407123946162703,1.6363524464458913E-2,0,0]
[4918.5293179276696,0.21227871734870199,0.32394491162473799,1.6545759947348748E-2,0,0]
[4930.82564122249,0.21214727646280901,0.32381862094771702,1.6727583287000677E-2,0,0]
[4943.1527053255504,0.212016352238943,0.32369236883351399,{"$f":"SQRT(($G$1-B646)^2+($G$2-C646)^2)","v":1.6908995172961575E-2},0,0]
[4955.5105870888601,0.21188594309986999,0.32356615667945698,1.7089996292544717E-2,{"$f":"IF((D647-E646)<0,D647,0)","v":0},{"$f":"IF(E647<>0,F646+1,0)","v":0}]
[4967.8993635565803,0.21175604746958601,0.32343998587723699,1.7270587330829205E-2,0,0]
[4980.3191119654703,0.21162666377334499,0.32331385781287902,1.7450768970659926E-2,0,0]
[4992.7699097453897,0.211497790437675,0.32318777386672598,1.7630541892650183E-2,0,0]
[5005.2518345197504,0.211369425890405,0.32306173541341299,1.780990677518389E-2,0,0]
[5017.7649641060498,0.21124156856068099,0.32293574382185403,1.7988864294419604E-2,0,0]
[5030.3093765163103,0.21111421687899001,0.32280980045521301,1.8167415124299896E-2,0,0]
[5042.8851499576003,0.21098736927718001,0.32268390667088998,1.834555993655548E-2,0,0]
[5055.4923628324996,0.21086102418848099,0.32255806382049901,1.8523299400714892E-2,0,0]
[5068.1310937395801,0.21073518004752501,0.32243227324984802,1.8700634184115005E-2,0,0]
[5080.8014214739296,0.210609835290368,0.32230653629892198,1.8877564951908978E-2,0,0]
[5093.5034250276103,0.21048498835450899,0.322180854301862,1.9054092367079799E-2,0,0]
[5106.2371835901804,0.210360637678913,0.32205522858694602,1.9230217090450984E-2,0,0]
[5119.0027765491604,0.21023678170402699,0.32192966047657301,1.9405939780701112E-2,0,0]
[5131.8002834905301,0.21011341887180501,0.32180415128724399,1.9581261094374195E-2,0,0]
[5144.62978419925,0.209990547625723,0.32167870232954199,1.9756181685899425E-2,0,0]
[5157.4913586597504,0.209868166410802,0.321553314908121,1.9930702207599304E-2,0,0]
[5170.3850870564002,0.20974627367363,0.32142799032168001,2.0104823309709242E-2,0,0]
[5183.3110497740399,0.209624867862377,0.321302729862952,2.027854564039315E-2,0,0]
[5196.2693273984796,0.209503947426816,0.32117753481868799,2.045186984575835E-2,0,0]
[5209.2600007169704,0.209383510818343,0.32105240646963601,2.0624796569875082E-2,0,0]
[5222.2831507187702,0.20926355649,0.32092734609052997,2.0797326454787796E-2,0,0]
[5235.3388585955599,0.20914408289648601,0.32080235495007098,2.0969460140540953E-2,0,0]
[5248.4272057420503,0.209025088494185,0.320677434310914,2.1141198265188892E-2,0,0]
[5261.5482737564098,0.20890657174117699,0.32055258542964998,2.1312541464821956E-2,0,0]
[5274.7021444408001,0.208788531097266,0.32042780955679401,2.1483490373576268E-2,0,0]
[5287.8888998019002,0.20867096502398799,0.32030310793676903,2.1654045623661848E-2,0,0]
[5301.1086220513998,0.20855387198464001,0.32017848180789199,2.1824207845373599E-2,0,0]
[5314.3613936065303,0.20843725044429201,0.32005393240236002,2.1993977667115604E-2,0,0]
[5327.6472970905497,0.20832109886980801,0.31992946094623698,2.216335571541847E-2,0,0]
[5340.9664153332697,0.20820541572986301,0.31980506865943797,2.2332342614961521E-2,0,0]
[5354.31883137161,0.20809019949496499,0.31968075675572,2.2500938988587387E-2,0,0]
[5367.7046284500302,0.207975448637467,0.31955652644266702,2.266914545732799E-2,0,0]
[5381.1238900211602,0.20786116163159199,0.31943237892167597,2.2836962640420608E-2,0,0]
[5394.5766997462097,0.207747336953443,0.31930831538794702,2.3004391155332354E-2,0,0]
[5408.0631414955797,0.20763397308103099,0.319184337030471,2.3171431617773439E-2,0,0]
[5421.5832993493204,0.20752106849428201,0.31906044503201503,2.3338084641727503E-2,0,0]
[5435.1372575976902,0.20740862167506299,0.31893664056911603,2.3504350839462767E-2,0,0]
[5448.7251007416799,0.20729663110719401,0.31881292481206602,2.3670230821559099E-2,0,0]
[5462.3469134935403,0.20718509527647,0.318689298924901,2.3835725196925731E-2,0,0]
[5476.0027807772703,0.20707401267067299,0.318565764065392,2.4000834572824786E-2,0,0]
[5489.6927877292101,0.206963381779596,0.31844232138503498,2.4165559554887084E-2,0,0]
[5503.4170196985297,0.20685320109505301,0.31831897202903903,2.4329900747139525E-2,0,0]
[5517.1755622477804,0.206743469110902,0.318195717136319,2.4493858752019995E-2,0,0]
[5530.9685011534002,0.206634184323057,0.31807255783948402,2.4657434170403295E-2,0,0]
[5544.7959224062797,0.206525345229508,0.31794949526482702,2.4820627601620654E-2,0,0]
[5558.6579122123003,0.206416950330337,0.31782653053232102,2.4983439643477771E-2,0,0]
[5572.5545569928299,0.20630899812773401,0.31770366475560602,2.5145870892279192E-2,0,0]
[5586.4859433853098,0.20620148712601299,0.31758089904198,2.5307921942850184E-2,0,0]
[5600.4521582437701,0.20609441583163199,0.31745823449239502,2.5469593388552113E-2,0,0]
[5614.4532886393799,0.20598778275320201,0.31733567220144698,2.5630885821310494E-2,0,0]
[5628.4894218609797,0.20588158640151,0.31721321325736601,2.5791799831632312E-2,0,0]
[5642.5606454156296,0.205775825289533,0.31709085874201398,2.5952336008625114E-2,0,0]
[5656.6670470291701,0.20567049793245401,0.31696860973087299,2.6112494940021026E-2,0,0]
[5670.8087146467496,0.205565602847675,0.316846467293041,2.6272277212198061E-2,0,0]
[5684.9857364333602,0.205461138554836,0.31672443249122501,2.6431683410198747E-2,0,0]
[5699.19820077445,0.20535710357583101,0.31660250638173498,2.6590714117750547E-2,0,0]
[5713.4461962763799,0.20525349643482099,0.31648069001447898,2.6749369917287758E-2,0,0]
[5727.7298117670698,0.20515031565825201,0.31635898443295302,2.690765138997319E-2,0,0]
[5742.0491362964904,0.20504755977486699,0.316237390674241,2.7065559115717737E-2,0,0]
[5756.4042591372299,0.20494522731572401,0.316115909769008,2.7223093673199771E-2,0,0]
[5770.7952697850696,0.204843316814211,0.31599454274149402,2.738025563988675E-2,0,0]
[5785.22225795954,0.20474182680606001,0.31587329060951003,2.7537045592055789E-2,0,0]
[5799.6853136044301,0.204640755829361,0.31575215438443699,{"$f":"SQRT(($G$1-B710)^2+($G$2-C710)^2)","v":2.7693464104812444E-2},0,0]
[5814.1845268884399,0.20454010242457901,0.31563113507121399,2.7849511752114503E-2,{"$f":"IF((D711-E710)<0,D711,0)","v":0},{"$f":"IF(E711<>0,F710+1,0)","v":0}]
[5828.7199882056702,0.20443986513456799,0.31551023366834302,2.8005189106786905E-2,0,0]
[5843.2917881761796,0.20434004250458401,0.31538945116788197,2.8160496740545191E-2,0,0]
[5857.9000176466197,0.204240633082301,0.315268788555438,2.8315435224016763E-2,0,0]
[5872.5447676907397,0.20414163541782501,0.31514824681017101,2.8470005126756445E-2,0,0]
[5887.2261296099596,0.20404304806370899,0.31502782690478598,2.8624207017269202E-2,0,0]
[5901.9441949339898,0.20394486957496599,0.31490752980553399,2.8778041463028127E-2,0,0]
[5916.6990554213198,0.203847098509081,0.31478735647220701,2.893150903049764E-2,0,0]
[5931.4908030598699,0.203749733426032,0.31466730785813701,2.9084610285147024E-2,0,0]
[5946.3195300675197,0.203652772888295,0.31454738491019502,2.9237345791475675E-2,0,0]
[5961.1853288926904,0.203556215460864,0.314427588568789,2.9389716113028246E-2,0,0]
[5976.0882922149203,0.20346005971126099,0.31430791976786498,2.954172181241483E-2,0,0]
[5991.0285129454596,0.20336430420955401,0.31418837943490102,2.9693363451330189E-2,0,0]
[6006.0060842278199,0.203268947528364,0.31406896849091198,2.984464159057363E-2,0,0]
[6021.0210994383897,0.20317398824288299,0.31394968785044702,2.9995556790065693E-2,0,0]
[6036.0736521869903,0.20307942493088499,0.31383053842158798,3.0146109608869466E-2,0,0]
[6051.1638363174598,0.20298525617274299,0.31371152110595202,3.029630060520451E-2,0,0]
[6066.29174590825,0.20289148055143499,0.31359263679868998,3.0446130336471675E-2,0,0]
[6081.4574752730196,0.20279809665256299,0.313473886388489,3.0595599359265598E-2,0,0]
[6096.6611189612004,0.20270510306436301,0.31335527075757302,3.0744708229394947E-2,0,0]
[6111.9027717585996,0.202612498377718,0.31323679078170202,3.0893457501901696E-2,0,0]
[6127.1825286880003,0.20252028118617099,0.31311844733017402,3.1041847731078005E-2,0,0]
[6142.5004850097203,0.20242845008593799,0.31300024126582998,3.1189879470481414E-2,0,0]
[6157.8567362222402,0.202337003675917,0.31288217344505198,3.1337553272957369E-2,0,0]
[6173.2513780627996,0.20224594055770601,0.31276424471776598,3.1484869690652097E-2,0,0]
[6188.6845065079597,0.20215525933560799,0.312646455927446,3.163182927503376E-2,0,0]
[6204.1562177742198,0.20206495861665,0.31252880791111498,3.1778432576905782E-2,0,0]
[6219.6666083186601,0.201975037010591,0.31241130149934898,3.1924680146425868E-2,0,0]
[6235.2157748394602,0.20188549312993401,0.31229393751627799,3.2070572533124252E-2,0,0]
[6250.8038142765499,0.20179632558993699,0.31217671677959502,3.2216110285916998E-2,0,0]
[6266.4308238122403,0.20170753300862901,0.31205964010054998,3.2361293953126057E-2,0,0]
[6282.0969008717702,0.20161911400681501,0.31194270828396597,3.250612408249192E-2,0,0]
[6297.8021431239504,0.201531067208092,0.31182592212823101,3.2650601221194973E-2,0,0]
[6313.5466484817598,0.20144339123885799,0.31170928242531099,3.2794725915867337E-2,0,0]
[6329.3305151029699,0.201356084728326,0.31159278996075201,3.2938498712608316E-2,0,0]
[6345.1538413907201,0.20126914630853099,0.31147644551368298,3.3081920157004827E-2,0,0]
[6361.0167259942,0.201182574614343,0.31136024985682398,3.3224990794143025E-2,0,0]
[6376.9192678091904,0.20109636828347799,0.31124420375648798,3.3367711168626413E-2,0,0]
[6392.8615659787101,0.20101052595651001,0.311128307972592,3.351008182458623E-2,0,0]
[6408.8437198936499,0.20092504627687699,0.31101256325865601,3.3652103305704832E-2,0,0]
[6424.8658291933898,0.200839927890896,0.31089697036181302,3.3793776155224525E-2,0,0]
[6440.9279937663696,0.200755169447774,0.310781530022815,3.3935100915962413E-2,0,0]
[6457.0303137507899,0.200670769599612,0.31066624297604101,3.4076078130328306E-2,0,0]
[6473.1728895351598,0.20058672700142299,0.31055110994949803,3.4216708340337854E-2,0,0]
[6489.3558217589998,0.200503040311135,0.31043613166483403,3.4356992087627714E-2,0,0]
[6505.5792113134003,0.200419708189607,0.31032130883734399,3.4496929913466229E-2,0,0]
[6521.8431593416799,0.20033672930063401,0.31020664217597399,3.4636522358773313E-2,0,0]
[6538.1477672400297,0.200254102310961,0.310092132383332,3.4775769964129101E-2,0,0]
[6554.4931366581304,0.20017182589029001,0.30997778015569599,3.4914673269789316E-2,0,0]
[6570.8793694997803,0.20008989871128699,0.30986358618301901,3.505323281570287E-2,0,0]
[6587.3065679235297,0.20000831944959699,0.30974955114893998,3.5191449141519407E-2,0,0]
[6603.7748343433404,0.19992708678385199,0.30963567573079298,3.5329322786603064E-2,0,0]
[6620.2842714291901,0.199846199395674,0.30952196059961201,3.5466854290052648E-2,0,0]
[6636.83498210777,0.19976565596969301,0.309408406420146,3.5604044190704065E-2,0,0]
[6653.4270695630403,0.19968545519354999,0.309295013850862,3.5740893027151471E-2,0,0]
[6670.0606372369402,0.19960559575790901,0.30918178354395798,3.5877401337755188E-2,0,0]
[6686.7357888300403,0.199526076356461,0.30906871614537201,3.6013569660657947E-2,0,0]
[6703.4526283021096,0.19944689568594001,0.30895581229479002,3.6149398533793196E-2,0,0]
[6720.21125987287,0.19936805244612399,0.30884307262566202,3.628488849489836E-2,0,0]
[6737.0117880225498,0.19928954533984899,0.30873049776520201,3.6420040081529888E-2,0,0]
[6753.8543174925999,0.19921137307301401,0.30861808833440901,3.6554853831070079E-2,0,0]
[6770.7389532863299,0.199133534354592,0.30850584494807098,3.6689330280741415E-2,0,0]
[6787.6658006695498,0.19905602789663299,0.30839376821477998,3.6823469967618448E-2,0,0]
[6804.6349651712198,0.19897885241427901,0.30828185873693797,{"$f":"SQRT(($G$1-B774)^2+($G$2-C774)^2)","v":3.6957273428637916E-2},0,0]
[6821.6465525841504,0.19890200662576399,0.30817011711077302,3.7090741200611961E-2,{"$f":"IF((D775-E774)<0,D775,0)","v":0},{"$f":"IF(E775<>0,F774+1,0)","v":0}]
[6838.70066896561,0.19882548925242999,0.30805854392635101,3.72238738202329E-2,0,0]
[6855.7974206380204,0.19874929901872701,0.30794713976758198,3.7356671824093322E-2,0,0]
[6872.9369141896204,0.198673434652227,0.30783590521223803,3.7489135748687848E-2,0,0]
[6890.11925647509,0.198597894883627,0.307724840831963,3.7621266130428238E-2,0,0]
[6907.3445546162802,0.198522678446755,0.30761394719228202,3.7753063505656687E-2,0,0]
[6924.6129160028204,0.19844778407858499,0.30750322485262099,3.7884528410645331E-2,0,0]
[6941.9244482928298,0.19837321051923501,0.30739267436631101,3.8015661381618465E-2,0,0]
[6959.2792594135599,0.19829895651198001,0.30728229628060799,3.8146462954753338E-2,0,0]
[6976.6774575620902,0.19822502080325299,0.30717209113670202,3.8276933666196389E-2,0,0]
[6994.1191512060004,0.19815140214266,0.30706205946973297,3.8407074052065233E-2,0,0]
[7011.6044490840104,0.19807809928297901,0.30695220180880101,3.8536884648465448E-2,0,0]
[7029.13346020672,0.19800511098017101,0.30684251867698298,3.8666365991494478E-2,0,0]
[7046.7062938572399,0.197932435993385,0.306733010591346,3.8795518617251806E-2,0,0]
[7064.3230595918803,0.19786007308496201,0.30662367806295898,3.8924343061851011E-2,0,0]
[7081.9838672408596,0.19778802102044599,0.306514521596912,3.9052839861421371E-2,0,0]
[7099.6888269089604,0.19771627856858601,0.30640554169232298,3.9181009552124613E-2,0,0]
[7117.4380489762298,0.19764484450134301,0.30629673884236103,3.930885267015622E-2,0,0]
[7135.2316440986697,0.197573717593898,0.30618811353425301,3.9436369751757863E-2,0,0]
[7153.0697232089196,0.19750289662465401,0.30607966624930599,3.9563561333222516E-2,0,0]
[7170.9523975169404,0.19743238037524499,0.30597139746291702,3.96904279509038E-2,0,0]
[7188.8797785107299,0.19736216763053899,0.30586330764459102,3.9816970141223325E-2,0,0]
[7206.8519779570097,0.19729225717864601,0.30575539725795398,3.9943188440678103E-2,0,0]
[7224.8691079019,0.197222647810919,0.30564766676077298,4.0069083385847595E-2,0,0]
[7242.9312806716598,0.19715333832196499,0.305540116604965,4.0194655513401803E-2,0,0]
[7261.0386088733303,0.197084327509645,0.30543274723662101,4.0319905360105893E-2,0,0]
[7279.1912053955202,0.19701561417508301,0.305325559096016,4.0444833462828657E-2,0,0]
[7297.38918340901,0.19694719712266601,0.30521855261762898,4.0569440358549799E-2,0,0]
[7315.6326563675302,0.19687907516005401,0.30511172823015698,4.0693726584364563E-2,0,0]
[7333.9217380084501,0.19681124709818101,0.30500508635653201,4.0817692677492329E-2,0,0]
[7352.2565423534697,0.19674371175126101,0.30489862741394202,4.0941339175278715E-2,0,0]
[7370.6371837093502,0.196676467936793,0.30479235181384001,4.1064666615206892E-2,0,0]
[7389.0637766686204,0.19660951447556299,0.30468625996196902,4.1187675534899243E-2,0,0]
[7407.5364361102902,0.19654285019164999,0.30458035225837499,4.1310366472125055E-2,0,0]
[7426.0552772005703,0.196476473912431,0.30447462909742401,4.1432739964805496E-2,0,0]
[7444.6204153935696,0.196410384468582,0.30436909086782299,4.155479655101886E-2,0,0]
[7463.2319664320503,0.196344580694085,0.304263737952636,4.167653676900452E-2,0,0]
[7481.8900463481305,0.196279061426229,0.30415857072929903,4.1797961157172263E-2,0,0]
[7500.5947714639997,0.196213825505616,0.30405358956964401,4.1919070254101132E-2,0,0]
[7519.3462583926603,0.196148871776163,0.303948794839912,4.2039864598548936E-2,0,0]
[7538.1446240386404,0.19608419908510699,0.30384418690077403,4.2160344729453882E-2,0,0]
[7556.9899855987396,0.196019806283005,0.30373976610734799,4.2280511185942476E-2,0,0]
[7575.8824605627397,0.19595569222374301,0.30363553280921801,4.2400364507329293E-2,0,0]
[7594.8221667141397,0.195891855764532,0.30353148735045699,4.2519905233123254E-2,0,0]
[7613.8092221309298,0.19582829576591701,0.30342763006963602,4.263913390303431E-2,0,0]
[7632.8437451862601,0.19576501109177699,0.303323961299855,4.2758051056970982E-2,0,0]
[7651.9258545492203,0.19570200060932899,0.30322048136875202,4.2876657235050193E-2,0,0]
[7671.05566918559,0.195639263189128,0.30311719059852898,4.2994952977598123E-2,0,0]
[7690.23330835856,0.195576797705073,0.30301408930596802,4.3112938825153491E-2,0,0]
[7709.4588916294497,0.19551460303440801,0.30291117780245203,4.3230615318470979E-2,0,0]
[7728.7325388585296,0.19545267805772601,0.30280845639398501,4.3347982998522896E-2,0,0]
[7748.0543702056702,0.19539102165896699,0.302705925381209,4.3465042406507066E-2,0,0]
[7767.4245061311904,0.195329632725424,0.30260358505942903,4.35817940838433E-2,0,0]
[7786.8430673965104,0.19526851014774399,0.30250143571862798,4.3698238572180755E-2,0,0]
[7806.3101750650003,0.19520765281993099,0.30239947764349001,4.3814376413397221E-2,0,0]
[7825.8259505026699,0.195147059639346,0.30229771111342002,4.3930208149603502E-2,0,0]
[7845.3905153789201,0.195086729506708,0.30219613640256299,4.4045734323146915E-2,0,0]
[7865.0039916673704,0.195026661326099,0.30209475377982797,4.4160955476608525E-2,0,0]
[7884.6665016465404,0.194966854004964,0.30199356350890399,4.4275872152809786E-2,0,0]
[7904.3781679006497,0.194907306454111,0.301892565848284,4.4390484894812898E-2,0,0]
[7924.1391133204097,0.194848017587712,0.30179176105128502,4.4504794245923303E-2,0,0]
[7943.9494611037098,0.19478898632331099,0.301691149366068,4.4618800749687541E-2,0,0]
[7963.80933475647,0.194730211581813,0.30159073103566197,4.4732504949900533E-2,0,0]
[7983.7188580933598,0.19467169228749701,0.30149050629798102,{"$f":"SQRT(($G$1-B838)^2+($G$2-C838)^2)","v":4.4845907390602041E-2},0,0]
[8003.6781552385901,0.19461342736800899,0.30139047538584801,4.4959008616081285E-2,{"$f":"IF((D839-E838)<0,D839,0)","v":0},{"$f":"IF(E839<>0,F838+1,0)","v":0}]
[8023.6873506266902,0.19455541575436799,0.30129063852701798,4.5071809170873042E-2,0,0]
[8043.7465690032504,0.194497656380962,0.30119099594419502,4.5184309599765229E-2,0,0]
[8063.8559354257604,0.194440148185552,0.30109154785505599,4.529651044779575E-2,0,0]
[8084.0155752643204,0.19438289010927201,0.30099229447227599,4.5408412260250768E-2,0,0]
[8104.2256142024798,0.19432588109662799,0.30089323600354201,4.5520015582672227E-2,0,0]
[8124.4861782379903,0.19426912009549899,0.30079437265158199,4.5631320960852408E-2,0,0]
[8144.7973936835797,0.194212606057139,0.30069570461418299,4.5742328940835922E-2,0,0]
[8165.1593871677896,0.19415633793617501,0.30059723208421701,4.5853040068918501E-2,0,0]
[8185.5722856357097,0.19410031469060601,0.30049895524965797,4.5963454891651531E-2,0,0]
[8206.0362163497994,0.19404453528180701,0.30040087429360701,4.6073573955836958E-2,0,0]
[8226.5513068906694,0.19398899867452599,0.30030298939431499,4.6183397808528912E-2,0,0]
[8247.1176851579003,0.19393370383688299,0.30020530072520502,4.6292926997033662E-2,0,0]
[8267.7354793707891,0.193878649740371,0.30010780845489099,4.6402162068911346E-2,0,0]
[8288.4048180692207,0.19382383535985701,0.30001051274720802,4.6511103571968533E-2,0,0]
[8309.1258301143898,0.193769259673578,0.29991341376122699,4.6619752054265849E-2,0,0]
[8329.8986446896797,0.193714921663143,0.29981651165128198,4.6728108064111915E-2,0,0]
[8350.7233913014006,0.19366082031353099,0.29971980656698999,4.6836172150065615E-2,0,0]
[8371.6001997796593,0.19360695461309199,0.29962329865327803,4.6943944860930696E-2,0,0]
[8392.5292002791102,0.19355332355354299,0.29952698805040101,4.7051426745760433E-2,0,0]
[8413.5105232797996,0.19349992612997,0.29943087489397002,4.7158618353850483E-2,0,0]
[8434.5442995880003,0.193446761340826,0.29933495931497101,4.7265520234741384E-2,0,0]
[8455.6306603369703,0.193393828187926,0.29923924143978903,4.7372132938218806E-2,0,0]
[8476.7697369878097,0.19334112567645401,0.29914372139023099,4.74784570143068E-2,0,0]
[8497.9616613302805,0.193288652814953,0.29904839928355398,4.7584493013268142E-2,0,0]
[8519.2065654836097,0.19323640861533101,0.298953275232479,4.7690241485604648E-2,0,0]
[8540.5045818973194,0.19318439209285099,0.29885834934522398,4.7795702982053836E-2,0,0]
[8561.8558433520593,0.19313260226613899,0.29876362172552001,4.7900878053585817E-2,0,0]
[8583.2604829604406,0.19308103815717201,0.29866909247263901,4.8005767251404964E-2,0,0]
[8604.7186341678407,0.19302969879128801,0.298574761681416,4.8110371126940853E-2,0,0]
[8626.2304307532595,0.19297858319717101,0.29848062944227199,4.8214690231855144E-2,0,0]
[8647.79600683014,0.192927690406861,0.298386695841238,4.8318725118031022E-2,0,0]
[8669.4154968472103,0.19287701945574301,0.29829296095997898,4.8422476337576417E-2,0,0]
[8691.0890355893298,0.19282656938254999,0.29819942487581802,4.8525944442817714E-2,0,0]
[8712.8167581783,0.192776339229359,0.29810608766176,4.86291299862983E-2,0,0]
[8734.5988000737507,0.19272632804158801,0.29801294938651202,4.8732033520778824E-2,0,0]
[8756.4352970739292,0.19267653486799499,0.29792001011451402,4.8834655599228366E-2,0,0]
[8778.3263853166209,0.19262695876067501,0.29782726990595498,4.8936996774827539E-2,0,0]
[8800.2722012799095,0.19257759877505601,0.29773472881680402,4.9039057600961132E-2,0,0]
[8822.2728817831103,0.19252845396989901,0.29764238689882699,4.9140838631218688E-2,0,0]
[8844.3285639875594,0.19247952340729299,0.29755024419961901,4.9242340419386445E-2,0,0]
[8866.4393853975307,0.19243080615265401,0.29745830076261898,4.9343563519449934E-2,0,0]
[8888.6054838610198,0.192382301274718,0.29736655662714101,4.9444508485587936E-2,0,0]
[8910.8269975706808,0.192334007845545,0.297275011828397,4.9545175872165385E-2,0,0]
[8933.1040650645991,0.192285924940509,0.29718366639751598,4.964556623373808E-2,0,0]
[8955.4368252272598,0.19223805163829799,0.29709252036157502,4.9745680125041991E-2,0,0]
[8977.8254172903307,0.19219038702091301,0.29700157374361902,4.9845518100991262E-2,0,0]
[9000.2699808335492,0.19214293017365799,0.29691082656268603,4.9945080716678164E-2,0,0]
[9022.77065578564,0.192095680185145,0.296820278833832,5.0044368527363166E-2,0,0]
[9045.3275824250995,0.19204863614728299,0.296729930568153,5.0143382088477649E-2,0,0]
[9067.9409013811601,0.19200179715528001,0.29663978177281303,5.0242121955613485E-2,0,0]
[9090.6107536346208,0.19195516230763501,0.29654983245106298,5.0340588684525969E-2,0,0]
[9113.3372805186991,0.19190873070613901,0.29646008260227202,5.0438782831121132E-2,0,0]
[9136.1206237200004,0.191862501455866,0.29637053222194398,5.0536704951461023E-2,0,0]
[9158.9609252792998,0.19181647366517199,0.29628118130174702,5.0634355601753493E-2,0,0]
[9181.8583275924902,0.191770646445693,0.29619202982953702,5.0731735338347281E-2,0,0]
[9204.8129734114791,0.19172501891233601,0.29610307778938,5.0828844717732427E-2,0,0]
[9227.8250058449994,0.19167959018328001,0.296014325161577,5.0925684296531958E-2,0,0]
[9250.8945683596194,0.19163435937996801,0.29592577192269198,5.1022254631497253E-2,0,0]
[9274.0218047805101,0.19158932562710401,0.29583741804557001,5.1118556279507281E-2,0,0]
[9297.2068592924606,0.19154448805265101,0.29574926349936598,5.1214589797559176E-2,0,0]
[9320.4498764406908,0.191499845787823,0.29566130824956599,5.1310355742768106E-2,0,0]
[9343.7510011318009,0.191455397967083,0.29557355225801502,5.1405854672358441E-2,0,0]
[9367.1103786346193,0.191411143728136,0.29548599548293902,{"$f":"SQRT(($G$1-B902)^2+($G$2-C902)^2)","v":5.150108714366218E-2},0,0]
[9390.5281545812104,0.191367082211928,0.29539863787897003,5.1596053714111259E-2,{"$f":"IF((D903-E902)<0,D903,0)","v":0},{"$f":"IF(E903<>0,F902+1,0)","v":0}]
[9414.0044749676599,0.19132321256264001,0.29531147939716801,5.1690754941235255E-2,0,0]
[9437.5394861550794,0.19127953392768099,0.29522451998504901,5.1785191382655138E-2,0,0]
[9461.1333348704702,0.19123604545768599,0.29513775958660698,5.1879363596078094E-2,0,0]
[9484.7861682076491,0.19119274630650901,0.29505119814233899,5.1973272139293362E-2,0,0]
[9508.4981336281598,0.19114963563122001,0.294964835589268,5.2066917570166876E-2,0,0]
[9532.2693789622299,0.19110671259210099,0.294878671860969,5.2160300446634042E-2,0,0]
[9556.1000524096398,0.191063976352635,0.29479270688759401,5.2253421326697747E-2,0,0]
[9579.9903025406602,0.19102142607951,0.29470694059588998,5.234628076842214E-2,0,0]
[9603.9402782970101,0.190979060942606,0.29462137290923401,5.2438879329923839E-2,0,0]
[9627.9501289927593,0.19093688011499299,0.29453600374764499,5.2531217569374136E-2,0,0]
[9652.0200043152399,0.19089488277292599,0.29445083302781899,5.2623296044984808E-2,0,0]
[9676.1500543260208,0.19085306809583899,0.29436586066314602,5.2715115315008713E-2,0,0]
[9700.3404294618394,0.19081143526633901,0.29428108656373603,5.2806675937733229E-2,0,0]
[9724.5912805354892,0.19076998347020299,0.29419651063644398,5.289797847147247E-2,0,0]
[9748.9027587368291,0.190728711896368,0.29411213278489401,5.2989023474564349E-2,0,0]
[9773.2750156336697,0.19068761973693199,0.29402795290950201,5.3079811505362041E-2,0,0]
[9797.7082031727605,0.190646706187139,0.29394397090750202,5.3170343122232372E-2,0,0]
[9822.2024736806907,0.19060597044538499,0.29386018667296498,5.326061888354669E-2,0,0]
[9846.7579798648894,0.19056541171319999,0.29377660009683099,5.335063934767667E-2,0,0]
[9871.3748748145499,0.19052502919525399,0.29369321106692498,5.3440405072987182E-2,0,0]
[9896.0533120015898,0.19048482209934001,0.29361001946798498,5.3529916617834419E-2,0,0]
[9920.7934452815898,0.19044478963637501,0.293527025181687,5.3619174540554822E-2,0,0]
[9945.5954288947996,0.19040493102039599,0.29344422808666498,5.3708179399460806E-2,0,0]
[9970.4594174670292,0.190365245468545,0.29336162805853699,5.3796931752838881E-2,0,0]
[9995.3855660107001,0.19032573220107299,0.29327922496992898,5.3885432158937291E-2,0,0]
[10020.374029925701,0.190286390441324,0.29319701869049802,5.397368117596664E-2,0,0]
[10045.4249650005,0.19024721941573999,0.29311500908695598,5.4061679362086876E-2,0,0]
[10070.538527413,0.19020821835384299,0.29303319602309302,5.4149427275408793E-2,0,0]
[10095.7148737316,0.190169386488238,0.29295157935980098,5.4236925473982345E-2,0,0]
[10120.954160915901,0.19013072305460199,0.29287015895509899,5.4324174515791891E-2,0,0]
[10146.2565463182,0.19009222729167899,0.29278893466415201,5.441117495875309E-2,0,0]
[10171.622187684001,0.19005389844127299,0.29270790633930099,5.4497927360701984E-2,0,0]
[10197.051243153201,0.19001573574823999,0.29262707383008002,5.4584432279394732E-2,0,0]
[10222.543871261099,0.18997773846048799,0.29254643698324501,5.4670690272493105E-2,0,0]
[10248.100230939201,0.18993990582896,0.29246599564279302,5.4756701897568108E-2,0,0]
[10273.720481516601,0.18990223710763801,0.29238574964998698,5.484246771208591E-2,0,0]
[10299.404782720399,0.18986473155352601,0.29230569884337798,5.4927988273408924E-2,0,0]
[10325.1532946772,0.189827388426655,0.29222584305883098,5.5013264138780153E-2,0,0]
[10350.966177913901,0.18979020699006299,0.29214618212954602,5.5098295865326892E-2,0,0]
[10376.843593358601,0.189753186509801,0.29206671588608102,5.5183084010046485E-2,0,0]
[10402.785702342,0.18971632625491699,0.29198744415637501,5.5267629129805769E-2,0,0]
[10428.792666597899,0.18967962549745301,0.29190836676577198,5.5351931781331597E-2,0,0]
[10454.8646482644,0.189643083512437,0.29182948353704202,5.5435992521206623E-2,0,0]
[10481.001809885,0.18960669957787801,0.29175079429040601,5.5519811905860229E-2,0,0]
[10507.204314409801,0.18957047297475499,0.291672298843558,5.5603390491565215E-2,0,0]
[10533.4723251958,0.18953440298701499,0.29159399701168598,5.5686728834429537E-2,0,0]
[10559.806006008799,0.18949848890156201,0.291515888607499,5.5769827490389279E-2,0,0]
[10586.2055210238,0.18946273000825001,0.291437973441243,5.5852687015207306E-2,0,0]
[10612.671034826401,0.18942712559987801,0.29136025132073001,5.5935307964460411E-2,0,0]
[10639.2027124134,0.18939167497218201,0.29128272205135602,5.6017690893537052E-2,0,0]
[10665.8007191945,0.18935637742382799,0.29120538543612701,5.6099836357628059E-2,0,0]
[10692.465220992401,0.18932123225640299,0.29112824127567699,5.6181744911724611E-2,0,0]
[10719.196384044901,0.18928623877441,0.291051289368294,5.6263417110607616E-2,0,0]
[10745.994375005001,0.189251396285259,0.29097452950994301,5.6344853508841851E-2,0,0]
[10772.859360942501,0.18921670409926,0.29089796149428099,5.6426054660774765E-2,0,0]
[10799.791509344899,0.18918216152961501,0.29082158511268902,5.6507021120522749E-2,0,0]
[10826.7909881183,0.189147767892415,0.29074540015428602,5.6587753441968355E-2,0,0]
[10853.857965588601,0.189113522506624,0.29066940640595601,5.6668252178755173E-2,0,0]
[10880.992610502501,0.18907942469407901,0.29059360365236597,5.6748517884279828E-2,0,0]
[10908.1950920288,0.189045473779481,0.29051799167599202,5.6828551111683175E-2,0,0]
[10935.4655797589,0.189011669090382,0.29044257025713599,5.6908352413851213E-2,0,0]
[10962.8042437082,0.188978009957187,0.29036733917395102,5.6987922343399763E-2,0,0]
[10990.211254317501,0.18894449571313601,0.29029229820246299,{"$f":"SQRT(($G$1-B966)^2+($G$2-C966)^2)","v":5.7067261452674656E-2},0,0]
[11017.6867824533,0.18891112569430399,0.29021744711658798,5.7146370293743733E-2,{"$f":"IF((D967-E966)<0,D967,0)","v":0},{"$f":"IF(E967<>0,F966+1,0)","v":0}]
[11045.230999409399,0.188877899239591,0.29014278568815999,5.7225249418386984E-2,0,0]
[11072.844076908001,0.18884481569071301,0.29006831368694702,5.7303899378095206E-2,0,0]
[11100.5261871002,0.18881187439219399,0.28999403088067299,5.7382320724063303E-2,0,0]
[11128.277502568,0.18877907469136099,0.28991993703504298,5.7460514007178949E-2,0,0]
[11156.098196324399,0.18874641593833399,0.28984603191376002,5.7538479778021193E-2,0,0]
[11183.9884418152,0.18871389748601999,0.28977231527854802,5.7616218586851398E-2,0,0]
[11211.948412919801,0.188681518690101,0.289698786889171,5.7693730983610962E-2,0,0]
[11239.978283952099,0.18864927890903199,0.28962544650345801,5.7771017517908169E-2,0,0]
[11268.0782296619,0.18861717750402901,0.28955229387731801,5.7848078739019052E-2,0,0]
[11296.248425236099,0.18858521383906099,0.28947932876476701,5.7924915195876302E-2,0,0]
[11324.489046299201,0.188553387280845,0.28940655091794398,5.8001527437064625E-2,0,0]
[11352.8002689149,0.18852169719883599,0.28933396008713202,5.8077916010815543E-2,0,0]
[11381.1822695872,0.18849014296521699,0.28926155602078202,5.8154081464999757E-2,0,0]
[11409.6352252612,0.18845872395489699,0.28918933846552902,5.8230024347120365E-2,0,0]
[11438.1593133243,0.18842743954549701,0.28911730716621398,5.8305745204309277E-2,0,0]
[11466.7547116076,0.18839628911734399,0.28904546186590702,5.8381244583317414E-2,0,0]
[11495.4215983867,0.18836527205346401,0.28897380230592201,5.8456523030512041E-2,0,0]
[11524.160152382599,0.18833438773957301,0.288902328225842,5.8531581091867214E-2,0,0]
[11552.9705527636,0.18830363556406801,0.28883103936353399,5.8606419312962059E-2,0,0]
[11581.8529791455,0.18827301491802101,0.28875993545517398,5.8681038238969419E-2,0,0]
[11610.8076115934,0.18824252519516799,0.288689016235264,5.8755438414653589E-2,0,0]
[11639.834630622299,0.188212165791905,0.28861828143665003,5.8829620384363082E-2,0,0]
[11668.934217198899,0.18818193610727399,0.28854773079054602,5.8903584692024794E-2,0,0]
[11698.1065527419,0.188151835542961,0.28847736402655,5.8977331881136706E-2,0,0]
[11727.3518191237,0.188121863503285,0.28840718087266698,5.9050862494760908E-2,0,0]
[11756.6701986716,0.18809201939518699,0.28833718105532302,5.9124177075523504E-2,0,0]
[11786.061874168199,0.18806230262822499,0.28826736429938898,5.9197276165603038E-2,0,0]
[11815.527028853599,0.188032712614568,0.28819773032819801,5.9270160306724468E-2,0,0]
[11845.065846425799,0.188003248768982,0.28812827886356701,5.934283004015499E-2,0,0]
[11874.6785110418,0.187973910508825,0.28805900962580899,5.9415285906701205E-2,0,0]
[11904.365207319401,0.18794469725404001,0.28798992233376203,5.9487528446694568E-2,0,0]
[11934.1261203377,0.187915608427145,0.28792101670479803,5.9559558199994485E-2,0,0]
[11963.961435638599,0.18788664345322101,0.28785229245485,5.9631375705977978E-2,0,0]
[11993.8713392277,0.18785780175991301,0.28778374929842299,5.9702981503534203E-2,0,0]
[12023.856017575799,0.18782908277741001,0.28771538694861998,5.9774376131060049E-2,0,0]
[12053.9156576197,0.187800485938448,0.28764720511715403,5.9845560126452278E-2,0,0]
[12084.0504467637,0.18777201067829399,0.287579203514371,5.9916534027103126E-2,0,0]
[12114.260572880699,0.18774365643474,0.287511381849267,5.99872983698937E-2,0,0]
[12144.5462243129,0.18771542264809399,0.287443739829505,6.0057853691190002E-2,0,0]
[12174.907589873599,0.18768730876117301,0.28737627716143199,6.0128200526836949E-2,0,0]
[12205.344858848301,0.18765931421929599,0.28730899355010198,6.0198339412148145E-2,0,0]
[12235.8582209954,0.187631438470269,0.28724188869928902,6.0268270881907969E-2,0,0]
[12266.4478665479,0.18760368096438301,0.28717496231150702,6.0337995470360589E-2,0,0]
[12297.113986214301,0.18757604115440599,0.287108214088028,6.0407513711203682E-2,0,0]
[12327.8567711798,0.187548518495569,0.28704164372889801,6.0476826137587619E-2,0,0]
[12358.6764131078,0.18752111244556199,0.28697525093295501,6.0545933282107042E-2,0,0]
[12389.5731041405,0.18749382246452301,0.28690903539784901,6.0614835676794737E-2,0,0]
[12420.5470369009,0.18746664801503499,0.28684299682005598,6.0683533853115666E-2,0,0]
[12451.598404493199,0.18743958856210799,0.28677713489489598,6.0752028341966594E-2,0,0]
[12482.7274005044,0.18741264357317899,0.28671144931655201,6.082031967366424E-2,0,0]
[12513.9342190056,0.18738581251810099,0.286645939778085,6.0888408377943133E-2,0,0]
[12545.219054553199,0.18735909486913399,0.28658060597145202,6.0956294983949562E-2,0,0]
[12576.582102189501,0.187332490100934,0.28651544758752301,6.1023980020238004E-2,0,0]
[12608.023557445,0.18730599769055101,0.286450464316098,6.1091464014761544E-2,0,0]
[12639.5436163386,0.187279617117415,0.28638565584592102,6.115874749487217E-2,0,0]
[12671.1424753795,0.18725334786332901,0.28632102186469999,6.1225830987312088E-2,0,0]
[12702.8203315679,0.187227189412461,0.28625656205912398,6.1292715018207683E-2,0,0]
[12734.577382396799,0.187201141251336,0.28619227611487502,6.1359400113067661E-2,0,0]
[12766.4138258528,0.187175202868827,0.28612816371664701,6.1425886796776234E-2,0,0]
[12798.3298604175,0.18714937375614599,0.28606422454816399,6.1492175593586738E-2,0,0]
[12830.325685068499,0.18712365340683601,0.286000458292193,6.1558267027118835E-2,0,0]
[12862.401499281201,0.187098041316764,0.285936864630562,6.1624161620351205E-2,0,0]
[12894.5575030294,0.187072536984107,0.28587344324417502,{"$f":"SQRT(($G$1-B1030)^2+($G$2-C1030)^2)","v":6.1689859895620383E-2},0,0]
[12926.793896786899,0.18704713990935401,0.28581019381302802,6.1755362374609532E-2,{"$f":"IF((D1031-E1030)<0,D1031,0)","v":0},{"$f":"IF(E1031<>0,F1030+1,0)","v":0}]
[12959.110881528901,0.187021849595286,0.28574711601622399,6.1820669578351042E-2,0,0]
[12991.5086587327,0.186996665546975,0.28568420953199097,6.1885782027215175E-2,0,0]
[13023.9874303796,0.18697158727177299,0.285621474037694,6.1950700240909665E-2,0,0]
[13056.547398955499,0.18694661427930401,0.28555890920985399,6.2015424738471825E-2,0,0]
[13089.188767452901,0.18692174608145401,0.28549651472416199,6.2079956038265723E-2,0,0]
[13121.911739371501,0.186896982192368,0.285434290255493,6.2144294657975101E-2,0,0]
[13154.716518720001,0.18687232212843199,0.28537223547792201,6.2208441114603878E-2,0,0]
[13187.603310016801,0.186847765408274,0.28531035006473998,6.2272395924464992E-2,0,0]
[13220.572318291799,0.186823311552753,0.28524863368846798,6.2336159603177954E-2,0,0]
[13253.623749087499,0.18679896008494401,0.285187086020872,6.2399732665668325E-2,0,0]
[13286.757808460199,0.186774710530139,0.28512570673297699,6.2463115626158014E-2,0,0]
[13319.974702981401,0.18675056241583399,0.285064495495085,6.2526308998160696E-2,0,0]
[13353.2746397388,0.18672651527171999,0.28500345197678301,6.2589313294483112E-2,0,0]
[13386.6578263382,0.18670256862967699,0.28494257584696597,6.2652129027212386E-2,0,0]
[13420.124470904,0.18667872202376301,0.28488186677384397,6.2714756707718866E-2,0,0]
[13453.6747820813,0.186654974990208,0.284821324424961,6.2777196846646732E-2,0,0]
[13487.3089690365,0.18663132706740401,0.28476094846720701,6.2839449953912371E-2,0,0]
[13521.0272414591,0.18660777779589699,0.28470073856682998,6.2901516538701449E-2,0,0]
[13554.8298095627,0.18658432671837899,0.28464069438945799,6.2963397109457933E-2,0,0]
[13588.7168840866,0.18656097337968,0.28458081560010201,6.3025092173888617E-2,0,0]
[13622.688676296901,0.18653771732676,0.28452110186317903,6.3086602238951184E-2,0,0]
[13656.745397987601,0.18651455810869699,0.28446155284252,6.3147927810856902E-2,0,0]
[13690.8872614826,0.18649149527668299,0.28440216820138797,6.3209069395060338E-2,0,0]
[13725.114479636301,0.18646852838401601,0.28434294760248502,6.3270027496260178E-2,0,0]
[13759.4272658354,0.186445656986087,0.284283890707974,6.3330802618391607E-2,0,0]
[13793.825833999999,0.18642288064037699,0.28422499717948602,6.3391395264623604E-2,0,0]
[13828.310398584999,0.18640019890644399,0.28416626667813599,6.3451805937356026E-2,0,0]
[13862.8811745814,0.18637761134591799,0.28410769886453302,6.3512035138215919E-2,0,0]
[13897.5383775179,0.18635511752249401,0.28404929339879997,6.3572083368047608E-2,0,0]
[13932.2822234617,0.186332717001917,0.283991049940578,6.3631951126919717E-2,0,0]
[13967.112929020301,0.18631040935198301,0.28393296814904501,6.3691638914111198E-2,0,0]
[14002.030711342901,0.18628819414252201,0.28387504768292798,6.3751147228113314E-2,0,0]
[14037.0357881212,0.18626607094539799,0.283817288200514,6.3810476566622171E-2,0,0]
[14072.1283775915,0.18624403933449299,0.283759689359663,6.3869627426539538E-2,0,0]
[14107.3086985355,0.18622209888570301,0.28370225081782102,6.3928600303966215E-2,0,0]
[14142.5769702818,0.18620024917693301,0.283644972232033,6.3987395694195995E-2,0,0]
[14177.9334127075,0.18617848978807999,0.28358785325895403,6.4046014091718353E-2,0,0]
[14213.378246239299,0.186156820301033,0.283530893554862,6.4104455990209488E-2,0,0]
[14248.911691854901,0.186135240299661,0.28347409277566898,6.4162721882531915E-2,0,0]
[14284.5339710845,0.18611374936980701,0.28341745057693601,6.4220812260727317E-2,0,0]
[14320.245306012301,0.186092347099276,0.28336096661388099,6.4278727616018869E-2,0,0]
[14356.0459192773,0.18607103307783099,0.28330464054139398,6.4336468438802405E-2,0,0]
[14391.936034075499,0.18604980689718401,0.28324847201404801,6.4394035218644438E-2,0,0]
[14427.915874160701,0.18602866815098701,0.28319246068610798,6.4451428444281728E-2,0,0]
[14463.985663846101,0.186007616434823,0.28313660621154801,6.4508648603613758E-2,0,0]
[14500.145628005699,0.18598665134620199,0.28308090824405602,6.456569618370267E-2,0,0]
[14536.395992075701,0.18596577248454599,0.28302536643705101,6.4622571670769499E-2,0,0]
[14572.7369820559,0.18594497945119001,0.28296998044369198,6.4679275550187543E-2,0,0]
[14609.168824511,0.185924271849366,0.28291474991688897,6.4735808306484149E-2,0,0]
[14645.6917465723,0.1859036492842,0.28285967450931299,6.4792170423335529E-2,0,0]
[14682.3059759387,0.1858831113627,0.28280475387341097,6.4848362383563049E-2,0,0]
[14719.011740878601,0.18586265769375401,0.28274998766141102,6.490438466913119E-2,0,0]
[14755.8092702308,0.18584228788811399,0.28269537552534002,6.4960237761144013E-2,0,0]
[14792.6987934064,0.18582200155839701,0.28264091711702899,6.5015922139841073E-2,0,0]
[14829.6805403899,0.18580179831906901,0.28258661208812602,6.5071438284597813E-2,0,0]
[14866.7547417408,0.185781677786444,0.28253246009010702,6.5126786673918177E-2,0,0]
[14903.921628595201,0.18576163957866801,0.28247846077428401,6.5181967785438596E-2,0,0]
[14941.181432666701,0.18574168331572199,0.28242461379182099,6.5236982095914289E-2,0,0]
[14978.534386248301,0.18572180861940399,0.28237091879373499,6.5291830081229948E-2,0,0]
[15015.980722214001,0.18570201511332701,0.282317375430919,6.5346512216383504E-2,0,0]
[15053.520674019501,0.18568230242290901,0.28226398335413799,6.5401028975496045E-2,0,0]
[15091.154475704499,0.185662670175367,0.28221074221405101,6.5455380831798415E-2,0,0]
[15128.8823618938,0.18564311799970601,0.28215765166121498,{"$f":"SQRT(($G$1-B1094)^2+($G$2-C1094)^2)","v":6.5509568257635542E-2},0,0]
[15166.704567798501,0.18562364552671601,0.28210471134609499,6.556359172446076E-2,{"$f":"IF((D1095-E1094)<0,D1095,0)","v":0},{"$f":"IF(E1095<>0,F1094+1,0)","v":0}]
[15204.621329218,0.185604252388958,0.28205192091907599,6.5617451702835464E-2,0,0]
[15242.6328825411,0.185584938220764,0.28199928003046998,6.5671148662424059E-2,0,0]
[15280.739464747399,0.185565702658222,0.28194678833053,6.572468307199239E-2,0,0]
[15318.941313409299,0.185546545339174,0.28189444546945502,6.5778055399405705E-2,0,0]
[15357.2386666928,0.18552746590320501,0.28184225109740102,6.5831266111626985E-2,0,0]
[15395.631763359601,0.18550846399163401,0.28179020486449202,6.588431567471402E-2,0,0]
[15434.120842767999,0.18548953924751299,0.28173830642082698,6.5937204553815243E-2,0,0]
[15472.706144874899,0.185470691315611,0.28168655541649101,6.5989933213170662E-2,0,0]
[15511.387910237099,0.18545191984241399,0.28163495150156298,6.6042502116106599E-2,0,0]
[15550.166380012601,0.18543322447611199,0.281583494326126,6.6094911725035344E-2,0,0]
[15589.041795962699,0.185414604866593,0.28153218354027698,6.6147162501451834E-2,0,0]
[15628.014400452599,0.18539606066543701,0.28148101879413001,6.6199254905934854E-2,0,0]
[15667.084436453701,0.18537759152590799,0.281429999737834,6.625118939813833E-2,0,0]
[15706.252147544899,0.18535919710294499,0.281379126021574,6.6302966436796021E-2,0,0]
[15745.517777913699,0.185340877053155,0.28132839729558501,6.6354586479715136E-2,0,0]
[15784.881572358499,0.18532263103480701,0.28127781321015599,6.6406049983777152E-2,0,0]
[15824.343776289399,0.185304458707824,0.28122737341564302,6.6457357404932527E-2,0,0]
[15863.904635730099,0.185286359733775,0.28117707756247201,6.65085091982036E-2,0,0]
[15903.5643973194,0.18526833377586699,0.28112692530115402,6.6559505817677597E-2,0,0]
[15943.3233083127,0.18525038049894099,0.28107691628228898,6.6610347716506382E-2,0,0]
[15983.181616583501,0.185232499569459,0.28102705015657398,6.6661035346907982E-2,0,0]
[16023.139570625,0.185214690655502,0.280977326574812,6.6711569160161036E-2,0,0]
[16063.197419551499,0.18519695342676101,0.28092774518792102,6.6761949606603394E-2,0,0]
[16103.3554131004,0.185179287554528,0.280878305646941,6.6812177135632034E-2,0,0]
[16143.613801633201,0.185161692711692,0.28082900760304202,6.6862252195699315E-2,0,0]
[16183.9728361372,0.185144168572728,0.28077985070753197,6.6912175234313712E-2,0,0]
[16224.4327682276,0.185126714813694,0.28073083461186399,6.6961946698035901E-2,0,0]
[16264.993850148199,0.185109331112219,0.28068195896764397,6.7011567032480124E-2,0,0]
[16305.656334773499,0.18509201714750001,0.28063322342663999,6.7061036682308769E-2,0,0]
[16346.420475610499,0.18507477260029301,0.28058462764078701,6.7110356091234183E-2,0,0]
[16387.2865267995,0.18505759715290701,0.28053617126219599,6.7159525702015138E-2,0,0]
[16428.2547431165,0.18504049048919399,0.280487853943162,6.7208545956456589E-2,0,0]
[16469.3253799743,0.185023452294547,0.28043967533616898,6.7257417295407185E-2,0,0]
[16510.498693424201,0.18500648225588601,0.28039163509389903,6.7306140158760408E-2,0,0]
[16551.7749401578,0.184989580061661,0.28034373286923903,6.7354714985447706E-2,0,0]
[16593.154377508199,0.18497274540183201,0.28029596831528703,6.740314221344533E-2,0,0]
[16634.637263451899,0.184955977967873,0.28024834108536201,6.7451422279764459E-2,0,0]
[16676.223856610599,0.18493927745276101,0.280200850833004,6.7499555620457674E-2,0,0]
[16717.914416252101,0.18492264355096899,0.28015349721199101,6.7547542670609792E-2,0,0]
[16759.709202292699,0.18490607595845701,0.28010627987633502,6.7595383864346451E-2,0,0]
[16801.608475298399,0.18488957437266901,0.28005919848029898,6.7643079634822578E-2,0,0]
[16843.612496486701,0.18487313849252501,0.28001225267839402,6.769063041422925E-2,0,0]
[16885.721527727899,0.184856768018413,0.27996544212539298,6.7738036633787968E-2,0,0]
[16927.935831547202,0.18484046265218301,0.27991876647633401,6.7785298723751206E-2,0,0]
[16970.255671126099,0.184824222097138,0.27987222538652601,6.783241711340364E-2,0,0]
[17012.681310303898,0.184808046058032,0.27982581851155702,6.7879392231056573E-2,0,0]
[17055.213013579702,0.184791934241059,0.2797795455073,6.792622450404999E-2,0,0]
[17097.851046113599,0.18477588635384701,0.27973340602991897,6.7972914358751163E-2,0,0]
[17140.595673728902,0.18475990210545501,0.27968739973587498,6.8019462220551802E-2,0,0]
[17183.447162913199,0.18474398120635799,0.27964152628193101,6.8065868513872987E-2,0,0]
[17226.4057808205,0.18472812336845101,0.27959578532516,6.8112133662156335E-2,0,0]
[17269.471795272599,0.18471232830503401,0.27955017652295,6.8158258087868961E-2,0,0]
[17312.645474760699,0.18469659573080999,0.27950469953300899,6.8204242212500668E-2,0,0]
[17355.927088447599,0.184680925361876,0.27945935401337402,6.825008645656197E-2,0,0]
[17399.316906168799,0.184665316915715,0.27941413962241202,6.8295791239588233E-2,0,0]
[17442.8151984342,0.18464977011119599,0.279369056018829,6.8341356980132287E-2,0,0]
[17486.422236430299,0.18463428466855999,0.27932410286167603,6.8386784095767802E-2,0,0]
[17530.1382920213,0.18461886030941799,0.279279279810351,6.8432073003089205E-2,0,0]
[17573.9636377514,0.18460349675674301,0.27923458652460897,6.8477224117707916E-2,0,0]
[17617.898546845801,0.18458819373486199,0.279190022664563,6.8522237854256526E-2,0,0]
[17661.943293212898,0.184572950969454,0.27914558789069399,6.8567114626381861E-2,0,0]
[17706.098151445902,0.18455776818753999,0.27910128186385202,6.8611854846749948E-2,0,0]
[17750.363396824501,0.18454264511747501,0.27905710424526398,{"$f":"SQRT(($G$1-B1158)^2+($G$2-C1158)^2)","v":6.8656458927044445E-2},0,0]
[17794.739305316602,0.18452758148894799,0.27901305469653898,6.8700927277962287E-2,{"$f":"IF((D1159-E1158)<0,D1159,0)","v":0},{"$f":"IF(E1159<>0,F1158+1,0)","v":0}]
[17839.226153579901,0.18451257703297,0.27896913287966901,6.8745260309220138E-2,0,0]
[17883.8242189638,0.18449763148186801,0.27892533845704298,6.8789458429546618E-2,0,0]
[17928.533779511199,0.18448274456928301,0.27888167109144102,6.8833522046687995E-2,0,0]
[17973.355113959999,0.184467916030158,0.27883813044604799,6.8877451567404255E-2,0,0]
[18018.288501744901,0.184453145600737,0.27879471618445401,6.8921247397469243E-2,0,0]
[18063.3342229993,0.184438433018556,0.27875142797065899,6.8964909941672189E-2,0,0]
[18108.492558556802,0.18442377802243701,0.27870826546908001,6.9008439603815266E-2,0,0]
[18153.763789953198,0.18440918035248,0.27866522834455398,6.9051836786716003E-2,0,0]
[18199.148199428,0.18439463975006101,0.27862231626234402,6.9095101892203192E-2,0,0]
[18244.646069926599,0.184380155957825,0.27857952888814103,6.9138235321119776E-2,0,0]
[18290.257685101398,0.18436572871967699,0.27853686588807097,6.9181237473321999E-2,0,0]
[18335.9833293142,0.18435135778077699,0.27849432692870002,6.9224108747678162E-2,0,0]
[18381.8232876375,0.184337042887534,0.27845191167703398,6.9266849542072489E-2,0,0]
[18427.777845856501,0.184322783787605,0.27840961980052897,6.9309460253396959E-2,0,0]
[18473.8472904712,0.18430858022987801,0.27836745096709198,6.9351941277560739E-2,0,0]
[18520.031908697401,0.18429443196447701,0.278325404845085,6.9394293009483729E-2,0,0]
[18566.331988469101,0.18428033874275099,0.27828348110333101,6.9436515843098123E-2,0,0]
[18612.747818440301,0.18426630031726701,0.27824167941111599,6.9478610171350638E-2,0,0]
[18659.2796879864,0.18425231644180601,0.27819999943819601,6.952057638619917E-2,0,0]
[18705.927887206301,0.18423838687135799,0.27815844085479702,6.9562414878615558E-2,0,0]
[18752.692706924401,0.18422451136211501,0.27811700333162398,6.9604126038582223E-2,0,0]
[18799.574438691699,0.18421068967146201,0.27807568653985898,6.9645710255098872E-2,0,0]
[18846.573374788401,0.18419692155797701,0.27803449015116999,6.9687167916175158E-2,0,0]
[18893.689808225401,0.184183206781423,0.27799341383771298,6.9728499408833591E-2,0,0]
[18940.924032745901,0.18416954510274,0.27795245727213402,6.9769705119112235E-2,0,0]
[18988.276342827801,0.18415593628404001,0.27791162012757398,6.9810785432063774E-2,0,0]
[19035.7470336849,0.18414238008860501,0.27787090207767401,6.9851740731752016E-2,0,0]
[19083.336401269,0.18412887628087601,0.277830302796578,6.989257140125614E-2,0,0]
[19131.044742272199,0.184115424626451,0.27778982195893298,6.9933277822671433E-2,0,0]
[19178.8723541279,0.184102024892078,0.27774945923989902,6.9973860377105082E-2,0,0]
[19226.819535013201,0.184088676845649,0.277709214315146,7.0014319444682185E-2,0,0]
[19274.886583850799,0.18407538025619399,0.277669086860861,7.0054655404543045E-2,0,0]
[19323.073800310402,0.18406213489387899,0.27762907655375202,7.0094868634841156E-2,0,0]
[19371.381484811202,0.18404894052999399,0.27758918307104802,7.0134959512749895E-2,0,0]
[19419.809938523202,0.18403579693695399,0.27754940609050499,7.0174928414456952E-2,0,0]
[19468.359463369499,0.18402270388829001,0.27750974529040701,7.0214775715168404E-2,0,0]
[19517.030362027901,0.18400966115864301,0.27747020034957198,7.0254501789107443E-2,0,0]
[19565.822937933001,0.18399666852376101,0.27743077094735302,7.0294107009514689E-2,0,0]
[19614.737495277801,0.18398372576048999,0.27739145676364102,7.0333591748651267E-2,0,0]
[19663.774339015999,0.183970832646774,0.27735225747886899,7.0372956377794921E-2,0,0]
[19712.933774863599,0.183957988961643,0.27731317277401402,7.0412201267245345E-2,0,0]
[19762.216109300702,0.18394519448521299,0.27727420233060002,7.0451326786321669E-2,0,0]
[19811.621649574001,0.183932448998677,0.27723534583070297,7.0490333303363184E-2,0,0]
[19861.150703697898,0.18391975228430399,0.27719660295694998,7.0529221185730531E-2,0,0]
[19910.803580457199,0.18390710412542799,0.27715797339252501,7.0567990799807148E-2,0,0]
[19960.580589408299,0.18389450430644599,0.27711945682117001,7.0606642510999365E-2,0,0]
[20010.482040881801,0.18388195261281501,0.27708105292718799,7.064517668373535E-2,0,0]
[20060.508245984001,0.18386944883104001,0.27704276139544698,7.0683593681468704E-2,0,0]
[20110.659516599,0.18385699274867501,0.277004581911379,7.072189386667839E-2,0,0]
[20160.9361653905,0.18384458415431701,0.276966514160988,7.0760077600865598E-2,0,0]
[20211.338505803898,0.18383222283759601,0.27692855783084702,7.0798145244561586E-2,0,0]
[20261.866852068499,0.18381990858917799,0.27689071260810399,7.0836097157321018E-2,0,0]
[20312.521519198599,0.18380764120074899,0.27685297818048299,7.0873933697729902E-2,0,0]
[20363.3028229966,0.18379542046502301,0.276815354236287,7.0911655223398554E-2,0,0]
[20414.211080054101,0.183783246175723,0.27677784046439902,7.0949262090971438E-2,0,0]
[20465.246607754201,0.18377111812758901,0.27674043655428698,7.0986754656118201E-2,0,0]
[20516.409724273599,0.18375903611636299,0.27670314219600201,7.1024133273543663E-2,0,0]
[20567.700748584299,0.18374699993878801,0.27666595708018599,7.1061398296981854E-2,0,0]
[20619.120000455801,0.18373500939260501,0.27662888089806897,7.1098550079199713E-2,0,0]
[20670.6678004569,0.183723064276544,0.27659191334147198,7.1135588971999716E-2,0,0]
[20722.344469958101,0.18371116439032101,0.276555054102812,7.1172515326217239E-2,0,0]
[20774.1503311329,0.18369930953463301,0.27651830287510298,7.1209329491722484E-2,0,0]

{"sheet":"CRI_CM","index":10,"n_rows":406,"n_cols":86,"rows_kept":406,"cut":false,"hidden":true,"merged":[]}
["CCT calculation, follow J. S. Botero et al, International Journal on Smart Sensing and Intelligent Systems, Vol. 8, No. 3, Sept, 2015. "]
[]
["Original Data",null,null,"(1) CCT calculation",null,null,null,null,"(2) Calculate \"reference Illumination\" based on CCT",null,null,null,"CIE1931 matching (2-Deg)",null,null,null,null,null,null,null,"(3) Calculate the CIE1931 when the target & reference light on Sample R1-R14",null,null,null,null,null,null,null,null,null,null,null,null,null,null,null,"Kt",{"$f":"100/SUMPRODUCT(Photonic!$BC12:$BC506,Photonic!$C12:$C506)","v":14.189991880647515},null,null,null,null,null,null,null,null,null,null,null,null,null,null,null,"(4) Convert to CIE1960 (u,v) system. Apply the adaptive colot shift Von Kries, to respect the difference between the states of the chromatic adaption of the light source of intesest and the reference illumination. ",null,null,null,null,null,null,null,null,null,null,null,null,null,null,null,null,"(5) CRI engineering analysis"]
[null,null,null,null,null,null,null,null,"SPD_Ref_warmwhite",null,4000,{"$f":"+SUM(K6:K500)","v":34668.846123184514},"X","Y","Z","daylight",null,null,"SPD_Ref",null,null,null,null,null,null,null,null,null,null,null,null,null,null,null,null,"(3.1) CIE1931, Target -> Sample",null,null,null,null,null,null,null,"(3.1) CIE1931, Target -> Sample",null,null,null,null,null,null,null,null,null,"Target","Reference","R1","R2","R3","R4","R5","R6","R7","R8","R9","R10","R11","R12","R13","R14",null,"(5.1) select the worst 3 CRI"]
["wd","Nomalized SPD",null,"From Equation",{"$f":"CM!Q17","v":4009.2504480779403},"K",{"$f":"2*PI()*6.62607004E-34*((299792458)^2)","v":3.7417717900752592E-16},null,"warmwhite","daylight","SPD_Ref","Norm(SPD_Ref)",{"$f":"SUM(M6:M500)","v":0.3047676783413471},{"$f":"SUM(N6:N500)","v":0.30580080776522151},{"$f":"SUM(O6:O500)","v":0.18650454698793714},"S1","S2","S3","X",{"$f":"+M5*(100/$N$5)","v":99.662156084078234},"R1","F2","R3","R4","R5","R6","R7","R8","R9","R10","R11","R12","R13","R14","R15(fake)","R1","X",{"$f":"SUMPRODUCT(Photonic!$BB$12:$BB$506,CRI_CM!$B$6:$B$500,CRI_CM!$U$6:$U$500)*100/SUMPRODUCT(Photonic!$BC12:$BC506,CRI_CM!$B$6:$B$500,CRI_CM!$U$6:$U$500)","v":120.96204782977328},"u",{"$f":"4*AL5/(AL5+15*AL6+3*AL7)","v":0.27460843971359239},"x",{"$f":"+AL5/(SUM($AL$5:$AL$7))","v":0.45141783112572625},null,"R1","X",{"$f":"SUMPRODUCT(Photonic!$BB$12:$BB$506,CRI_CM!$L$6:$L$500,CRI_CM!$U$6:$U$500)*100/SUMPRODUCT(Photonic!$BC12:$BC506,CRI_CM!$L$6:$L$500,CRI_CM!$U$6:$U$500)","v":118.32194712575988},"u",{"$f":"4*AT5/(AT5+15*AT6+3*AT7)","v":0.27048091035513744},"x",{"$f":"+AT5/(SUM($AT$5:$AT$7))","v":0.45135496306339673},null,null,"u",{"$f":"+(4*E14)/(E14+15*E15+3*E16)","v":0.22499509772932039},{"$f":"4*T5/(T5+15*T6+3*T7)","v":0.22362962620268095},null,null,null,null,null,null,null,null,null,null,null,null,null,null,null,"put tem all in transverse way",null,null,null,null,null,null,"Select worst 3 in R14"]
[{"$f":"Photonic!B12","v":360},{"$f":"CM!D13","v":6.1796370057863966E-5},null,"From Complicate Equation",{"$f":"E7","v":4000.2171618788961},"K",{"$f":"(6.62607004E-34*299792458)/(1.38064852E-23)","v":1.4387773538277204E-2},null,{"$f":"$G$5*((A6*0.000000001)^(-5)) / (EXP($G$6/(($E$6*0.000000001*A6)))-1)","v":2835063935701.3975},{"$f":"+P6+$H$11*Q6+$H$12*R6","v":19.304707194593306},{"$f":"IF($E$6<=$K$4,I6,J6)","v":19.304707194593306},{"$f":"+K6/$L$4","v":5.5683154628222359E-4},{"$f":"+$L6*Photonic!BB12","v":7.2388101016689059E-8},{"$f":"+$L6*Photonic!BC12","v":2.1827796614263165E-9},{"$f":"+$L6*Photonic!BD12","v":3.3749560020165575E-7},61.5,38,5.3,"Y",100,0.11600000000000001,5.2999999999999999E-2,5.8000000000000003E-2,5.7000000000000002E-2,0.14299999999999999,7.9000000000000001E-2,0.15,7.4999999999999997E-2,6.9000000000000006E-2,4.2000000000000003E-2,7.3999999999999996E-2,0.189,7.0999999999999994E-2,3.5999999999999997E-2,3.5999999999999997E-2,null,"Y",100,"v",{"$f":"6*AL6/(AL5+15*AL6+3*AL7)","v":0.34053049444902128},"y",{"$f":"+AL6/(SUM($AL$5:$AL$7))","v":0.37318964024236323},null,null,"Y",100,"v",{"$f":"6*AT6/(AT5+15*AT6+3*AT7)","v":0.34289611977182932},"y",{"$f":"+AT6/(SUM($AT$5:$AT$7))","v":0.38146343432268637},null,null,"v",{"$f":"6*E15/(E14+15*E15+3*E16)","v":0.33453038971367488},{"$f":"6*T6/(T5+15*T6+3*T7)","v":0.33658155962533021},null,null,null,null,null,null,null,null,null,null,null,null,null,null,null,null,null,null,null,null,null,null,"Col1",{"$f":"MAX(CA10:CA27)+1","v":11},{"$f":"MIN(BT10:BT23)","v":63.434726954631394}]
[{"$f":"Photonic!B13","v":361},{"$f":"CM!D14","v":7.2427110834777909E-5},null,null,{"$f":"CM!Q18","v":4000.2171618788961},null,"xD1",{"$f":"-(4.607*1000000000/(E6^3))+(2.9678*1000000/(E6^2))+(0.09911*1000/(E6))+0.244063","v":0.38233386404762215},2874480462618.1758,{"$f":"+P7+$H$11*Q7+$H$12*R7","v":19.598776765459537},{"$f":"IF($E$6<=$K$4,I7,J7)","v":19.598776765459537},{"$f":"+K7/$L$4","v":5.6531378909530571E-4},{"$f":"+$L7*Photonic!BB13","v":8.4989275052588265E-8},{"$f":"+$L7*Photonic!BC13","v":2.5608714646017347E-9},{"$f":"+$L7*Photonic!BD13","v":3.9689550504803223E-7},62.230000000000004,38.44,5.38,"Z",{"$f":"+O5*(100/$N$5)","v":60.988899392027101},0.12000000000000001,5.3399999999999996E-2,5.8200000000000002E-2,5.74E-2,0.15179999999999999,7.9399999999999998E-2,0.15539999999999998,7.5600000000000001E-2,6.9600000000000009E-2,4.2200000000000001E-2,7.4999999999999997E-2,0.1862,7.1999999999999995E-2,3.5999999999999997E-2,3.5999999999999997E-2,null,"Z",{"$f":"SUMPRODUCT(Photonic!$BD$12:$BD$506,CRI_CM!$B$6:$B$500,CRI_CM!$U$6:$U$500)*100/SUMPRODUCT(Photonic!$BC12:$BC506,CRI_CM!$B$6:$B$500,CRI_CM!$U$6:$U$500)","v":46.99823085067532},null,null,"z",{"$f":"+AL7/(SUM($AL$5:$AL$7))","v":0.17539252863191057},null,null,"Z",{"$f":"SUMPRODUCT(Photonic!$BD$12:$BD$506,CRI_CM!$L$6:$L$500,CRI_CM!$U$6:$U$500)*100/SUMPRODUCT(Photonic!$BC12:$BC506,CRI_CM!$L$6:$L$500,CRI_CM!$U$6:$U$500)","v":43.826376939839314},null,null,"z",{"$f":"+AT7/(SUM($AT$5:$AT$7))","v":0.1671816026139169},null,null,"c",{"$f":"(4-BB5-10*BB6)/BB6","v":1.284490193855669},{"$f":"(4-BC5-10*BC6)/BC6","v":1.2197779878405417},null,null,null,null,null,null,null,null,null,null,null,null,null,null,null,null,null,null,null,null,null,null,"Col2",{"$f":"MAX(CE10:CE23)+1","v":4},{"$f":"MIN(CC10:CC23)","v":69.628669490017373}]
[{"$f":"Photonic!B14","v":362},{"$f":"CM!D15","v":6.0959423992771492E-5},null,null,null,null,"xD2",{"$f":"-(2.0064*1000000000/(E6^3))+(1.9018*1000000/(E6^2))+(0.24748*1000/(E6))+0.23704","v":0.38641134154433315},2914111294081.4077,19.892846336325753,19.892846336325753,5.737960319083874E-4,{"$f":"+$L8*Photonic!BB14","v":9.7992886329314412E-8},{"$f":"+$L8*Photonic!BC14","v":2.9493116040091113E-9},{"$f":"+$L8*Photonic!BD14","v":4.5792366122480763E-7},62.96,38.880000000000003,5.46,null,null,0.12400000000000001,5.3800000000000001E-2,5.8400000000000001E-2,5.7799999999999997E-2,0.16059999999999999,7.9799999999999996E-2,0.1608,7.6200000000000004E-2,7.0199999999999999E-2,4.24E-2,7.5999999999999998E-2,0.18340000000000001,7.2999999999999995E-2,3.5999999999999997E-2,3.5999999999999997E-2,"R2","X",{"$f":"SUMPRODUCT(Photonic!$BB$12:$BB$506,CRI_CM!$B$6:$B$500,CRI_CM!$V$6:$V$500)*100/SUMPRODUCT(Photonic!$BC12:$BC506,CRI_CM!$B$6:$B$500,CRI_CM!$V$6:$V$500)","v":103.97768012302465},"u",{"$f":"4*AL8/(AL8+15*AL9+3*AL10)","v":0.2458486507312494},"x",{"$f":"+AL8/(SUM($AL$8:$AL$10))","v":0.44581595330012547},null,"R2","X",{"$f":"SUMPRODUCT(Photonic!$BB$12:$BB$506,CRI_CM!$L$6:$L$500,CRI_CM!$V$6:$V$500)*100/SUMPRODUCT(Photonic!$BC12:$BC506,CRI_CM!$L$6:$L$500,CRI_CM!$V$6:$V$500)","v":103.92095770567674},"u",{"$f":"4*AT8/(AT8+15*AT9+3*AT10)","v":0.24582350575831821},"x",{"$f":"+AT8/(SUM($AT$8:$AT$10))","v":0.4461232399590821},null,null,"d",{"$f":"(1.708*BB6+0.404-1.481*BB5)/BB6","v":1.9195869363123008},{"$f":"(1.708*BC6+0.404-1.481*BC5)/BC6","v":1.924305740798375},null,null,null,null,null,null,null,null,null,null,null,null,null,null,null,null,null,null,null,null,null,null,"Col3",{"$f":"MAX(CH10:CH26)+1","v":3},{"$f":"MIN(CF10:CF24)","v":78.474187606787027}]
[{"$f":"Photonic!B15","v":363},{"$f":"CM!D16","v":5.3687789852275615E-5},null,null,null,null,"xD",{"$f":"IF(E6<=7000,H7,H8)","v":0.38233386404762215},2953953355382.7588,20.186915907191985,20.186915907191985,5.8227827472146952E-4,{"$f":"+$L9*Photonic!BB15","v":1.113432516922394E-7},{"$f":"+$L9*Photonic!BC15","v":3.3481000796484499E-9},{"$f":"+$L9*Photonic!BD15","v":5.2058006873198263E-7},63.690000000000005,39.32,5.54,"x",{"$f":"+T5/(SUM(T5:T7))","v":0.38235853640429457},0.128,5.4199999999999998E-2,5.8599999999999999E-2,5.8200000000000002E-2,0.1694,8.0200000000000007E-2,0.16619999999999999,7.6799999999999993E-2,7.0800000000000002E-2,4.2599999999999999E-2,7.6999999999999999E-2,0.18059999999999998,7.3999999999999996E-2,3.5999999999999997E-2,3.5999999999999997E-2,null,"Y",100,"v",{"$f":"6*AL9/(AL8+15*AL9+3*AL10)","v":0.35466551634980514},"y",{"$f":"+AL9/(SUM($AL$8:$AL$10))","v":0.42876120410903906},null,null,"Y",100,"v",{"$f":"6*AT9/(AT8+15*AT9+3*AT10)","v":0.3548228064658559},"y",{"$f":"+AT9/(SUM($AT$8:$AT$10))","v":0.42929092437983984},null,"Target->Sample","u",null,null,{"$f":"AN5","v":0.27460843971359239},{"$f":"AN8","v":0.2458486507312494},{"$f":"AN11","v":0.20598653060622193},{"$f":"AN14","v":0.16979010102286202},{"$f":"AN17","v":0.18130126028346641},{"$f":"AN20","v":0.19593708035759674},{"$f":"AN23","v":0.24429802453309032},{"$f":"AN26","v":0.27429289713490757},{"$f":"AN29","v":0.4414933255133896},{"$f":"AN32","v":0.25092536352627465},{"$f":"AN35","v":0.14271782614838185},{"$f":"AN38","v":0.14324276962574259},{"$f":"AN41","v":0.25924634778821831},{"$f":"AN44","v":0.20332807669447456},null,null,"Index",null,"u","v","u0","v0","select Col1",null,"select Col2",null,null,null,"select Col3"]
[{"$f":"Photonic!B16","v":364},{"$f":"CM!D17","v":5.5948431736036726E-5},null,null,null,null,"yD",{"$f":"-3*H9^2+2.87*H9-0.275","v":0.38376063902391877},2994003547189.8926,20.480985478058201,20.480985478058201,5.907605175345512E-4,{"$f":"+$L10*Photonic!BB16","v":1.2504037114136311E-7},{"$f":"+$L10*Photonic!BC16","v":3.7572368915197456E-9},{"$f":"+$L10*Photonic!BD16","v":5.8486472756955634E-7},64.42,39.760000000000005,5.62,"y",{"$f":"+T6/(SUM(T5:T7))","v":0.38365469043407457},0.13200000000000001,5.4600000000000003E-2,5.8799999999999998E-2,5.8599999999999999E-2,0.1782,8.0600000000000005E-2,0.1716,7.7399999999999997E-2,7.1399999999999991E-2,4.2799999999999998E-2,7.8E-2,0.17779999999999999,7.4999999999999997E-2,3.5999999999999997E-2,3.5999999999999997E-2,null,"Z",{"$f":"SUMPRODUCT(Photonic!$BD$12:$BD$506,CRI_CM!$B$6:$B$500,CRI_CM!$V$6:$V$500)*100/SUMPRODUCT(Photonic!$BC12:$BC506,CRI_CM!$B$6:$B$500,CRI_CM!$V$6:$V$500)","v":29.252376704991946},null,null,"z",{"$f":"+AL10/(SUM($AL$8:$AL$10))","v":0.12542284259083553},null,null,"Z",{"$f":"SUMPRODUCT(Photonic!$BD$12:$BD$506,CRI_CM!$L$6:$L$500,CRI_CM!$V$6:$V$500)*100/SUMPRODUCT(Photonic!$BC12:$BC506,CRI_CM!$L$6:$L$500,CRI_CM!$V$6:$V$500)","v":29.021306667746714},null,null,"z",{"$f":"+AT10/(SUM($AT$8:$AT$10))","v":0.12458583566107796},null,null,"v",null,null,{"$f":"AN6","v":0.34053049444902128},{"$f":"AN9","v":0.35466551634980514},{"$f":"AN12","v":0.36556050374642124},{"$f":"AN15","v":0.35494205427160436},{"$f":"AN18","v":0.33063719754127519},{"$f":"AN21","v":0.30701874766034476},{"$f":"AN24","v":0.30764798014270306},{"$f":"AN27","v":0.31837142781352079},{"$f":"AN30","v":0.34297379787977833},{"$f":"AN33","v":0.36664081569474544},{"$f":"AN36","v":0.35582406951916407},{"$f":"AN39","v":0.24630220597901339},{"$f":"AN42","v":0.34555435638625043},{"$f":"AN45","v":0.3601640447147883},null,"R1",{"$f":"BU10","v":88.103978473381005},{"$f":"BD35","v":88.103978473381005},{"$f":"BD18","v":0.27365145582690054},{"$f":"BD19","v":0.34209879132351395},{"$f":"BD13","v":0.27048091035513744},{"$f":"BD14","v":0.34289611977182932},{"$f":"BT10","v":88.103978473381005},{"$f":"IF(BT10-CB6>0,1,0)","v":1},1,{"$f":"IF(CB10<>$CA$6,BT10,\"\")","v":88.103978473381005},{"$f":"IF(CC10<>\"\",CC10,\"\")","v":88.103978473381005},{"$f":"IF(CD10<>\"\",IF(CD10<>0,IF(CC10-CB7>0,1,0),0),1)","v":1},{"$f":"IF(CC10<>\"\",IF(CB10<>$CA$7,BT10,\"\"),\"\")","v":88.103978473381005},{"$f":"CF10","v":88.103978473381005},{"$f":"IF(CG10<>\"\",IF(CG10<>0,IF(CF10-CB8>0,1,0),0),1)","v":1}]
[{"$f":"Photonic!B17","v":365},{"$f":"CM!D18","v":5.7414908689018754E-5},null,null,null,null,"M1",{"$f":"(-1.3515-1.7703*H9+5.9114*H10)/(0.0241+0.2562*H9-0.7341*H10)","v":-1.5045086864739108},3034258746508.9976,20.775055048924433,20.775055048924433,5.9924276034763332E-4,{"$f":"+$L11*Photonic!BB17","v":1.3908424467668569E-7},{"$f":"+$L11*Photonic!BC17","v":4.1767220396230042E-9},{"$f":"+$L11*Photonic!BD17","v":6.5077763773752976E-7},65.150000000000006,40.200000000000003,5.7,null,null,0.13600000000000001,5.5E-2,5.8999999999999997E-2,5.8999999999999997E-2,0.187,8.1000000000000003E-2,0.17699999999999999,7.8E-2,7.1999999999999995E-2,4.2999999999999997E-2,7.9000000000000001E-2,0.17499999999999999,7.5999999999999998E-2,3.5999999999999997E-2,3.5999999999999997E-2,"R3","X",{"$f":"SUMPRODUCT(Photonic!$BB$12:$BB$506,CRI_CM!$B$6:$B$500,CRI_CM!$W$6:$W$500)*100/SUMPRODUCT(Photonic!$BC12:$BC506,CRI_CM!$B$6:$B$500,CRI_CM!$W$6:$W$500)","v":84.522204325351098},"u",{"$f":"4*AL11/(AL11+15*AL12+3*AL13)","v":0.20598653060622193},"x",{"$f":"+AL11/(SUM($AL$11:$AL$13))","v":0.41543808313199887},null,"R3","X",{"$f":"SUMPRODUCT(Photonic!$BB$12:$BB$506,CRI_CM!$L$6:$L$500,CRI_CM!$W$6:$W$500)*100/SUMPRODUCT(Photonic!$BC12:$BC506,CRI_CM!$L$6:$L$500,CRI_CM!$W$6:$W$500)","v":86.459883524142285},"u",{"$f":"4*AT11/(AT11+15*AT12+3*AT13)","v":0.2102743221180694},"x",{"$f":"+AT11/(SUM($AT$11:$AT$13))","v":0.41996217604475788},null,null,"c",null,null,{"$f":"(4-BD9-10*BD10)/BD10","v":0.93996461701350797},{"$f":"(4-BE9-10*BE10)/BE10","v":0.58504753409983767},{"$f":"(4-BF9-10*BF10)/BF10","v":0.37861976474782261},0.79108505989045808,1.5495133884318186,2.3903277849691542,2.2077901298907303,1.7023915382486681,0.37544761869524484,0.22546993129945736,0.84041947770447689,5.6586386022985087,0.82536967941008399,0.54150734649841747,null,"R2",{"$f":"BU11","v":94.677453075714709},{"$f":"BE35","v":94.677453075714709},{"$f":"BE18","v":0.24469005323014445},{"$f":"BE19","v":0.35576561665588519},{"$f":"BE13","v":0.24582350575831821},{"$f":"BE14","v":0.3548228064658559},{"$f":"IF(BT11<BZ10,BT11,BZ10)","v":88.103978473381005},{"$f":"IF(BT11-$CB$6>0,IF(CA10<>0,1+CA10,),0)","v":2},2,94.677453075714709,{"$f":"IF(CC11<>\"\",IF(CC11<CD10,CC11,CD10),CD10)","v":88.103978473381005},{"$f":"IF(CC11<>\"\",IF(CC11-$CB$7>0,IF(CE10<>0,1+CE10,),0),IF(CE10<>0,1+CE10,0))","v":2},{"$f":"IF(CC11<>\"\",IF(CB11<>$CA$7,BT11,\"\"),\"\")","v":94.677453075714709},{"$f":"IF(CF11<>\"\",IF(CF11<CG10,CF11,CG10),CG10)","v":88.103978473381005},{"$f":"IF(CF11<>\"\",IF(CF11-$CB$8>0,IF(CH10<>0,1+CH10,),0),IF(CH10<>0,1+CH10,0))","v":2}]
[{"$f":"Photonic!B18","v":366},{"$f":"CM!D19","v":5.6114508769143858E-5},null,null,null,null,"M2",{"$f":"(0.03-31.4424*H9+30.0717*H10)/(0.0241+0.2562*H9-0.7341*H10)","v":2.8256674114343237},3074715807641.9067,21.069124619790671,21.069124619790671,6.0772500316071554E-4,{"$f":"+$L12*Photonic!BB18","v":1.6327139934915783E-7},{"$f":"+$L12*Photonic!BC18","v":4.8946171754564028E-9},{"$f":"+$L12*Photonic!BD18","v":7.6451805397618016E-7},65.88000000000001,40.64,5.78,null,null,0.1406,5.5800000000000002E-2,5.9399999999999994E-2,5.96E-2,0.19620000000000001,8.2600000000000007E-2,0.1852,7.9200000000000007E-2,7.22E-2,4.3399999999999994E-2,8.0399999999999999E-2,0.1716,7.7200000000000005E-2,3.5999999999999997E-2,3.5999999999999997E-2,null,"Y",100,"v",{"$f":"6*AL12/(AL11+15*AL12+3*AL13)","v":0.36556050374642124},"y",{"$f":"+AL12/(SUM($AL$11:$AL$13))","v":0.49151354540264258},null,null,"Y",100,"v",{"$f":"6*AT12/(AT11+15*AT12+3*AT13)","v":0.3648067407921402},"y",{"$f":"+AT12/(SUM($AT$11:$AT$13))","v":0.4857306752298497},null,null,"d",null,null,{"$f":"(1.708*BD10+0.404-1.481*BD9)/BD10","v":1.7000855862844502},{"$f":"(1.708*BE10+0.404-1.481*BE9)/BE10","v":1.8204951438122572},{"$f":"(1.708*BF10+0.404-1.481*BF9)/BF10","v":1.9786363164463001},2.1377627135172208,2.1177930738820514,2.0787173742898442,1.845152292197469,1.7010025735283536,0.97951398552926805,1.7963140535137405,2.2493768094287718,2.4869514406566977,1.7660405327121111,1.9936229541095538,null,"R3",78.474187606787027,{"$f":"BF35","v":78.474187606787027},{"$f":"BF18","v":0.20463648772902501},{"$f":"BF19","v":0.36636391890476411},{"$f":"BF13","v":0.2102743221180694},{"$f":"BF14","v":0.3648067407921402},{"$f":"IF(BT12<BZ11,BT12,BZ11)","v":78.474187606787027},3,3,78.474187606787027,{"$f":"IF(CC12<>\"\",IF(CC12<CD11,CC12,CD11),CD11)","v":78.474187606787027},3,78.474187606787027,{"$f":"IF(CF12<>\"\",IF(CF12<CG11,CF12,CG11),CG11)","v":78.474187606787027},{"$f":"IF(CF12<>\"\",IF(CF12-$CB$8>0,IF(CH11<>0,1+CH11,),0),IF(CH11<>0,1+CH11,0))","v":0}]
[{"$f":"Photonic!B19","v":367},{"$f":"CM!D20","v":5.4816627053229658E-5},null,null,null,null,null,null,3115371563137.583,21.363194190656884,21.363194190656884,6.1620724597379712E-4,{"$f":"+$L13*Photonic!BB19","v":1.8807877561612235E-7},{"$f":"+$L13*Photonic!BC19","v":5.6309018137085576E-9},{"$f":"+$L13*Photonic!BD19","v":8.8117636174252987E-7},66.61,41.08,5.86,"SPD_Tar",null,0.1452,5.6599999999999998E-2,5.9799999999999999E-2,6.0199999999999997E-2,0.2054,8.4199999999999997E-2,0.19339999999999999,8.0399999999999999E-2,7.2399999999999992E-2,4.3799999999999999E-2,8.1799999999999998E-2,0.16819999999999999,7.8399999999999997E-2,3.5999999999999997E-2,3.5999999999999997E-2,null,"Z",{"$f":"SUMPRODUCT(Photonic!$BD$12:$BD$506,CRI_CM!$B$6:$B$500,CRI_CM!$W$6:$W$500)*100/SUMPRODUCT(Photonic!$BC12:$BC506,CRI_CM!$B$6:$B$500,CRI_CM!$W$6:$W$500)","v":18.930988237391176},null,null,"z",{"$f":"+AL13/(SUM($AL$11:$AL$13))","v":9.3048371465358604E-2},null,null,"Z",{"$f":"SUMPRODUCT(Photonic!$BD$12:$BD$506,CRI_CM!$L$6:$L$500,CRI_CM!$W$6:$W$500)*100/SUMPRODUCT(Photonic!$BC12:$BC506,CRI_CM!$L$6:$L$500,CRI_CM!$W$6:$W$500)","v":19.415522538444936},null,null,"z",{"$f":"+AT13/(SUM($AT$11:$AT$13))","v":9.430714872539224E-2},null,"Reference-> Sample","u",null,null,{"$f":"AV5","v":0.27048091035513744},{"$f":"AV8","v":0.24582350575831821},{"$f":"AV11","v":0.2102743221180694},{"$f":"AV14","v":0.17435628865616493},{"$f":"AV17","v":0.18185661055152832},{"$f":"AV20","v":0.1937267871242068},{"$f":"AV23","v":0.24020272001305143},{"$f":"AV26","v":0.27050225688644913},{"$f":"AV29","v":0.44279544560802037},{"$f":"AV32","v":0.25244091130031138},{"$f":"AV35","v":0.14938647469424987},{"$f":"AV38","v":0.13386594859465697},{"$f":"AV41","v":0.2565973210157908},{"$f":"AV44","v":0.20774973720954873},null,"R4",69.628669490017373,{"$f":"BG35","v":69.628669490017373},{"$f":"BG18","v":0.16809792174963128},{"$f":"BG19","v":0.35641521192591846},{"$f":"BG13","v":0.17435628865616493},{"$f":"BG14","v":0.35120519975791298},69.628669490017373,4,4,69.628669490017373,69.628669490017373,0,"",78.474187606787027,0]
[{"$f":"Photonic!B20","v":368},{"$f":"CM!D21","v":5.7943074836259088E-5},null,"X",{"$f":"SUMPRODUCT(Photonic!$BB$12:$BB$506,CRI_CM!$B$6:$B$500)*100/SUMPRODUCT(Photonic!$BC12:$BC506,CRI_CM!$B$6:$B$500)","v":100.88549709425236},null,null,null,3156222824737.4961,21.657263761523108,21.657263761523108,6.2468948878687902E-4,{"$f":"+$L14*Photonic!BB20","v":2.1350637347757953E-7},{"$f":"+$L14*Photonic!BC20","v":6.3855759543794769E-9},{"$f":"+$L14*Photonic!BD20","v":1.0007525610365802E-6},67.34,41.52,5.9399999999999995,"x",{"$f":"E18","v":0.38054201845083196},0.14980000000000002,5.74E-2,6.0199999999999997E-2,6.08E-2,0.21460000000000001,8.5800000000000001E-2,0.2016,8.1600000000000006E-2,7.2599999999999998E-2,4.4199999999999996E-2,8.3199999999999996E-2,0.1648,7.9600000000000004E-2,3.5999999999999997E-2,3.5999999999999997E-2,"R4","X",{"$f":"SUMPRODUCT(Photonic!$BB$12:$BB$506,CRI_CM!$B$6:$B$500,CRI_CM!$X$6:$X$500)*100/SUMPRODUCT(Photonic!$BC12:$BC506,CRI_CM!$B$6:$B$500,CRI_CM!$X$6:$X$500)","v":71.754008427360375},"u",{"$f":"4*AL14/(AL14+15*AL15+3*AL16)","v":0.16979010102286202},"x",{"$f":"+AL14/(SUM($AL$14:$AL$16))","v":0.33957029386608478},null,"R4","X",{"$f":"SUMPRODUCT(Photonic!$BB$12:$BB$506,CRI_CM!$L$6:$L$500,CRI_CM!$X$6:$X$500)*100/SUMPRODUCT(Photonic!$BC12:$BC506,CRI_CM!$L$6:$L$500,CRI_CM!$X$6:$X$500)","v":74.467699556989487},"u",{"$f":"4*AT14/(AT14+15*AT15+3*AT16)","v":0.17435628865616493},"x",{"$f":"+AT14/(SUM($AT$14:$AT$16))","v":0.33986013187235892},null,null,"v",null,null,{"$f":"AV6","v":0.34289611977182932},{"$f":"AV9","v":0.3548228064658559},{"$f":"AV12","v":0.3648067407921402},{"$f":"AV15","v":0.35120519975791298},{"$f":"AV18","v":0.33059253189570126},{"$f":"AV21","v":0.31053631669009668},{"$f":"AV24","v":0.31427096813174749},{"$f":"AV27","v":0.32358453695354217},{"$f":"AV30","v":0.34400878981109628},{"$f":"AV33","v":0.36592917422293819},{"$f":"AV36","v":0.35139724625991925},{"$f":"AV39","v":0.24355187205564582},{"$f":"AV42","v":0.34687027377250246},{"$f":"AV45","v":0.35993373299792769},null,"R5",87.375977711858866,{"$f":"BH35","v":87.375977711858866},{"$f":"BH18","v":0.17946362180653022},{"$f":"BH19","v":0.33304739841394682},{"$f":"BH13","v":0.18185661055152832},{"$f":"BH14","v":0.33059253189570126},69.628669490017373,5,5,87.375977711858866,69.628669490017373,0,87.375977711858866,78.474187606787027,0]
[{"$f":"Photonic!B21","v":369},{"$f":"CM!D22","v":6.1063230931707318E-5},null,"Y",100,null,null,null,3197266384314.8208,21.951333332389325,21.951333332389325,6.3317173159996071E-4,{"$f":"+$L15*Photonic!BB21","v":2.3955419293352916E-7},{"$f":"+$L15*Photonic!BC21","v":7.1586395974691556E-9},{"$f":"+$L15*Photonic!BD21","v":1.1232466518583303E-6},68.069999999999993,41.96,6.02,"y",{"$f":"E19","v":0.37720190652905272},0.15440000000000001,5.8199999999999995E-2,6.0600000000000001E-2,6.1399999999999996E-2,0.2238,8.7399999999999992E-2,0.20979999999999999,8.2799999999999999E-2,7.279999999999999E-2,4.4600000000000001E-2,8.4599999999999995E-2,0.16139999999999999,8.0799999999999997E-2,3.5999999999999997E-2,3.5999999999999997E-2,null,"Y",100,"v",{"$f":"6*AL15/(AL14+15*AL15+3*AL16)","v":0.35494205427160436},"y",{"$f":"+AL15/(SUM($AL$14:$AL$16))","v":0.47324226382397327},null,null,"Y",100,"v",{"$f":"6*AT15/(AT14+15*AT15+3*AT16)","v":0.35120519975791298},"y",{"$f":"+AT15/(SUM($AT$14:$AT$16))","v":0.45638596853964436},null,null,"c",null,null,{"$f":"(4-BD13-10*BD14)/BD14","v":0.87652753879678458},{"$f":"(4-BE13-10*BE14)/BE14","v":0.58042613335493476},{"$f":"(4-BF13-10*BF14)/BF14","v":0.38831045076889847},0.89290168249463497,1.5493939550124471,2.2570952520001306,1.9635526702892283,1.5255746712303628,0.34044669714785053,0.24121429142058753,0.95800711670219796,5.8739656516457535,0.79193854887475446,0.53596791610605987,null,"R6",98.192001979474171,{"$f":"BI35","v":98.192001979474171},{"$f":"BI18","v":0.19407457158518437},{"$f":"BI19","v":0.31018380257014938},{"$f":"BI13","v":0.1937267871242068},{"$f":"BI14","v":0.31053631669009668},69.628669490017373,6,6,98.192001979474171,69.628669490017373,0,98.192001979474171,78.474187606787027,0]
[{"$f":"Photonic!B22","v":370},{"$f":"CM!D23","v":6.230256638221847E-5},null,"Z",{"$f":"SUMPRODUCT(Photonic!$BD$12:$BD$506,CRI_CM!$B$6:$B$500)*100/SUMPRODUCT(Photonic!$BC12:$BC506,CRI_CM!$B$6:$B$500)","v":64.224509692783442},null,null,null,3238499014806.9009,22.245402903255556,22.245402903255556,6.4165397441304282E-4,{"$f":"+$L16*Photonic!BB22","v":2.6622223398397145E-7},{"$f":"+$L16*Photonic!BC22","v":7.9500927429776012E-9},{"$f":"+$L16*Photonic!BD22","v":1.2486586342077813E-6},68.8,42.4,6.1,null,null,0.159,5.8999999999999997E-2,6.0999999999999999E-2,6.2E-2,0.23300000000000001,8.8999999999999996E-2,0.218,8.4000000000000005E-2,7.2999999999999995E-2,4.4999999999999998E-2,8.5999999999999993E-2,0.158,8.2000000000000003E-2,3.5999999999999997E-2,3.5999999999999997E-2,null,"Z",{"$f":"SUMPRODUCT(Photonic!$BD$12:$BD$506,CRI_CM!$B$6:$B$500,CRI_CM!$X$6:$X$500)*100/SUMPRODUCT(Photonic!$BC12:$BC506,CRI_CM!$B$6:$B$500,CRI_CM!$X$6:$X$500)","v":39.55425299452294},null,null,"z",{"$f":"+AL16/(SUM($AL$14:$AL$16))","v":0.18718744230994208},null,null,"Z",{"$f":"SUMPRODUCT(Photonic!$BD$12:$BD$506,CRI_CM!$L$6:$L$500,CRI_CM!$X$6:$X$500)*100/SUMPRODUCT(Photonic!$BC12:$BC506,CRI_CM!$L$6:$L$500,CRI_CM!$X$6:$X$500)","v":44.645084124731916},null,null,"z",{"$f":"+AT16/(SUM($AT$14:$AT$16))","v":0.20375389958799675},null,null,"d",null,null,{"$f":"(1.708*BD14+0.404-1.481*BD13)/BD14","v":1.7179673678614842},{"$f":"(1.708*BE14+0.404-1.481*BE13)/BE14","v":1.8205502285766226},{"$f":"(1.708*BF14+0.404-1.481*BF13)/BF14","v":1.9617884271055497},2.1230802340076544,2.1153605625661069,2.0850593710812309,1.8615610239391873,1.7184645221401755,0.97609993697039898,1.7903520300840499,2.228091244091976,2.5527667775852909,1.7771306502422886,1.9756121473538373,null,"R7",83.171966216435692,{"$f":"BJ35","v":83.171966216435692},{"$f":"BJ18","v":0.24307549409573651},{"$f":"BJ19","v":0.31057786432887696},{"$f":"BJ13","v":0.24020272001305143},{"$f":"BJ14","v":0.31427096813174749},69.628669490017373,7,7,83.171966216435692,69.628669490017373,0,83.171966216435692,78.474187606787027,0]
[{"$f":"Photonic!B23","v":371},{"$f":"CM!D24","v":6.3541135308052205E-5},null,null,null,null,null,null,3279917471140.9043,21.416204393435738,21.416204393435738,6.177362903091782E-4,{"$f":"+$L17*Photonic!BB23","v":2.9666167605807973E-7},{"$f":"+$L17*Photonic!BC23","v":8.8435127320661956E-9},{"$f":"+$L17*Photonic!BD23","v":1.3923775983568876E-6},68.259999999999991,42.01,5.79,null,null,0.16520000000000001,0.06,6.1399999999999996E-2,6.3E-2,0.24020000000000002,9.3799999999999994E-2,0.23299999999999998,8.5199999999999998E-2,7.2399999999999992E-2,4.5399999999999996E-2,8.8399999999999992E-2,0.1542,8.3600000000000008E-2,3.5999999999999997E-2,3.5999999999999997E-2,"R5","X",{"$f":"SUMPRODUCT(Photonic!$BB$12:$BB$506,CRI_CM!$B$6:$B$500,CRI_CM!$Y$6:$Y$500)*100/SUMPRODUCT(Photonic!$BC12:$BC506,CRI_CM!$B$6:$B$500,CRI_CM!$Y$6:$Y$500)","v":82.250845472778494},"u",{"$f":"4*AL17/(AL17+15*AL18+3*AL19)","v":0.18130126028346641},"x",{"$f":"+AL17/(SUM($AL$17:$AL$19))","v":0.31668251316670482},null,"R5","X",{"$f":"SUMPRODUCT(Photonic!$BB$12:$BB$506,CRI_CM!$L$6:$L$500,CRI_CM!$Y$6:$Y$500)*100/SUMPRODUCT(Photonic!$BC12:$BC506,CRI_CM!$L$6:$L$500,CRI_CM!$Y$6:$Y$500)","v":82.513937705451099},"u",{"$f":"4*AT17/(AT17+15*AT18+3*AT19)","v":0.18185661055152832},"x",{"$f":"+AT17/(SUM($AT$17:$AT$19))","v":0.3173812750202602},null,null,null,null,null,null,null,null,null,null,null,null,null,null,null,null,null,null,null,null,"R8",84.450549234476824,{"$f":"BK35","v":84.450549234476824},{"$f":"BK18","v":0.27339861940187798},{"$f":"BK19","v":0.32079895748042064},{"$f":"BK13","v":0.27050225688644913},{"$f":"BK14","v":0.32358453695354217},69.628669490017373,8,8,84.450549234476824,69.628669490017373,0,84.450549234476824,78.474187606787027,0]
[{"$f":"Photonic!B24","v":372},{"$f":"CM!D25","v":5.9690629267643411E-5},null,"x",{"$f":"+E14/SUM(E14:E16)","v":0.38054201845083196},null,null,null,3321518491152.2939,20.58700588361593,20.58700588361593,5.93818606205314E-4,{"$f":"+$L18*Photonic!BB24","v":3.2397555517349526E-7},{"$f":"+$L18*Photonic!BC24","v":9.6448018019867085E-9},{"$f":"+$L18*Photonic!BD24","v":1.5213632690980144E-6},67.72,41.62,5.4799999999999995,null,null,0.1714,6.0999999999999999E-2,6.1800000000000001E-2,6.4000000000000001E-2,0.24740000000000001,9.8599999999999993E-2,0.248,8.6400000000000005E-2,7.1800000000000003E-2,4.58E-2,9.0799999999999992E-2,0.15040000000000001,8.5199999999999998E-2,3.5999999999999997E-2,3.5999999999999997E-2,null,"Y",100,"v",{"$f":"6*AL18/(AL17+15*AL18+3*AL19)","v":0.33063719754127519},"y",{"$f":"+AL18/(SUM($AL$17:$AL$19))","v":0.38502037437598519},null,null,"Y",100,"v",{"$f":"6*AT18/(AT17+15*AT18+3*AT19)","v":0.33059253189570126},"y",{"$f":"+AT18/(SUM($AT$17:$AT$19))","v":0.38463959404435638},null,null,"uk",null,null,{"$f":"(10.872+0.404*$BC$7/$BB$7*BD11-4*$BC$8/$BB$8*BD12)/(16.518+1.481*$BC$7/$BB$7*BD11-$BC$8/$BB$8*BD12)","v":0.27365145582690054},{"$f":"(10.872+0.404*$BC$7/$BB$7*BE11-4*$BC$8/$BB$8*BE12)/(16.518+1.481*$BC$7/$BB$7*BE11-$BC$8/$BB$8*BE12)","v":0.24469005323014445},0.20463648772902501,0.16809792174963128,0.17946362180653022,0.19407457158518437,0.24307549409573651,0.27339861940187798,0.44125412566983951,0.24979975224348699,0.14080879741347796,0.13968217500335817,0.25817308540798767,0.20192678750844786,null,"R9",90.297906469179267,{"$f":"BL35","v":90.297906469179267},{"$f":"BL18","v":0.44125412566983951},{"$f":"BL19","v":0.34362329379102269},{"$f":"BL13","v":0.44279544560802037},{"$f":"BL14","v":0.34400878981109628},69.628669490017373,9,9,{"$f":"IF(CB18<>$CA$6,BT18,\"\")","v":90.297906469179267},69.628669490017373,{"$f":"IF(CC18<>\"\",IF(CC18-$CB$7>0,IF(CE17<>0,1+CE17,),0),IF(CE17<>0,1+CE17,0))","v":0},90.297906469179267,78.474187606787027,0]
[{"$f":"Photonic!B25","v":373},{"$f":"CM!D26","v":5.5227425406108341E-5},null,"y",{"$f":"+E15/SUM(E14:E16)","v":0.37720190652905272},null,null,null,3363298796495.8301,19.757807373796098,19.757807373796098,5.6990092210144894E-4,{"$f":"+$L19*Photonic!BB25","v":3.481638713302172E-7},{"$f":"+$L19*Photonic!BC25","v":1.0353959952739123E-8},{"$f":"+$L19*Photonic!BD25","v":1.6356156464311585E-6},67.179999999999993,41.230000000000004,5.17,null,null,0.17760000000000001,6.2E-2,6.2199999999999998E-2,6.5000000000000002E-2,0.25459999999999999,0.10340000000000001,0.26300000000000001,8.7599999999999997E-2,7.1199999999999999E-2,4.6199999999999998E-2,9.3200000000000005E-2,0.14660000000000001,8.6800000000000002E-2,3.5999999999999997E-2,3.5999999999999997E-2,null,"Z",{"$f":"SUMPRODUCT(Photonic!$BD$12:$BD$506,CRI_CM!$B$6:$B$500,CRI_CM!$Y$6:$Y$500)*100/SUMPRODUCT(Photonic!$BC12:$BC506,CRI_CM!$B$6:$B$500,CRI_CM!$Y$6:$Y$500)","v":77.475669421590908},null,null,"z",{"$f":"+AL19/(SUM($AL$17:$AL$19))","v":0.29829711245731},null,null,"Z",{"$f":"SUMPRODUCT(Photonic!$BD$12:$BD$506,CRI_CM!$L$6:$L$500,CRI_CM!$Y$6:$Y$500)*100/SUMPRODUCT(Photonic!$BC12:$BC506,CRI_CM!$L$6:$L$500,CRI_CM!$Y$6:$Y$500)","v":77.469697750622302},null,null,"z",{"$f":"+AT19/(SUM($AT$17:$AT$19))","v":0.29797913093538347},null,null,"vk",null,null,{"$f":"5.52/(16.518+1.481*$BC$7/$BB$7*BD11-$BC$8/$BB$8*BD12)","v":0.34209879132351395},{"$f":"5.52/(16.518+1.481*$BC$7/$BB$7*BE11-$BC$8/$BB$8*BE12)","v":0.35576561665588519},0.36636391890476411,0.35641521192591846,0.33304739841394682,0.31018380257014938,0.31057786432887696,0.32079895748042064,0.34362329379102269,0.36715875819869254,0.3573960752750554,0.25110112934866202,0.34698632591914036,0.3612318277646,null,"R10",85.784751232167764,{"$f":"BM35","v":85.784751232167764},{"$f":"BM18","v":0.24979975224348699},{"$f":"BM19","v":0.36715875819869254},{"$f":"BM13","v":0.25244091130031138},{"$f":"BM14","v":0.36592917422293819},69.628669490017373,10,10,85.784751232167764,69.628669490017373,0,85.784751232167764,78.474187606787027,0]
[{"$f":"Photonic!B26","v":374},{"$f":"CM!D27","v":5.7112045573217649E-5},null,"z",{"$f":"+E16/SUM(E14:E16)","v":0.2422560750201154},null,null,null,3405255093549.0249,18.928608863976294,18.928608863976294,5.4598323799758474E-4,{"$f":"+$L20*Photonic!BB26","v":3.6922662452824666E-7},{"$f":"+$L20*Photonic!BC26","v":1.0970987184323469E-8},{"$f":"+$L20*Photonic!BD26","v":1.7351347303563242E-6},66.64,40.840000000000003,4.8599999999999994,null,null,0.18379999999999999,6.3E-2,6.2600000000000003E-2,6.6000000000000003E-2,0.26180000000000003,0.1082,0.27799999999999997,8.8800000000000004E-2,7.060000000000001E-2,4.6600000000000003E-2,9.5600000000000004E-2,0.14280000000000001,8.8399999999999992E-2,3.5999999999999997E-2,3.5999999999999997E-2,"R6","X",{"$f":"SUMPRODUCT(Photonic!$BB$12:$BB$506,CRI_CM!$B$6:$B$500,CRI_CM!$Z$6:$Z$500)*100/SUMPRODUCT(Photonic!$BC12:$BC506,CRI_CM!$B$6:$B$500,CRI_CM!$Z$6:$Z$500)","v":95.728883912178318},"u",{"$f":"4*AL20/(AL20+15*AL21+3*AL22)","v":0.19593708035759674},"x",{"$f":"+AL20/(SUM($AL$20:$AL$22))","v":0.30366477172648615},null,"R6","X",{"$f":"SUMPRODUCT(Photonic!$BB$12:$BB$506,CRI_CM!$L$6:$L$500,CRI_CM!$Z$6:$Z$500)*100/SUMPRODUCT(Photonic!$BC12:$BC506,CRI_CM!$L$6:$L$500,CRI_CM!$Z$6:$Z$500)","v":93.57687493160681},"u",{"$f":"4*AT20/(AT20+15*AT21+3*AT22)","v":0.1937267871242068},"x",{"$f":"+AT20/(SUM($AT$20:$AT$22))","v":0.30537602345956477},null,null,null,null,null,null,null,null,null,null,null,null,null,null,null,null,null,null,null,null,"R11",63.434726954631394,{"$f":"BN35","v":63.434726954631394},{"$f":"BN18","v":0.14080879741347796},{"$f":"BN19","v":0.3573960752750554},{"$f":"BN13","v":0.14938647469424987},{"$f":"BN14","v":0.35139724625991925},63.434726954631394,0,11,"",69.628669490017373,0,"",78.474187606787027,0]
[{"$f":"Photonic!B27","v":375},{"$f":"CM!D28","v":5.900730837747188E-5},null,null,null,null,null,null,3447384074307.5181,18.099410354156468,18.099410354156468,5.2206555389371989E-4,{"$f":"+$L21*Photonic!BB27","v":3.8716381476758268E-7},{"$f":"+$L21*Photonic!BC27","v":1.1495883496739712E-8},{"$f":"+$L21*Photonic!BD27","v":1.8199205208735074E-6},66.099999999999994,40.450000000000003,4.55,null,null,0.19,6.4000000000000001E-2,6.3E-2,6.7000000000000004E-2,0.26900000000000002,0.113,0.29299999999999998,0.09,7.0000000000000007E-2,4.7E-2,9.8000000000000004E-2,0.13900000000000001,0.09,3.5999999999999997E-2,3.5999999999999997E-2,null,"Y",100,"v",{"$f":"6*AL21/(AL20+15*AL21+3*AL22)","v":0.30701874766034476},"y",{"$f":"+AL21/(SUM($AL$20:$AL$22))","v":0.31721332090852356},null,null,"Y",100,"v",{"$f":"6*AT21/(AT20+15*AT21+3*AT22)","v":0.31053631669009668},"y",{"$f":"+AT21/(SUM($AT$20:$AT$22))","v":0.32633706103431759},null,null,"Kr",null,null,null,null,null,null,null,null,null,null,null,null,null,null,null,null,null,"R12",80.228902652833213,{"$f":"BO35","v":80.228902652833213},{"$f":"BO18","v":0.13968217500335817},{"$f":"BO19","v":0.25110112934866202},{"$f":"BO13","v":0.13386594859465697},{"$f":"BO14","v":0.24355187205564582},63.434726954631394,0,12,80.228902652833213,69.628669490017373,0,80.228902652833213,78.474187606787027,0]
[{"$f":"Photonic!B28","v":376},{"$f":"CM!D29","v":5.9488492295163921E-5},null,null,null,null,null,null,3489682417272.4507,17.270211844336664,17.270211844336664,4.981478697898557E-4,{"$f":"+$L22*Photonic!BB28","v":4.3183442536343011E-7},{"$f":"+$L22*Photonic!BC28","v":1.2760555832536944E-8},{"$f":"+$L22*Photonic!BD28","v":1.4534958544728408E-6},65.56,40.06,4.24,null,null,0.1958,6.5200000000000008E-2,6.3399999999999998E-2,6.8400000000000002E-2,0.2742,0.1206,0.31,9.2799999999999994E-2,6.9200000000000012E-2,4.7600000000000003E-2,0.10060000000000001,0.13520000000000001,9.2799999999999994E-2,3.5999999999999997E-2,3.5999999999999997E-2,null,"Z",{"$f":"SUMPRODUCT(Photonic!$BD$12:$BD$506,CRI_CM!$B$6:$B$500,CRI_CM!$Z$6:$Z$500)*100/SUMPRODUCT(Photonic!$BC12:$BC506,CRI_CM!$B$6:$B$500,CRI_CM!$Z$6:$Z$500)","v":119.5163892484577},null,null,"z",{"$f":"+AL22/(SUM($AL$20:$AL$22))","v":0.37912190736499024},null,null,"Z",{"$f":"SUMPRODUCT(Photonic!$BD$12:$BD$506,CRI_CM!$L$6:$L$500,CRI_CM!$Z$6:$Z$500)*100/SUMPRODUCT(Photonic!$BC12:$BC506,CRI_CM!$L$6:$L$500,CRI_CM!$Z$6:$Z$500)","v":112.85476260000654},null,null,"z",{"$f":"+AT22/(SUM($AT$20:$AT$22))","v":0.36828691550611758},null,null,"Y_Ref",null,null,{"$f":"SUMPRODUCT(Photonic!$BC12:$BC506,CRI_CM!$L$6:$L$500,CRI_CM!U$6:U$500)*100/$N$5","v":31.168177354128851},{"$f":"SUMPRODUCT(Photonic!$BC12:$BC506,CRI_CM!$L$6:$L$500,CRI_CM!V$6:V$500)*100/$N$5","v":29.707789065609798},{"$f":"SUMPRODUCT(Photonic!$BC12:$BC506,CRI_CM!$L$6:$L$500,CRI_CM!W$6:W$500)*100/$N$5","v":30.561085350323236},{"$f":"SUMPRODUCT(Photonic!$BC12:$BC506,CRI_CM!$L$6:$L$500,CRI_CM!X$6:X$500)*100/$N$5","v":28.372907887245482},{"$f":"SUMPRODUCT(Photonic!$BC12:$BC506,CRI_CM!$L$6:$L$500,CRI_CM!Y$6:Y$500)*100/$N$5","v":29.563661433417053},{"$f":"SUMPRODUCT(Photonic!$BC12:$BC506,CRI_CM!$L$6:$L$500,CRI_CM!Z$6:Z$500)*100/$N$5","v":28.501747764334521},{"$f":"SUMPRODUCT(Photonic!$BC12:$BC506,CRI_CM!$L$6:$L$500,CRI_CM!AA$6:AA$500)*100/$N$5","v":29.523240630170822},{"$f":"SUMPRODUCT(Photonic!$BC12:$BC506,CRI_CM!$L$6:$L$500,CRI_CM!AB$6:AB$500)*100/$N$5","v":32.530382824129141},{"$f":"SUMPRODUCT(Photonic!$BC12:$BC506,CRI_CM!$L$6:$L$500,CRI_CM!AC$6:AC$500)*100/$N$5","v":13.864129667777609},{"$f":"SUMPRODUCT(Photonic!$BC12:$BC506,CRI_CM!$L$6:$L$500,CRI_CM!AD$6:AD$500)*100/$N$5","v":61.38627835362152},{"$f":"SUMPRODUCT(Photonic!$BC12:$BC506,CRI_CM!$L$6:$L$500,CRI_CM!AE$6:AE$500)*100/$N$5","v":19.132603146358647},{"$f":"SUMPRODUCT(Photonic!$BC12:$BC506,CRI_CM!$L$6:$L$500,CRI_CM!AF$6:AF$500)*100/$N$5","v":5.4119649020110892},{"$f":"SUMPRODUCT(Photonic!$BC12:$BC506,CRI_CM!$L$6:$L$500,CRI_CM!AG$6:AG$500)*100/$N$5","v":59.097777976676298},{"$f":"SUMPRODUCT(Photonic!$BC12:$BC506,CRI_CM!$L$6:$L$500,CRI_CM!AH$6:AH$500)*100/$N$5","v":11.709996560215499},null,"R13",92.716098338236122,{"$f":"BP35","v":92.716098338236122},{"$f":"BP18","v":0.25817308540798767},{"$f":"BP19","v":0.34698632591914036},{"$f":"BP13","v":0.2565973210157908},{"$f":"BP14","v":0.34687027377250246},63.434726954631394,0,13,92.716098338236122,69.628669490017373,0,92.716098338236122,78.474187606787027,0]
[{"$f":"Photonic!B29","v":377},{"$f":"CM!D30","v":5.9536142481163126E-5},null,null,null,null,null,null,3532146788329.3994,16.441013334516846,16.441013334516846,4.7423018568599112E-4,{"$f":"+$L23*Photonic!BB29","v":4.7051222103021293E-7},{"$f":"+$L23*Photonic!BC29","v":1.3853212184259173E-8},{"$f":"+$L23*Photonic!BD29","v":1.1142512442878047E-6},65.02,39.67,3.9299999999999997,null,null,0.2016,6.6400000000000001E-2,6.3799999999999996E-2,6.9800000000000001E-2,0.27939999999999998,0.12820000000000001,0.32700000000000001,9.5599999999999991E-2,6.8400000000000002E-2,4.82E-2,0.1032,0.13140000000000002,9.5599999999999991E-2,3.5999999999999997E-2,3.5999999999999997E-2,"R7","X",{"$f":"SUMPRODUCT(Photonic!$BB$12:$BB$506,CRI_CM!$B$6:$B$500,CRI_CM!$AA$6:$AA$500)*100/SUMPRODUCT(Photonic!$BC12:$BC506,CRI_CM!$B$6:$B$500,CRI_CM!$AA$6:$AA$500)","v":119.11244683929287},"u",{"$f":"4*AL23/(AL23+15*AL24+3*AL25)","v":0.24429802453309032},"x",{"$f":"+AL23/(SUM($AL$23:$AL$25))","v":0.36149238459480731},null,"R7","X",{"$f":"SUMPRODUCT(Photonic!$BB$12:$BB$506,CRI_CM!$L$6:$L$500,CRI_CM!$AA$6:$AA$500)*100/SUMPRODUCT(Photonic!$BC12:$BC506,CRI_CM!$L$6:$L$500,CRI_CM!$AA$6:$AA$500)","v":114.64758649565488},"u",{"$f":"4*AT23/(AT23+15*AT24+3*AT25)","v":0.24020272001305143},"x",{"$f":"+AT23/(SUM($AT$23:$AT$25))","v":0.36649086826166816},null,null,"W_Ref",null,null,{"$f":"25*(BD22^(1/3))-17","v":61.676278832144959},{"$f":"25*BE22^(1/3)-17","v":60.427776163229353},61.162108536661691,59.250253414230315,60.302359249863954,59.36549527944041,60.267112729553048,62.806157339382978,43.058001880059066,81.619722641888757,49.86487388107669,26.89263623803172,80.378644751157552,39.770876288020681,null,"R14",85.76193876805236,{"$f":"BQ35","v":85.76193876805236},{"$f":"BQ18","v":0.20192678750844786},{"$f":"BQ19","v":0.3612318277646},{"$f":"BP13","v":0.2565973210157908},{"$f":"BQ14","v":0.35993373299792769},63.434726954631394,0,14,85.76193876805236,69.628669490017373,0,85.76193876805236,78.474187606787027,0]
[{"$f":"Photonic!B30","v":378},{"$f":"CM!D31","v":5.5354779263463564E-5},null,null,null,null,null,null,3574773841618.7622,15.611814824697028,15.611814824697028,4.5031250158212655E-4,{"$f":"+$L24*Photonic!BB30","v":5.0319720176793152E-7},{"$f":"+$L24*Photonic!BC30","v":1.4773852551906409E-8},{"$f":"+$L24*Photonic!BD30","v":8.0218669031840024E-7},64.47999999999999,39.28,3.62,null,null,0.2074,6.7600000000000007E-2,6.4200000000000007E-2,7.1199999999999999E-2,0.28460000000000002,0.1358,0.34399999999999997,9.8400000000000001E-2,6.7600000000000007E-2,4.8800000000000003E-2,0.10580000000000001,0.12759999999999999,9.8400000000000001E-2,3.5999999999999997E-2,3.5999999999999997E-2,null,"Y",100,"v",{"$f":"6*AL24/(AL23+15*AL24+3*AL25)","v":0.30764798014270306},"y",{"$f":"+AL24/(SUM($AL$23:$AL$25))","v":0.30348833743843301},null,null,"Y",100,"v",{"$f":"6*AT24/(AT23+15*AT24+3*AT25)","v":0.31427096813174749},"y",{"$f":"+AT24/(SUM($AT$23:$AT$25))","v":0.31966732093009048},null,null,"U_Ref",null,null,{"$f":"13*BD23*(BD13-$BC5)","v":37.564967245402485},{"$f":"13*BE23*(BE13-$BC5)","v":17.434648217762366},-10.618901253520729,-37.952950570547792,-32.747148157697943,-23.077559078015312,12.984562668311719,38.270567629261947,122.67894943199727,30.570398282124714,-48.127630024520599,-31.381765080907048,34.448682185417965,-8.2102423079737186]
[{"$f":"Photonic!B31","v":379},{"$f":"CM!D32","v":5.9228184220680847E-5},null,null,null,null,null,null,3617560220397.3638,14.782616314877217,14.782616314877217,4.2639481747826214E-4,{"$f":"+$L25*Photonic!BB31","v":5.2988936757658599E-7},{"$f":"+$L25*Photonic!BC31","v":1.5522476935478653E-8},{"$f":"+$L25*Photonic!BD31","v":5.1730219256462763E-7},63.94,38.89,3.31,null,null,0.2132,6.88E-2,6.4600000000000005E-2,7.2599999999999998E-2,0.2898,0.1434,0.36099999999999999,0.1012,6.6799999999999998E-2,4.9399999999999999E-2,0.1084,0.12379999999999999,0.1012,3.5999999999999997E-2,3.5999999999999997E-2,null,"Z",{"$f":"SUMPRODUCT(Photonic!$BD$12:$BD$506,CRI_CM!$B$6:$B$500,CRI_CM!$AA$6:$AA$500)*100/SUMPRODUCT(Photonic!$BC12:$BC506,CRI_CM!$B$6:$B$500,CRI_CM!$AA$6:$AA$500)","v":110.38950649453639},null,null,"z",{"$f":"+AL25/(SUM($AL$23:$AL$25))","v":0.33501927796675957},null,null,"Z",{"$f":"SUMPRODUCT(Photonic!$BD$12:$BD$506,CRI_CM!$L$6:$L$500,CRI_CM!$AA$6:$AA$500)*100/SUMPRODUCT(Photonic!$BC12:$BC506,CRI_CM!$L$6:$L$500,CRI_CM!$AA$6:$AA$500)","v":98.177633514461405},null,null,"z",{"$f":"+AT25/(SUM($AT$23:$AT$25))","v":0.31384181080824142},null,null,"V_Ref",null,null,{"$f":"13*BD23*(BD14-$BC6)","v":5.0629614398717839},{"$f":"13*BE23*(BE14-$BC6)","v":14.329613753227516},22.442050721887842,11.263906988022491,-4.6949825222232651,-20.1004537048053,-17.479734123887841,-10.611809661282015,4.1574219869305127,31.139474127551523,9.6041704914393691,-32.523576112940425,10.750907691962976,12.073573177353808]
[{"$f":"Photonic!B32","v":380},{"$f":"CM!D33","v":6.311488610024661E-5},null,null,null,null,null,null,3660502557891.1377,13.953417805057404,13.953417805057404,4.0247713337439767E-4,{"$f":"+$L26*Photonic!BB32","v":5.5058871845617607E-7},{"$f":"+$L26*Photonic!BC32","v":1.6099085334975909E-8},{"$f":"+$L26*Photonic!BD32","v":2.5959775102648647E-7},63.4,38.5,3,null,null,0.219,7.0000000000000007E-2,6.5000000000000002E-2,7.3999999999999996E-2,0.29499999999999998,0.151,0.378,0.104,6.6000000000000003E-2,0.05,0.111,0.12,0.104,3.5999999999999997E-2,3.5999999999999997E-2,"R8","X",{"$f":"SUMPRODUCT(Photonic!$BB$12:$BB$506,CRI_CM!$B$6:$B$500,CRI_CM!$AB$6:$AB$500)*100/SUMPRODUCT(Photonic!$BC12:$BC506,CRI_CM!$B$6:$B$500,CRI_CM!$AB$6:$AB$500)","v":129.23249693856104},"u",{"$f":"4*AL26/(AL26+15*AL27+3*AL28)","v":0.27429289713490757},"x",{"$f":"+AL26/(SUM($AL$26:$AL$28))","v":0.41110750552839792},null,"R8","X",{"$f":"SUMPRODUCT(Photonic!$BB$12:$BB$506,CRI_CM!$L$6:$L$500,CRI_CM!$AB$6:$AB$500)*100/SUMPRODUCT(Photonic!$BC12:$BC506,CRI_CM!$L$6:$L$500,CRI_CM!$AB$6:$AB$500)","v":125.39331735370554},"u",{"$f":"4*AT26/(AT26+15*AT27+3*AT28)","v":0.27050225688644913},"x",{"$f":"+AT26/(SUM($AT$26:$AT$28))","v":0.41566103645757935}]
[{"$f":"Photonic!B33","v":381},{"$f":"CM!D34","v":6.2964298343417302E-5},null,null,null,null,null,null,3703597478138.5825,14.211375711265095,14.211375711265095,4.0991775903846282E-4,{"$f":"+$L27*Photonic!BB33","v":6.3192921733369439E-7},{"$f":"+$L27*Photonic!BC33","v":1.8036381397692367E-8},{"$f":"+$L27*Photonic!BD33","v":1.0764440352350033E-6},63.64,38.15,2.82,null,null,0.223,7.1800000000000003E-2,6.5600000000000006E-2,7.5799999999999992E-2,0.29719999999999996,0.16139999999999999,0.39419999999999999,0.109,6.5200000000000008E-2,5.0800000000000005E-2,0.113,0.1166,0.1086,3.5999999999999997E-2,3.5999999999999997E-2,null,"Y",100,"v",{"$f":"6*AL27/(AL26+15*AL27+3*AL28)","v":0.31837142781352079},"y",{"$f":"+AL27/(SUM($AL$26:$AL$28))","v":0.31811465015942875},null,null,"Y",100,"v",{"$f":"6*AT27/(AT26+15*AT27+3*AT28)","v":0.32358453695354217},"y",{"$f":"+AT27/(SUM($AT$26:$AT$28))","v":0.33148579623672902},null,null,"Y_Target",null,null,{"$f":"+SUMPRODUCT(Photonic!$BC12:$BC506,CRI_CM!$B$6:$B$500,CRI_CM!U$6:U$500)*100/SUMPRODUCT(Photonic!$BC12:$BC506,CRI_CM!$B$6:$B$500)","v":31.098695416731346},{"$f":"+SUMPRODUCT(Photonic!$BC12:$BC506,CRI_CM!$B$6:$B$500,CRI_CM!V$6:V$500)*100/SUMPRODUCT(Photonic!$BC12:$BC506,CRI_CM!$B$6:$B$500)","v":29.742366384556448},{"$f":"+SUMPRODUCT(Photonic!$BC12:$BC506,CRI_CM!$B$6:$B$500,CRI_CM!W$6:W$500)*100/SUMPRODUCT(Photonic!$BC12:$BC506,CRI_CM!$B$6:$B$500)","v":30.65816149515129},{"$f":"+SUMPRODUCT(Photonic!$BC12:$BC506,CRI_CM!$B$6:$B$500,CRI_CM!X$6:X$500)*100/SUMPRODUCT(Photonic!$BC12:$BC506,CRI_CM!$B$6:$B$500)","v":28.86370735922069},{"$f":"+SUMPRODUCT(Photonic!$BC12:$BC506,CRI_CM!$B$6:$B$500,CRI_CM!Y$6:Y$500)*100/SUMPRODUCT(Photonic!$BC12:$BC506,CRI_CM!$B$6:$B$500)","v":29.727470744819875},{"$f":"+SUMPRODUCT(Photonic!$BC12:$BC506,CRI_CM!$B$6:$B$500,CRI_CM!Z$6:Z$500)*100/SUMPRODUCT(Photonic!$BC12:$BC506,CRI_CM!$B$6:$B$500)","v":28.602300511176924},{"$f":"+SUMPRODUCT(Photonic!$BC12:$BC506,CRI_CM!$B$6:$B$500,CRI_CM!AA$6:AA$500)*100/SUMPRODUCT(Photonic!$BC12:$BC506,CRI_CM!$B$6:$B$500)","v":29.502757936093992},{"$f":"+SUMPRODUCT(Photonic!$BC12:$BC506,CRI_CM!$B$6:$B$500,CRI_CM!AB$6:AB$500)*100/SUMPRODUCT(Photonic!$BC12:$BC506,CRI_CM!$B$6:$B$500)","v":32.722315185301284},{"$f":"+SUMPRODUCT(Photonic!$BC12:$BC506,CRI_CM!$B$6:$B$500,CRI_CM!AC$6:AC$500)*100/SUMPRODUCT(Photonic!$BC12:$BC506,CRI_CM!$B$6:$B$500)","v":14.544030741802757},{"$f":"+SUMPRODUCT(Photonic!$BC12:$BC506,CRI_CM!$B$6:$B$500,CRI_CM!AD$6:AD$500)*100/SUMPRODUCT(Photonic!$BC12:$BC506,CRI_CM!$B$6:$B$500)","v":61.399088337638759},{"$f":"+SUMPRODUCT(Photonic!$BC12:$BC506,CRI_CM!$B$6:$B$500,CRI_CM!AE$6:AE$500)*100/SUMPRODUCT(Photonic!$BC12:$BC506,CRI_CM!$B$6:$B$500)","v":20.043574777353978},{"$f":"+SUMPRODUCT(Photonic!$BC12:$BC506,CRI_CM!$B$6:$B$500,CRI_CM!AF$6:AF$500)*100/SUMPRODUCT(Photonic!$BC12:$BC506,CRI_CM!$B$6:$B$500)","v":5.19410716137235},{"$f":"+SUMPRODUCT(Photonic!$BC12:$BC506,CRI_CM!$B$6:$B$500,CRI_CM!AG$6:AG$500)*100/SUMPRODUCT(Photonic!$BC12:$BC506,CRI_CM!$B$6:$B$500)","v":58.794111311921959},{"$f":"+SUMPRODUCT(Photonic!$BC12:$BC506,CRI_CM!$B$6:$B$500,CRI_CM!AH$6:AH$500)*100/SUMPRODUCT(Photonic!$BC12:$BC506,CRI_CM!$B$6:$B$500)","v":11.728975482773418},null,"R14 worst points"]
[{"$f":"Photonic!B34","v":382},{"$f":"CM!D35","v":5.7799916602214715E-5},null,null,null,null,null,null,3746841596825.0083,14.469333617472788,14.469333617472788,4.1735838470252797E-4,{"$f":"+$L28*Photonic!BB34","v":7.1585310144177598E-7},{"$f":"+$L28*Photonic!BC34","v":2.0033202465721342E-8},{"$f":"+$L28*Photonic!BD34","v":1.9227700783245463E-6},63.879999999999995,37.799999999999997,2.64,null,null,0.22700000000000001,7.3599999999999999E-2,6.6200000000000009E-2,7.7600000000000002E-2,0.2994,0.17180000000000001,0.41039999999999999,0.114,6.4399999999999999E-2,5.16E-2,0.115,0.1132,0.1132,3.5999999999999997E-2,3.5999999999999997E-2,null,"Z",{"$f":"SUMPRODUCT(Photonic!$BD$12:$BD$506,CRI_CM!$B$6:$B$500,CRI_CM!$AB$6:$AB$500)*100/SUMPRODUCT(Photonic!$BC12:$BC506,CRI_CM!$B$6:$B$500,CRI_CM!$AB$6:$AB$500)","v":85.119576912433388},null,null,"z",{"$f":"+AL28/(SUM($AL$26:$AL$28))","v":0.27077784431217333},null,null,"Z",{"$f":"SUMPRODUCT(Photonic!$BD$12:$BD$506,CRI_CM!$L$6:$L$500,CRI_CM!$AB$6:$AB$500)*100/SUMPRODUCT(Photonic!$BC12:$BC506,CRI_CM!$L$6:$L$500,CRI_CM!$AB$6:$AB$500)","v":76.27873356151818},null,null,"z",{"$f":"+AT28/(SUM($AT$26:$AT$28))","v":0.25285316730569157},null,null,"W_Target",null,null,{"$f":"25*(BD27^(1/3))-17","v":61.61777206954072},{"$f":"25*(BE27^(1/3))-17","v":60.457804280125302},61.244780734973716,59.687405736092188,60.444871256129218,59.45519443216476,60.249239750597354,62.962804311311032,44.024130947347224,81.626582096690257,50.909688059288413,26.295588162170326,80.211568860181004,39.801530111356001,null,null,"R",null,"u","v","u0","v0","duv"]
[{"$f":"Photonic!B35","v":383},{"$f":"CM!D36","v":5.7747422109735662E-5},null,null,null,null,null,null,3790231522107.2246,14.727291523680464,14.727291523680464,4.2479901036659263E-4,{"$f":"+$L29*Photonic!BB35","v":8.0236037078042022E-7},{"$f":"+$L29*Photonic!BC35","v":2.2089548539062818E-8},{"$f":"+$L29*Photonic!BD35","v":2.7985758802951121E-6},64.11999999999999,37.450000000000003,2.46,null,null,0.23099999999999998,7.5400000000000009E-2,6.6799999999999998E-2,7.9399999999999998E-2,0.30159999999999998,0.1822,0.42660000000000003,0.11899999999999999,6.3600000000000004E-2,5.2400000000000002E-2,0.11699999999999999,0.10979999999999999,0.1178,3.5999999999999997E-2,3.5999999999999997E-2,"R9","X",{"$f":"SUMPRODUCT(Photonic!$BB$12:$BB$506,CRI_CM!$B$6:$B$500,CRI_CM!$AC$6:$AC$500)*100/SUMPRODUCT(Photonic!$BC12:$BC506,CRI_CM!$B$6:$B$500,CRI_CM!$AC$6:$AC$500)","v":193.08763303901645},"u",{"$f":"4*AL29/(AL29+15*AL30+3*AL31)","v":0.4414933255133896},"x",{"$f":"+AL29/(SUM($AL$29:$AL$31))","v":0.61914841399080844},null,"R9","X",{"$f":"SUMPRODUCT(Photonic!$BB$12:$BB$506,CRI_CM!$L$6:$L$500,CRI_CM!$AC$6:$AC$500)*100/SUMPRODUCT(Photonic!$BC12:$BC506,CRI_CM!$L$6:$L$500,CRI_CM!$AC$6:$AC$500)","v":193.07447602625371},"u",{"$f":"4*AT29/(AT29+15*AT30+3*AT31)","v":0.44279544560802037},"x",{"$f":"+AT29/(SUM($AT$29:$AT$31))","v":0.62262644841806725},null,null,"U_Target",null,null,{"$f":"13*BD28*(BD18-$BC$5)","v":40.069038051725308},{"$f":"13*BE28*(BE18-$BC$5)","v":16.55247327866924},-15.121997816744669,-43.089063873777128,-34.704909845098584,-22.843619743574603,15.230783839012915,40.736739934436159,124.5494830046101,27.77031324275762,-54.812973260110752,-28.696818852016683,36.020205737299065,-11.229480441275467,null,"1st",{"$f":"\"R\"&CA6","v":"R11"},null,{"$f":"INDIRECT(\"bv\"&($CA6+9))","v":0.14080879741347796},{"$f":"INDIRECT(\"bw\"&($CA6+9))","v":0.3573960752750554},{"$f":"INDIRECT(\"bx\"&($CA6+9))","v":0.14938647469424987},{"$f":"INDIRECT(\"by\"&($CA6+9))","v":0.35139724625991925},{"$f":"SQRT((BV29-BX29)^2+(BW29-BY29)^2)","v":1.0467210568528274E-2}]
[{"$f":"Photonic!B36","v":384},{"$f":"CM!D37","v":5.76953847293411E-5},null,null,null,null,null,null,3833763855428.6396,14.985249429888164,14.985249429888164,4.32239636030658E-4,{"$f":"+$L30*Photonic!BB36","v":8.9145102534962912E-7},{"$f":"+$L30*Photonic!BC36","v":2.4205419617716848E-8},{"$f":"+$L30*Photonic!BD36","v":3.7038614411467087E-6},64.36,37.1,2.2800000000000002,null,null,0.23499999999999999,7.7200000000000005E-2,6.7400000000000002E-2,8.1200000000000008E-2,0.30380000000000001,0.19260000000000002,0.44280000000000003,0.124,6.2799999999999995E-2,5.3199999999999997E-2,0.11899999999999999,0.10639999999999999,0.12239999999999999,3.5999999999999997E-2,3.5999999999999997E-2,null,"Y",100,"v",{"$f":"6*AL30/(AL29+15*AL30+3*AL31)","v":0.34297379787977833},"y",{"$f":"+AL30/(SUM($AL$29:$AL$31))","v":0.3206566905637605},null,null,"Y",100,"v",{"$f":"6*AT30/(AT29+15*AT30+3*AT31)","v":0.34400878981109628},"y",{"$f":"+AT30/(SUM($AT$29:$AT$31))","v":0.32247993687855681},null,null,"V_Target",null,null,{"$f":"13*BD28*(BD19-$BC$6)","v":4.4194738280359038},{"$f":"13*BE28*(BE19-$BC$6)","v":15.077737548276712},23.712182829908809,15.389650277219262,-2.7770849524661716,-20.403289117754728,-20.3671373401274,-12.918319574851843,4.0300809510891105,32.446858725259688,13.775586484824927,-29.220856476244965,10.849574164650564,12.754539064775901,null,"2nd",{"$f":"\"R\"&CA7","v":"R4"},null,{"$f":"INDIRECT(\"bv\"&($CA7+9))","v":0.16809792174963128},{"$f":"INDIRECT(\"bw\"&($CA7+9))","v":0.35641521192591846},{"$f":"INDIRECT(\"bx\"&($CA7+9))","v":0.17435628865616493},{"$f":"INDIRECT(\"by\"&($CA7+9))","v":0.35120519975791298},{"$f":"SQRT((BV30-BX30)^2+(BW30-BY30)^2)","v":8.1431801605736723E-3}]
[{"$f":"Photonic!B37","v":385},{"$f":"CM!D38","v":5.7582053113033318E-5},null,null,null,null,null,null,3877435192324.5952,15.243207336095855,15.243207336095855,4.3968026169472315E-4,{"$f":"+$L31*Photonic!BB37","v":9.8312506514940108E-7},{"$f":"+$L31*Photonic!BC37","v":2.6380815701683391E-8},{"$f":"+$L31*Photonic!BD37","v":4.6386267608793291E-6},64.599999999999994,36.75,2.1,null,null,0.23899999999999999,7.9000000000000001E-2,6.8000000000000005E-2,8.3000000000000004E-2,0.30599999999999999,0.20300000000000001,0.45900000000000002,0.129,6.2E-2,5.3999999999999999E-2,0.121,0.10299999999999999,0.127,3.5999999999999997E-2,3.5999999999999997E-2,null,"Z",{"$f":"SUMPRODUCT(Photonic!$BD$12:$BD$506,CRI_CM!$B$6:$B$500,CRI_CM!$AC$6:$AC$500)*100/SUMPRODUCT(Photonic!$BC12:$BC506,CRI_CM!$B$6:$B$500,CRI_CM!$AC$6:$AC$500)","v":18.772380934762257},null,null,"z",{"$f":"+AL31/(SUM($AL$29:$AL$31))","v":6.0194895445430982E-2},null,null,"Z",{"$f":"SUMPRODUCT(Photonic!$BD$12:$BD$506,CRI_CM!$L$6:$L$500,CRI_CM!$AC$6:$AC$500)*100/SUMPRODUCT(Photonic!$BC12:$BC506,CRI_CM!$L$6:$L$500,CRI_CM!$AC$6:$AC$500)","v":17.022334857392543},null,null,"z",{"$f":"+AT31/(SUM($AT$29:$AT$31))","v":5.4893614703376045E-2},null,null,null,null,null,null,null,null,null,null,null,null,null,null,null,null,null,null,null,null,"3rd",{"$f":"\"R\"&CA8","v":"R3"},null,{"$f":"INDIRECT(\"bv\"&($CA8+9))","v":0.20463648772902501},{"$f":"INDIRECT(\"bw\"&($CA8+9))","v":0.36636391890476411},{"$f":"INDIRECT(\"bx\"&($CA8+9))","v":0.2102743221180694},{"$f":"INDIRECT(\"by\"&($CA8+9))","v":0.3648067407921402},{"$f":"SQRT((BV31-BX31)^2+(BW31-BY31)^2)","v":5.8489298399558914E-3}]
[{"$f":"Photonic!B38","v":386},{"$f":"CM!D39","v":5.6811447614380737E-5},null,null,null,null,null,null,3921242123217.7295,15.501165242303539,15.501165242303539,4.4712088735878808E-4,{"$f":"+$L32*Photonic!BB38","v":1.1792366283200679E-6},{"$f":"+$L32*Photonic!BC38","v":3.2192703889832745E-8},{"$f":"+$L32*Photonic!BD38","v":5.5666550476169116E-6},64.839999999999989,36.4,1.9200000000000002,null,null,0.24159999999999998,8.1000000000000003E-2,6.8400000000000002E-2,8.5000000000000006E-2,0.30680000000000002,0.21540000000000001,0.47200000000000003,0.13720000000000002,6.1199999999999997E-2,5.5E-2,0.1222,0.10039999999999999,0.1338,3.6199999999999996E-2,3.6199999999999996E-2,"R10","X",{"$f":"SUMPRODUCT(Photonic!$BB$12:$BB$506,CRI_CM!$B$6:$B$500,CRI_CM!$AD$6:$AD$500)*100/SUMPRODUCT(Photonic!$BC12:$BC506,CRI_CM!$B$6:$B$500,CRI_CM!$AD$6:$AD$500)","v":102.65852277690266},"u",{"$f":"4*AL32/(AL32+15*AL33+3*AL34)","v":0.25092536352627465},"x",{"$f":"+AL32/(SUM($AL$32:$AL$34))","v":0.4798651604033547},null,"R10","X",{"$f":"SUMPRODUCT(Photonic!$BB$12:$BB$506,CRI_CM!$L$6:$L$500,CRI_CM!$AD$6:$AD$500)*100/SUMPRODUCT(Photonic!$BC12:$BC506,CRI_CM!$L$6:$L$500,CRI_CM!$AD$6:$AD$500)","v":103.47941449450323},"u",{"$f":"4*AT32/(AT32+15*AT33+3*AT34)","v":0.25244091130031138},"x",{"$f":"+AT32/(SUM($AT$32:$AT$34))","v":0.48009349787037325},null,null,null,"(5) Calculate distance",null,null,null,null,null,null,null,null,null,null,null,null,null,null,null,null,"Sample","Reference",null,{"$f":"BB5","v":0.22499509772932039},{"$f":"BB6","v":0.33453038971367488},{"$f":"BC5","v":0.22362962620268095},{"$f":"BC6","v":0.33658155962533021},{"$f":"SQRT((BV32-BX32)^2+(BW32-BY32)^2)","v":2.4641044004958769E-3}]
[{"$f":"Photonic!B39","v":387},{"$f":"CM!D40","v":5.4353390127379545E-5},null,null,null,null,null,null,3965181234203.4141,15.759123148511245,15.759123148511245,4.5456151302285361E-4,{"$f":"+$L33*Photonic!BB39","v":1.3813215257738477E-6},{"$f":"+$L33*Photonic!BC39","v":3.818316709391971E-8},{"$f":"+$L33*Photonic!BD39","v":6.5229577118779493E-6},65.08,36.049999999999997,1.74,null,null,0.2442,8.3000000000000004E-2,6.88E-2,8.7000000000000008E-2,0.30759999999999998,0.2278,0.48500000000000004,0.1454,6.0400000000000002E-2,5.6000000000000001E-2,0.1234,9.7799999999999998E-2,0.1406,3.6399999999999995E-2,3.6399999999999995E-2,null,"Y",100,"v",{"$f":"6*AL33/(AL32+15*AL33+3*AL34)","v":0.36664081569474544},"y",{"$f":"+AL33/(SUM($AL$32:$AL$34))","v":0.4674382091452815},null,null,"Y",100,"v",{"$f":"6*AT33/(AT32+15*AT33+3*AT34)","v":0.36592917422293819},"y",{"$f":"+AT33/(SUM($AT$32:$AT$34))","v":0.46395072895959955},null,null,"deltaE",null,null,{"$f":"SQRT( (BD23-BD28)^2+(BD24-BD29)^2+(BD25-BD30)^2)","v":2.5860916362215209},{"$f":"SQRT( (BE23-BE28)^2+(BE24-BE29)^2+(BE25-BE30)^2)","v":1.1570754183228888},4.6795244333071695,6.6024631543440506,2.7443526713350308,0.39304304794039874,3.6582682138183289,3.3803153838093878,2.1091507675697243,3.0902714712678772,7.9489724011670893,4.2980646406884322,1.5834568829921472,3.0952307025973131]
[{"$f":"Photonic!B40","v":388},{"$f":"CM!D41","v":5.1898690864305654E-5},null,null,null,null,null,null,4009249107824.9023,16.017081054718922,16.017081054718922,4.6200213868691833E-4,{"$f":"+$L34*Photonic!BB40","v":1.5893797575107364E-6},{"$f":"+$L34*Photonic!BC40","v":4.4352205313944161E-8},{"$f":"+$L34*Photonic!BD40","v":7.5075347536624228E-6},65.319999999999993,35.700000000000003,1.56,null,null,0.24679999999999999,8.4999999999999992E-2,6.9200000000000012E-2,8.8999999999999996E-2,0.30840000000000001,0.24020000000000002,0.498,0.15360000000000001,5.96E-2,5.6999999999999995E-2,0.1246,9.5199999999999993E-2,0.1474,3.6600000000000001E-2,3.6600000000000001E-2,null,"Z",{"$f":"SUMPRODUCT(Photonic!$BD$12:$BD$506,CRI_CM!$B$6:$B$500,CRI_CM!$AD$6:$AD$500)*100/SUMPRODUCT(Photonic!$BC12:$BC506,CRI_CM!$B$6:$B$500,CRI_CM!$AD$6:$AD$500)","v":11.27349656497282},null,null,"z",{"$f":"+AL34/(SUM($AL$32:$AL$34))","v":5.2696630451363781E-2},null,null,"Z",{"$f":"SUMPRODUCT(Photonic!$BD$12:$BD$506,CRI_CM!$L$6:$L$500,CRI_CM!$AD$6:$AD$500)*100/SUMPRODUCT(Photonic!$BC12:$BC506,CRI_CM!$L$6:$L$500,CRI_CM!$AD$6:$AD$500)","v":12.06071457102933},null,null,"z",{"$f":"+AT34/(SUM($AT$32:$AT$34))","v":5.5955773170027208E-2},null,null,null,null,null,"R1","R2","R3","R4","R5","R6","R7","R8","R9","R10","R11","R12","R13","R14"]
[{"$f":"Photonic!B41","v":389},{"$f":"CM!D42","v":5.2013053278223459E-5},null,null,null,null,null,null,4053442323838.3408,16.275038960926619,16.275038960926619,4.6944276435098358E-4,{"$f":"+$L35*Photonic!BB41","v":1.8034113235307386E-6},{"$f":"+$L35*Photonic!BC41","v":5.0699818549906222E-8},{"$f":"+$L35*Photonic!BD41","v":8.5203861729703525E-6},65.56,35.35,1.38,null,null,0.24940000000000001,8.6999999999999994E-2,6.9600000000000009E-2,9.0999999999999998E-2,0.30919999999999997,0.25259999999999999,0.51100000000000001,0.1618,5.8800000000000005E-2,5.7999999999999996E-2,0.1258,9.2600000000000002E-2,0.1542,3.6799999999999999E-2,3.6799999999999999E-2,"R11","X",{"$f":"SUMPRODUCT(Photonic!$BB$12:$BB$506,CRI_CM!$B$6:$B$500,CRI_CM!$AE$6:$AE$500)*100/SUMPRODUCT(Photonic!$BC12:$BC506,CRI_CM!$B$6:$B$500,CRI_CM!$AE$6:$AE$500)","v":60.16364758906311},"u",{"$f":"4*AL35/(AL35+15*AL36+3*AL37)","v":0.14271782614838185},"x",{"$f":"+AL35/(SUM($AL$35:$AL$37))","v":0.29756787212777447},null,"R11","X",{"$f":"SUMPRODUCT(Photonic!$BB$12:$BB$506,CRI_CM!$L$6:$L$500,CRI_CM!$AE$6:$AE$500)*100/SUMPRODUCT(Photonic!$BC12:$BC506,CRI_CM!$L$6:$L$500,CRI_CM!$AE$6:$AE$500)","v":63.768203771189768},"u",{"$f":"4*AT35/(AT35+15*AT36+3*AT37)","v":0.14938647469424987},"x",{"$f":"+AT35/(SUM($AT$35:$AT$37))","v":0.30126441021660305},null,null,"CRI",null,null,{"$f":"IF((100-4.6*BD33)>0,(100-4.6*BD33),0)","v":88.103978473381005},94.677453075714709,78.474187606787027,69.628669490017373,87.375977711858866,98.192001979474171,83.171966216435692,84.450549234476824,90.297906469179267,85.784751232167764,63.434726954631394,80.228902652833213,92.716098338236122,85.76193876805236]
[{"$f":"Photonic!B42","v":390},{"$f":"CM!D43","v":5.2122949287014793E-5},null,null,null,null,null,null,4097757459967.3169,16.532996867134305,16.532996867134305,4.7688339001504857E-4,{"$f":"+$L36*Photonic!BB42","v":2.0234162238338511E-6},{"$f":"+$L36*Photonic!BC42","v":5.7226006801805829E-8},{"$f":"+$L36*Photonic!BD42","v":9.561511969801723E-6},65.8,35,1.2,null,null,0.252,8.8999999999999996E-2,7.0000000000000007E-2,9.2999999999999999E-2,0.31,0.26500000000000001,0.52400000000000002,0.17,5.8000000000000003E-2,5.8999999999999997E-2,0.127,0.09,0.161,3.6999999999999998E-2,3.6999999999999998E-2,null,"Y",100,"v",{"$f":"6*AL36/(AL35+15*AL36+3*AL37)","v":0.35582406951916407},"y",{"$f":"+AL36/(SUM($AL$35:$AL$37))","v":0.49459745885132816},null,null,"Y",100,"v",{"$f":"6*AT36/(AT35+15*AT36+3*AT37)","v":0.35139724625991925},"y",{"$f":"+AT36/(SUM($AT$35:$AT$37))","v":0.47243671986996311},null,null,"CRI in average",null,null,{"$f":"AVERAGE(BD35:BQ35)","v":84.44993630023184}]
[{"$f":"Photonic!B43","v":391},{"$f":"CM!D44","v":5.5485651337190652E-5},null,null,null,null,null,null,4142191092647.0171,17.519306065866331,17.519306065866331,5.0533282831557622E-4,{"$f":"+$L37*Photonic!BB43","v":2.4884609797572233E-6},{"$f":"+$L37*Photonic!BC43","v":7.0443396267191327E-8},{"$f":"+$L37*Photonic!BD43","v":1.1765158908843244E-5},68.7,35.840000000000003,0.97,null,null,0.25280000000000002,9.1399999999999995E-2,7.0400000000000004E-2,9.5399999999999999E-2,0.31040000000000001,0.27979999999999999,0.52839999999999998,0.184,5.74E-2,5.9799999999999999E-2,0.12740000000000001,8.8399999999999992E-2,0.17100000000000001,3.7199999999999997E-2,3.7199999999999997E-2,null,"Z",{"$f":"SUMPRODUCT(Photonic!$BD$12:$BD$506,CRI_CM!$B$6:$B$500,CRI_CM!$AE$6:$AE$500)*100/SUMPRODUCT(Photonic!$BC12:$BC506,CRI_CM!$B$6:$B$500,CRI_CM!$AE$6:$AE$500)","v":42.020973885223839},null,null,"z",{"$f":"+AL37/(SUM($AL$35:$AL$37))","v":0.20783466902089731},null,null,"Z",{"$f":"SUMPRODUCT(Photonic!$BD$12:$BD$506,CRI_CM!$L$6:$L$500,CRI_CM!$AE$6:$AE$500)*100/SUMPRODUCT(Photonic!$BC12:$BC506,CRI_CM!$L$6:$L$500,CRI_CM!$AE$6:$AE$500)","v":47.900355835109941},null,null,"z",{"$f":"+AT37/(SUM($AT$35:$AT$37))","v":0.22629886991343387}]
[{"$f":"Photonic!B44","v":392},{"$f":"CM!D45","v":5.2300809380138639E-5},null,null,null,null,null,null,4186739797757.7622,18.505615264598347,18.505615264598347,5.3378226661610366E-4,{"$f":"+$L38*Photonic!BB44","v":2.9922766301965538E-6},{"$f":"+$L38*Photonic!BC44","v":8.4764623938637271E-8},{"$f":"+$L38*Photonic!BD44","v":1.4152703017059371E-5},71.599999999999994,36.68,0.74,null,null,0.25359999999999999,9.3799999999999994E-2,7.0800000000000002E-2,9.7799999999999998E-2,0.31080000000000002,0.29460000000000003,0.53280000000000005,0.19800000000000001,5.6800000000000003E-2,6.0600000000000001E-2,0.1278,8.6800000000000002E-2,0.18099999999999999,3.7399999999999996E-2,3.7399999999999996E-2,"R12","X",{"$f":"SUMPRODUCT(Photonic!$BB$12:$BB$506,CRI_CM!$B$6:$B$500,CRI_CM!$AF$6:$AF$500)*100/SUMPRODUCT(Photonic!$BC12:$BC506,CRI_CM!$B$6:$B$500,CRI_CM!$AF$6:$AF$500)","v":87.23598458428819},"u",{"$f":"4*AL38/(AL38+15*AL39+3*AL40)","v":0.14324276962574259},"x",{"$f":"+AL38/(SUM($AL$38:$AL$40))","v":0.18554219004947789},null,"R12","X",{"$f":"SUMPRODUCT(Photonic!$BB$12:$BB$506,CRI_CM!$L$6:$L$500,CRI_CM!$AF$6:$AF$500)*100/SUMPRODUCT(Photonic!$BC12:$BC506,CRI_CM!$L$6:$L$500,CRI_CM!$AF$6:$AF$500)","v":82.446060133796735},"u",{"$f":"4*AT38/(AT38+15*AT39+3*AT40)","v":0.13386594859465697},"x",{"$f":"+AT38/(SUM($AT$38:$AT$40))","v":0.17315350144348501}]
[{"$f":"Photonic!B45","v":393},{"$f":"CM!D46","v":4.8251649507865652E-5},null,null,null,null,null,null,4231400151347.9331,19.491924463330367,19.491924463330367,5.6223170491663109E-4,{"$f":"+$L39*Photonic!BB45","v":3.5348631751518427E-6},{"$f":"+$L39*Photonic!BC45","v":1.0018968981614366E-7},{"$f":"+$L39*Photonic!BD45","v":1.6724144294450108E-5},74.5,37.520000000000003,0.51,null,null,0.25440000000000002,9.6200000000000008E-2,7.1199999999999999E-2,0.1002,0.31119999999999998,0.30940000000000001,0.53720000000000001,0.21199999999999999,5.62E-2,6.1399999999999996E-2,0.12820000000000001,8.5199999999999998E-2,0.191,3.7600000000000001E-2,3.7600000000000001E-2,null,"Y",100,"v",{"$f":"6*AL39/(AL38+15*AL39+3*AL40)","v":0.24630220597901339},"y",{"$f":"+AL39/(SUM($AL$38:$AL$40))","v":0.2126899706969036},null,null,"Y",100,"v",{"$f":"6*AT39/(AT38+15*AT39+3*AT40)","v":0.24355187205564582},"y",{"$f":"+AT39/(SUM($AT$38:$AT$40))","v":0.21002034683341406}]
[{"$f":"Photonic!B46","v":394},{"$f":"CM!D47","v":5.0471771041318586E-5},null,null,null,null,null,null,4276168730346.2949,20.478233662062387,20.478233662062387,5.9068114321715864E-4,{"$f":"+$L40*Photonic!BB46","v":4.1162206146230919E-6},{"$f":"+$L40*Photonic!BC46","v":1.1671859389971053E-7},{"$f":"+$L40*Photonic!BD46","v":1.9479482741015457E-5},77.399999999999991,38.36,0.27999999999999997,null,null,0.25519999999999998,9.8600000000000007E-2,7.1599999999999997E-2,0.1026,0.31159999999999999,0.32420000000000004,0.54160000000000008,0.22600000000000001,5.5600000000000004E-2,6.2199999999999998E-2,0.12859999999999999,8.3600000000000008E-2,0.20099999999999998,3.78E-2,3.78E-2,null,"Z",{"$f":"SUMPRODUCT(Photonic!$BD$12:$BD$506,CRI_CM!$B$6:$B$500,CRI_CM!$AF$6:$AF$500)*100/SUMPRODUCT(Photonic!$BC12:$BC506,CRI_CM!$B$6:$B$500,CRI_CM!$AF$6:$AF$500)","v":282.93193011492536},null,null,"z",{"$f":"+AL40/(SUM($AL$38:$AL$40))","v":0.60176783925361854},null,null,"Z",{"$f":"SUMPRODUCT(Photonic!$BD$12:$BD$506,CRI_CM!$L$6:$L$500,CRI_CM!$AF$6:$AF$500)*100/SUMPRODUCT(Photonic!$BC12:$BC506,CRI_CM!$L$6:$L$500,CRI_CM!$AF$6:$AF$500)","v":293.69828258228762},null,null,"z",{"$f":"+AT40/(SUM($AT$38:$AT$40))","v":0.61682615172310096}]
[{"$f":"Photonic!B47","v":395},{"$f":"CM!D48","v":5.2682316158552221E-5},null,null,null,null,null,null,4321042113263.3735,21.464542860794406,21.464542860794406,6.1913058151768607E-4,{"$f":"+$L41*Photonic!BB47","v":4.7363489486102982E-6},{"$f":"+$L41*Photonic!BC47","v":1.3435133618933787E-7},{"$f":"+$L41*Photonic!BD47","v":2.2418718356755412E-5},80.3,39.200000000000003,0.05,null,null,0.25600000000000001,0.10100000000000001,7.1999999999999995E-2,0.105,0.312,0.33900000000000002,0.54600000000000004,0.24,5.5E-2,6.3E-2,0.129,8.2000000000000003E-2,0.21099999999999999,3.7999999999999999E-2,3.7999999999999999E-2,"R13","X",{"$f":"SUMPRODUCT(Photonic!$BB$12:$BB$506,CRI_CM!$B$6:$B$500,CRI_CM!$AG$6:$AG$500)*100/SUMPRODUCT(Photonic!$BC12:$BC506,CRI_CM!$B$6:$B$500,CRI_CM!$AG$6:$AG$500)","v":112.53497879438123},"u",{"$f":"4*AL41/(AL41+15*AL42+3*AL43)","v":0.25924634778821831},"x",{"$f":"+AL41/(SUM($AL$41:$AL$43))","v":0.44339418212993281},null,"R13","X",{"$f":"SUMPRODUCT(Photonic!$BB$12:$BB$506,CRI_CM!$L$6:$L$500,CRI_CM!$AG$6:$AG$500)*100/SUMPRODUCT(Photonic!$BC12:$BC506,CRI_CM!$L$6:$L$500,CRI_CM!$AG$6:$AG$500)","v":110.9625155645719},"u",{"$f":"4*AT41/(AT41+15*AT42+3*AT43)","v":0.2565973210157908},"x",{"$f":"+AT41/(SUM($AT$41:$AT$43))","v":0.44285904467345061}]
[{"$f":"Photonic!B48","v":396},{"$f":"CM!D49","v":5.3604465918869949E-5},null,null,null,null,null,null,4366016880882.1621,22.45085205952644,22.45085205952644,6.4758001981821405E-4,{"$f":"+$L42*Photonic!BB48","v":5.8165637380071988E-6},{"$f":"+$L42*Photonic!BC48","v":1.6422629302589907E-7},{"$f":"+$L42*Photonic!BD48","v":2.7546758883027189E-5},83.2,40.04,-0.18000000000000002,null,null,0.25600000000000001,0.10300000000000001,7.22E-2,0.1072,0.31219999999999998,0.35320000000000001,0.54700000000000004,0.25579999999999997,5.4399999999999997E-2,6.3600000000000004E-2,0.12859999999999999,8.0799999999999997E-2,0.22159999999999999,3.8199999999999998E-2,3.8199999999999998E-2,null,"Y",100,"v",{"$f":"6*AL42/(AL41+15*AL42+3*AL43)","v":0.34555435638625043},"y",{"$f":"+AL42/(SUM($AL$41:$AL$43))","v":0.39400565662351295},null,null,"Y",100,"v",{"$f":"6*AT42/(AT41+15*AT42+3*AT43)","v":0.34687027377250246},"y",{"$f":"+AT42/(SUM($AT$41:$AT$43))","v":0.3991068897638137}]
[{"$f":"Photonic!B49","v":397},{"$f":"CM!D50","v":5.3970911132692474E-5},null,null,null,null,null,null,4411089616937.8457,23.437161258258442,23.437161258258442,6.7602945811874105E-4,{"$f":"+$L43*Photonic!BB49","v":6.972567831036695E-6},{"$f":"+$L43*Photonic!BC49","v":1.9618374874605867E-7},{"$f":"+$L43*Photonic!BD49","v":3.3034855500430401E-5},86.1,40.880000000000003,-0.41000000000000003,null,null,0.25600000000000001,0.10500000000000001,7.2399999999999992E-2,0.1094,0.31240000000000001,0.3674,0.54800000000000004,0.27160000000000001,5.3800000000000001E-2,6.4200000000000007E-2,0.12820000000000001,7.9600000000000004E-2,0.23219999999999999,3.8399999999999997E-2,3.8399999999999997E-2,null,"Z",{"$f":"SUMPRODUCT(Photonic!$BD$12:$BD$506,CRI_CM!$B$6:$B$500,CRI_CM!$AG$6:$AG$500)*100/SUMPRODUCT(Photonic!$BC12:$BC506,CRI_CM!$B$6:$B$500,CRI_CM!$AG$6:$AG$500)","v":41.268483970504207},null,null,"z",{"$f":"+AL43/(SUM($AL$41:$AL$43))","v":0.16260016124655427},null,null,"Z",{"$f":"SUMPRODUCT(Photonic!$BD$12:$BD$506,CRI_CM!$L$6:$L$500,CRI_CM!$AG$6:$AG$500)*100/SUMPRODUCT(Photonic!$BC12:$BC506,CRI_CM!$L$6:$L$500,CRI_CM!$AG$6:$AG$500)","v":39.596927443737755},null,null,"z",{"$f":"+AT43/(SUM($AT$41:$AT$43))","v":0.15803406556273575}]
[{"$f":"Photonic!B50","v":398},{"$f":"CM!D51","v":5.4417530850981626E-5},null,null,null,null,null,null,4456256908786.6797,24.423470456990476,24.423470456990476,7.0447889641926892E-4,{"$f":"+$L44*Photonic!BB50","v":8.2043612276988062E-6},{"$f":"+$L44*Photonic!BC50","v":2.3022370334981711E-7},{"$f":"+$L44*Photonic!BD50","v":3.8883008208965124E-5},89,41.72,-0.64,null,null,0.25600000000000001,0.107,7.2599999999999998E-2,0.1116,0.31259999999999999,0.38159999999999999,0.54900000000000004,0.28739999999999999,5.3199999999999997E-2,6.4799999999999996E-2,0.1278,7.8399999999999997E-2,0.24280000000000002,3.8600000000000002E-2,3.8600000000000002E-2,"R14","X",{"$f":"SUMPRODUCT(Photonic!$BB$12:$BB$506,CRI_CM!$B$6:$B$500,CRI_CM!$AH$6:$AH$500)*100/SUMPRODUCT(Photonic!$BC12:$BC506,CRI_CM!$B$6:$B$500,CRI_CM!$AH$6:$AH$500)","v":84.681444335520283},"u",{"$f":"4*AL44/(AL44+15*AL45+3*AL46)","v":0.20332807669447456},"x",{"$f":"+AL44/(SUM($AL$44:$AL$46))","v":0.39989950581287426},null,"R14","X",{"$f":"SUMPRODUCT(Photonic!$BB$12:$BB$506,CRI_CM!$L$6:$L$500,CRI_CM!$AH$6:$AH$500)*100/SUMPRODUCT(Photonic!$BC12:$BC506,CRI_CM!$L$6:$L$500,CRI_CM!$AH$6:$AH$500)","v":86.578327410095028},"u",{"$f":"4*AT44/(AT44+15*AT45+3*AT46)","v":0.20774973720954873},"x",{"$f":"+AT44/(SUM($AT$44:$AT$46))","v":0.40575338352485874}]
[{"$f":"Photonic!B51","v":399},{"$f":"CM!D52","v":5.4710627684453726E-5},null,null,null,null,null,null,4501515348063.8623,25.409779655722488,25.409779655722488,7.3292833471979625E-4,{"$f":"+$L45*Photonic!BB51","v":9.5119439279935156E-6},{"$f":"+$L45*Photonic!BC51","v":2.6634615683717394E-7},{"$f":"+$L45*Photonic!BD51","v":4.5091217008631299E-5},91.899999999999991,42.56,-0.87000000000000011,null,null,0.25600000000000001,0.109,7.279999999999999E-2,0.1138,0.31280000000000002,0.39579999999999999,0.55000000000000004,0.30320000000000003,5.2600000000000001E-2,6.54E-2,0.12740000000000001,7.7200000000000005E-2,0.25340000000000001,3.8800000000000001E-2,3.8800000000000001E-2,null,"Y",100,"v",{"$f":"6*AL45/(AL44+15*AL45+3*AL46)","v":0.3601640447147883},"y",{"$f":"+AL45/(SUM($AL$44:$AL$46))","v":0.47223982650604523},null,null,"Y",100,"v",{"$f":"6*AT45/(AT44+15*AT45+3*AT46)","v":0.35993373299792769},"y",{"$f":"+AT45/(SUM($AT$44:$AT$46))","v":0.46865468029074897}]
[{"$f":"Photonic!B52","v":400},{"$f":"CM!D53","v":5.8837533470616673E-5},null,null,null,null,null,null,4546861531330.3994,26.396088854454511,26.396088854454511,7.6137777302032379E-4,{"$f":"+$L46*Photonic!BB52","v":1.0895315931920834E-5},{"$f":"+$L46*Photonic!BC52","v":3.045511092081295E-7},{"$f":"+$L46*Photonic!BD52","v":5.1659481899428966E-5},94.8,43.4,-1.1000000000000001,null,null,0.25600000000000001,0.111,7.2999999999999995E-2,0.11600000000000001,0.313,0.41,0.55100000000000005,0.31900000000000001,5.1999999999999998E-2,6.6000000000000003E-2,0.127,7.5999999999999998E-2,0.26400000000000001,3.9E-2,3.9E-2,null,"Z",{"$f":"SUMPRODUCT(Photonic!$BD$12:$BD$506,CRI_CM!$B$6:$B$500,CRI_CM!$AH$6:$AH$500)*100/SUMPRODUCT(Photonic!$BC12:$BC506,CRI_CM!$B$6:$B$500,CRI_CM!$AH$6:$AH$500)","v":27.075367324920819},null,null,"z",{"$f":"+AL46/(SUM($AL$44:$AL$46))","v":0.12786066768108054},null,null,"Z",{"$f":"SUMPRODUCT(Photonic!$BD$12:$BD$506,CRI_CM!$L$6:$L$500,CRI_CM!$AH$6:$AH$500)*100/SUMPRODUCT(Photonic!$BC12:$BC506,CRI_CM!$L$6:$L$500,CRI_CM!$AH$6:$AH$500)","v":26.798395805303002},null,null,"z",{"$f":"+AT46/(SUM($AT$44:$AT$46))","v":0.12559193618439227}]
[{"$f":"Photonic!B53","v":401},{"$f":"CM!D54","v":6.2978485524312492E-5},null,null,null,null,null,null,4592292060709.0264,27.129321380063143,27.129321380063143,7.8252738160560311E-4,{"$f":"+$L47*Photonic!BB53","v":1.2587735460507731E-5},{"$f":"+$L47*Photonic!BC53","v":3.5057226695931024E-7},{"$f":"+$L47*Photonic!BD53","v":5.9722489764139626E-5},95.8,43.69,-1.04,null,null,0.25559999999999999,0.112,7.2999999999999995E-2,0.11700000000000001,0.31340000000000001,0.42080000000000001,0.55180000000000007,0.33839999999999998,5.1999999999999998E-2,6.6200000000000009E-2,0.1258,7.4399999999999994E-2,0.27379999999999999,3.9E-2,3.9E-2]
[{"$f":"Photonic!B54","v":402},{"$f":"CM!D55","v":6.3668795406448484E-5},null,null,null,null,null,null,4637803544508.9854,27.862553905671771,27.862553905671771,8.0367699019088233E-4,{"$f":"+$L48*Photonic!BB54","v":1.435527839878954E-5},{"$f":"+$L48*Photonic!BC54","v":3.9862378713467763E-7},{"$f":"+$L48*Photonic!BD54","v":6.8143771998284921E-5},96.8,43.98,-0.98000000000000009,null,null,0.25519999999999998,0.113,7.2999999999999995E-2,0.11800000000000001,0.31380000000000002,0.43159999999999998,0.55260000000000009,0.35780000000000001,5.1999999999999998E-2,6.6400000000000001E-2,0.1246,7.2800000000000004E-2,0.28360000000000002,3.9E-2,3.9E-2]
[{"$f":"Photonic!B55","v":403},{"$f":"CM!D56","v":6.4357291023347491E-5},null,null,null,null,null,null,4683392597839.7959,28.595786431280384,28.595786431280384,8.2482659877616122E-4,{"$f":"+$L49*Photonic!BB55","v":1.6197944746766252E-5},{"$f":"+$L49*Photonic!BC55","v":4.4870566973423168E-7},{"$f":"+$L49*Photonic!BD55","v":7.6923328601864789E-5},97.8,44.27,-0.92,null,null,0.25480000000000003,0.114,7.2999999999999995E-2,0.11899999999999999,0.31419999999999998,0.44240000000000002,0.5534,0.37719999999999998,5.1999999999999998E-2,6.6600000000000006E-2,0.1234,7.1199999999999999E-2,0.29339999999999999,3.9E-2,3.9E-2]
[{"$f":"Photonic!B56","v":404},{"$f":"CM!D57","v":8.0723009336832596E-5},null,null,null,null,null,null,4729055843214.0283,29.329018956889012,29.329018956889012,8.4597620736144043E-4,{"$f":"+$L50*Photonic!BB56","v":1.8115734504437885E-5},{"$f":"+$L50*Photonic!BC56","v":5.0081791475797284E-7},{"$f":"+$L50*Photonic!BD56","v":8.606115957487934E-5},98.8,44.56,-0.8600000000000001,null,null,0.25440000000000002,0.115,7.2999999999999995E-2,0.12,0.31459999999999999,0.45319999999999999,0.55420000000000003,0.39660000000000001,5.1999999999999998E-2,6.6799999999999998E-2,0.1222,6.9600000000000009E-2,0.30320000000000003,3.9E-2,3.9E-2]
[{"$f":"Photonic!B57","v":405},{"$f":"CM!D58","v":9.3835718620115832E-5},null,null,null,null,null,null,4774789911138.8652,30.06225148249764,30.06225148249764,8.6712581594671964E-4,{"$f":"+$L51*Photonic!BB57","v":2.0108647671804427E-5},{"$f":"+$L51*Photonic!BC57","v":5.5496052220590061E-7},{"$f":"+$L51*Photonic!BD57","v":9.5557264917328505E-5},99.8,44.85,-0.8,null,null,0.254,0.11600000000000001,7.2999999999999995E-2,0.121,0.315,0.46400000000000002,0.55500000000000005,0.41599999999999998,5.1999999999999998E-2,6.7000000000000004E-2,0.121,6.8000000000000005E-2,0.313,3.9E-2,3.9E-2]
[{"$f":"Photonic!B58","v":406},{"$f":"CM!D59","v":8.5010981409880461E-5},null,null,null,null,null,null,4820591440696.7451,30.795484008106271,30.795484008106271,8.8827542453199897E-4,{"$f":"+$L52*Photonic!BB58","v":2.4209058420195102E-5},{"$f":"+$L52*Photonic!BC58","v":6.6975967009712721E-7},{"$f":"+$L52*Photonic!BD58","v":1.1515602603632835E-4},100.8,45.14,-0.74,null,null,0.25359999999999999,0.1164,7.3200000000000001E-2,0.1216,0.31580000000000003,0.46960000000000002,0.55580000000000007,0.42519999999999997,5.1799999999999999E-2,6.720000000000001E-2,0.12,6.720000000000001E-2,0.31859999999999999,3.9199999999999999E-2,3.9199999999999999E-2]
[{"$f":"Photonic!B59","v":407},{"$f":"CM!D60","v":9.9326689517546891E-5},null,null,null,null,null,null,4866457080114.8291,31.528716533714885,31.528716533714885,9.0942503311727786E-4,{"$f":"+$L53*Photonic!BB59","v":2.8481373187166906E-5},{"$f":"+$L53*Photonic!BC59","v":7.8938092874579713E-7},{"$f":"+$L53*Photonic!BD59","v":1.3557708393712378E-4},101.8,45.43,-0.68,null,null,0.25319999999999998,0.1168,7.3399999999999993E-2,0.1222,0.31659999999999999,0.47520000000000001,0.55660000000000009,0.43440000000000001,5.16E-2,6.7400000000000002E-2,0.11899999999999999,6.6400000000000001E-2,0.32419999999999999,3.9399999999999998E-2,3.9399999999999998E-2]
[{"$f":"Photonic!B60","v":408},{"$f":"CM!D61","v":1.136431187434301E-4},null,null,null,null,null,null,4912383487323.5078,32.261949059323513,32.261949059323513,9.3057464170255707E-4,{"$f":"+$L54*Photonic!BB60","v":3.2925591972719874E-5},{"$f":"+$L54*Photonic!BC60","v":9.1382429815191111E-7},{"$f":"+$L54*Photonic!BD60","v":1.5682043861971491E-4},102.8,45.72,-0.62,null,null,0.25280000000000002,0.1172,7.3599999999999999E-2,0.12279999999999999,0.31740000000000002,0.48080000000000001,0.55740000000000001,0.44359999999999999,5.1399999999999994E-2,6.7600000000000007E-2,0.11800000000000001,6.5600000000000006E-2,0.32980000000000004,3.9600000000000003E-2,3.9600000000000003E-2]
[{"$f":"Photonic!B61","v":409},{"$f":"CM!D62","v":1.3207780812666051E-4},null,null,null,null,null,null,4958367330503.8184,32.995181584932141,32.995181584932141,9.5172425028783628E-4,{"$f":"+$L55*Photonic!BB61","v":3.7541714776853989E-5},{"$f":"+$L55*Photonic!BC61","v":1.0430897783154685E-6},{"$f":"+$L55*Photonic!BD61","v":1.7888609008410173E-4},103.8,46.01,-0.56000000000000005,null,null,0.25240000000000001,0.1176,7.3799999999999991E-2,0.1234,0.31819999999999998,0.4864,0.55820000000000003,0.45280000000000004,5.1199999999999996E-2,6.7799999999999999E-2,0.11700000000000001,6.4799999999999996E-2,0.33540000000000003,3.9800000000000002E-2,3.9800000000000002E-2]
[{"$f":"Photonic!B62","v":410},{"$f":"CM!D63","v":1.5028838978733083E-4},null,null,null,null,null,null,5004405288623.8926,33.728414110540768,33.728414110540768,9.728738588731155E-4,{"$f":"+$L56*Photonic!BB62","v":4.2329741599569257E-5},{"$f":"+$L56*Photonic!BC62","v":1.1771773692364697E-6},{"$f":"+$L56*Photonic!BD62","v":2.0177403833028415E-4},104.8,46.3,-0.5,null,null,0.252,0.11799999999999999,7.3999999999999996E-2,0.124,0.31900000000000001,0.49199999999999999,0.55900000000000005,0.46200000000000002,5.0999999999999997E-2,6.8000000000000005E-2,0.11600000000000001,6.4000000000000001E-2,0.34100000000000003,0.04,0.04]
[{"$f":"Photonic!B63","v":411},{"$f":"CM!D64","v":1.8084915644199479E-4},null,null,null,null,null,null,5050494051964.4258,34.142982847065831,34.142982847065831,9.8483182064236572E-4,{"$f":"+$L57*Photonic!BB63","v":4.9570524860212842E-5},{"$f":"+$L57*Photonic!BC63","v":1.3827038761818813E-6},{"$f":"+$L57*Photonic!BD63","v":2.3653690668188341E-4},104.91,46.059999999999995,-0.52,null,null,0.25119999999999998,0.11839999999999999,7.3999999999999996E-2,0.1244,0.3196,0.49519999999999997,0.55920000000000003,0.46600000000000003,5.0799999999999998E-2,6.8200000000000011E-2,0.11520000000000001,6.4200000000000007E-2,0.34320000000000001,4.02E-2,4.02E-2]
[{"$f":"Photonic!B64","v":412},{"$f":"CM!D65","v":2.1141062703538248E-4},null,null,null,null,null,null,5096630322633.1338,34.557551583590872,34.557551583590872,9.9678978241161541E-4,{"$f":"+$L58*Photonic!BB64","v":5.6974510383083114E-5},{"$f":"+$L58*Photonic!BC64","v":1.5928700722937615E-6},{"$f":"+$L58*Photonic!BD64","v":2.7208373900707451E-4},105.02,45.82,-0.54,null,null,0.25040000000000001,0.11879999999999999,7.3999999999999996E-2,0.12479999999999999,0.32019999999999998,0.49840000000000001,0.55940000000000001,0.47000000000000003,5.0599999999999999E-2,6.8400000000000002E-2,0.1144,6.4399999999999999E-2,0.34539999999999998,4.0399999999999998E-2,4.0399999999999998E-2]
[{"$f":"Photonic!B65","v":413},{"$f":"CM!D66","v":2.5404599967716738E-4},null,null,null,null,null,null,5142810815068.3887,34.97212032011592,34.97212032011592,1.0087477441808653E-3,{"$f":"+$L59*Photonic!BB65","v":6.454169816818012E-5},{"$f":"+$L59*Photonic!BC65","v":1.8076759575721106E-6},{"$f":"+$L59*Photonic!BD65","v":3.0841453530585776E-4},105.13,45.58,-0.55999999999999994,null,null,0.24959999999999999,0.1192,7.3999999999999996E-2,0.12520000000000001,0.32080000000000003,0.50160000000000005,0.5596000000000001,0.47399999999999998,5.04E-2,6.8600000000000008E-2,0.11360000000000001,6.4600000000000005E-2,0.34760000000000002,4.0600000000000004E-2,4.0600000000000004E-2]
[{"$f":"Photonic!B66","v":414},{"$f":"CM!D67","v":2.9668284278235355E-4},null,null,null,null,null,null,5189032256531.8496,35.386689056640968,35.386689056640968,1.0207057059501152E-3,{"$f":"+$L60*Photonic!BB66","v":7.227208821550386E-5},{"$f":"+$L60*Photonic!BC66","v":2.0271215320169286E-6},{"$f":"+$L60*Photonic!BD66","v":3.4552929557823302E-4},105.24,45.34,-0.57999999999999996,null,null,0.24879999999999999,0.1196,7.3999999999999996E-2,0.12559999999999999,0.32140000000000002,0.50480000000000003,0.55980000000000008,0.47799999999999998,5.0200000000000002E-2,6.88E-2,0.1128,6.4799999999999996E-2,0.3498,4.0800000000000003E-2,4.0800000000000003E-2]
[{"$f":"Photonic!B67","v":415},{"$f":"CM!D68","v":3.6541014959524996E-4},null,null,null,null,null,null,5235291387590.4209,35.801257793166023,35.801257793166023,1.0326636677193653E-3,{"$f":"+$L61*Photonic!BB67","v":8.0165680525054334E-5},{"$f":"+$L61*Photonic!BC67","v":2.2512067956282163E-6},{"$f":"+$L61*Photonic!BD67","v":3.8342801982420039E-4},105.35,45.1,-0.6,null,null,0.248,0.12,7.3999999999999996E-2,0.126,0.32200000000000001,0.50800000000000001,0.56000000000000005,0.48199999999999998,0.05,6.9000000000000006E-2,0.112,6.5000000000000002E-2,0.35199999999999998,4.1000000000000002E-2,4.1000000000000002E-2]
[{"$f":"Photonic!B68","v":416},{"$f":"CM!D69","v":4.3414298157105013E-4},null,null,null,null,null,null,5281584962587.2803,36.215826529691071,36.215826529691071,1.0446216294886152E-3,{"$f":"+$L62*Photonic!BB68","v":9.2950432591896992E-5},{"$f":"+$L62*Photonic!BC68","v":2.6575174254190373E-6},{"$f":"+$L62*Photonic!BD68","v":4.4517595362286825E-4},105.46,44.86,-0.62,null,null,0.2472,0.1202,7.3999999999999996E-2,0.12640000000000001,0.32280000000000003,0.50980000000000003,0.56020000000000003,0.48359999999999997,0.05,6.9000000000000006E-2,0.11120000000000001,6.7000000000000004E-2,0.35339999999999999,4.1200000000000001E-2,4.1200000000000001E-2]
[{"$f":"Photonic!B69","v":417},{"$f":"CM!D70","v":5.9039283732049031E-4},null,null,null,null,null,null,5327909750102.2119,36.630395266216127,36.630395266216127,1.0565795912578653E-3,{"$f":"+$L63*Photonic!BB69","v":1.0600663039090163E-4},{"$f":"+$L63*Photonic!BC69","v":3.0725334513778725E-6},{"$f":"+$L63*Photonic!BD69","v":5.0823591498685842E-4},105.57,44.62,-0.64,null,null,0.24640000000000001,0.12039999999999999,7.3999999999999996E-2,0.1268,0.3236,0.51160000000000005,0.56040000000000001,0.48519999999999996,0.05,6.9000000000000006E-2,0.1104,6.9000000000000006E-2,0.3548,4.1399999999999999E-2,4.1399999999999999E-2]
[{"$f":"Photonic!B70","v":418},{"$f":"CM!D71","v":7.0158490147690386E-4},null,null,null,null,null,null,5374262533401.2979,37.044964002741189,37.044964002741189,1.0685375530271157E-3,{"$f":"+$L64*Photonic!BB70","v":1.1933427392206828E-4},{"$f":"+$L64*Photonic!BC70","v":3.4962548735047228E-6},{"$f":"+$L64*Photonic!BD70","v":5.726079039161708E-4},105.68,44.38,-0.65999999999999992,null,null,0.24559999999999998,0.1206,7.3999999999999996E-2,0.12720000000000001,0.32440000000000002,0.51339999999999997,0.5606000000000001,0.48680000000000001,0.05,6.9000000000000006E-2,0.1096,7.0999999999999994E-2,0.35619999999999996,4.1600000000000005E-2,4.1600000000000005E-2]
[{"$f":"Photonic!B71","v":419},{"$f":"CM!D72","v":8.1277180275261579E-4},null,null,null,null,null,null,5420640110875.8965,37.459532739266251,37.459532739266251,1.080495514796366E-3,{"$f":"+$L65*Photonic!BB71","v":1.3293336318539691E-4},{"$f":"+$L65*Photonic!BC71","v":3.9286816917995863E-6},{"$f":"+$L65*Photonic!BD71","v":6.3829192041080522E-4},105.79,44.14,-0.67999999999999994,null,null,0.24479999999999999,0.12079999999999999,7.3999999999999996E-2,0.12759999999999999,0.32519999999999999,0.51519999999999999,0.56080000000000008,0.4884,0.05,6.9000000000000006E-2,0.10879999999999999,7.2999999999999995E-2,0.35759999999999997,4.1800000000000004E-2,4.1800000000000004E-2]
[{"$f":"Photonic!B72","v":420},{"$f":"CM!D73","v":9.379873215482772E-4},null,null,null,null,null,null,5467039296471.1748,37.874101475791292,37.874101475791292,1.0924534765656157E-3,{"$f":"+$L66*Photonic!BB72","v":1.4680389818088745E-4},{"$f":"+$L66*Photonic!BC72","v":4.3698139062624628E-6},{"$f":"+$L66*Photonic!BD72","v":7.0528796447076147E-4},105.9,43.9,-0.7,null,null,0.24399999999999999,0.121,7.3999999999999996E-2,0.128,0.32600000000000001,0.51700000000000002,0.56100000000000005,0.49,0.05,6.9000000000000006E-2,0.108,7.4999999999999997E-2,0.35899999999999999,4.2000000000000003E-2,4.2000000000000003E-2]
[{"$f":"Photonic!B73","v":421},{"$f":"CM!D74","v":1.0631984268084211E-3},null,null,null,null,null,null,5513456920103.9873,37.845884012021841,37.845884012021841,1.0916395624344911E-3,{"$f":"+$L67*Photonic!BB73","v":1.6424590528476865E-4},{"$f":"+$L67*Photonic!BC73","v":5.0870403609447285E-6},{"$f":"+$L67*Photonic!BD73","v":7.9066361867567746E-4},104.99000000000001,43.22,-0.75,null,null,0.2432,0.1212,7.3799999999999991E-2,0.12859999999999999,0.32680000000000003,0.51839999999999997,0.56040000000000001,0.48959999999999998,4.9800000000000004E-2,6.9200000000000012E-2,0.1074,7.8600000000000003E-2,0.3594,4.2000000000000003E-2,4.2000000000000003E-2]
[{"$f":"Photonic!B74","v":422},{"$f":"CM!D75","v":1.2516243579095661E-3},null,null,null,null,null,null,5559889828070.4375,37.817666548252376,37.817666548252376,1.0908256483033658E-3,{"$f":"+$L68*Photonic!BB74","v":1.816617401658493E-4},{"$f":"+$L68*Photonic!BC74","v":5.8031924489739061E-6},{"$f":"+$L68*Photonic!BD74","v":8.7591117907463668E-4},104.08,42.54,-0.79999999999999993,null,null,0.2424,0.12139999999999999,7.3599999999999999E-2,0.12920000000000001,0.3276,0.51980000000000004,0.55980000000000008,0.48919999999999997,4.9600000000000005E-2,6.9400000000000003E-2,0.10679999999999999,8.2199999999999995E-2,0.35980000000000001,4.2000000000000003E-2,4.2000000000000003E-2]
[{"$f":"Photonic!B75","v":423},{"$f":"CM!D76","v":1.4382577395534064E-3},null,null,null,null,null,null,5606334883443.0322,37.789449084482918,37.789449084482918,1.0900117341722407E-3,{"$f":"+$L69*Photonic!BB75","v":1.9905140282412955E-4},{"$f":"+$L69*Photonic!BC75","v":6.518270170349999E-6},{"$f":"+$L69*Photonic!BD75","v":9.6103064566763934E-4},103.17,41.86,-0.85,null,null,0.24159999999999998,0.1216,7.3399999999999993E-2,0.1298,0.32840000000000003,0.5212,0.55920000000000003,0.48880000000000001,4.9399999999999999E-2,6.9600000000000009E-2,0.1062,8.5800000000000001E-2,0.36019999999999996,4.2000000000000003E-2,4.2000000000000003E-2]
[{"$f":"Photonic!B76","v":424},{"$f":"CM!D77","v":1.6210741598207904E-3},null,null,null,null,null,null,{"$f":"$G$5*((A70*0.000000001)^(-5)) / (EXP($G$6/(($E$6*0.000000001*A70)))-1)","v":5652788966457.4795},37.761231620713453,37.761231620713453,1.0891978200411156E-3,{"$f":"+$L70*Photonic!BB76","v":2.1641489325960932E-4},{"$f":"+$L70*Photonic!BC76","v":7.2322735250730081E-6},{"$f":"+$L70*Photonic!BD76","v":1.0460220184546859E-3},102.25999999999999,41.18,-0.89999999999999991,null,null,0.24079999999999999,0.12179999999999999,7.3200000000000001E-2,0.13040000000000002,0.32919999999999999,0.52260000000000006,0.5586000000000001,0.4884,4.9200000000000001E-2,6.9800000000000001E-2,0.1056,8.9399999999999993E-2,0.36059999999999998,4.2000000000000003E-2,4.2000000000000003E-2]
[{"$f":"Photonic!B77","v":425},{"$f":"CM!D78","v":1.8038865364058893E-3},null,null,null,null,null,null,5699248974889.4004,{"$f":"+P71+$H$11*Q71+$H$12*R71","v":37.733014156943995},{"$f":"IF($E$6<=$K$4,I71,J71)","v":37.733014156943995},{"$f":"+K71/$L$4","v":1.0883839059099905E-3},{"$f":"+$L71*Photonic!BB77","v":2.3375221147228865E-4},{"$f":"+$L71*Photonic!BC77","v":7.9452025131429308E-6},{"$f":"+$L71*Photonic!BD77","v":1.1308852974357758E-3},101.35,40.5,-0.95,null,null,0.24,0.122,7.2999999999999995E-2,0.13100000000000001,0.33,0.52400000000000002,0.55800000000000005,0.48799999999999999,4.9000000000000002E-2,7.0000000000000007E-2,0.105,9.2999999999999999E-2,0.36099999999999999,4.2000000000000003E-2,4.2000000000000003E-2]
[{"$f":"Photonic!B78","v":426},{"$f":"CM!D79","v":2.0619112106823757E-3},null,null,null,null,null,null,5745711824420.749,37.704796693174544,37.704796693174544,1.0875699917788657E-3,{"$f":"+$L72*Photonic!BB78","v":2.4861414984068156E-4},{"$f":"+$L72*Photonic!BC78","v":8.8745711329155448E-6},{"$f":"+$L72*Photonic!BD78","v":1.2054190760880236E-3},100.44,39.82,-1,null,null,0.2394,0.122,7.2999999999999995E-2,0.1318,0.33080000000000004,0.52539999999999998,0.5576000000000001,0.48680000000000001,4.8800000000000003E-2,7.0400000000000004E-2,0.10479999999999999,9.9000000000000005E-2,0.36159999999999998,4.2200000000000001E-2,4.2200000000000001E-2]
[{"$f":"Photonic!B79","v":427},{"$f":"CM!D80","v":2.3199281338250966E-3},null,null,null,null,null,null,5792174448996.2842,37.676579229405093,37.676579229405093,1.086756077647741E-3,{"$f":"+$L73*Photonic!BB79","v":2.6345358185552066E-4},{"$f":"+$L73*Photonic!BC79","v":9.802539820382624E-6},{"$f":"+$L73*Photonic!BD79","v":1.2798400299634152E-3},99.53,39.14,-1.05,null,null,0.23879999999999998,0.122,7.2999999999999995E-2,0.1326,0.33160000000000001,0.52680000000000005,0.55720000000000003,0.48559999999999998,4.8600000000000004E-2,7.0800000000000002E-2,0.1046,0.105,0.36219999999999997,4.24E-2,4.24E-2]
[{"$f":"Photonic!B80","v":428},{"$f":"CM!D81","v":2.578700957211019E-3},null,null,null,null,null,null,5838633801169.9912,37.64836176563562,37.64836176563562,1.0859421635166155E-3,{"$f":"+$L74*Photonic!BB80","v":2.7827050751680566E-4},{"$f":"+$L74*Photonic!BC80","v":1.0729108575544162E-5},{"$f":"+$L74*Photonic!BD80","v":1.3541481590619493E-3},98.61999999999999,38.46,-1.0999999999999999,null,null,0.2382,0.122,7.2999999999999995E-2,0.13340000000000002,0.33240000000000003,0.5282,0.55680000000000007,0.4844,4.8399999999999999E-2,7.1199999999999999E-2,0.10439999999999999,0.111,0.36280000000000001,4.2599999999999999E-2,4.2599999999999999E-2]
[{"$f":"Photonic!B81","v":429},{"$f":"CM!D82","v":2.8364268766874782E-3},null,null,null,null,null,null,5885086852441.6025,37.620144301866169,37.620144301866169,1.0851282493854906E-3,{"$f":"+$L75*Photonic!BB81","v":2.9306492682453698E-4},{"$f":"+$L75*Photonic!BC81","v":1.165427739840017E-5},{"$f":"+$L75*Photonic!BD81","v":1.4283434633836274E-3},97.71,37.78,-1.1499999999999999,null,null,0.23759999999999998,0.122,7.2999999999999995E-2,0.13420000000000001,0.3332,0.52960000000000007,0.55640000000000001,0.48319999999999996,4.82E-2,7.1599999999999997E-2,0.1042,0.11699999999999999,0.3634,4.2799999999999998E-2,4.2799999999999998E-2]
[{"$f":"Photonic!B82","v":430},{"$f":"CM!D83","v":3.3796194197877518E-3},null,null,null,null,null,null,5931530593583.3877,37.591926838096711,37.591926838096711,1.0843143352543658E-3,{"$f":"+$L76*Photonic!BB82","v":3.0783683977871442E-4},{"$f":"+$L76*Photonic!BC82","v":1.2578046288950643E-5},{"$f":"+$L76*Photonic!BD82","v":1.5024259429284492E-3},96.8,37.1,-1.2,null,null,0.23699999999999999,0.122,7.2999999999999995E-2,0.13500000000000001,0.33400000000000002,0.53100000000000003,0.55600000000000005,0.48199999999999998,4.8000000000000001E-2,7.1999999999999995E-2,0.104,0.123,0.36399999999999999,4.2999999999999997E-2,4.2999999999999997E-2]
[{"$f":"Photonic!B83","v":431},{"$f":"CM!D84","v":3.652923398151283E-3},null,null,null,null,null,null,5977962034957.1143,38.966513747954863,38.966513747954863,1.1239633880372015E-3,{"$f":"+$L77*Photonic!BB83","v":3.2911895928505329E-4},{"$f":"+$L77*Photonic!BC83","v":1.4215888931894525E-5},{"$f":"+$L77*Photonic!BD83","v":1.6107204604212484E-3},98.509999999999991,37.06,-1.3399999999999999,null,null,0.23599999999999999,0.122,7.2999999999999995E-2,0.1358,0.33500000000000002,0.53239999999999998,0.55500000000000005,0.48019999999999996,4.7800000000000002E-2,7.22E-2,0.104,0.13039999999999999,0.36419999999999997,4.3199999999999995E-2,4.3199999999999995E-2]
[{"$f":"Photonic!B84","v":432},{"$f":"CM!D85","v":3.9259579323190691E-3},null,null,null,null,null,null,6024378206821.4502,40.341100657813016,40.341100657813016,1.1636124408200372E-3,{"$f":"+$L78*Photonic!BB84","v":3.5110841789303803E-4},{"$f":"+$L78*Photonic!BC84","v":1.5936835989471229E-5},{"$f":"+$L78*Photonic!BD84","v":1.722779417581461E-3},100.22,37.020000000000003,-1.48,null,null,0.23499999999999999,0.122,7.2999999999999995E-2,0.1366,0.33600000000000002,0.53380000000000005,0.55400000000000005,0.47839999999999999,4.7600000000000003E-2,7.2399999999999992E-2,0.104,0.13780000000000001,0.3644,4.3399999999999994E-2,4.3399999999999994E-2]
[{"$f":"Photonic!B85","v":433},{"$f":"CM!D86","v":4.263618606865258E-3},null,null,null,null,null,null,6070776159629.7998,41.715687567671175,41.715687567671175,1.2032614936028732E-3,{"$f":"+$L79*Photonic!BB85","v":3.7380521560266859E-4},{"$f":"+$L79*Photonic!BC85","v":1.7740887461680762E-5},{"$f":"+$L79*Photonic!BD85","v":1.8386028144090879E-3},101.92999999999999,36.979999999999997,-1.6199999999999999,null,null,0.23400000000000001,0.122,7.2999999999999995E-2,0.13740000000000002,0.33700000000000002,0.53520000000000001,0.55300000000000005,0.47659999999999997,4.7399999999999998E-2,7.2599999999999998E-2,0.104,0.1452,0.36459999999999998,4.36E-2,4.36E-2]
[{"$f":"Photonic!B86","v":434},{"$f":"CM!D87","v":4.601284155505236E-3},null,null,null,null,null,null,6117152964318.6758,43.090274477529327,43.090274477529327,1.2429105463857089E-3,{"$f":"+$L80*Photonic!BB86","v":3.9720935241394491E-4},{"$f":"+$L80*Photonic!BC86","v":1.9628043348523114E-5},{"$f":"+$L80*Photonic!BD86","v":1.9581906509041277E-3},103.64,36.94,-1.76,null,null,0.23300000000000001,0.122,7.2999999999999995E-2,0.13820000000000002,0.33800000000000002,0.53660000000000008,0.55200000000000005,0.4748,4.7199999999999999E-2,7.279999999999999E-2,0.104,0.15260000000000001,0.36480000000000001,4.3799999999999999E-2,4.3799999999999999E-2]
[{"$f":"Photonic!B87","v":435},{"$f":"CM!D88","v":4.881656925694069E-3},null,null,null,null,null,null,6163505712586.7988,44.464861387387472,44.464861387387472,1.2825595991685444E-3,{"$f":"+$L81*Photonic!BB87","v":4.2132082832686683E-4},{"$f":"+$L81*Photonic!BC87","v":2.1598303649998289E-5},{"$f":"+$L81*Photonic!BD87","v":2.0815429270665806E-3},105.35,36.9,-1.9,null,null,0.23200000000000001,0.122,7.2999999999999995E-2,0.13900000000000001,0.33900000000000002,0.53800000000000003,0.55100000000000005,0.47299999999999998,4.7E-2,7.2999999999999995E-2,0.104,0.16,0.36499999999999999,4.3999999999999997E-2,4.3999999999999997E-2]
[{"$f":"Photonic!B88","v":436},{"$f":"CM!D89","v":5.1620437421504356E-3},null,null,null,null,null,null,6209831517164.7891,45.839448297245632,45.839448297245632,1.3222086519513803E-3,{"$f":"+$L82*Photonic!BB88","v":4.3957619959314811E-4},{"$f":"+$L82*Photonic!BC88","v":2.3894954758065348E-5},{"$f":"+$L82*Photonic!BD88","v":2.1787089725124457E-3},107.06,36.86,-2.04,null,null,0.2316,0.1222,7.2999999999999995E-2,0.14000000000000001,0.34040000000000004,0.53920000000000001,0.54960000000000009,0.4708,4.6800000000000001E-2,7.3599999999999999E-2,0.1042,0.1694,0.3654,4.3999999999999997E-2,4.3999999999999997E-2]
[{"$f":"Photonic!B89","v":437},{"$f":"CM!D90","v":5.421544082006291E-3},null,null,null,null,null,null,6256127512075.8857,47.214035207103777,47.214035207103777,1.3618577047342158E-3,{"$f":"+$L83*Photonic!BB89","v":4.5814527416504697E-4},{"$f":"+$L83*Photonic!BC89","v":2.6289301132189305E-5},{"$f":"+$L83*Photonic!BD89","v":2.2778431969384494E-3},108.77,36.82,-2.1800000000000002,null,null,0.23120000000000002,0.12239999999999999,7.2999999999999995E-2,0.14100000000000001,0.34179999999999999,0.54039999999999999,0.54820000000000002,0.46860000000000002,4.6600000000000003E-2,7.4200000000000002E-2,0.10439999999999999,0.17879999999999999,0.36580000000000001,4.3999999999999997E-2,4.3999999999999997E-2]
[{"$f":"Photonic!B90","v":438},{"$f":"CM!D91","v":5.6800783274076061E-3},null,null,null,null,null,null,6302390852887.4893,48.588622116961929,48.588622116961929,1.4015067575170515E-3,{"$f":"+$L84*Photonic!BB90","v":4.7702805204256378E-4},{"$f":"+$L84*Photonic!BC90","v":2.8781342772370168E-5},{"$f":"+$L84*Photonic!BD90","v":2.3789456003445934E-3},110.48,36.78,-2.3199999999999998,null,null,0.23080000000000001,0.1226,7.2999999999999995E-2,0.14199999999999999,0.34320000000000001,0.54160000000000008,0.54680000000000006,0.46639999999999998,4.6399999999999997E-2,7.4799999999999991E-2,0.1046,0.18820000000000001,0.36619999999999997,4.3999999999999997E-2,4.3999999999999997E-2]
[{"$f":"Photonic!B91","v":439},{"$f":"CM!D92","v":5.8592975615766422E-3},null,null,null,null,null,null,6348618716953.7549,49.963209026820074,49.963209026820074,1.441155810299887E-3,{"$f":"+$L85*Photonic!BB91","v":4.9622453322569827E-4},{"$f":"+$L85*Photonic!BC91","v":3.1371079678607938E-5},{"$f":"+$L85*Photonic!BD91","v":2.4820161827308774E-3},112.19,36.74,-2.46,null,null,0.23040000000000002,0.12279999999999999,7.2999999999999995E-2,0.14299999999999999,0.34459999999999996,0.54280000000000006,0.5454,0.4642,4.6199999999999998E-2,7.5399999999999995E-2,0.10479999999999999,0.1976,0.36659999999999998,4.3999999999999997E-2,4.3999999999999997E-2]
[{"$f":"Photonic!B92","v":440},{"$f":"CM!D93","v":6.0385208504451825E-3},null,null,null,null,null,null,6394808303649.3906,51.337795936678233,51.337795936678233,1.480804863082723E-3,{"$f":"+$L86*Photonic!BB92","v":5.157347177144507E-4},{"$f":"+$L86*Photonic!BC92","v":3.405851185090263E-5},{"$f":"+$L86*Photonic!BD92","v":2.5870549440973022E-3},113.9,36.700000000000003,-2.6,null,null,0.23,0.123,7.2999999999999995E-2,0.14399999999999999,0.34599999999999997,0.54400000000000004,0.54400000000000004,0.46200000000000002,4.5999999999999999E-2,7.5999999999999998E-2,0.105,0.20699999999999999,0.36699999999999999,4.3999999999999997E-2,4.3999999999999997E-2]
[{"$f":"Photonic!B93","v":441},{"$f":"CM!D94","v":6.0865004082987159E-3},null,null,null,null,null,null,6440956834594.666,52.543386609253112,52.543386609253112,1.5155793308654463E-3,{"$f":"+$L87*Photonic!BB93","v":5.2777928386325953E-4},{"$f":"+$L87*Photonic!BC93","v":3.6919512499882271E-5},{"$f":"+$L87*Photonic!BD93","v":2.6585807636655781E-3},115.07000000000001,36.620000000000005,-2.63,null,null,0.22920000000000001,0.1232,7.2999999999999995E-2,0.1454,0.34719999999999995,0.5454,0.54220000000000002,0.45960000000000001,4.5600000000000002E-2,7.6399999999999996E-2,0.1052,0.21679999999999999,0.3674,4.4199999999999996E-2,4.4199999999999996E-2]
[{"$f":"Photonic!B94","v":442},{"$f":"CM!D95","v":5.9827135253872352E-3},null,null,null,null,null,null,6487061553871.752,53.748977281828004,53.748977281828004,1.5503537986481704E-3,{"$f":"+$L88*Photonic!BB94","v":5.3982078985890375E-4},{"$f":"+$L88*Photonic!BC94","v":3.9875099701230941E-5},{"$f":"+$L88*Photonic!BD94","v":2.7306009370678549E-3},116.24000000000001,36.54,-2.66,null,null,0.22840000000000002,0.1234,7.2999999999999995E-2,0.14679999999999999,0.34839999999999999,0.54680000000000006,0.54039999999999999,0.4572,4.5199999999999997E-2,7.6799999999999993E-2,0.10539999999999999,0.2266,0.36780000000000002,4.4399999999999995E-2,4.4399999999999995E-2]
[{"$f":"Photonic!B95","v":443},{"$f":"CM!D96","v":5.8613069487730386E-3},null,null,null,null,null,null,6533119728232.6045,54.954567954402876,54.954567954402876,1.5851282664308937E-3,{"$f":"+$L89*Photonic!BB95","v":5.518592357013827E-4},{"$f":"+$L89*Photonic!BC95","v":4.2925273454948599E-5},{"$f":"+$L89*Photonic!BD95","v":2.8031154643041296E-3},117.41,36.46,-2.69,null,null,0.2276,0.1236,7.2999999999999995E-2,0.1482,0.34959999999999997,0.54820000000000002,0.53860000000000008,0.45480000000000004,4.48E-2,7.7200000000000005E-2,0.1056,0.2364,0.36819999999999997,4.4600000000000001E-2,4.4600000000000001E-2]
[{"$f":"Photonic!B96","v":444},{"$f":"CM!D97","v":5.7475303223808267E-3},null,null,null,null,null,null,6579128647298.2695,56.160158626977768,56.160158626977768,1.6199027342136175E-3,{"$f":"+$L90*Photonic!BB96","v":5.6389462139069704E-4},{"$f":"+$L90*Photonic!BC96","v":4.6070033761035279E-5},{"$f":"+$L90*Photonic!BD96","v":2.8761243453744043E-3},118.58,36.379999999999995,-2.72,null,null,0.2268,0.12379999999999999,7.2999999999999995E-2,0.14959999999999998,0.3508,0.54960000000000009,0.53680000000000005,0.45240000000000002,4.4399999999999995E-2,7.7600000000000002E-2,0.10579999999999999,0.2462,0.36859999999999998,4.48E-2,4.48E-2]
[{"$f":"Photonic!B97","v":445},{"$f":"CM!D98","v":5.6337444709452632E-3},null,null,null,null,null,null,6625085623750.0244,57.365749299552647,57.365749299552647,1.6546772019963411E-3,{"$f":"+$L91*Photonic!BB97","v":5.7592694692684644E-4},{"$f":"+$L91*Photonic!BC97","v":4.9309380619490968E-5},{"$f":"+$L91*Photonic!BD97","v":2.9496275802786778E-3},119.75,36.299999999999997,-2.75,null,null,0.22600000000000001,0.124,7.2999999999999995E-2,0.151,0.35199999999999998,0.55100000000000005,0.53500000000000003,0.45,4.3999999999999997E-2,7.8E-2,0.106,0.25600000000000001,0.36899999999999999,4.4999999999999998E-2,4.4999999999999998E-2]
[{"$f":"Photonic!B98","v":446},{"$f":"CM!D99","v":5.357056238237198E-3},null,null,null,null,null,null,6670987993512.167,58.571339972127539,58.571339972127539,1.6894516697790649E-3,{"$f":"+$L92*Photonic!BB98","v":5.8402316882258539E-4},{"$f":"+$L92*Photonic!BC98","v":5.3116360497853802E-5},{"$f":"+$L92*Photonic!BD98","v":3.0080720769449648E-3},120.92,36.22,-2.78,null,null,0.2258,0.1246,7.3200000000000001E-2,0.153,0.35359999999999997,0.55200000000000005,0.53239999999999998,0.44780000000000003,4.36E-2,7.9000000000000001E-2,0.10679999999999999,0.26479999999999998,0.36959999999999998,4.4999999999999998E-2,4.4999999999999998E-2]
[{"$f":"Photonic!B99","v":447},{"$f":"CM!D100","v":5.0801576288413879E-3},null,null,null,null,null,null,6716833115926.7666,59.776930644702418,59.776930644702418,1.7242261375617885E-3,{"$f":"+$L93*Photonic!BB99","v":5.9195442064316299E-4},{"$f":"+$L93*Photonic!BC99","v":5.7037400630543961E-5},{"$f":"+$L93*Photonic!BD99","v":3.0663706599444352E-3},122.09,36.14,-2.81,null,null,0.22559999999999999,0.12520000000000001,7.3399999999999993E-2,0.155,0.35519999999999996,0.55300000000000005,0.52980000000000005,0.4456,4.3200000000000002E-2,0.08,0.1076,0.27360000000000001,0.37019999999999997,4.4999999999999998E-2,4.4999999999999998E-2]
[{"$f":"Photonic!B100","v":448},{"$f":"CM!D101","v":4.7794721848118124E-3},null,null,null,null,null,null,6762618373920.3389,60.982521317277296,60.982521317277296,1.7590006053445119E-3,{"$f":"+$L94*Photonic!BB100","v":5.9972070238857925E-4},{"$f":"+$L94*Photonic!BC100","v":6.1072501017561451E-5},{"$f":"+$L94*Photonic!BD100","v":3.1245233292770884E-3},123.25999999999999,36.059999999999995,-2.84,null,null,0.22540000000000002,0.1258,7.3599999999999999E-2,0.157,0.35680000000000001,0.55400000000000005,0.5272,0.44340000000000002,4.2799999999999998E-2,8.1000000000000003E-2,0.1084,0.28239999999999998,0.37080000000000002,4.4999999999999998E-2,4.4999999999999998E-2]
[{"$f":"Photonic!B101","v":449},{"$f":"CM!D102","v":4.4787826366593127E-3},null,null,null,null,null,null,6808341174162.6836,62.188111989852189,62.188111989852189,1.7937750731272359E-3,{"$f":"+$L95*Photonic!BB101","v":6.0732201405883448E-4},{"$f":"+$L95*Photonic!BC101","v":6.5221661658906285E-5},{"$f":"+$L95*Photonic!BD101","v":3.1825300849429271E-3},124.42999999999999,35.979999999999997,-2.87,null,null,0.22520000000000001,0.12640000000000001,7.3799999999999991E-2,0.159,0.3584,0.55500000000000005,0.52460000000000007,0.44119999999999998,4.24E-2,8.2000000000000003E-2,0.10920000000000001,0.29120000000000001,0.37140000000000001,4.4999999999999998E-2,4.4999999999999998E-2]
[{"$f":"Photonic!B102","v":450},{"$f":"CM!D103","v":4.1676604598858647E-3},null,null,null,null,null,null,6853998947217.9238,63.393702662427053,63.393702662427053,1.828549540909959E-3,{"$f":"+$L96*Photonic!BB102","v":6.1475835565392826E-4},{"$f":"+$L96*Photonic!BC102","v":6.9484882554578437E-5},{"$f":"+$L96*Photonic!BD102","v":3.2403909269419478E-3},125.6,35.9,-2.9,null,null,0.22500000000000001,0.127,7.3999999999999996E-2,0.161,0.36,0.55600000000000005,0.52200000000000002,0.439,4.2000000000000003E-2,8.3000000000000004E-2,0.11,0.3,0.372,4.4999999999999998E-2,4.4999999999999998E-2]
[{"$f":"Photonic!B103","v":451},{"$f":"CM!D104","v":3.8565297654539745E-3},null,null,null,null,null,null,6899589147687.8545,63.908447203077785,63.908447203077785,1.84339700767657E-3,{"$f":"+$L97*Photonic!BB103","v":6.132981844539948E-4},{"$f":"+$L97*Photonic!BC103","v":7.3735880307062798E-5},{"$f":"+$L97*Photonic!BD103","v":3.2563755612367222E-3},125.58999999999999,35.57,-2.89,null,null,0.22440000000000002,0.12720000000000001,7.4200000000000002E-2,0.16320000000000001,0.36180000000000001,0.55600000000000005,0.51880000000000004,0.43640000000000001,4.1800000000000004E-2,8.4000000000000005E-2,0.111,0.30619999999999997,0.37240000000000001,4.5199999999999997E-2,4.5199999999999997E-2]
[{"$f":"Photonic!B104","v":452},{"$f":"CM!D105","v":3.5273766022276649E-3},null,null,null,null,null,null,6945109254347.6846,64.423191743728523,64.423191743728523,1.8582444744431811E-3,{"$f":"+$L98*Photonic!BB104","v":6.1173408098669517E-4},{"$f":"+$L98*Photonic!BC104","v":7.8046267926613612E-5},{"$f":"+$L98*Photonic!BD104","v":3.2721938445138443E-3},125.58,35.24,-2.88,null,null,0.2238,0.12740000000000001,7.4399999999999994E-2,0.16539999999999999,0.36359999999999998,0.55600000000000005,0.51560000000000006,0.43380000000000002,4.1600000000000005E-2,8.5000000000000006E-2,0.112,0.31240000000000001,0.37280000000000002,4.5399999999999996E-2,4.5399999999999996E-2]
[{"$f":"Photonic!B105","v":453},{"$f":"CM!D106","v":3.1982267237299932E-3},null,null,null,null,null,null,6990556770274.3936,64.937936284379262,64.937936284379262,1.8730919412097923E-3,{"$f":"+$L99*Photonic!BB105","v":6.1006604525202937E-4},{"$f":"+$L99*Photonic!BC105","v":8.2416045413230852E-5},{"$f":"+$L99*Photonic!BD105","v":3.2878457767733134E-3},125.57,34.909999999999997,-2.87,null,null,0.22320000000000001,0.12759999999999999,7.46E-2,0.1676,0.3654,0.55600000000000005,0.51239999999999997,0.43119999999999997,4.1399999999999999E-2,8.5999999999999993E-2,0.113,0.31859999999999999,0.37319999999999998,4.5600000000000002E-2,4.5600000000000002E-2]
[{"$f":"Photonic!B106","v":454},{"$f":"CM!D107","v":2.6764797772602898E-3},null,null,null,null,null,null,7035929222967.6914,65.452680825030001,65.452680825030001,1.8879394079764035E-3,{"$f":"+$L100*Photonic!BB106","v":6.082940772499972E-4},{"$f":"+$L100*Photonic!BC106","v":8.684521276691456E-5},{"$f":"+$L100*Photonic!BD106","v":3.3033313580151293E-3},125.56,34.58,-2.86,null,null,0.22259999999999999,0.1278,7.4799999999999991E-2,0.16979999999999998,0.36719999999999997,0.55600000000000005,0.50919999999999999,0.42859999999999998,4.1200000000000001E-2,8.6999999999999994E-2,0.114,0.32480000000000003,0.37359999999999999,4.58E-2,4.58E-2]
[{"$f":"Photonic!B107","v":455},{"$f":"CM!D108","v":2.47294299049926E-3},null,null,null,null,null,null,7081224164463.7041,65.967425365680725,65.967425365680725,1.9027868747430142E-3,{"$f":"+$L101*Photonic!BB107","v":6.0641817698059864E-4},{"$f":"+$L101*Photonic!BC107","v":9.133376998766468E-5},{"$f":"+$L101*Photonic!BD107","v":3.3186505882392909E-3},125.55,34.25,-2.85,null,null,0.222,0.128,7.4999999999999997E-2,0.17199999999999999,0.36899999999999999,0.55600000000000005,0.50600000000000001,0.42599999999999999,4.1000000000000002E-2,8.7999999999999995E-2,0.115,0.33100000000000002,0.374,4.5999999999999999E-2,4.5999999999999999E-2]
[{"$f":"Photonic!B108","v":456},{"$f":"CM!D109","v":2.2694166029949238E-3},null,null,null,null,null,null,7126439171441.6533,66.48216990633145,66.48216990633145,1.9176343415096249E-3,{"$f":"+$L102*Photonic!BB108","v":6.0044966501349379E-4},{"$f":"+$L102*Photonic!BC108","v":9.66487708120851E-5},{"$f":"+$L102*Photonic!BD108","v":3.3158198925911228E-3},125.53999999999999,33.92,-2.84,null,null,0.22159999999999999,0.12859999999999999,7.5399999999999995E-2,0.17479999999999998,0.37140000000000001,0.55560000000000009,0.50239999999999996,0.4234,4.0399999999999998E-2,8.9399999999999993E-2,0.11660000000000001,0.33400000000000002,0.37440000000000001,4.6199999999999998E-2,4.6199999999999998E-2]
[{"$f":"Photonic!B109","v":457},{"$f":"CM!D110","v":2.1014456111036269E-3},null,null,null,null,null,null,7171571845323.3428,66.996914446982188,66.996914446982188,1.9324818082762361E-3,{"$f":"+$L103*Photonic!BB109","v":5.9431545531727357E-4},{"$f":"+$L103*Photonic!BC109","v":1.0203503947698526E-4},{"$f":"+$L103*Photonic!BD109","v":3.3125443668386273E-3},125.53,33.590000000000003,-2.83,null,null,0.22120000000000001,0.12920000000000001,7.5799999999999992E-2,0.17759999999999998,0.37380000000000002,0.55520000000000003,0.49880000000000002,0.42080000000000001,3.9800000000000002E-2,9.0799999999999992E-2,0.1182,0.33700000000000002,0.37480000000000002,4.6399999999999997E-2,4.6399999999999997E-2]
[{"$f":"Photonic!B110","v":458},{"$f":"CM!D111","v":1.9327539210887649E-3},null,null,null,null,null,null,7216619812365.8984,67.511658987632927,67.511658987632927,1.9473292750428473E-3,{"$f":"+$L104*Photonic!BB110","v":5.880155478919382E-4},{"$f":"+$L104*Photonic!BC110","v":1.0749257598236516E-4},{"$f":"+$L104*Photonic!BD110","v":3.3088240109818041E-3},125.52,33.26,-2.82,null,null,0.2208,0.1298,7.6200000000000004E-2,0.1804,0.37619999999999998,0.55480000000000007,0.49519999999999997,0.41819999999999996,3.9199999999999999E-2,9.2200000000000004E-2,0.1198,0.33999999999999997,0.37519999999999998,4.6600000000000003E-2,4.6600000000000003E-2]
[{"$f":"Photonic!B111","v":459},{"$f":"CM!D112","v":1.79175112571676E-3},null,null,null,null,null,null,7261580723747.6162,68.026403528283666,68.026403528283666,1.9621767418094584E-3,{"$f":"+$L105*Photonic!BB111","v":5.8154994273748725E-4},{"$f":"+$L105*Photonic!BC111","v":1.1302138032822481E-4},{"$f":"+$L105*Photonic!BD111","v":3.3046588250206536E-3},125.51,32.93,-2.81,null,null,0.22040000000000001,0.13040000000000002,7.6600000000000001E-2,0.1832,0.37859999999999999,0.5544,0.49159999999999998,0.41559999999999997,3.8600000000000002E-2,9.3600000000000003E-2,0.12139999999999999,0.34299999999999997,0.37559999999999999,4.6800000000000001E-2,4.6800000000000001E-2]
[{"$f":"Photonic!B112","v":460},{"$f":"CM!D113","v":1.6507379345342495E-3},null,null,null,null,null,null,7306452255647.1035,68.541148068934405,68.541148068934405,1.9770242085760696E-3,{"$f":"+$L106*Photonic!BB112","v":5.7491863985392104E-4},{"$f":"+$L106*Photonic!BC112","v":1.1862145251456416E-4},{"$f":"+$L106*Photonic!BD112","v":3.3000488089551753E-3},125.5,32.6,-2.8,null,null,0.22,0.13100000000000001,7.6999999999999999E-2,0.186,0.38100000000000001,0.55400000000000005,0.48799999999999999,0.41299999999999998,3.7999999999999999E-2,9.5000000000000001E-2,0.123,0.34599999999999997,0.376,4.7E-2,4.7E-2]
[{"$f":"Photonic!B113","v":461},{"$f":"CM!D114","v":1.5383195360542455E-3},null,null,null,null,null,null,7351232109315.9502,68.884780499805828,68.884780499805828,1.9869360593959798E-3,{"$f":"+$L107*Photonic!BB113","v":5.6202473376074688E-4},{"$f":"+$L107*Photonic!BC113","v":1.2473984580887963E-4},{"$f":"+$L107*Photonic!BD113","v":3.2605223347476151E-3},125.08,32.130000000000003,-2.78,null,null,0.21959999999999999,0.13159999999999999,7.7600000000000002E-2,0.1898,0.3836,0.55300000000000005,0.48419999999999996,0.4098,3.7400000000000003E-2,9.6600000000000005E-2,0.12520000000000001,0.34619999999999995,0.37659999999999999,4.7199999999999999E-2,4.7199999999999999E-2]
[{"$f":"Photonic!B114","v":462},{"$f":"CM!D115","v":1.4251878602579975E-3},null,null,null,null,null,null,7395918011144.7939,69.228412930677251,69.228412930677251,1.99684791021589E-3,{"$f":"+$L108*Photonic!BB114","v":5.4897342747655244E-4},{"$f":"+$L108*Photonic!BC114","v":1.3091334899375373E-4},{"$f":"+$L108*Photonic!BD114","v":3.2204364356797788E-3},124.66,31.66,-2.76,null,null,0.21920000000000001,0.13220000000000001,7.8200000000000006E-2,0.19359999999999999,0.38619999999999999,0.55200000000000005,0.48039999999999999,0.40660000000000002,3.6799999999999999E-2,9.8199999999999996E-2,0.12740000000000001,0.34639999999999999,0.37719999999999998,4.7399999999999998E-2,4.7399999999999998E-2]
[{"$f":"Photonic!B115","v":463},{"$f":"CM!D116","v":1.3206130161235682E-3},null,null,null,null,null,null,7440507712723.1309,69.572045361548675,69.572045361548675,2.0067597610357998E-3,{"$f":"+$L109*Photonic!BB115","v":5.3576472100133783E-4},{"$f":"+$L109*Photonic!BC115","v":1.3714196206918654E-4},{"$f":"+$L109*Photonic!BD115","v":3.1797911117516665E-3},124.24000000000001,31.19,-2.74,null,null,0.21879999999999999,0.1328,7.8799999999999995E-2,0.19739999999999999,0.38880000000000003,0.55100000000000005,0.47659999999999997,0.40339999999999998,3.6200000000000003E-2,9.98E-2,0.12959999999999999,0.34659999999999996,0.37780000000000002,4.7600000000000003E-2,4.7600000000000003E-2]
[{"$f":"Photonic!B116","v":464},{"$f":"CM!D117","v":1.2160489129023531E-3},null,null,null,null,null,null,7484998990892.8271,69.915677792420112,69.915677792420112,2.0166716118557105E-3,{"$f":"+$L110*Photonic!BB116","v":5.2239861433510317E-4},{"$f":"+$L110*Photonic!BC116","v":1.4342568503517811E-4},{"$f":"+$L110*Photonic!BD116","v":3.1385863629632793E-3},123.82000000000001,30.72,-2.72,null,null,0.21840000000000001,0.13340000000000002,7.9399999999999998E-2,0.20119999999999999,0.39140000000000003,0.55000000000000004,0.4728,0.4002,3.56E-2,0.10139999999999999,0.1318,0.3468,0.37840000000000001,4.7800000000000002E-2,4.7800000000000002E-2]
[{"$f":"Photonic!B117","v":465},{"$f":"CM!D118","v":1.0486565280566013E-3},null,null,null,null,null,null,7529389647795.4521,70.259310223291536,70.259310223291536,2.0265834626756207E-3,{"$f":"+$L111*Photonic!BB117","v":5.0887510747784834E-4},{"$f":"+$L111*Photonic!BC117","v":1.4976451789172835E-4},{"$f":"+$L111*Photonic!BD117","v":3.096822189314616E-3},123.4,30.25,-2.7,null,null,0.218,0.13400000000000001,0.08,0.20499999999999999,0.39400000000000002,0.54900000000000004,0.46899999999999997,0.39700000000000002,3.5000000000000003E-2,0.10299999999999999,0.13400000000000001,0.34699999999999998,0.379,4.8000000000000001E-2,4.8000000000000001E-2]
[{"$f":"Photonic!B118","v":466},{"$f":"CM!D119","v":9.8136180866953632E-4},null,null,null,null,null,null,7573677510913.6719,70.602942654162959,70.602942654162959,2.0364953134955305E-3,{"$f":"+$L112*Photonic!BB118","v":4.8866112346387957E-4},{"$f":"+$L112*Photonic!BC118","v":1.5745367165822041E-4},{"$f":"+$L112*Photonic!BD118","v":3.0140293559358928E-3},122.98,29.78,-2.68,null,null,0.21759999999999999,0.1348,8.1000000000000003E-2,0.20979999999999999,0.39580000000000004,0.5474,0.46479999999999999,0.39400000000000002,3.4600000000000006E-2,0.105,0.1368,0.3458,0.38,4.8399999999999999E-2,4.8399999999999999E-2]
[{"$f":"Photonic!B119","v":467},{"$f":"CM!D120","v":9.1406779322119474E-4},null,null,null,null,null,null,7617860433106.6162,70.946575085034382,70.946575085034382,2.0464071643154407E-3,{"$f":"+$L113*Photonic!BB119","v":4.6822614482403013E-4},{"$f":"+$L113*Photonic!BC119","v":1.6521054318951415E-4},{"$f":"+$L113*Photonic!BD119","v":2.9302831610979086E-3},122.56,29.31,-2.66,null,null,0.2172,0.1356,8.2000000000000003E-2,0.21459999999999999,0.39760000000000001,0.54580000000000006,0.46060000000000001,0.39100000000000001,3.4200000000000001E-2,0.107,0.1396,0.34460000000000002,0.38100000000000001,4.8800000000000003E-2,4.8800000000000003E-2]
[{"$f":"Photonic!B120","v":468},{"$f":"CM!D121","v":8.6482491953955652E-4},null,null,null,null,null,null,7661936292639.5039,71.290207515905792,71.290207515905792,2.0563190151353505E-3,{"$f":"+$L114*Photonic!BB120","v":4.4757017155829979E-4},{"$f":"+$L114*Photonic!BC120","v":1.7303513248560946E-4},{"$f":"+$L114*Photonic!BD120","v":2.845583604800661E-3},122.14,28.84,-2.64,null,null,0.21679999999999999,0.13640000000000002,8.3000000000000004E-2,0.21940000000000001,0.39940000000000003,0.54420000000000002,0.45639999999999997,0.38800000000000001,3.3800000000000004E-2,0.109,0.1424,0.34339999999999998,0.38200000000000001,4.9200000000000001E-2,4.9200000000000001E-2]
[{"$f":"Photonic!B121","v":469},{"$f":"CM!D122","v":8.155858117705082E-4},null,null,null,null,null,null,7705902993207.4697,71.633839946777229,71.633839946777229,2.0662308659552611E-3,{"$f":"+$L115*Photonic!BB121","v":4.2669320366668905E-4},{"$f":"+$L115*Photonic!BC121","v":1.809274395465065E-4},{"$f":"+$L115*Photonic!BD121","v":2.7599306870441528E-3},121.72,28.369999999999997,-2.62,null,null,0.21640000000000001,0.13720000000000002,8.4000000000000005E-2,0.22420000000000001,0.4012,0.54260000000000008,0.45219999999999999,0.38500000000000001,3.3399999999999999E-2,0.111,0.1452,0.3422,0.38300000000000001,4.9600000000000005E-2,4.9600000000000005E-2]
[{"$f":"Photonic!B122","v":470},{"$f":"CM!D123","v":7.7543390147279665E-4},null,null,null,null,null,null,7749758463953.8506,71.977472377648652,71.977472377648652,2.0761427167751709E-3,{"$f":"+$L116*Photonic!BB122","v":4.0559524114919742E-4},{"$f":"+$L116*Photonic!BC122","v":1.8888746437220507E-4},{"$f":"+$L116*Photonic!BD122","v":2.6733244078283808E-3},121.3,27.9,-2.6,null,null,0.216,0.13800000000000001,8.5000000000000006E-2,0.22900000000000001,0.40300000000000002,0.54100000000000004,0.44800000000000001,0.38200000000000001,3.3000000000000002E-2,0.113,0.14799999999999999,0.34100000000000003,0.38400000000000001,0.05,0.05]
[{"$f":"Photonic!B123","v":471},{"$f":"CM!D124","v":7.3528386932714867E-4},null,null,null,null,null,null,7793500659482.9824,72.519095504779258,72.519095504779258,2.0917654786405679E-3,{"$f":"+$L117*Photonic!BB123","v":3.8636581802874203E-4},{"$f":"+$L117*Photonic!BC123","v":1.9935361717636068E-4},{"$f":"+$L117*Photonic!BD123","v":2.5906348111725142E-3},121.3,27.54,-2.6,null,null,0.21559999999999999,0.13900000000000001,8.6800000000000002E-2,0.23400000000000001,0.40440000000000004,0.53900000000000003,0.44419999999999998,0.37880000000000003,3.2600000000000004E-2,0.1154,0.15179999999999999,0.33840000000000003,0.38500000000000001,5.04E-2,5.04E-2]
[{"$f":"Photonic!B124","v":472},{"$f":"CM!D125","v":7.2115459538715353E-4},null,null,null,null,null,null,7837127559867.502,73.060718631909864,73.060718631909864,2.1073882405059654E-3,{"$f":"+$L118*Photonic!BB124","v":3.6680356758950634E-4},{"$f":"+$L118*Photonic!BC124","v":2.0995487562512833E-4},{"$f":"+$L118*Photonic!BD124","v":2.5064095595163267E-3},121.3,27.18,-2.6,null,null,0.2152,0.14000000000000001,8.8599999999999998E-2,0.23900000000000002,0.40579999999999999,0.53700000000000003,0.44040000000000001,0.37559999999999999,3.2199999999999999E-2,0.1178,0.15559999999999999,0.33580000000000004,0.38600000000000001,5.0799999999999998E-2,5.0799999999999998E-2]
[{"$f":"Photonic!B125","v":473},{"$f":"CM!D126","v":7.0374917358729497E-4},null,null,null,null,null,null,7880637170650.4717,73.60234175904047,73.60234175904047,2.1230110023713624E-3,{"$f":"+$L119*Photonic!BB125","v":3.4690848983149009E-4},{"$f":"+$L119*Photonic!BC125","v":2.2069123971850787E-4},{"$f":"+$L119*Photonic!BD125","v":2.4206486528598179E-3},121.3,26.82,-2.6,null,null,0.21479999999999999,0.14099999999999999,9.0400000000000008E-2,0.24399999999999999,0.40720000000000001,0.53500000000000003,0.43659999999999999,0.37240000000000001,3.1800000000000002E-2,0.1202,0.15940000000000001,0.3332,0.38700000000000001,5.1200000000000002E-2,5.1200000000000002E-2]
[{"$f":"Photonic!B126","v":474},{"$f":"CM!D127","v":6.7462917069887923E-4},null,null,null,null,null,null,7924027522842.2314,74.143964886171077,74.143964886171077,2.1386337642367594E-3,{"$f":"+$L120*Photonic!BB126","v":3.2668058475469349E-4},{"$f":"+$L120*Photonic!BC126","v":2.315627094564994E-4},{"$f":"+$L120*Photonic!BD126","v":2.3333520912029878E-3},121.3,26.46,-2.6,null,null,0.21440000000000001,0.14199999999999999,9.2200000000000004E-2,0.249,0.40859999999999996,0.53300000000000003,0.43280000000000002,0.36919999999999997,3.1399999999999997E-2,0.1226,0.16320000000000001,0.3306,0.38800000000000001,5.16E-2,5.16E-2]
[{"$f":"Photonic!B127","v":475},{"$f":"CM!D128","v":6.7345695174531874E-4},null,null,null,null,null,null,7967296672912.1855,74.685588013301697,74.685588013301697,2.1542565261021569E-3,{"$f":"+$L121*Photonic!BB127","v":3.0611985235911649E-4},{"$f":"+$L121*Photonic!BC127","v":2.4256928483910287E-4},{"$f":"+$L121*Photonic!BD127","v":2.2445198745458372E-3},121.3,26.1,-2.6,null,null,0.214,0.14299999999999999,9.4E-2,0.254,0.41,0.53100000000000003,0.42899999999999999,0.36599999999999999,3.1E-2,0.125,0.16700000000000001,0.32800000000000001,0.38900000000000001,5.1999999999999998E-2,5.1999999999999998E-2]
[{"$f":"Photonic!B128","v":476},{"$f":"CM!D129","v":6.7100392242065037E-4},null,null,null,null,null,null,8010442702775.6572,75.227211140432303,75.227211140432303,2.1698792879675539E-3,{"$f":"+$L122*Photonic!BB128","v":2.8817732847639493E-4},{"$f":"+$L122*Photonic!BC128","v":2.5579404998276711E-4},{"$f":"+$L122*Photonic!BD128","v":2.1614384575373603E-3},121.3,25.740000000000002,-2.6,null,null,0.214,0.1444,9.7000000000000003E-2,0.25940000000000002,0.41099999999999998,0.52860000000000007,0.42480000000000001,0.36319999999999997,3.0800000000000001E-2,0.12839999999999999,0.17200000000000001,0.32380000000000003,0.3906,5.2600000000000001E-2,5.2600000000000001E-2]
[{"$f":"Photonic!B129","v":477},{"$f":"CM!D130","v":6.7671579339198106E-4},null,null,null,null,null,null,8053463719775.7686,75.768834267562909,75.768834267562909,2.1855020498329509E-3,{"$f":"+$L123*Photonic!BB129","v":2.6994447118716675E-4},{"$f":"+$L123*Photonic!BC129","v":2.6918391647382488E-4},{"$f":"+$L123*Photonic!BD129","v":2.0769263079972499E-3},121.3,25.380000000000003,-2.6,null,null,0.214,0.14579999999999999,0.1,0.26480000000000004,0.41199999999999998,0.5262,0.42059999999999997,0.3604,3.0599999999999999E-2,0.1318,0.17700000000000002,0.3196,0.39219999999999999,5.3199999999999997E-2,5.3199999999999997E-2]
[{"$f":"Photonic!B130","v":478},{"$f":"CM!D131","v":6.8241808794709227E-4},null,null,null,null,null,null,8096357856660.6211,76.310457394693515,76.310457394693515,2.2011248116983479E-3,{"$f":"+$L124*Photonic!BB130","v":2.514212804914321E-4},{"$f":"+$L124*Photonic!BC130","v":2.8273888431227623E-4},{"$f":"+$L124*Photonic!BD130","v":1.9909834259255067E-3},121.3,25.02,-2.6,null,null,0.214,0.1472,0.10299999999999999,0.2702,0.41299999999999998,0.52380000000000004,0.41639999999999999,0.35759999999999997,3.04E-2,0.13519999999999999,0.182,0.31540000000000001,0.39380000000000004,5.3800000000000001E-2,5.3800000000000001E-2]
[{"$f":"Photonic!B131","v":479},{"$f":"CM!D132","v":7.0175847123947954E-4},null,null,null,null,null,null,8139123271555.7217,76.852080521824121,76.852080521824121,2.2167475735637449E-3,{"$f":"+$L125*Photonic!BB131","v":2.3260775638919088E-4},{"$f":"+$L125*Photonic!BC131","v":2.9645895349812099E-4},{"$f":"+$L125*Photonic!BD131","v":1.9036098113221303E-3},121.3,24.66,-2.6,null,null,0.214,0.14859999999999998,0.106,0.27560000000000001,0.41399999999999998,0.52139999999999997,0.41219999999999996,0.3548,3.0199999999999998E-2,0.1386,0.187,0.31119999999999998,0.39540000000000003,5.4399999999999997E-2,5.4399999999999997E-2]
[{"$f":"Photonic!B132","v":480},{"$f":"CM!D133","v":7.2108551220305753E-4},null,null,null,null,null,null,8181758147931.877,77.393703648954727,77.393703648954727,2.2323703354291419E-3,{"$f":"+$L126*Photonic!BB132","v":2.1350389888044315E-4},{"$f":"+$L126*Photonic!BC132","v":3.1034412403135934E-4},{"$f":"+$L126*Photonic!BD132","v":1.8148054641871209E-3},121.3,24.3,-2.6,null,null,0.214,0.15,0.109,0.28100000000000003,0.41499999999999998,0.51900000000000002,0.40799999999999997,0.35199999999999998,0.03,0.14199999999999999,0.192,0.307,0.39700000000000002,5.5E-2,5.5E-2]
[{"$f":"Photonic!B133","v":481},{"$f":"CM!D134","v":7.4431576063368479E-4},null,null,null,null,null,null,8224260694568.625,77.471650690188511,77.471650690188511,2.2346186664222423E-3,{"$f":"+$L127*Photonic!BB133","v":1.968743737491324E-4},{"$f":"+$L127*Photonic!BC133","v":3.2418953764987325E-4},{"$f":"+$L127*Photonic!BD133","v":1.7287010003442466E-3},120.52,23.88,-2.52,null,null,0.214,0.15179999999999999,0.1124,0.28640000000000004,0.41559999999999997,0.51600000000000001,0.40339999999999998,0.34899999999999998,2.98E-2,0.14599999999999999,0.19739999999999999,0.30199999999999999,0.39860000000000001,5.5399999999999998E-2,5.5399999999999998E-2]
[{"$f":"Photonic!B134","v":482},{"$f":"CM!D135","v":7.6753601749628218E-4},null,null,null,null,null,null,8266629145513.1709,77.549597731422296,77.549597731422296,2.2368669974153427E-3,{"$f":"+$L128*Photonic!BB134","v":1.8021095277976967E-4},{"$f":"+$L128*Photonic!BC134","v":3.380621830533756E-4},{"$f":"+$L128*Photonic!BD134","v":1.6424195928522152E-3},119.74,23.46,-2.44,null,null,0.214,0.15359999999999999,0.1158,0.2918,0.41619999999999996,0.51300000000000001,0.39879999999999999,0.34599999999999997,2.9600000000000001E-2,0.15,0.20280000000000001,0.29699999999999999,0.4002,5.5800000000000002E-2,5.5800000000000002E-2]
[{"$f":"Photonic!B135","v":483},{"$f":"CM!D136","v":8.0695592067797466E-4},null,null,null,null,null,null,8308861760035.1631,77.627544772656108,77.627544772656108,2.239115328408444E-3,{"$f":"+$L129*Photonic!BB135","v":1.6351363597235505E-4},{"$f":"+$L129*Photonic!BC135","v":3.519620602418665E-4},{"$f":"+$L129*Photonic!BD135","v":1.5559612417110275E-3},118.96000000000001,23.04,-2.3600000000000003,null,null,0.214,0.15540000000000001,0.1192,0.29720000000000002,0.4168,0.51,0.39419999999999999,0.34300000000000003,2.9399999999999999E-2,0.154,0.2082,0.29199999999999998,0.40180000000000005,5.62E-2,5.62E-2]
[{"$f":"Photonic!B136","v":484},{"$f":"CM!D137","v":8.4638063406662959E-4},null,null,null,null,null,null,8350956822577.2354,77.705491813889893,77.705491813889893,2.2413636594015443E-3,{"$f":"+$L130*Photonic!BB136","v":1.4678242332688833E-4},{"$f":"+$L130*Photonic!BC136","v":3.6588916921534572E-4},{"$f":"+$L130*Photonic!BD136","v":1.4693259469206823E-3},118.18,22.62,-2.2800000000000002,null,null,0.214,0.15720000000000001,0.1226,0.30259999999999998,0.41739999999999999,0.50700000000000001,0.3896,0.34,2.92E-2,0.158,0.21360000000000001,0.28699999999999998,0.40340000000000004,5.6600000000000004E-2,5.6600000000000004E-2]
[{"$f":"Photonic!B137","v":485},{"$f":"CM!D138","v":9.2342230108693286E-4},null,null,null,null,null,null,8392912642701.3125,77.783438855123663,77.783438855123663,2.2436119903946447E-3,{"$f":"+$L131*Photonic!BB137","v":1.3001731484336968E-4},{"$f":"+$L131*Photonic!BC137","v":3.7984350997381338E-4},{"$f":"+$L131*Photonic!BD137","v":1.3825137084811801E-3},117.4,22.2,-2.2000000000000002,null,null,0.214,0.159,0.126,0.308,0.41799999999999998,0.504,0.38500000000000001,0.33700000000000002,2.9000000000000001E-2,0.16200000000000001,0.219,0.28199999999999997,0.40500000000000003,5.7000000000000002E-2,5.7000000000000002E-2]
[{"$f":"Photonic!B138","v":486},{"$f":"CM!D139","v":9.889514398036198E-4},null,null,null,null,null,null,8434727555031.165,77.861385896357461,77.861385896357461,2.2458603213877455E-3,{"$f":"+$L132*Photonic!BB138","v":1.1849608227706023E-4},{"$f":"+$L132*Photonic!BC138","v":3.9761609473977201E-4},{"$f":"+$L132*Photonic!BD138","v":1.3160651648919332E-3},116.62,21.78,-2.12,null,null,0.21440000000000001,0.16200000000000001,0.13039999999999999,0.31280000000000002,0.41819999999999996,0.50080000000000002,0.38059999999999999,0.33460000000000001,2.8800000000000003E-2,0.16739999999999999,0.22559999999999999,0.27699999999999997,0.40720000000000001,5.8000000000000003E-2,5.8000000000000003E-2]
[{"$f":"Photonic!B139","v":487},{"$f":"CM!D140","v":1.0541073880836989E-3},null,null,null,null,null,null,8476399919190.833,77.93933293759126,77.93933293759126,2.2481086523808464E-3,{"$f":"+$L133*Photonic!BB139","v":1.0695152102836638E-4},{"$f":"+$L133*Photonic!BC139","v":4.1542350165615184E-4},{"$f":"+$L133*Photonic!BD139","v":1.2494808041240552E-3},115.84,21.36,-2.04,null,null,0.21479999999999999,0.16500000000000001,0.1348,0.31759999999999999,0.41839999999999999,0.49759999999999999,0.37619999999999998,0.3322,2.86E-2,0.17280000000000001,0.23219999999999999,0.27199999999999996,0.40939999999999999,5.9000000000000004E-2,5.9000000000000004E-2]
[{"$f":"Photonic!B140","v":488},{"$f":"CM!D141","v":1.120041429794916E-3},null,null,null,null,null,null,{"$f":"$G$5*((A134*0.000000001)^(-5)) / (EXP($G$6/(($E$6*0.000000001*A134)))-1)","v":8517928119739.3535},78.01727997882503,78.01727997882503,2.2503569833739463E-3,{"$f":"+$L134*Photonic!BB140","v":9.5383631097288094E-5},{"$f":"+$L134*Photonic!BC140","v":4.3326573072295264E-4},{"$f":"+$L134*Photonic!BD140","v":1.1827606261775455E-3},115.06,20.94,-1.9600000000000002,null,null,0.2152,0.16799999999999998,0.13919999999999999,0.32240000000000002,0.41859999999999997,0.49440000000000001,0.37180000000000002,0.32980000000000004,2.8400000000000002E-2,0.1782,0.23880000000000001,0.26700000000000002,0.41160000000000002,0.06,0.06]
[{"$f":"Photonic!B141","v":489},{"$f":"CM!D142","v":1.1859625368659864E-3},null,null,null,null,null,null,8559310566101.6943,{"$f":"+P135+$H$11*Q135+$H$12*R135","v":78.095227020058815},{"$f":"IF($E$6<=$K$4,I135,J135)","v":78.095227020058815},{"$f":"+K135/$L$4","v":2.2526053143670467E-3},{"$f":"+$L135*Photonic!BB141","v":8.3792412483825389E-5},{"$f":"+$L135*Photonic!BC141","v":4.5114278194017469E-4},{"$f":"+$L135*Photonic!BD141","v":1.115904631052405E-3},114.28,20.52,-1.8800000000000001,null,null,0.21559999999999999,0.17099999999999999,0.14360000000000001,0.32719999999999999,0.41880000000000001,0.49119999999999997,0.3674,0.32740000000000002,2.8199999999999999E-2,0.18360000000000001,0.24540000000000001,0.26200000000000001,0.4138,6.0999999999999999E-2,6.0999999999999999E-2]
[{"$f":"Photonic!B142","v":490},{"$f":"CM!D143","v":1.2697237568376233E-3},null,null,null,null,null,null,8600545692496.0508,78.173174061292613,78.173174061292613,2.2548536453601475E-3,{"$f":"+$L136*Photonic!BB142","v":7.2177865187978319E-5},{"$f":"+$L136*Photonic!BC142","v":4.6905465530781788E-4},{"$f":"+$L136*Photonic!BD142","v":1.0489128187486333E-3},113.5,20.100000000000001,-1.8,null,null,0.216,0.17399999999999999,0.14799999999999999,0.33200000000000002,0.41899999999999998,0.48799999999999999,0.36299999999999999,0.32500000000000001,2.8000000000000001E-2,0.189,0.252,0.25700000000000001,0.41599999999999998,6.2E-2,6.2E-2]
[{"$f":"Photonic!B143","v":491},{"$f":"CM!D144","v":1.3534912684968411E-3},null,null,null,null,null,null,8641631957857.6729,78.804702471360457,78.804702471360457,2.2730696658133207E-3,{"$f":"+$L137*Photonic!BB143","v":6.4891592819638674E-5},{"$f":"+$L137*Photonic!BC143","v":4.9583832462185454E-4},{"$f":"+$L137*Photonic!BD143","v":1.0065243403008016E-3},113.46,19.71,-1.77,null,null,0.21640000000000001,0.1772,0.15279999999999999,0.33600000000000002,0.41859999999999997,0.48419999999999996,0.35859999999999997,0.32200000000000001,2.8000000000000001E-2,0.19500000000000001,0.25979999999999998,0.25159999999999999,0.41859999999999997,6.3E-2,6.3E-2]
[{"$f":"Photonic!B144","v":492},{"$f":"CM!D145","v":1.4515661986240496E-3},null,null,null,null,null,null,8682567845759.1289,79.436230881428315,79.436230881428315,2.2912856862664943E-3,{"$f":"+$L138*Photonic!BB144","v":5.7479192725681269E-5},{"$f":"+$L138*Photonic!BC144","v":5.2299054046169989E-4},{"$f":"+$L138*Photonic!BD144","v":9.6332065850564957E-4},113.42,19.32,-1.74,null,null,0.21679999999999999,0.1804,0.15759999999999999,0.34,0.41819999999999996,0.48039999999999999,0.35420000000000001,0.31900000000000001,2.8000000000000001E-2,0.20100000000000001,0.2676,0.2462,0.42119999999999996,6.4000000000000001E-2,6.4000000000000001E-2]
[{"$f":"Photonic!B145","v":493},{"$f":"CM!D146","v":1.5496423029645976E-3},null,null,null,null,null,null,8723351864327.2432,80.067759291496159,80.067759291496159,2.3095017067196674E-3,{"$f":"+$L139*Photonic!BB145","v":4.9940664906106085E-5},{"$f":"+$L139*Photonic!BC145","v":5.5051130282735364E-4},{"$f":"+$L139*Photonic!BD145","v":9.1930177336317707E-4},113.38,18.93,-1.71,null,null,0.2172,0.18359999999999999,0.16239999999999999,0.34399999999999997,0.4178,0.47659999999999997,0.3498,0.316,2.8000000000000001E-2,0.20699999999999999,0.27539999999999998,0.24080000000000001,0.42380000000000001,6.5000000000000002E-2,6.5000000000000002E-2]
[{"$f":"Photonic!B146","v":494},{"$f":"CM!D147","v":1.7451427332100052E-3},null,null,null,null,null,null,8763982546156.7646,80.699287701564032,80.699287701564032,2.3277177271728415E-3,{"$f":"+$L140*Photonic!BB146","v":4.227600936091314E-5},{"$f":"+$L140*Photonic!BC146","v":5.7840061171881641E-4},{"$f":"+$L140*Photonic!BD146","v":8.7446768487338443E-4},113.34,18.54,-1.68,null,null,0.21759999999999999,0.18679999999999999,0.16719999999999999,0.34799999999999998,0.41739999999999999,0.4728,0.34540000000000004,0.313,2.8000000000000001E-2,0.21299999999999999,0.28320000000000001,0.2354,0.4264,6.6000000000000003E-2,6.6000000000000003E-2]
[{"$f":"Photonic!B147","v":495},{"$f":"CM!D148","v":1.8608132016426206E-3},null,null,null,null,null,null,8804458448220.8105,81.33081611163189,81.33081611163189,2.345933747626015E-3,{"$f":"+$L141*Photonic!BB147","v":3.4485226090102423E-5},{"$f":"+$L141*Photonic!BC147","v":6.0665846713608745E-4},{"$f":"+$L141*Photonic!BD147","v":8.2881839303627111E-4},113.3,18.149999999999999,-1.65,null,null,0.218,0.19,0.17199999999999999,0.35199999999999998,0.41699999999999998,0.46899999999999997,0.34100000000000003,0.31,2.8000000000000001E-2,0.219,0.29099999999999998,0.23,0.42899999999999999,6.7000000000000004E-2,6.7000000000000004E-2]
[{"$f":"Photonic!B148","v":496},{"$f":"CM!D149","v":1.9764965875358901E-3},null,null,null,null,null,null,8844778151778.168,81.962344521699734,81.962344521699734,2.3641497680791882E-3,{"$f":"+$L142*Photonic!BB148","v":3.0119268045328857E-5},{"$f":"+$L142*Photonic!BC148","v":6.4181937903813797E-4},{"$f":"+$L142*Photonic!BD148","v":7.9681303783340964E-4},113.25999999999999,17.759999999999998,-1.6199999999999999,null,null,0.219,0.19339999999999999,0.1772,0.35559999999999997,0.41619999999999996,0.4652,0.33760000000000001,0.30780000000000002,2.8000000000000001E-2,0.2276,0.29780000000000001,0.2248,0.43180000000000002,6.8600000000000008E-2,6.8600000000000008E-2]
[{"$f":"Photonic!B149","v":497},{"$f":"CM!D150","v":2.1084744035482395E-3},null,null,null,null,null,null,8884940262277.623,82.593872931767606,82.593872931767606,2.3823657885323622E-3,{"$f":"+$L143*Photonic!BB149","v":2.5681903200378865E-5},{"$f":"+$L143*Photonic!BC149","v":6.7744953562706256E-4},{"$f":"+$L143*Photonic!BD149","v":7.6421529764541119E-4},113.22,17.369999999999997,-1.5899999999999999,null,null,0.22,0.1968,0.18240000000000001,0.35919999999999996,0.41539999999999999,0.46139999999999998,0.3342,0.30559999999999998,2.8000000000000001E-2,0.23619999999999999,0.30459999999999998,0.21959999999999999,0.43459999999999999,7.0199999999999999E-2,7.0199999999999999E-2]
[{"$f":"Photonic!B150","v":498},{"$f":"CM!D151","v":2.2404500430131496E-3},null,null,null,null,null,null,8924943409259.291,83.22540134183545,83.22540134183545,2.4005818089855354E-3,{"$f":"+$L144*Photonic!BB150","v":2.1173131555252422E-5},{"$f":"+$L144*Photonic!BC150","v":7.1354893690286057E-4},{"$f":"+$L144*Photonic!BD150","v":7.3102517247227523E-4},113.17999999999999,16.98,-1.56,null,null,0.221,0.20019999999999999,0.18759999999999999,0.36280000000000001,0.41459999999999997,0.45760000000000001,0.33080000000000004,0.3034,2.8000000000000001E-2,0.24480000000000002,0.31140000000000001,0.21440000000000001,0.43740000000000001,7.1800000000000003E-2,7.1800000000000003E-2]
[{"$f":"Photonic!B151","v":499},{"$f":"CM!D152","v":2.3855030610589905E-3},null,null,null,null,null,null,8964786246253.1035,83.856929751903294,83.856929751903294,2.4187978294387086E-3,{"$f":"+$L145*Photonic!BB151","v":1.6592953109949539E-5},{"$f":"+$L145*Photonic!BC151","v":7.5011758286553233E-4},{"$f":"+$L145*Photonic!BD151","v":6.9724266231400219E-4},113.14,16.59,-1.53,null,null,0.222,0.2036,0.1928,0.3664,0.4138,0.45379999999999998,0.32740000000000002,0.30119999999999997,2.8000000000000001E-2,0.25340000000000001,0.31819999999999998,0.2092,0.44019999999999998,7.3399999999999993E-2,7.3399999999999993E-2]
[{"$f":"Photonic!B152","v":500},{"$f":"CM!D153","v":2.5305675432815769E-3},null,null,null,null,null,null,9004467450674.4883,84.488458161971153,84.488458161971153,2.4370138498918822E-3,{"$f":"+$L146*Photonic!BB152","v":1.1941367864470222E-5},{"$f":"+$L146*Photonic!BC152","v":7.8715547351507795E-4},{"$f":"+$L146*Photonic!BD152","v":6.6286776717059195E-4},113.1,16.2,-1.5,null,null,0.223,0.20699999999999999,0.19800000000000001,0.37,0.41299999999999998,0.45,0.32400000000000001,0.29899999999999999,2.8000000000000001E-2,0.26200000000000001,0.32500000000000001,0.20399999999999999,0.443,7.4999999999999997E-2,7.4999999999999997E-2]
[{"$f":"Photonic!B153","v":501},{"$f":"CM!D154","v":2.6893452678188015E-3},null,null,null,null,null,null,9043985723717.3613,84.766324116142016,84.766324116142016,2.4450287100687557E-3,{"$f":"+$L147*Photonic!BB153","v":1.0758126324302523E-5},{"$f":"+$L147*Photonic!BC153","v":8.309674574039673E-4},{"$f":"+$L147*Photonic!BD153","v":6.358541663404806E-4},112.86999999999999,15.899999999999999,-1.48,null,null,0.22340000000000002,0.21059999999999998,0.2026,0.37259999999999999,0.41219999999999996,0.44619999999999999,0.32140000000000002,0.29699999999999999,2.8199999999999999E-2,0.27060000000000001,0.32940000000000003,0.19879999999999998,0.44519999999999998,7.6600000000000001E-2,7.6600000000000001E-2]
[{"$f":"Photonic!B154","v":502},{"$f":"CM!D155","v":2.8392249578598817E-3},null,null,null,null,null,null,9083339790244.459,85.044190070312879,85.044190070312879,2.4530435702456292E-3,{"$f":"+$L148*Photonic!BB154","v":9.5668699239579537E-6},{"$f":"+$L148*Photonic!BC154","v":8.7504970237802079E-4},{"$f":"+$L148*Photonic!BD154","v":6.0864917064934552E-4},112.64,15.6,-1.46,null,null,0.2238,0.2142,0.2072,0.37519999999999998,0.41139999999999999,0.44240000000000002,0.31880000000000003,0.29499999999999998,2.8400000000000002E-2,0.2792,0.33379999999999999,0.19359999999999999,0.44740000000000002,7.8200000000000006E-2,7.8200000000000006E-2]
[{"$f":"Photonic!B155","v":503},{"$f":"CM!D156","v":3.0108586619303746E-3},null,null,null,null,null,null,9122528398675.1172,85.322056024483729,85.322056024483729,2.4610584304225022E-3,{"$f":"+$L149*Photonic!BB155","v":8.3675986634365066E-6},{"$f":"+$L149*Photonic!BC155","v":9.1940220843723843E-4},{"$f":"+$L149*Photonic!BD155","v":5.8125278009718659E-4},112.41,15.299999999999999,-1.44,null,null,0.22420000000000001,0.21779999999999999,0.21180000000000002,0.37780000000000002,0.41059999999999997,0.43859999999999999,0.31619999999999998,0.29299999999999998,2.86E-2,0.2878,0.3382,0.18839999999999998,0.4496,7.9799999999999996E-2,7.9799999999999996E-2]
[{"$f":"Photonic!B156","v":504},{"$f":"CM!D157","v":3.18250159104422E-3},null,null,null,null,null,null,9161550320870.6484,85.599921978654606,85.599921978654606,2.4690732905993762E-3,{"$f":"+$L150*Photonic!BB156","v":7.1603125427381907E-6},{"$f":"+$L150*Photonic!BC156","v":9.6402497558162044E-4},{"$f":"+$L150*Photonic!BD156","v":5.5366499468400415E-4},112.18,15,-1.42,null,null,0.22459999999999999,0.22140000000000001,0.21640000000000001,0.38040000000000002,0.4098,0.43480000000000002,0.31359999999999999,0.29099999999999998,2.8800000000000003E-2,0.2964,0.34259999999999996,0.1832,0.45180000000000003,8.14E-2,8.14E-2]
[{"$f":"Photonic!B157","v":505},{"$f":"CM!D158","v":3.505038277091318E-3},null,null,null,null,null,null,9200404352017.1953,85.877787932825456,85.877787932825456,2.4770881507762488E-3,{"$f":"+$L151*Photonic!BB157","v":5.9450115618629967E-6},{"$f":"+$L151*Photonic!BC157","v":1.0089180038111662E-3},{"$f":"+$L151*Photonic!BD157","v":5.2588581440979755E-4},111.95,14.7,-1.4,null,null,0.22500000000000001,0.22500000000000001,0.221,0.38300000000000001,0.40899999999999997,0.43099999999999999,0.311,0.28899999999999998,2.9000000000000001E-2,0.30499999999999999,0.34699999999999998,0.17799999999999999,0.45400000000000001,8.3000000000000004E-2,8.3000000000000004E-2]
[{"$f":"Photonic!B158","v":506},{"$f":"CM!D159","v":3.6956018741179032E-3},null,null,null,null,null,null,9239089310506.3555,86.155653886996319,86.155653886996319,2.4851030109531223E-3,{"$f":"+$L152*Photonic!BB158","v":9.3936893814028013E-6},{"$f":"+$L152*Photonic!BC158","v":1.0597473279908495E-3},{"$f":"+$L152*Photonic!BD158","v":5.0069855464683502E-4},111.72,14.399999999999999,-1.38,null,null,0.22520000000000001,0.22839999999999999,0.22500000000000001,0.38440000000000002,0.4078,0.42759999999999998,0.309,0.2878,2.92E-2,0.317,0.3488,0.17319999999999999,0.45540000000000003,8.48E-2,8.48E-2]
[{"$f":"Photonic!B159","v":507},{"$f":"CM!D160","v":3.8826976703473532E-3},null,null,null,null,null,null,9277604037813.4785,86.433519841167168,86.433519841167168,2.4931178711299954E-3,{"$f":"+$L153*Photonic!BB159","v":1.2864488215030775E-5},{"$f":"+$L153*Photonic!BC159","v":1.1108834610181033E-3},{"$f":"+$L153*Photonic!BD159","v":4.7533785330964489E-4},111.49,14.1,-1.3599999999999999,null,null,0.22540000000000002,0.23180000000000001,0.22900000000000001,0.38580000000000003,0.40660000000000002,0.42419999999999997,0.307,0.28659999999999997,2.9399999999999999E-2,0.32900000000000001,0.35059999999999997,0.16839999999999999,0.45680000000000004,8.6599999999999996E-2,8.6599999999999996E-2]
[{"$f":"Photonic!B160","v":508},{"$f":"CM!D161","v":4.0656460599232877E-3},null,null,null,null,null,null,9315947398373.8672,86.711385795338046,86.711385795338046,2.5011327313068693E-3,{"$f":"+$L154*Photonic!BB160","v":1.6357408062746926E-5},{"$f":"+$L154*Photonic!BC160","v":1.1623264028929284E-3},{"$f":"+$L154*Photonic!BD160","v":4.4980371039822736E-4},111.26,13.799999999999999,-1.34,null,null,0.22559999999999999,0.23519999999999999,0.23299999999999998,0.38719999999999999,0.40539999999999998,0.42080000000000001,0.30499999999999999,0.28539999999999999,2.9600000000000001E-2,0.34099999999999997,0.35239999999999999,0.1636,0.4582,8.8400000000000006E-2,8.8400000000000006E-2]
[{"$f":"Photonic!B161","v":509},{"$f":"CM!D162","v":4.2486011378582477E-3},null,null,null,null,null,null,9354118279456.7793,86.989251749508895,86.989251749508895,2.509147591483742E-3,{"$f":"+$L155*Photonic!BB161","v":1.9872448924551235E-5},{"$f":"+$L155*Photonic!BC161","v":1.2140761536153235E-3},{"$f":"+$L155*Photonic!BD161","v":4.2409612591258206E-4},111.03,13.5,-1.32,null,null,0.2258,0.23860000000000001,0.23699999999999999,0.3886,0.4042,0.41739999999999999,0.30299999999999999,0.28419999999999995,2.98E-2,0.35299999999999998,0.35419999999999996,0.1588,0.45960000000000001,9.0200000000000002E-2,9.0200000000000002E-2]
[{"$f":"Photonic!B162","v":510},{"$f":"CM!D163","v":4.4470148358308585E-3},null,null,null,null,null,null,9392115591037.4414,87.267117703679759,87.267117703679759,2.5171624516606155E-3,{"$f":"+$L156*Photonic!BB162","v":2.340961080044372E-5},{"$f":"+$L156*Photonic!BC162","v":1.2661327131852896E-3},{"$f":"+$L156*Photonic!BD162","v":3.9821509985270937E-4},110.8,13.2,-1.3,null,null,0.22600000000000001,0.24199999999999999,0.24099999999999999,0.39,0.40300000000000002,0.41399999999999998,0.30099999999999999,0.28299999999999997,0.03,0.36499999999999999,0.35599999999999998,0.154,0.46100000000000002,9.1999999999999998E-2,9.1999999999999998E-2]
[{"$f":"Photonic!B163","v":511},{"$f":"CM!D164","v":4.6454370549080986E-3},null,null,null,null,null,null,9429938265667.0801,87.557448373572115,87.557448373572115,2.5255368483411617E-3,{"$f":"+$L157*Photonic!BB163","v":3.34886186090038E-5},{"$f":"+$L157*Photonic!BC163","v":1.3234823300047023E-3},{"$f":"+$L157*Photonic!BD163","v":3.7605243671799899E-4},110.37,12.74,-1.29,null,null,0.22600000000000001,0.2442,0.24479999999999999,0.39080000000000004,0.40160000000000001,0.41020000000000001,0.29899999999999999,0.28159999999999996,0.03,0.37519999999999998,0.35539999999999999,0.14899999999999999,0.46200000000000002,9.3600000000000003E-2,9.3600000000000003E-2]
[{"$f":"Photonic!B164","v":512},{"$f":"CM!D165","v":4.8014852805606132E-3},null,null,null,null,null,null,9467585258341.0781,87.847779043464442,87.847779043464442,2.5339112450217067E-3,{"$f":"+$L158*Photonic!BB164","v":4.3633951639273785E-5},{"$f":"+$L158*Photonic!BC164","v":1.381184341436432E-3},{"$f":"+$L158*Photonic!BD164","v":3.5373400980503024E-4},109.94,12.28,-1.28,null,null,0.22600000000000001,0.24640000000000001,0.24859999999999999,0.3916,0.4002,0.40639999999999998,0.29699999999999999,0.2802,0.03,0.38539999999999996,0.3548,0.14399999999999999,0.46300000000000002,9.5200000000000007E-2,9.5200000000000007E-2]
[{"$f":"Photonic!B165","v":513},{"$f":"CM!D166","v":4.9575258045027855E-3},null,null,null,null,null,null,9505055546365.1855,88.138109713356783,88.138109713356783,2.5422856417022521E-3,{"$f":"+$L159*Photonic!BB165","v":5.3845609891253701E-5},{"$f":"+$L159*Photonic!BC165","v":1.4392387474804788E-3},{"$f":"+$L159*Photonic!BD165","v":3.3125981911380346E-4},109.51,11.82,-1.27,null,null,0.22600000000000001,0.24859999999999999,0.25240000000000001,0.39240000000000003,0.39880000000000004,0.40260000000000001,0.29499999999999998,0.27879999999999999,0.03,0.39560000000000001,0.35419999999999996,0.13900000000000001,0.46400000000000002,9.6799999999999997E-2,9.6799999999999997E-2]
[{"$f":"Photonic!B166","v":514},{"$f":"CM!D167","v":5.3052417201401034E-3},null,null,null,null,null,null,9542348129220.1133,88.428440383249125,88.428440383249125,2.550660038382798E-3,{"$f":"+$L160*Photonic!BB166","v":6.4123593364943533E-5},{"$f":"+$L160*Photonic!BC166","v":1.4976455481368438E-3},{"$f":"+$L160*Photonic!BD166","v":3.0862986464431853E-4},109.08,11.36,-1.26,null,null,0.22600000000000001,0.25080000000000002,0.25619999999999998,0.39319999999999999,0.39740000000000003,0.39879999999999999,0.29299999999999998,0.27740000000000004,0.03,0.40579999999999999,0.35359999999999997,0.13400000000000001,0.46500000000000002,9.8400000000000001E-2,9.8400000000000001E-2]
[{"$f":"Photonic!B167","v":515},{"$f":"CM!D168","v":5.4312528620458923E-3},null,null,null,null,null,null,9579462028424.3496,88.718771053141467,88.718771053141467,2.5590344350633434E-3,{"$f":"+$L161*Photonic!BB167","v":7.4467902060343296E-5},{"$f":"+$L161*Photonic!BC167","v":1.5564047434055255E-3},{"$f":"+$L161*Photonic!BD167","v":2.8584414639657541E-4},108.65,10.9,-1.25,null,null,0.22600000000000001,0.253,0.26,0.39400000000000002,0.39600000000000002,0.39500000000000002,0.29099999999999998,0.27600000000000002,0.03,0.41599999999999998,0.35299999999999998,0.129,0.46600000000000003,0.1,0.1]
[{"$f":"Photonic!B168","v":516},{"$f":"CM!D169","v":5.5572495954019458E-3},null,null,null,null,null,null,9616396287395.2832,89.009101723033808,89.009101723033808,2.5674088317438888E-3,{"$f":"+$L162*Photonic!BB168","v":9.2257268959884903E-5},{"$f":"+$L162*Photonic!BC168","v":1.6137704952809387E-3},{"$f":"+$L162*Photonic!BD168","v":2.6960360142142572E-4},108.22,10.44,-1.24,null,null,0.2258,0.25440000000000002,0.2636,0.39419999999999999,0.39460000000000001,0.39140000000000003,0.28939999999999999,0.27480000000000004,3.0199999999999998E-2,0.42580000000000001,0.35159999999999997,0.125,0.46660000000000001,0.10160000000000001,0.10160000000000001]
[{"$f":"Photonic!B169","v":517},{"$f":"CM!D170","v":5.7069757773990232E-3},null,null,null,null,null,null,9653149971308.8438,89.299432392926164,89.299432392926164,2.5757832284244351E-3,{"$f":"+$L163*Photonic!BB169","v":1.1016109711325624E-4},{"$f":"+$L163*Photonic!BC169","v":1.6714772525891841E-3},{"$f":"+$L163*Photonic!BD169","v":2.5325100701869044E-4},107.79,9.98,-1.23,null,null,0.22559999999999999,0.25580000000000003,0.26719999999999999,0.39440000000000003,0.39319999999999999,0.38780000000000003,0.2878,0.27360000000000001,3.04E-2,0.43559999999999999,0.35019999999999996,0.121,0.4672,0.1032,0.1032]
[{"$f":"Photonic!B170","v":518},{"$f":"CM!D171","v":5.8566911978572061E-3},null,null,null,null,null,null,9689722166957.5879,89.589763062818506,89.589763062818506,2.5841576251049805E-3,{"$f":"+$L164*Photonic!BB170","v":1.2817938652045726E-4},{"$f":"+$L164*Photonic!BC170","v":1.7295250153302614E-3},{"$f":"+$L164*Photonic!BD170","v":2.3678636318836936E-4},107.36,9.52,-1.22,null,null,0.22540000000000002,0.25719999999999998,0.27080000000000004,0.39460000000000001,0.39180000000000004,0.38419999999999999,0.28619999999999995,0.27240000000000003,3.0599999999999999E-2,0.44540000000000002,0.3488,0.11700000000000001,0.46779999999999999,0.1048,0.1048]
[{"$f":"Photonic!B171","v":519},{"$f":"CM!D172","v":5.9339231373986123E-3},null,null,null,null,null,null,9726111982607.2773,89.880093732710833,89.880093732710833,2.5925320217855259E-3,{"$f":"+$L165*Photonic!BB171","v":1.4631213718148796E-4},{"$f":"+$L165*Photonic!BC171","v":1.7879137835041699E-3},{"$f":"+$L165*Photonic!BD171","v":2.2020966993046258E-4},106.93,9.06,-1.21,null,null,0.22520000000000001,0.2586,0.27440000000000003,0.39480000000000004,0.39040000000000002,0.38059999999999999,0.28459999999999996,0.2712,3.0800000000000001E-2,0.45519999999999999,0.34739999999999999,0.113,0.46839999999999998,0.10639999999999999,0.10639999999999999]
[{"$f":"Photonic!B172","v":520},{"$f":"CM!D173","v":6.0111381501863253E-3},null,null,null,null,null,null,9762318547852.1953,90.170424402603174,90.170424402603174,2.6009064184660713E-3,{"$f":"+$L166*Photonic!BB172","v":1.6455934909634834E-4},{"$f":"+$L166*Photonic!BC172","v":1.8466435571109106E-3},{"$f":"+$L166*Photonic!BD172","v":2.0352092724497007E-4},106.5,8.6,-1.2,null,null,0.22500000000000001,0.26,0.27800000000000002,0.39500000000000002,0.38900000000000001,0.377,0.28299999999999997,0.27,3.1E-2,0.46500000000000002,0.34599999999999997,0.109,0.46899999999999997,0.108,0.108]
[{"$f":"Photonic!B173","v":521},{"$f":"CM!D174","v":6.1657618741917837E-3},null,null,null,null,null,null,9798341013468.9805,90.833064922450347,90.833064922450347,2.6200198472053115E-3,{"$f":"+$L167*Photonic!BB173","v":1.9004575963688447E-4},{"$f":"+$L167*Photonic!BC173","v":1.9038112217732673E-3},{"$f":"+$L167*Photonic!BD173","v":1.9401246968555333E-4},106.73,8.35,-1.18,null,null,0.22500000000000001,0.26080000000000003,0.2828,0.39440000000000003,0.38740000000000002,0.37319999999999998,0.28099999999999997,0.26840000000000003,3.1E-2,0.4738,0.34339999999999998,0.1052,0.46939999999999998,0.1106,0.1106]
[{"$f":"Photonic!B174","v":522},{"$f":"CM!D175","v":6.2145284280962325E-3},null,null,null,null,null,null,9834178551269.3086,91.49570544229752,91.49570544229752,2.6391332759445516E-3,{"$f":"+$L168*Photonic!BB174","v":2.1588638023881622E-4},{"$f":"+$L168*Photonic!BC174","v":1.9616149813440663E-3},{"$f":"+$L168*Photonic!BD174","v":1.8434345932472691E-4},106.96000000000001,8.1,-1.1599999999999999,null,null,0.22500000000000001,0.2616,0.28760000000000002,0.39380000000000004,0.38580000000000003,0.36940000000000001,0.27899999999999997,0.26680000000000004,3.1E-2,0.48260000000000003,0.34079999999999999,0.1014,0.4698,0.1132,0.1132]
[{"$f":"Photonic!B175","v":523},{"$f":"CM!D176","v":6.1796785922838141E-3},null,null,null,null,null,null,9869830353951.2402,92.158345962144665,92.158345962144665,2.6582467046837913E-3,{"$f":"+$L169*Photonic!BB175","v":2.4208121090214354E-4},{"$f":"+$L169*Photonic!BC175","v":2.0200548358233067E-3},{"$f":"+$L169*Photonic!BD175","v":1.745138961624909E-4},107.19,7.85,-1.1400000000000001,null,null,0.22500000000000001,0.26240000000000002,0.29239999999999999,0.39319999999999999,0.38419999999999999,0.36559999999999998,0.27700000000000002,0.26519999999999999,3.1E-2,0.4914,0.3382,9.7599999999999992E-2,0.47019999999999995,0.1158,0.1158]
[{"$f":"Photonic!B176","v":524},{"$f":"CM!D177","v":6.197096890169596E-3},null,null,null,null,null,null,9905295634949.4922,92.820986481991838,92.820986481991838,2.6773601334230315E-3,{"$f":"+$L170*Photonic!BB176","v":2.6863025162686643E-4},{"$f":"+$L170*Photonic!BC176","v":2.0791307852109893E-3},{"$f":"+$L170*Photonic!BD176","v":1.645237801988453E-4},107.42,7.6,-1.1200000000000001,null,null,0.22500000000000001,0.26319999999999999,0.29720000000000002,0.3926,0.3826,0.36180000000000001,0.27500000000000002,0.2636,3.1E-2,0.50019999999999998,0.33560000000000001,9.3799999999999994E-2,0.47059999999999996,0.11839999999999999,0.11839999999999999]
[{"$f":"Photonic!B177","v":525},{"$f":"CM!D178","v":6.2145200092795557E-3},null,null,null,null,null,null,9940573628284.5645,93.483627001839011,93.483627001839011,2.6964735621622716E-3,{"$f":"+$L171*Photonic!BB177","v":2.9553350241298497E-4},{"$f":"+$L171*Photonic!BC177","v":2.1388428295071138E-3},{"$f":"+$L171*Photonic!BD177","v":1.5437311143379006E-4},107.65,7.35,-1.1000000000000001,null,null,0.22500000000000001,0.26400000000000001,0.30199999999999999,0.39200000000000002,0.38100000000000001,0.35799999999999998,0.27300000000000002,0.26200000000000001,3.1E-2,0.50900000000000001,0.33300000000000002,0.09,0.47099999999999997,0.121,0.121]
[{"$f":"Photonic!B178","v":526},{"$f":"CM!D179","v":6.178329222117993E-3},null,null,null,null,null,null,9975663588410.8633,94.14626752168617,94.14626752168617,2.7155869909015118E-3,{"$f":"+$L172*Photonic!BB178","v":3.2798859676108459E-4},{"$f":"+$L172*Photonic!BC178","v":2.1913700781778841E-3},{"$f":"+$L172*Photonic!BD178","v":1.4727171369057079E-4},107.88000000000001,7.1,-1.08,null,null,0.22540000000000002,0.2646,0.30940000000000001,0.3906,0.37919999999999998,0.35459999999999997,0.27140000000000003,0.26080000000000003,3.1199999999999999E-2,0.51639999999999997,0.32919999999999999,8.6999999999999994E-2,0.47159999999999996,0.1234,0.1234]
[{"$f":"Photonic!B179","v":527},{"$f":"CM!D180","v":6.1421317465974032E-3},null,null,null,null,null,null,10010564790063.709,94.808908041533329,94.808908041533329,2.7347004196407515E-3,{"$f":"+$L173*Photonic!BB179","v":3.6087106737579355E-4},{"$f":"+$L173*Photonic!BC179","v":2.2444233284075574E-3},{"$f":"+$L173*Photonic!BD179","v":1.4005494729148145E-4},108.11,6.85,-1.06,null,null,0.2258,0.26519999999999999,0.31680000000000003,0.38919999999999999,0.37740000000000001,0.35120000000000001,0.26980000000000004,0.2596,3.1399999999999997E-2,0.52380000000000004,0.32540000000000002,8.3999999999999991E-2,0.47219999999999995,0.1258,0.1258]
[{"$f":"Photonic!B180","v":528},{"$f":"CM!D181","v":6.0972168884029423E-3},null,null,null,null,null,null,10045276528105.525,95.471548561380501,95.471548561380501,2.7538138483799916E-3,{"$f":"+$L174*Photonic!BB180","v":3.9418091425711207E-4},{"$f":"+$L174*Photonic!BC180","v":2.2980025801961354E-3},{"$f":"+$L174*Photonic!BD180","v":1.3272281223652209E-4},108.34,6.6,-1.04,null,null,0.22620000000000001,0.26580000000000004,0.32419999999999999,0.38780000000000003,0.37559999999999999,0.3478,0.26819999999999999,0.25840000000000002,3.1600000000000003E-2,0.53120000000000001,0.3216,8.1000000000000003E-2,0.4728,0.12820000000000001,0.12820000000000001]
[{"$f":"Photonic!B181","v":529},{"$f":"CM!D182","v":6.0523071476827226E-3},null,null,null,null,null,null,10079798117371.047,96.134189081227646,96.134189081227646,2.7729272771192313E-3,{"$f":"+$L175*Photonic!BB181","v":4.2791813740503983E-4},{"$f":"+$L175*Photonic!BC181","v":2.3521078335436169E-3},{"$f":"+$L175*Photonic!BD181","v":1.2527530852569265E-4},108.57,6.35,-1.02,null,null,0.2266,0.26640000000000003,0.33160000000000001,0.38640000000000002,0.37380000000000002,0.34440000000000004,0.2666,0.25719999999999998,3.1800000000000002E-2,0.53860000000000008,0.31780000000000003,7.8E-2,0.47339999999999999,0.13059999999999999,0.13059999999999999]
[{"$f":"Photonic!B182","v":530},{"$f":"CM!D183","v":5.8393073979278081E-3},null,null,null,null,null,null,10114128892511.727,96.796829601074819,96.796829601074819,2.7920407058584715E-3,{"$f":"+$L176*Photonic!BB182","v":4.6208273681957703E-4},{"$f":"+$L176*Photonic!BC182","v":2.4067390884500023E-3},{"$f":"+$L176*Photonic!BD182","v":1.1771243615899316E-4},108.8,6.1,-1,null,null,0.22700000000000001,0.26700000000000002,0.33900000000000002,0.38500000000000001,0.372,0.34100000000000003,0.26500000000000001,0.25600000000000001,3.2000000000000001E-2,0.54600000000000004,0.314,7.4999999999999997E-2,0.47399999999999998,0.13300000000000001,0.13300000000000001]
[{"$f":"Photonic!B183","v":531},{"$f":"CM!D184","v":5.7798875785159383E-3},null,null,null,null,null,null,10148268207839.326,96.873969622076586,96.873969622076586,2.794265758885263E-3,{"$f":"+$L177*Photonic!BB183","v":4.9612188549007848E-4},{"$f":"+$L177*Photonic!BC183","v":2.4381924732305139E-3},{"$f":"+$L177*Photonic!BD183","v":1.109211735647094E-4},108.45,5.91,-0.95,null,null,0.2276,0.26740000000000003,0.34520000000000001,0.38340000000000002,0.37019999999999997,0.33780000000000004,0.26400000000000001,0.255,3.2000000000000001E-2,0.55300000000000005,0.31,7.2399999999999992E-2,0.47439999999999999,0.1348,0.1348]
[{"$f":"Photonic!B184","v":532},{"$f":"CM!D185","v":5.716736623457716E-3},null,null,null,null,null,null,10182215437168.787,96.951109643078325,96.951109643078325,2.7964908119120541E-3,{"$f":"+$L178*Photonic!BB184","v":5.3021465793852548E-4},{"$f":"+$L178*Photonic!BC184","v":2.4696928956320116E-3},{"$f":"+$L178*Photonic!BD184","v":1.0411894590910961E-4},108.1,5.72,-0.9,null,null,0.22820000000000001,0.26780000000000004,0.35139999999999999,0.38180000000000003,0.36840000000000001,0.33460000000000001,0.26300000000000001,0.254,3.2000000000000001E-2,0.56000000000000005,0.30599999999999999,6.9800000000000001E-2,0.4748,0.1366,0.1366]
[{"$f":"Photonic!B185","v":533},{"$f":"CM!D186","v":5.6180537660016992E-3},null,null,null,null,null,null,10215969973660.34,97.028249664080107,97.028249664080107,2.798715864938846E-3,{"$f":"+$L179*Photonic!BB185","v":5.643610541649183E-4},{"$f":"+$L179*Photonic!BC185","v":2.5012403556544959E-3},{"$f":"+$L179*Photonic!BD185","v":9.7305753192193799E-5},107.75,5.53,-0.85,null,null,0.2288,0.26819999999999999,0.35760000000000003,0.38019999999999998,0.36659999999999998,0.33140000000000003,0.26200000000000001,0.253,3.2000000000000001E-2,0.56699999999999995,0.30199999999999999,6.7199999999999996E-2,0.47519999999999996,0.1384,0.1384]
[{"$f":"Photonic!B186","v":534},{"$f":"CM!D187","v":5.5182030113776342E-3},null,null,null,null,null,null,10249531229661.023,97.105389685081846,97.105389685081846,2.8009409179656371E-3,{"$f":"+$L180*Photonic!BB186","v":5.9856107416925662E-4},{"$f":"+$L180*Photonic!BC186","v":2.5328348532979664E-3},{"$f":"+$L180*Photonic!BD186","v":9.0481595413961939E-5},107.39999999999999,5.34,-0.8,null,null,0.22940000000000002,0.26860000000000001,0.36380000000000001,0.37859999999999999,0.36480000000000001,0.32819999999999999,0.26100000000000001,0.252,3.2000000000000001E-2,0.57399999999999995,0.29799999999999999,6.4600000000000005E-2,0.47559999999999997,0.14019999999999999,0.14019999999999999]
[{"$f":"Photonic!B187","v":535},{"$f":"CM!D188","v":5.4312529301437347E-3},null,null,null,null,null,null,10282898636545.553,97.182529706083614,97.182529706083614,2.8031659709924286E-3,{"$f":"+$L181*Photonic!BB187","v":6.3281471795154076E-4},{"$f":"+$L181*Photonic!BC187","v":2.5644763885624236E-3},{"$f":"+$L181*Photonic!BD187","v":8.3646472574414068E-5},107.05,5.15,-0.75,null,null,0.23,0.26900000000000002,0.37,0.377,0.36299999999999999,0.32500000000000001,0.26,0.251,3.2000000000000001E-2,0.58099999999999996,0.29399999999999998,6.2E-2,0.47599999999999998,0.14199999999999999,0.14199999999999999]
[{"$f":"Photonic!B188","v":536},{"$f":"CM!D189","v":5.3442973237469299E-3},null,null,null,null,null,null,10316071644556.725,97.259669727085381,97.259669727085381,2.8053910240192202E-3,{"$f":"+$L182*Photonic!BB188","v":6.6959072961290749E-4},{"$f":"+$L182*Photonic!BC188","v":2.5884781900420541E-3},{"$f":"+$L182*Photonic!BD188","v":7.8360182082904854E-5},106.7,4.96,-0.7,null,null,0.23120000000000002,0.26960000000000001,0.37440000000000001,0.375,0.36099999999999999,0.32180000000000003,0.25940000000000002,0.25080000000000002,3.2199999999999999E-2,0.58679999999999999,0.28939999999999999,5.9799999999999999E-2,0.47739999999999999,0.14359999999999998,0.14359999999999998]
[{"$f":"Photonic!B189","v":537},{"$f":"CM!D190","v":5.2617081081842258E-3},null,null,null,null,null,null,10349049722645.127,97.33680974808712,97.33680974808712,2.8076160770460113E-3,{"$f":"+$L183*Photonic!BB189","v":7.0642428114554693E-4},{"$f":"+$L183*Photonic!BC189","v":2.612514835852084E-3},{"$f":"+$L183*Photonic!BD189","v":7.306540078904539E-5},106.35,4.7700000000000005,-0.65,null,null,0.2324,0.2702,0.37880000000000003,0.373,0.35899999999999999,0.31859999999999999,0.25880000000000003,0.25059999999999999,3.2399999999999998E-2,0.59260000000000002,0.2848,5.7599999999999998E-2,0.4788,0.1452,0.1452]
[{"$f":"Photonic!B190","v":538},{"$f":"CM!D191","v":5.1791185303393193E-3},null,null,null,null,null,null,10381832358308.531,97.413949769088902,97.413949769088902,2.8098411300728032E-3,{"$f":"+$L184*Photonic!BB190","v":7.4331537254945931E-4},{"$f":"+$L184*Photonic!BC190","v":2.636586325992514E-3},{"$f":"+$L184*Photonic!BD190","v":6.7762128692835718E-5},106,4.58,-0.6,null,null,0.2336,0.27080000000000004,0.38319999999999999,0.371,0.35699999999999998,0.31540000000000001,0.25819999999999999,0.25040000000000001,3.2600000000000004E-2,0.59839999999999993,0.2802,5.5399999999999998E-2,0.48019999999999996,0.14679999999999999,0.14679999999999999]
[{"$f":"Photonic!B191","v":539},{"$f":"CM!D192","v":4.9743206122938987E-3},null,null,null,null,null,null,10414419057430.801,97.491089790090641,97.491089790090641,2.8120661830995943E-3,{"$f":"+$L185*Photonic!BB191","v":7.802640038246444E-4},{"$f":"+$L185*Photonic!BC191","v":2.660692660463343E-3},{"$f":"+$L185*Photonic!BD191","v":6.2450365794275783E-5},105.64999999999999,4.3900000000000006,-0.55000000000000004,null,null,0.23479999999999998,0.27140000000000003,0.3876,0.36899999999999999,0.35499999999999998,0.31219999999999998,0.2576,0.25019999999999998,3.2800000000000003E-2,0.60419999999999996,0.27560000000000001,5.3199999999999997E-2,0.48159999999999997,0.1484,0.1484]
[{"$f":"Photonic!B192","v":540},{"$f":"CM!D193","v":4.8892995856887993E-3},null,null,null,null,null,null,10446809344120.398,97.568229811092408,97.568229811092408,2.8142912361263858E-3,{"$f":"+$L186*Photonic!BB192","v":8.1727017497110243E-4},{"$f":"+$L186*Photonic!BC192","v":2.6848338392645721E-3},{"$f":"+$L186*Photonic!BD192","v":5.7130112093365626E-5},105.3,4.2,-0.5,null,null,0.23599999999999999,0.27200000000000002,0.39200000000000002,0.36699999999999999,0.35299999999999998,0.309,0.25700000000000001,0.25,3.3000000000000002E-2,0.61,0.27100000000000002,5.0999999999999997E-2,0.48299999999999998,0.15,0.15]
[{"$f":"Photonic!B193","v":541},{"$f":"CM!D194","v":4.8042770851741143E-3},null,null,null,null,null,null,10479002760548.592,97.880780157210097,97.880780157210097,2.8233065447122885E-3,{"$f":"+$L187*Photonic!BB193","v":8.5901924929416087E-4},{"$f":"+$L187*Photonic!BC193","v":2.70828503608071E-3},{"$f":"+$L187*Photonic!BD193","v":5.3416959825956499E-5},105.21,3.97,-0.48,null,null,0.23779999999999998,0.27280000000000004,0.39340000000000003,0.3644,0.3508,0.30580000000000002,0.25700000000000001,0.25019999999999998,3.32E-2,0.61480000000000001,0.26640000000000003,4.8999999999999995E-2,0.4844,0.15079999999999999,0.15079999999999999]
[{"$f":"Photonic!B194","v":542},{"$f":"CM!D195","v":4.7385920210311254E-3},null,null,null,null,null,null,10510998866787.203,98.193330503327772,98.193330503327772,2.8323218532981913E-3,{"$f":"+$L188*Photonic!BB194","v":9.0101822797122063E-4},{"$f":"+$L188*Photonic!BC194","v":2.7318310739431711E-3},{"$f":"+$L188*Photonic!BD194","v":4.9678925306850273E-5},105.11999999999999,3.74,-0.46,null,null,0.23959999999999998,0.27360000000000001,0.39480000000000004,0.36180000000000001,0.34860000000000002,0.30259999999999998,0.25700000000000001,0.25040000000000001,3.3399999999999999E-2,0.61960000000000004,0.26180000000000003,4.7E-2,0.48580000000000001,0.15159999999999998,0.15159999999999998]
[{"$f":"Photonic!B195","v":543},{"$f":"CM!D196","v":4.6729094407028538E-3},null,null,null,null,null,null,10542797240646.393,98.505880849445475,98.505880849445475,2.8413371618840944E-3,{"$f":"+$L189*Photonic!BB195","v":9.4326711100228171E-4},{"$f":"+$L189*Photonic!BC195","v":2.7554719528519568E-3},{"$f":"+$L189*Photonic!BD195","v":4.591600853604697E-5},105.03,3.51,-0.44,null,null,0.2414,0.27440000000000003,0.3962,0.35919999999999996,0.34639999999999999,0.2994,0.25700000000000001,0.25059999999999999,3.3600000000000005E-2,0.62439999999999996,0.25719999999999998,4.4999999999999998E-2,0.48719999999999997,0.15240000000000001,0.15240000000000001]
[{"$f":"Photonic!B196","v":544},{"$f":"CM!D197","v":4.6052716775385151E-3},null,null,null,null,null,null,10574397477511.838,98.818431195563164,98.818431195563164,2.8503524704699972E-3,{"$f":"+$L190*Photonic!BB196","v":9.8576589838734389E-4},{"$f":"+$L190*Photonic!BC196","v":2.7792076728070658E-3},{"$f":"+$L190*Photonic!BD196","v":4.2128209513546554E-5},104.94,3.28,-0.42000000000000004,null,null,0.2432,0.2752,0.39760000000000001,0.35659999999999997,0.34420000000000001,0.29619999999999996,0.25700000000000001,0.25080000000000002,3.3800000000000004E-2,0.62919999999999998,0.25259999999999999,4.3000000000000003E-2,0.48859999999999998,0.1532,0.1532]
[{"$f":"Photonic!B197","v":545},{"$f":"CM!D198","v":4.5376325043514146E-3},null,null,null,null,null,null,10605799190181.969,99.130981541680825,99.130981541680825,2.859367779055899E-3,{"$f":"+$L191*Photonic!BB197","v":1.0285145901264068E-3},{"$f":"+$L191*Photonic!BC197","v":2.8030382338084976E-3},{"$f":"+$L191*Photonic!BD197","v":3.8315528239349047E-5},104.85,3.05,-0.4,null,null,0.245,0.27600000000000002,0.39900000000000002,0.35399999999999998,0.34200000000000003,0.29299999999999998,0.25700000000000001,0.251,3.4000000000000002E-2,0.63400000000000001,0.248,4.1000000000000002E-2,0.49,0.154,0.154]
[{"$f":"Photonic!B198","v":546},{"$f":"CM!D199","v":4.367827064040793E-3},null,null,null,null,null,null,10637002008705.055,99.443531887798514,99.443531887798514,2.8683830876418022E-3,{"$f":"+$L192*Photonic!BB198","v":1.0740660471674729E-3},{"$f":"+$L192*Photonic!BC198","v":2.8202803032620488E-3},{"$f":"+$L192*Photonic!BD198","v":3.5768737102893276E-5},104.75999999999999,2.82,-0.38,null,null,0.24659999999999999,0.2772,0.3992,0.35139999999999999,0.33980000000000005,0.29020000000000001,0.25740000000000002,0.25159999999999999,3.4200000000000001E-2,0.63780000000000003,0.24379999999999999,3.9800000000000002E-2,0.49319999999999997,0.1542,0.1542]
[{"$f":"Photonic!B199","v":547},{"$f":"CM!D200","v":4.3129238627546756E-3},null,null,null,null,null,null,10668005580215.963,99.756082233916217,99.756082233916217,2.8773983962277054E-3,{"$f":"+$L193*Photonic!BB199","v":1.1198834558118229E-3},{"$f":"+$L193*Photonic!BC199","v":2.8375752024239137E-3},{"$f":"+$L193*Photonic!BD199","v":3.3205177492467723E-5},104.67,2.59,-0.36,null,null,0.2482,0.27839999999999998,0.39940000000000003,0.3488,0.33760000000000001,0.28739999999999999,0.25780000000000003,0.25219999999999998,3.44E-2,0.64160000000000006,0.23960000000000001,3.8600000000000002E-2,0.49640000000000001,0.15440000000000001,0.15440000000000001]
[{"$f":"Photonic!B200","v":548},{"$f":"CM!D201","v":4.2580189022182443E-3},null,null,null,null,null,null,10698809568773.064,100.06863258003389,100.06863258003389,2.8864137048136077E-3,{"$f":"+$L194*Photonic!BB200","v":1.1659668160594568E-3},{"$f":"+$L194*Photonic!BC200","v":2.8549229312940911E-3},{"$f":"+$L194*Photonic!BD200","v":3.0624849408072379E-5},104.58,2.36,-0.34,null,null,0.24979999999999999,0.27960000000000002,0.39960000000000001,0.34620000000000001,0.33540000000000003,0.28460000000000002,0.25819999999999999,0.25280000000000002,3.4600000000000006E-2,0.64539999999999997,0.2354,3.7400000000000003E-2,0.49959999999999999,0.15459999999999999,0.15459999999999999]
[{"$f":"Photonic!B201","v":549},{"$f":"CM!D202","v":4.1834096353189241E-3},null,null,null,null,null,null,10729413655194.92,100.3811829261516,100.3811829261516,2.8954290133995108E-3,{"$f":"+$L195*Photonic!BB201","v":1.2123161279103752E-3},{"$f":"+$L195*Photonic!BC201","v":2.8723234898725826E-3},{"$f":"+$L195*Photonic!BD201","v":2.8027752849707269E-5},104.49000000000001,2.13,-0.32,null,null,0.25140000000000001,0.28079999999999999,0.39980000000000004,0.34360000000000002,0.3332,0.28179999999999999,0.2586,0.25340000000000001,3.4800000000000005E-2,0.6492,0.23120000000000002,3.6200000000000003E-2,0.50280000000000002,0.15479999999999999,0.15479999999999999]
[{"$f":"Photonic!B202","v":550},{"$f":"CM!D203","v":4.1088102995469949E-3},null,null,null,null,null,null,10759817536897.098,100.69373327226928,100.69373327226928,2.9044443219854135E-3,{"$f":"+$L196*Photonic!BB202","v":1.2589313913645775E-3},{"$f":"+$L196*Photonic!BC202","v":2.8897768781593874E-3},{"$f":"+$L196*Photonic!BD202","v":2.5413887817372369E-5},104.4,1.9,-0.3,null,null,0.253,0.28199999999999997,0.4,0.34100000000000003,0.33100000000000002,0.27900000000000003,0.25900000000000001,0.254,3.5000000000000003E-2,0.65300000000000002,0.22700000000000001,3.5000000000000003E-2,0.50600000000000001,0.155,0.155]
[{"$f":"Photonic!B203","v":551},{"$f":"CM!D204","v":4.0660641433964964E-3},null,null,null,null,null,null,10790020927728.881,100.62435994504234,100.62435994504234,2.9024432941179026E-3,{"$f":"+$L197*Photonic!BB203","v":1.3036904544189384E-3},{"$f":"+$L197*Photonic!BC203","v":2.8907174232096662E-3},{"$f":"+$L197*Photonic!BD203","v":2.3654912847060908E-5},103.96000000000001,1.71,-0.27,null,null,0.25480000000000003,0.28339999999999999,0.39860000000000001,0.3382,0.32880000000000004,0.2762,0.25919999999999999,0.25480000000000003,3.5400000000000001E-2,0.65560000000000007,0.2228,3.3800000000000004E-2,0.51,0.15440000000000001,0.15440000000000001]
[{"$f":"Photonic!B204","v":552},{"$f":"CM!D205","v":4.0233190988733861E-3},null,null,null,null,null,null,{"$f":"$G$5*((A198*0.000000001)^(-5)) / (EXP($G$6/(($E$6*0.000000001*A198)))-1)","v":10820023557810.057},100.55498661781543,100.55498661781543,2.9004422662503924E-3,{"$f":"+$L198*Photonic!BB204","v":1.3483866051571449E-3},{"$f":"+$L198*Photonic!BC204","v":2.8916539261836537E-3},{"$f":"+$L198*Photonic!BD204","v":2.1898339110190465E-5},103.52000000000001,1.52,-0.24,null,null,0.25659999999999999,0.2848,0.3972,0.33540000000000003,0.3266,0.27340000000000003,0.25940000000000002,0.25559999999999999,3.5799999999999998E-2,0.65820000000000001,0.21859999999999999,3.2600000000000004E-2,0.51400000000000001,0.15379999999999999,0.15379999999999999]
[{"$f":"Photonic!B205","v":553},{"$f":"CM!D206","v":3.8884836193680905E-3},null,null,null,null,null,null,10849825173367.848,{"$f":"+P199+$H$11*Q199+$H$12*R199","v":100.48561329058849},{"$f":"IF($E$6<=$K$4,I199,J199)","v":100.48561329058849},{"$f":"+K199/$L$4","v":2.8984412383828819E-3},{"$f":"+$L199*Photonic!BB205","v":1.3930198435791968E-3},{"$f":"+$L199*Photonic!BC205","v":2.8925863870813483E-3},{"$f":"+$L199*Photonic!BD205","v":2.014416660676103E-5},103.08,1.3299999999999998,-0.21,null,null,0.25840000000000002,0.28619999999999995,0.39580000000000004,0.33260000000000001,0.32440000000000002,0.27060000000000001,0.2596,0.25640000000000002,3.6200000000000003E-2,0.66080000000000005,0.21440000000000001,3.1400000000000004E-2,0.51800000000000002,0.1532,0.1532]
[{"$f":"Photonic!B206","v":554},{"$f":"CM!D207","v":3.8436491556241652E-3},null,null,null,null,null,null,10879425536573.861,100.41623996336156,100.41623996336156,2.8964402105153713E-3,{"$f":"+$L200*Photonic!BB206","v":1.4375901696850942E-3},{"$f":"+$L200*Photonic!BC206","v":2.893514805902751E-3},{"$f":"+$L200*Photonic!BD206","v":1.8392395336772609E-5},102.64,1.1399999999999999,-0.18,null,null,0.26019999999999999,0.28759999999999997,0.39440000000000003,0.32980000000000004,0.32219999999999999,0.26780000000000004,0.25980000000000003,0.25719999999999998,3.6600000000000001E-2,0.66339999999999999,0.2102,3.0200000000000001E-2,0.52200000000000002,0.15259999999999999,0.15259999999999999]
[{"$f":"Photonic!B207","v":555},{"$f":"CM!D208","v":3.7988132214168378E-3},null,null,null,null,null,null,10908824425381.205,100.34686663613464,100.34686663613464,2.8944391826478608E-3,{"$f":"+$L201*Photonic!BB207","v":1.4820975834748372E-3},{"$f":"+$L201*Photonic!BC207","v":2.8944391826478608E-3},{"$f":"+$L201*Photonic!BD207","v":1.6643025300225199E-5},102.2,0.95,-0.15,null,null,0.26200000000000001,0.28899999999999998,0.39300000000000002,0.32700000000000001,0.32,0.26500000000000001,0.26,0.25800000000000001,3.6999999999999998E-2,0.66600000000000004,0.20599999999999999,2.9000000000000001E-2,0.52600000000000002,0.152,0.152]
[{"$f":"Photonic!B208","v":556},{"$f":"CM!D209","v":3.7384655323616845E-3},null,null,null,null,null,null,10938021633361.91,100.27749330890771,100.27749330890771,2.8924381547803502E-3,{"$f":"+$L202*Photonic!BB208","v":1.5287692623276064E-3},{"$f":"+$L202*Photonic!BC208","v":2.88954571662557E-3},{"$f":"+$L202*Photonic!BD208","v":1.5561317272718286E-5},101.76,0.76,-0.12,null,null,0.26400000000000001,0.29099999999999998,0.39040000000000002,0.32400000000000001,0.31759999999999999,0.2626,0.26,0.25919999999999999,3.78E-2,0.66839999999999999,0.2024,2.8200000000000003E-2,0.53139999999999998,0.151,0.151]
[{"$f":"Photonic!B209","v":557},{"$f":"CM!D210","v":3.6781090334149897E-3},null,null,null,null,null,null,10967016969544.258,100.20811998168078,100.20811998168078,2.8904371269128397E-3,{"$f":"+$L203*Photonic!BB209","v":1.5753749472813051E-3},{"$f":"+$L203*Photonic!BC209","v":2.8846562526590141E-3},{"$f":"+$L203*Photonic!BD209","v":1.4481090005833326E-5},101.32000000000001,0.56999999999999995,-0.09,null,null,0.26600000000000001,0.29299999999999998,0.38780000000000003,0.32100000000000001,0.31519999999999998,0.26019999999999999,0.26,0.26040000000000002,3.8600000000000002E-2,0.67080000000000006,0.1988,2.7400000000000001E-2,0.53680000000000005,0.15,0.15]
[{"$f":"Photonic!B210","v":558},{"$f":"CM!D211","v":3.6454427921116497E-3},null,null,null,null,null,null,10995810258250.645,100.13874665445385,100.13874665445385,2.8884360990453291E-3,{"$f":"+$L204*Photonic!BB210","v":1.6219146383359333E-3},{"$f":"+$L204*Photonic!BC210","v":2.8797707907481933E-3},{"$f":"+$L204*Photonic!BD210","v":1.3402343499570327E-5},100.88,0.38,-0.06,null,null,0.26800000000000002,0.29499999999999998,0.38519999999999999,0.318,0.31280000000000002,0.25780000000000003,0.26,0.2616,3.9399999999999998E-2,0.67320000000000002,0.19519999999999998,2.6600000000000002E-2,0.54220000000000002,0.14899999999999999,0.14899999999999999]
[{"$f":"Photonic!B211","v":559},{"$f":"CM!D212","v":3.6127673786345662E-3},null,null,null,null,null,null,11024401338935.525,100.06937332722691,100.06937332722691,2.8864350711778181E-3,{"$f":"+$L205*Photonic!BB211","v":1.6683883354914907E-3},{"$f":"+$L205*Photonic!BC211","v":2.874889330893107E-3},{"$f":"+$L205*Photonic!BD211","v":1.2325077753929282E-5},100.44,0.19,-0.03,null,null,0.27,0.29699999999999999,0.3826,0.315,0.31040000000000001,0.25540000000000002,0.26,0.26280000000000003,4.02E-2,0.67560000000000009,0.19159999999999999,2.58E-2,0.54760000000000009,0.14799999999999999,0.14799999999999999]
[{"$f":"Photonic!B212","v":560},{"$f":"CM!D213","v":3.5141817869576335E-3},null,null,null,null,null,null,11052790066023.605,100,100,2.884434043310308E-3,{"$f":"+$L206*Photonic!BB212","v":1.7147960387479781E-3},{"$f":"+$L206*Photonic!BC212","v":2.8700118730937566E-3},{"$f":"+$L206*Photonic!BD212","v":1.1249292768910201E-5},100,0,0,null,null,0.27200000000000002,0.29899999999999999,0.38,0.312,0.308,0.253,0.26,0.26400000000000001,4.1000000000000002E-2,0.67800000000000005,0.188,2.5000000000000001E-2,0.55300000000000005,0.14699999999999999,0.14699999999999999]
[{"$f":"Photonic!B213","v":561},{"$f":"CM!D214","v":3.4836913768902357E-3},null,null,null,null,null,null,11080976308748.531,99.897234738064512,99.897234738064512,2.8814698471103435E-3,{"$f":"+$L207*Photonic!BB213","v":1.761384888141611E-3},{"$f":"+$L207*Photonic!BC213","v":2.8576112767762698E-3},{"$f":"+$L207*Photonic!BD213","v":1.057499433889496E-5},99.6,-0.16,0.02,null,null,0.2742,0.30099999999999999,0.377,0.30880000000000002,0.30559999999999998,0.25059999999999999,0.2596,0.26500000000000001,4.1599999999999998E-2,0.67980000000000007,0.18440000000000001,2.4400000000000002E-2,0.55880000000000007,0.14560000000000001,0.14560000000000001]
[{"$f":"Photonic!B214","v":562},{"$f":"CM!D215","v":3.4532069697235054E-3},null,null,null,null,null,null,11108959950991.695,99.794469476129024,99.794469476129024,2.8785056509103794E-3,{"$f":"+$L208*Photonic!BB214","v":1.8078742591107731E-3},{"$f":"+$L208*Photonic!BC214","v":2.8452301255858553E-3},{"$f":"+$L208*Photonic!BD214","v":9.9020594391317047E-6},99.2,-0.32,0.04,null,null,0.27639999999999998,0.30299999999999999,0.374,0.30559999999999998,0.30319999999999997,0.2482,0.25919999999999999,0.26600000000000001,4.2200000000000001E-2,0.68160000000000009,0.18080000000000002,2.3800000000000002E-2,0.56459999999999999,0.14419999999999999,0.14419999999999999]
[{"$f":"Photonic!B215","v":563},{"$f":"CM!D216","v":3.4173508865345918E-3},null,null,null,null,null,null,11136740891121.551,99.691704214193535,99.691704214193535,2.8755414547104153E-3,{"$f":"+$L209*Photonic!BB215","v":1.854264151655464E-3},{"$f":"+$L209*Photonic!BC215","v":2.8328684195225128E-3},{"$f":"+$L209*Photonic!BD215","v":9.2304880696204328E-6},98.8,-0.48000000000000004,6.0000000000000005E-2,null,null,0.27860000000000001,0.30499999999999999,0.371,0.3024,0.30080000000000001,0.24579999999999999,0.25880000000000003,0.26700000000000002,4.2799999999999998E-2,0.68340000000000001,0.1772,2.3199999999999998E-2,0.57040000000000002,0.14280000000000001,0.14280000000000001]
[{"$f":"Photonic!B216","v":564},{"$f":"CM!D217","v":3.3814952110343419E-3},null,null,null,null,null,null,11164319041833.174,99.588938952258061,99.588938952258061,2.8725772585104512E-3,{"$f":"+$L210*Photonic!BB216","v":1.9005545657756846E-3},{"$f":"+$L210*Photonic!BC216","v":2.8205261585862416E-3},{"$f":"+$L210*Photonic!BD216","v":8.560280230361144E-6},98.4,-0.64,0.08,null,null,0.28079999999999999,0.307,0.36799999999999999,0.29919999999999997,0.2984,0.24340000000000001,0.25840000000000002,0.26800000000000002,4.3400000000000001E-2,0.68520000000000003,0.1736,2.2599999999999999E-2,0.57619999999999993,0.1414,0.1414]
[{"$f":"Photonic!B217","v":565},{"$f":"CM!D218","v":3.3706167755802705E-3},null,null,null,null,null,null,11191694329988.363,99.486173690322559,99.486173690322559,2.8696130623104867E-3,{"$f":"+$L211*Photonic!BB217","v":1.9467455014714342E-3},{"$f":"+$L211*Photonic!BC217","v":2.8082033427770424E-3},{"$f":"+$L211*Photonic!BD217","v":7.8914359213538384E-6},98,-0.8,0.1,null,null,0.28299999999999997,0.309,0.36499999999999999,0.29599999999999999,0.29599999999999999,0.24099999999999999,0.25800000000000001,0.26900000000000002,4.3999999999999997E-2,0.68700000000000006,0.17,2.1999999999999999E-2,0.58199999999999996,0.14000000000000001,0.14000000000000001]
[{"$f":"Photonic!B218","v":566},{"$f":"CM!D219","v":3.3597376190079849E-3},null,null,null,null,null,null,11218866696456.092,99.383408428387071,99.383408428387071,2.8666488661105226E-3,{"$f":"+$L212*Photonic!BB218","v":1.9927222927880687E-3},{"$f":"+$L212*Photonic!BC218","v":2.7900520084080493E-3},{"$f":"+$L212*Photonic!BD218","v":7.5106200292095689E-6},97.6,-0.96000000000000008,0.12000000000000001,null,null,0.28599999999999998,0.31159999999999999,0.36180000000000001,0.2928,0.29359999999999997,0.23960000000000001,0.2576,0.26960000000000001,4.48E-2,0.68820000000000003,0.1666,2.1399999999999999E-2,0.58919999999999995,0.1386,0.1386]
[{"$f":"Photonic!B219","v":567},{"$f":"CM!D220","v":3.2947491115508953E-3},null,null,null,null,null,null,11245836095953.416,99.280643166451597,99.280643166451597,2.8636846699105585E-3,{"$f":"+$L213*Photonic!BB219","v":2.038599842815928E-3},{"$f":"+$L213*Photonic!BC219","v":2.7719322130866243E-3},{"$f":"+$L213*Photonic!BD219","v":7.1305748280772906E-6},97.2,-1.1200000000000001,0.14000000000000001,null,null,0.28899999999999998,0.31419999999999998,0.35859999999999997,0.28960000000000002,0.29119999999999996,0.2382,0.25719999999999998,0.2702,4.5600000000000002E-2,0.68940000000000001,0.16320000000000001,2.0799999999999999E-2,0.59639999999999993,0.13720000000000002,0.13720000000000002]
[{"$f":"Photonic!B220","v":568},{"$f":"CM!D221","v":3.2894844135790443E-3},null,null,null,null,null,null,11272602496886.84,99.177877904516095,99.177877904516095,2.8607204737105939E-3,{"$f":"+$L214*Photonic!BB220","v":2.0843781515550129E-3},{"$f":"+$L214*Photonic!BC220","v":2.7538439568127659E-3},{"$f":"+$L214*Photonic!BD220","v":6.7513003179570009E-6},96.8,-1.28,0.16,null,null,0.29199999999999998,0.31680000000000003,0.35539999999999999,0.28639999999999999,0.2888,0.23680000000000001,0.25680000000000003,0.27080000000000004,4.6399999999999997E-2,0.69059999999999999,0.1598,2.0199999999999999E-2,0.60360000000000003,0.1358,0.1358]
[{"$f":"Photonic!B221","v":569},{"$f":"CM!D222","v":3.2842178828615888E-3},null,null,null,null,null,null,11299165881194.221,99.075112642580621,99.075112642580621,2.8577562775106303E-3,{"$f":"+$L215*Photonic!BB221","v":2.1300572190053233E-3},{"$f":"+$L215*Photonic!BC221","v":2.7357872395864765E-3},{"$f":"+$L215*Photonic!BD221","v":6.372796498848705E-6},96.4,-1.4400000000000002,0.18000000000000002,null,null,0.29499999999999998,0.31940000000000002,0.35219999999999996,0.28320000000000001,0.28639999999999999,0.2354,0.25640000000000002,0.27140000000000003,4.7199999999999999E-2,0.69179999999999997,0.15640000000000001,1.9599999999999999E-2,0.61080000000000001,0.13440000000000002,0.13440000000000002]
[{"$f":"Photonic!B222","v":570},{"$f":"CM!D223","v":3.2767495913940559E-3},null,null,null,null,null,null,11325526244187.102,98.972347380645132,98.972347380645132,2.8547920813106662E-3,{"$f":"+$L216*Photonic!BB222","v":2.1756370451668588E-3},{"$f":"+$L216*Photonic!BC222","v":2.7177620614077542E-3},{"$f":"+$L216*Photonic!BD222","v":5.9950633707523985E-6},96,-1.6,0.2,null,null,0.29799999999999999,0.32200000000000001,0.34899999999999998,0.28000000000000003,0.28399999999999997,0.23400000000000001,0.25600000000000001,0.27200000000000002,4.8000000000000001E-2,0.69299999999999995,0.153,1.9E-2,0.61799999999999999,0.13300000000000001,0.13300000000000001]
[{"$f":"Photonic!B223","v":571},{"$f":"CM!D224","v":3.2692845881013475E-3},null,null,null,null,null,null,11351683594393.686,99.252974053418185,99.252974053418185,2.862886572594741E-3,{"$f":"+$L217*Photonic!BB223","v":2.2278410730617753E-3},{"$f":"+$L217*Photonic!BC223","v":2.7045116873987999E-3},{"$f":"+$L217*Photonic!BD223","v":5.840288608093271E-6},95.91,-1.79,0.23,null,null,0.30199999999999999,0.32340000000000002,0.34559999999999996,0.27660000000000001,0.28139999999999998,0.2326,0.25559999999999999,0.27240000000000003,4.8800000000000003E-2,0.69399999999999995,0.15,1.8599999999999998E-2,0.62460000000000004,0.13140000000000002,0.13140000000000002]
[{"$f":"Photonic!B224","v":572},{"$f":"CM!D225","v":3.2714413281328524E-3},null,null,null,null,null,null,11377637953402.256,99.533600726191267,99.533600726191267,2.8709810638788166E-3,{"$f":"+$L218*Photonic!BB224","v":2.2803054197963889E-3},{"$f":"+$L218*Photonic!BC224","v":2.6911428100374474E-3},{"$f":"+$L218*Photonic!BD224","v":5.684542506480057E-6},95.82,-1.98,0.26,null,null,0.30599999999999999,0.32480000000000003,0.3422,0.2732,0.27879999999999999,0.23120000000000002,0.25519999999999998,0.27280000000000004,4.9599999999999998E-2,0.69499999999999995,0.14699999999999999,1.8200000000000001E-2,0.63119999999999998,0.1298,0.1298]
[{"$f":"Photonic!B225","v":573},{"$f":"CM!D226","v":3.2735874255272134E-3},null,null,null,null,null,null,11403389355705.246,99.814227398964334,99.814227398964334,2.8790755551628923E-3,{"$f":"+$L219*Photonic!BB225","v":2.3330300853706982E-3},{"$f":"+$L219*Photonic!BC225","v":2.6776554293236961E-3},{"$f":"+$L219*Photonic!BD225","v":5.527825065912753E-6},95.73,-2.17,0.28999999999999998,null,null,0.31,0.32619999999999999,0.33879999999999999,0.26980000000000004,0.2762,0.2298,0.25480000000000003,0.2732,5.04E-2,0.69599999999999995,0.14400000000000002,1.78E-2,0.63780000000000003,0.12820000000000001,0.12820000000000001]
[{"$f":"Photonic!B226","v":574},{"$f":"CM!D227","v":3.2569128051539364E-3},null,null,null,null,null,null,11428937848543.822,100.09485407173742,100.09485407173742,2.8871700464469679E-3,{"$f":"+$L220*Photonic!BB226","v":2.3860150697847032E-3},{"$f":"+$L220*Photonic!BC226","v":2.6640495452575461E-3},{"$f":"+$L220*Photonic!BD226","v":5.3701362863913599E-6},95.64,-2.36,0.32,null,null,0.314,0.3276,0.33540000000000003,0.26640000000000003,0.27360000000000001,0.22840000000000002,0.25440000000000002,0.27360000000000001,5.1199999999999996E-2,0.69699999999999995,0.14100000000000001,1.7400000000000002E-2,0.64439999999999997,0.12659999999999999,0.12659999999999999]
[{"$f":"Photonic!B227","v":575},{"$f":"CM!D228","v":3.2773433439923011E-3},null,null,null,null,null,null,11454283491753.131,100.37548074451048,100.37548074451048,2.8952645377310431E-3,{"$f":"+$L221*Photonic!BB227","v":2.4392603730384039E-3},{"$f":"+$L221*Photonic!BC227","v":2.6503251578389969E-3},{"$f":"+$L221*Photonic!BD227","v":5.2114761679158777E-6},95.55,-2.5499999999999998,0.35,null,null,0.318,0.32900000000000001,0.33200000000000002,0.26300000000000001,0.27100000000000002,0.22700000000000001,0.254,0.27400000000000002,5.1999999999999998E-2,0.69799999999999995,0.13800000000000001,1.7000000000000001E-2,0.65100000000000002,0.125,0.125]
[{"$f":"Photonic!B228","v":576},{"$f":"CM!D229","v":3.2977742244871865E-3},null,null,null,null,null,null,11479426357608.129,100.65610741728355,100.65610741728355,2.9033590290151188E-3,{"$f":"+$L222*Photonic!BB228","v":2.4889335612135006E-3},{"$f":"+$L222*Photonic!BC228","v":2.6313723551769823E-3},{"$f":"+$L222*Photonic!BD228","v":5.1389454813567594E-6},95.46,-2.7399999999999998,0.38,null,null,0.3226,0.33019999999999999,0.3286,0.25980000000000003,0.26880000000000004,0.2266,0.254,0.27480000000000004,5.3599999999999995E-2,0.6986,0.13540000000000002,1.7000000000000001E-2,0.65680000000000005,0.1236,0.1236]
[{"$f":"Photonic!B229","v":577},{"$f":"CM!D230","v":3.314618855681442E-3},null,null,null,null,null,null,11504366530670.123,100.93673409005662,100.93673409005662,2.911453520299194E-3,{"$f":"+$L223*Photonic!BB229","v":2.5388456987713031E-3},{"$f":"+$L223*Photonic!BC229","v":2.6122725565532489E-3},{"$f":"+$L223*Photonic!BD229","v":5.0659291253205975E-6},95.36999999999999,-2.9299999999999997,0.41,null,null,0.32719999999999999,0.33140000000000003,0.32519999999999999,0.25659999999999999,0.2666,0.22620000000000001,0.254,0.27560000000000001,5.5199999999999999E-2,0.69919999999999993,0.1328,1.7000000000000001E-2,0.66260000000000008,0.1222,0.1222]
[{"$f":"Photonic!B230","v":578},{"$f":"CM!D231","v":3.3314623580688193E-3},null,null,null,null,null,null,11529104107633.799,101.2173607628297,101.2173607628297,2.9195480115832696E-3,{"$f":"+$L224*Photonic!BB230","v":2.5889967857118117E-3},{"$f":"+$L224*Photonic!BC230","v":2.5930257619677967E-3},{"$f":"+$L224*Photonic!BD230","v":4.9924270998073909E-6},95.28,-3.12,0.44,null,null,0.33180000000000004,0.33260000000000001,0.32180000000000003,0.25340000000000001,0.26440000000000002,0.2258,0.254,0.27640000000000003,5.6799999999999996E-2,0.69979999999999998,0.13020000000000001,1.7000000000000001E-2,0.66839999999999999,0.12079999999999999,0.12079999999999999]
[{"$f":"Photonic!B231","v":579},{"$f":"CM!D232","v":3.3534240319495283E-3},null,null,null,null,null,null,11553639197175.158,101.49798743560277,101.49798743560277,2.9276425028673453E-3,{"$f":"+$L225*Photonic!BB231","v":2.6393868220350265E-3},{"$f":"+$L225*Photonic!BC231","v":2.5736319714206256E-3},{"$f":"+$L225*Photonic!BD231","v":4.9184394048171399E-6},95.19,-3.31,0.47,null,null,0.33640000000000003,0.33380000000000004,0.31840000000000002,0.25019999999999998,0.26219999999999999,0.22540000000000002,0.254,0.2772,5.8400000000000001E-2,0.70039999999999991,0.12759999999999999,1.7000000000000001E-2,0.67420000000000002,0.11939999999999999,0.11939999999999999]
[{"$f":"Photonic!B232","v":580},{"$f":"CM!D233","v":3.375401989085848E-3},null,null,null,null,null,null,11577971919799.867,101.77861410837585,101.77861410837585,2.9357369941514209E-3,{"$f":"+$L226*Photonic!BB232","v":2.6900158077409471E-3},{"$f":"+$L226*Photonic!BC232","v":2.5540911849117362E-3},{"$f":"+$L226*Photonic!BD232","v":4.8439660403498443E-6},95.1,-3.5,0.5,null,null,0.34100000000000003,0.33500000000000002,0.315,0.247,0.26,0.22500000000000001,0.254,0.27800000000000002,0.06,0.70099999999999996,0.125,1.7000000000000001E-2,0.68,0.11799999999999999,0.11799999999999999]
[{"$f":"Photonic!B233","v":581},{"$f":"CM!D234","v":3.4249323787055438E-3},null,null,null,null,null,null,11602102407692.639,101.63072089420534,101.63072089420534,2.9314711119341409E-3,{"$f":"+$L227*Photonic!BB233","v":2.7226331099199528E-3},{"$f":"+$L227*Photonic!BC233","v":2.5188958676405299E-3},{"$f":"+$L227*Photonic!BD233","v":4.6903537790946256E-6},94.5,-3.5,0.66,null,null,0.34620000000000001,0.33580000000000004,0.31180000000000002,0.24340000000000001,0.25740000000000002,0.22440000000000002,0.255,0.2792,6.3199999999999992E-2,0.7016,0.12280000000000001,1.7000000000000001E-2,0.68420000000000003,0.1168,0.1168]
[{"$f":"Photonic!B234","v":582},{"$f":"CM!D235","v":3.4738544762361757E-3},null,null,null,null,null,null,11626030804566.941,101.48282768003483,101.48282768003483,2.927205229716861E-3,{"$f":"+$L228*Photonic!BB234","v":2.755144106314104E-3},{"$f":"+$L228*Photonic!BC234","v":2.4837921815193511E-3},{"$f":"+$L228*Photonic!BD234","v":4.5371681060611343E-6},93.899999999999991,-3.5,0.82000000000000006,null,null,0.35139999999999999,0.33660000000000001,0.30859999999999999,0.23980000000000001,0.25480000000000003,0.2238,0.25600000000000001,0.28039999999999998,6.6400000000000001E-2,0.70219999999999994,0.1206,1.7000000000000001E-2,0.68840000000000001,0.11559999999999999,0.11559999999999999]
[{"$f":"Photonic!B235","v":583},{"$f":"CM!D236","v":3.5227762114846046E-3},null,null,null,null,null,null,11649757265515.764,101.33493446586432,101.33493446586432,2.922939347499581E-3,{"$f":"+$L229*Photonic!BB235","v":2.7875487969234005E-3},{"$f":"+$L229*Photonic!BC235","v":2.4487801265481988E-3},{"$f":"+$L229*Photonic!BD235","v":4.3844090212493719E-6},93.3,-3.5,0.98,null,null,0.35660000000000003,0.33740000000000003,0.3054,0.23619999999999999,0.25219999999999998,0.22320000000000001,0.25700000000000001,0.28160000000000002,6.9599999999999995E-2,0.70279999999999998,0.11840000000000001,1.7000000000000001E-2,0.69259999999999999,0.1144,0.1144]
[{"$f":"Photonic!B236","v":584},{"$f":"CM!D237","v":3.5815664304815354E-3},null,null,null,null,null,null,11673281956862.957,101.18704125169381,101.18704125169381,2.9186734652823011E-3,{"$f":"+$L230*Photonic!BB236","v":2.8198471817478424E-3},{"$f":"+$L230*Photonic!BC236","v":2.4138597027270744E-3},{"$f":"+$L230*Photonic!BD236","v":4.232076524659336E-6},92.699999999999989,-3.5,1.1400000000000001,null,null,0.36180000000000001,0.3382,0.30219999999999997,0.2326,0.24959999999999999,0.22259999999999999,0.25800000000000001,0.2828,7.2800000000000004E-2,0.70339999999999991,0.1162,1.7000000000000001E-2,0.69679999999999997,0.1132,0.1132]
[{"$f":"Photonic!B237","v":585},{"$f":"CM!D238","v":3.6403639889066065E-3},null,null,null,null,null,null,11696605056015.305,101.0391480375233,101.0391480375233,2.9144075830650211E-3,{"$f":"+$L231*Photonic!BB237","v":2.8520392607874296E-3},{"$f":"+$L231*Photonic!BC237","v":2.3790309100559766E-3},{"$f":"+$L231*Photonic!BD237","v":4.0801706162910291E-6},92.1,-3.5,1.3,null,null,0.36699999999999999,0.33900000000000002,0.29899999999999999,0.22900000000000001,0.247,0.222,0.25900000000000001,0.28399999999999997,7.5999999999999998E-2,0.70399999999999996,0.114,1.7000000000000001E-2,0.70099999999999996,0.112,0.112]
[{"$f":"Photonic!B238","v":586},{"$f":"CM!D239","v":3.7570546853545345E-3},null,null,null,null,null,null,11719726751315.506,100.89125482335281,100.89125482335281,2.9101417008477416E-3,{"$f":"+$L232*Photonic!BB238","v":2.8756274202756875E-3},{"$f":"+$L232*Photonic!BC238","v":2.3410343898299575E-3},{"$f":"+$L232*Photonic!BD238","v":3.8995898791359735E-6},91.5,-3.5,1.46,null,null,0.37159999999999999,0.33940000000000003,0.29619999999999996,0.22600000000000001,0.24399999999999999,0.2218,0.26119999999999999,0.28619999999999995,8.1199999999999994E-2,0.70419999999999994,0.1124,1.6800000000000002E-2,0.70419999999999994,0.1108,0.1108]
[{"$f":"Photonic!B239","v":587},{"$f":"CM!D240","v":3.8368815160122185E-3},null,null,null,null,null,null,11742647241895.781,100.74336160918229,100.74336160918229,2.9058758186304612E-3,{"$f":"+$L233*Photonic!BB239","v":2.8991341867312384E-3},{"$f":"+$L233*Photonic!BC239","v":2.3031390563301312E-3},{"$f":"+$L233*Photonic!BD239","v":3.7195210478469905E-6},90.899999999999991,-3.5,1.62,null,null,0.37619999999999998,0.33980000000000005,0.29339999999999999,0.223,0.24099999999999999,0.22159999999999999,0.26340000000000002,0.28839999999999999,8.6399999999999991E-2,0.70439999999999992,0.1108,1.66E-2,0.70739999999999992,0.1096,0.1096]
[{"$f":"Photonic!B240","v":588},{"$f":"CM!D241","v":3.9167075347387639E-3},null,null,null,null,null,null,11765366737532.344,100.59546839501178,100.59546839501178,2.9016099364131812E-3,{"$f":"+$L234*Photonic!BB240","v":2.9225595601540845E-3},{"$f":"+$L234*Photonic!BC240","v":2.2653449095564986E-3},{"$f":"+$L234*Photonic!BD240","v":3.5399641224240811E-6},90.3,-3.5,1.78,null,null,0.38080000000000003,0.3402,0.29059999999999997,0.22,0.23800000000000002,0.22140000000000001,0.2656,0.29059999999999997,9.1600000000000001E-2,0.7046,0.10920000000000001,1.6400000000000001E-2,0.71060000000000001,0.1084,0.1084]
[{"$f":"Photonic!B241","v":589},{"$f":"CM!D242","v":3.9930081616136523E-3},null,null,null,null,null,null,11787885458500.66,100.44757518084127,100.44757518084127,2.8973440541959013E-3,{"$f":"+$L235*Photonic!BB241","v":2.945903540544225E-3},{"$f":"+$L235*Photonic!BC241","v":2.2276519495090605E-3},{"$f":"+$L235*Photonic!BD241","v":3.3609191028672456E-6},89.699999999999989,-3.5,1.9400000000000002,null,null,0.38540000000000002,0.34060000000000001,0.2878,0.217,0.23500000000000001,0.22120000000000001,0.26780000000000004,0.2928,9.6799999999999997E-2,0.70479999999999998,0.1076,1.6199999999999999E-2,0.71379999999999999,0.1072,0.1072]
[{"$f":"Photonic!B242","v":590},{"$f":"CM!D243","v":4.0692998631414352E-3},null,null,null,null,null,null,11810203635431.488,100.29968196667076,100.29968196667076,2.8930781719786213E-3,{"$f":"+$L236*Photonic!BB242","v":2.969166127901659E-3},{"$f":"+$L236*Photonic!BC242","v":2.1900601761878163E-3},{"$f":"+$L236*Photonic!BD242","v":3.1823859891764837E-6},89.1,-3.5,2.1,null,null,0.39,0.34100000000000003,0.28499999999999998,0.214,0.23200000000000001,0.221,0.27,0.29499999999999998,0.10199999999999999,0.70499999999999996,0.106,1.6E-2,0.71699999999999997,0.106,0.106]
[{"$f":"Photonic!B243","v":591},{"$f":"CM!D244","v":4.159768911863663E-3},null,null,null,null,null,null,11832321509167.84,101.09654237981755,101.09654237981755,2.9160630850130903E-3,{"$f":"+$L237*Photonic!BB243","v":3.0104852077058146E-3},{"$f":"+$L237*Photonic!BC243","v":2.1712422518390469E-3},{"$f":"+$L237*Photonic!BD243","v":3.1493481318141374E-6},89.24,-3.73,2.21,null,null,0.39379999999999998,0.34100000000000003,0.28239999999999998,0.21079999999999999,0.2296,0.2208,0.27279999999999999,0.29919999999999997,0.10879999999999999,0.70499999999999996,0.1048,1.6E-2,0.71939999999999993,0.105,0.105]
[{"$f":"Photonic!B244","v":592},{"$f":"CM!D245","v":4.2502371940612111E-3},null,null,null,null,null,null,11854239330622.605,101.89340279296431,101.89340279296431,2.9390479980475584E-3,{"$f":"+$L238*Photonic!BB244","v":3.0520837840524672E-3},{"$f":"+$L238*Photonic!BC244","v":2.1518533822505004E-3},{"$f":"+$L238*Photonic!BD244","v":3.115390877930412E-6},89.38,-3.96,2.3199999999999998,null,null,0.39760000000000001,0.34100000000000003,0.27979999999999999,0.20760000000000001,0.22720000000000001,0.22059999999999999,0.27560000000000001,0.3034,0.11559999999999999,0.70499999999999996,0.1036,1.6E-2,0.7218,0.104,0.104]
[{"$f":"Photonic!B245","v":593},{"$f":"CM!D246","v":4.3811972389210009E-3},null,null,null,null,null,null,11875957360637.135,102.69026320611108,102.69026320611108,2.9620329110820274E-3,{"$f":"+$L239*Photonic!BB245","v":3.0939618569416211E-3},{"$f":"+$L239*Photonic!BC245","v":2.1318935674221784E-3},{"$f":"+$L239*Photonic!BD245","v":3.0805142275253087E-6},89.52,-4.1900000000000004,2.4300000000000002,null,null,0.40139999999999998,0.34100000000000003,0.2772,0.2044,0.2248,0.22040000000000001,0.27839999999999998,0.30759999999999998,0.12240000000000001,0.70499999999999996,0.1024,1.6E-2,0.72419999999999995,0.10300000000000001,0.10300000000000001]
[{"$f":"Photonic!B246","v":594},{"$f":"CM!D247","v":4.4364195469727219E-3},null,null,null,null,null,null,11897475869840.705,103.48712361925786,103.48712361925786,2.9850178241164959E-3,{"$f":"+$L240*Photonic!BB246","v":3.1361194263732728E-3},{"$f":"+$L240*Photonic!BC246","v":2.1113628073540797E-3},{"$f":"+$L240*Photonic!BD246","v":3.0447181805988262E-6},89.66,-4.42,2.54,null,null,0.4052,0.34100000000000003,0.27460000000000001,0.20120000000000002,0.22240000000000001,0.22020000000000001,0.28120000000000001,0.31180000000000002,0.12920000000000001,0.70499999999999996,0.1012,1.6E-2,0.72660000000000002,0.10200000000000001,0.10200000000000001]
[{"$f":"Photonic!B247","v":595},{"$f":"CM!D248","v":4.4916444921301547E-3},null,null,null,null,null,null,11918795138510.688,104.28398403240465,104.28398403240465,3.0080027371509653E-3,{"$f":"+$L241*Photonic!BB247","v":3.1785564923474249E-3},{"$f":"+$L241*Photonic!BC247","v":2.0902611020462056E-3},{"$f":"+$L241*Photonic!BD247","v":3.0080027371509653E-6},89.8,-4.6500000000000004,2.65,null,null,0.40899999999999997,0.34100000000000003,0.27200000000000002,0.19800000000000001,0.22,0.22,0.28399999999999997,0.316,0.13600000000000001,0.70499999999999996,0.1,1.6E-2,0.72899999999999998,0.10100000000000001,0.10100000000000001]
[{"$f":"Photonic!B248","v":596},{"$f":"CM!D249","v":4.5105284138699624E-3},null,null,null,null,null,null,11939915456433.703,105.08084444555142,105.08084444555142,3.0309876501854339E-3,{"$f":"+$L242*Photonic!BB248","v":3.2061787363661521E-3},{"$f":"+$L242*Photonic!BC248","v":2.0674972959444878E-3},{"$f":"+$L242*Photonic!BD248","v":2.9097481441780167E-6},89.94,-4.88,2.76,null,null,0.41199999999999998,0.3412,0.27040000000000003,0.19540000000000002,0.218,0.22,0.28759999999999997,0.32240000000000002,0.14680000000000001,0.70519999999999994,9.920000000000001E-2,1.6E-2,0.73039999999999994,0.1004,0.1004]
[{"$f":"Photonic!B249","v":597},{"$f":"CM!D250","v":4.5294193862509989E-3},null,null,null,null,null,null,11960837122767.631,105.87770485869819,105.87770485869819,3.0539725632199029E-3,{"$f":"+$L243*Photonic!BB249","v":3.2338515471935551E-3},{"$f":"+$L243*Photonic!BC249","v":2.0441459954656095E-3},{"$f":"+$L243*Photonic!BD249","v":2.8096547581623105E-6},90.08,-5.1100000000000003,2.87,null,null,0.41499999999999998,0.34140000000000004,0.26880000000000004,0.1928,0.216,0.22,0.29119999999999996,0.32879999999999998,0.15760000000000002,0.70539999999999992,9.8400000000000001E-2,1.6E-2,0.73180000000000001,9.98E-2,9.98E-2]
[{"$f":"Photonic!B250","v":598},{"$f":"CM!D251","v":4.5388635540145874E-3},null,null,null,null,null,null,11981560445904.504,106.67456527184497,106.67456527184497,3.0769574762543714E-3,{"$f":"+$L244*Photonic!BB250","v":3.261574924829634E-3},{"$f":"+$L244*Photonic!BC250","v":2.0202072006095702E-3},{"$f":"+$L244*Photonic!BD250","v":2.7077225791038469E-6},90.22,-5.34,2.98,null,null,0.41799999999999998,0.34160000000000001,0.26719999999999999,0.19020000000000001,0.214,0.22,0.29480000000000001,0.3352,0.16839999999999999,0.7056,9.7600000000000006E-2,1.6E-2,0.73319999999999996,9.920000000000001E-2,9.920000000000001E-2]
[{"$f":"Photonic!B251","v":599},{"$f":"CM!D252","v":4.5120980222779416E-3},null,null,null,null,null,null,12002085743334.213,107.47142568499174,107.47142568499174,3.0999423892888399E-3,{"$f":"+$L245*Photonic!BB251","v":3.2893488692743878E-3},{"$f":"+$L245*Photonic!BC251","v":1.9956809113763694E-3},{"$f":"+$L245*Photonic!BD251","v":2.6039516070026257E-6},90.36,-5.57,3.0900000000000003,null,null,0.42099999999999999,0.34180000000000005,0.2656,0.18759999999999999,0.21199999999999999,0.22,0.2984,0.34159999999999996,0.1792,0.70579999999999998,9.6799999999999997E-2,1.6E-2,0.73460000000000003,9.8600000000000007E-2,9.8600000000000007E-2]
[{"$f":"Photonic!B252","v":600},{"$f":"CM!D253","v":4.4850395508936472E-3},null,null,null,null,null,null,12022413341509.193,108.26828609813852,108.26828609813852,3.1229273023233089E-3,{"$f":"+$L246*Photonic!BB252","v":3.317173380527819E-3},{"$f":"+$L246*Photonic!BC252","v":1.9705671277660077E-3},{"$f":"+$L246*Photonic!BD252","v":2.4983418418586474E-6},90.5,-5.8,3.2,null,null,0.42399999999999999,0.34200000000000003,0.26400000000000001,0.185,0.21,0.22,0.30199999999999999,0.34799999999999998,0.19,0.70599999999999996,9.6000000000000002E-2,1.6E-2,0.73599999999999999,9.8000000000000004E-2,9.8000000000000004E-2]
[{"$f":"Photonic!B253","v":601},{"$f":"CM!D254","v":4.4633423230408115E-3},null,null,null,null,null,null,12042543575710.002,108.71322738127395,108.71322738127395,3.1357613401668091E-3,{"$f":"+$L247*Photonic!BB253","v":3.3203949678758311E-3},{"$f":"+$L247*Photonic!BC253","v":1.938402230037515E-3},{"$f":"+$L247*Photonic!BD253","v":2.3831786185267749E-6},90.48,-5.9399999999999995,3.29,null,null,0.42619999999999997,0.34200000000000003,0.2626,0.183,0.20799999999999999,0.22,0.30640000000000001,0.35519999999999996,0.20319999999999999,0.70619999999999994,9.5200000000000007E-2,1.6E-2,0.73719999999999997,9.74E-2,9.74E-2]
[{"$f":"Photonic!B254","v":602},{"$f":"CM!D255","v":4.4416439209746354E-3},null,null,null,null,null,null,12062476789911.762,109.1581686644094,109.1581686644094,3.1485953780103098E-3,{"$f":"+$L248*Photonic!BB254","v":3.3235313372125628E-3},{"$f":"+$L248*Photonic!BC254","v":1.9059077542172007E-3},{"$f":"+$L248*Photonic!BD254","v":2.2669886721674233E-6},90.460000000000008,-6.08,3.38,null,null,0.4284,0.34200000000000003,0.26119999999999999,0.18099999999999999,0.20599999999999999,0.22,0.31080000000000002,0.3624,0.21640000000000001,0.70639999999999992,9.4399999999999998E-2,1.6E-2,0.73839999999999995,9.6799999999999997E-2,9.6799999999999997E-2]
[{"$f":"Photonic!B255","v":603},{"$f":"CM!D256","v":4.4142931780491741E-3},null,null,null,null,null,null,12082213336651.514,109.60310994754482,109.60310994754482,3.1614294158538096E-3,{"$f":"+$L249*Photonic!BB255","v":3.3265824885380128E-3},{"$f":"+$L249*Photonic!BC255","v":1.8730837003050652E-3},{"$f":"+$L249*Photonic!BD255","v":2.1497720027805904E-6},90.44,-6.22,3.47,null,null,0.43059999999999998,0.34200000000000003,0.25980000000000003,0.17899999999999999,0.20400000000000001,0.22,0.31519999999999998,0.36959999999999998,0.2296,0.70660000000000001,9.3600000000000003E-2,1.6E-2,0.73960000000000004,9.6200000000000008E-2,9.6200000000000008E-2]
[{"$f":"Photonic!B256","v":604},{"$f":"CM!D257","v":4.3869272600492995E-3},null,null,null,null,null,null,12101753576896.533,110.04805123068027,110.04805123068027,3.1742634536973098E-3,{"$f":"+$L250*Photonic!BB256","v":3.3295484218521824E-3},{"$f":"+$L250*Photonic!BC256","v":1.8399300683011085E-3},{"$f":"+$L250*Photonic!BD256","v":2.031528610366278E-6},90.42,-6.36,3.56,null,null,0.43280000000000002,0.34200000000000003,0.25840000000000002,0.17699999999999999,0.20200000000000001,0.22,0.3196,0.37680000000000002,0.24280000000000002,0.70679999999999998,9.2799999999999994E-2,1.6E-2,0.74080000000000001,9.5600000000000004E-2,9.5600000000000004E-2]
[{"$f":"Photonic!B257","v":605},{"$f":"CM!D258","v":4.3772297992951247E-3},null,null,null,null,null,null,12121097879913.607,110.49299251381572,110.49299251381572,3.1870974915408105E-3,{"$f":"+$L251*Photonic!BB257","v":3.3324291371550716E-3},{"$f":"+$L251*Photonic!BC257","v":1.8064468582053312E-3},{"$f":"+$L251*Photonic!BD257","v":1.9122584949244859E-6},90.4,-6.5,3.65,null,null,0.435,0.34200000000000003,0.25700000000000001,0.17499999999999999,0.2,0.22,0.32400000000000001,0.38400000000000001,0.25600000000000001,0.70699999999999996,9.1999999999999998E-2,1.6E-2,0.74199999999999999,9.5000000000000001E-2,9.5000000000000001E-2]
[{"$f":"Photonic!B258","v":606},{"$f":"CM!D259","v":4.4048963971580367E-3},null,null,null,null,null,null,12140246623139.027,110.93793379695114,110.93793379695114,3.1999315293843103E-3,{"$f":"+$L252*Photonic!BB258","v":3.3183289959715302E-3},{"$f":"+$L252*Photonic!BC258","v":1.7728900645400832E-3},{"$f":"+$L252*Photonic!BD258","v":1.753562478102602E-6},90.38000000000001,-6.64,3.7399999999999998,null,null,0.43640000000000001,0.34200000000000003,0.25600000000000001,0.17379999999999998,0.1988,0.22,0.32800000000000001,0.39400000000000002,0.27200000000000002,0.70699999999999996,9.1600000000000001E-2,1.6E-2,0.74260000000000004,9.4600000000000004E-2,9.4600000000000004E-2]
[{"$f":"Photonic!B259","v":607},{"$f":"CM!D260","v":4.4325704079443773E-3},null,null,null,null,null,null,12159200192049.813,111.38287508008656,111.38287508008656,3.2127655672278101E-3,{"$f":"+$L253*Photonic!BB259","v":3.30400810933708E-3},{"$f":"+$L253*Photonic!BC259","v":1.7390057462290691E-3},{"$f":"+$L253*Photonic!BD259","v":1.5935317213449938E-6},90.36,-6.78,3.8299999999999996,null,null,0.43780000000000002,0.34200000000000003,0.255,0.1726,0.1976,0.22,0.33200000000000002,0.40400000000000003,0.28800000000000003,0.70699999999999996,9.1200000000000003E-2,1.6E-2,0.74319999999999997,9.4200000000000006E-2,9.4200000000000006E-2]
[{"$f":"Photonic!B260","v":608},{"$f":"CM!D261","v":4.5018950159190401E-3},null,null,null,null,null,null,12177958980035.639,111.82781636322201,111.82781636322201,3.2255996050713108E-3,{"$f":"+$L254*Photonic!BB260","v":3.289466477251723E-3},{"$f":"+$L254*Photonic!BC260","v":1.7047939032722892E-3},{"$f":"+$L254*Photonic!BD260","v":1.4321662246516619E-6},90.34,-6.92,3.92,null,null,0.43919999999999998,0.34200000000000003,0.254,0.1714,0.19640000000000002,0.22,0.33599999999999997,0.41399999999999998,0.30399999999999999,0.70699999999999996,9.0799999999999992E-2,1.6E-2,0.74380000000000002,9.3799999999999994E-2,9.3799999999999994E-2]
[{"$f":"Photonic!B261","v":609},{"$f":"CM!D262","v":4.5712152275376779E-3},null,null,null,null,null,null,12196523388271.816,112.27275764635745,112.27275764635745,3.238433642914811E-3,{"$f":"+$L255*Photonic!BB261","v":3.2747040997154566E-3},{"$f":"+$L255*Photonic!BC261","v":1.6702545356697429E-3},{"$f":"+$L255*Photonic!BD261","v":1.2694659880226058E-6},90.32,-7.0600000000000005,4.01,null,null,0.44059999999999999,0.34200000000000003,0.253,0.17020000000000002,0.19520000000000001,0.22,0.33999999999999997,0.42399999999999999,0.32,0.70699999999999996,9.0399999999999994E-2,1.6E-2,0.74439999999999995,9.3399999999999997E-2,9.3399999999999997E-2]
[{"$f":"Photonic!B262","v":610},{"$f":"CM!D263","v":4.7827454623985081E-3},null,null,null,null,null,null,12214893825593.199,112.71769892949288,112.71769892949288,3.2512676807583112E-3,{"$f":"+$L256*Photonic!BB262","v":3.2597209767282827E-3},{"$f":"+$L256*Photonic!BC262","v":1.6353876434214306E-3},{"$f":"+$L256*Photonic!BD262","v":1.1054310114578259E-6},90.3,-7.2,4.0999999999999996,null,null,0.442,0.34200000000000003,0.252,0.16900000000000001,0.19400000000000001,0.22,0.34399999999999997,0.434,0.33600000000000002,0.70699999999999996,0.09,1.6E-2,0.745,9.2999999999999999E-2,9.2999999999999999E-2]
[{"$f":"Photonic!B263","v":611},{"$f":"CM!D264","v":4.9553322758540659E-3},null,null,null,null,null,null,12233070708368.969,112.90787019028529,112.90787019028529,3.2567530453452001E-3,{"$f":"+$L257*Photonic!BB263","v":3.2234038941608653E-3},{"$f":"+$L257*Photonic!BC263","v":1.5978933141681691E-3},{"$f":"+$L257*Photonic!BD263","v":1.042160974510464E-6},90.11,-7.34,4.16,null,null,0.44319999999999998,0.34180000000000005,0.251,0.16800000000000001,0.193,0.22,0.34759999999999996,0.44359999999999999,0.35239999999999999,0.70699999999999996,8.9399999999999993E-2,1.6E-2,0.74539999999999995,9.2399999999999996E-2,9.2399999999999996E-2]
[{"$f":"Photonic!B264","v":612},{"$f":"CM!D265","v":5.1279287185954526E-3},null,null,null,null,null,null,12251054460378.516,113.09804145107769,113.09804145107769,3.262238409932088E-3,{"$f":"+$L258*Photonic!BB264","v":3.1869459474308556E-3},{"$f":"+$L258*Photonic!BC264","v":1.5602633867023189E-3},{"$f":"+$L258*Photonic!BD264","v":9.7867152297962651E-7},89.92,-7.48,4.22,null,null,0.44440000000000002,0.34160000000000001,0.25,0.16700000000000001,0.192,0.22,0.35119999999999996,0.45319999999999999,0.36880000000000002,0.70699999999999996,8.879999999999999E-2,1.6E-2,0.74580000000000002,9.1799999999999993E-2,9.1799999999999993E-2]
[{"$f":"Photonic!B265","v":613},{"$f":"CM!D266","v":5.3489348464760477E-3},null,null,null,null,null,null,12268845512688.119,113.28821271187009,113.28821271187009,3.2677237745189765E-3,{"$f":"+$L259*Photonic!BB265","v":3.1503471365382546E-3},{"$f":"+$L259*Photonic!BC265","v":1.5224978610238816E-3},{"$f":"+$L259*Photonic!BD265","v":9.1496265686531349E-7},89.72999999999999,-7.62,4.28,null,null,0.4456,0.34140000000000004,0.249,0.16600000000000001,0.191,0.22,0.3548,0.46279999999999999,0.38519999999999999,0.70699999999999996,8.8200000000000001E-2,1.6E-2,0.74619999999999997,9.1200000000000003E-2,9.1200000000000003E-2]
[{"$f":"Photonic!B266","v":614},{"$f":"CM!D267","v":5.5699332726463022E-3},null,null,null,null,null,null,12286444303528.672,113.4783839726625,113.4783839726625,3.2732091391058653E-3,{"$f":"+$L260*Photonic!BB266","v":3.1136074614830631E-3},{"$f":"+$L260*Photonic!BC266","v":1.4845967371328562E-3},{"$f":"+$L260*Photonic!BD266","v":8.5103437616752507E-7},89.539999999999992,-7.7600000000000007,4.34,null,null,0.44680000000000003,0.3412,0.248,0.16500000000000001,0.19,0.22,0.3584,0.47239999999999999,0.40160000000000001,0.70699999999999996,8.7599999999999997E-2,1.6E-2,0.74660000000000004,9.06E-2,9.06E-2]
[{"$f":"Photonic!B267","v":615},{"$f":"CM!D268","v":6.1129327051763762E-3},null,null,null,null,null,null,12303851278174.348,113.66855523345492,113.66855523345492,3.2786945036927546E-3,{"$f":"+$L261*Photonic!BB267","v":3.0767269222652808E-3},{"$f":"+$L261*Photonic!BC267","v":1.4465600150292432E-3},{"$f":"+$L261*Photonic!BD267","v":7.8688668088626116E-7},89.35,-7.9,4.4000000000000004,null,null,0.44800000000000001,0.34100000000000003,0.247,0.16400000000000001,0.189,0.22,0.36199999999999999,0.48199999999999998,0.41799999999999998,0.70699999999999996,8.6999999999999994E-2,1.6E-2,0.747,0.09,0.09]
[{"$f":"Photonic!B268","v":616},{"$f":"CM!D269","v":6.4469291392438254E-3},null,null,null,null,null,null,{"$f":"$G$5*((A262*0.000000001)^(-5)) / (EXP($G$6/(($E$6*0.000000001*A262)))-1)","v":12321066888822.24},113.85872649424732,113.85872649424732,3.284179868279643E-3,{"$f":"+$L262*Photonic!BB268","v":3.0267658502038846E-3},{"$f":"+$L262*Photonic!BC268","v":1.4094386322708915E-3},{"$f":"+$L262*Photonic!BD268","v":7.553613697043179E-7},89.16,-8.0400000000000009,4.46,null,null,0.44840000000000002,0.34100000000000003,0.24579999999999999,0.16320000000000001,0.18820000000000001,0.22059999999999999,0.36499999999999999,0.49119999999999997,0.43540000000000001,0.70719999999999994,8.6599999999999996E-2,1.6E-2,0.74719999999999998,8.9799999999999991E-2,8.9799999999999991E-2]
[{"$f":"Photonic!B269","v":617},{"$f":"CM!D270","v":6.780940727760006E-3},null,null,null,null,null,null,12338091594472.883,{"$f":"+P263+$H$11*Q263+$H$12*R263","v":114.04889775503973},{"$f":"IF($E$6<=$K$4,I263,J263)","v":114.04889775503973},{"$f":"+K263/$L$4","v":3.2896652328665314E-3},{"$f":"+$L263*Photonic!BB269","v":2.9766206893069524E-3},{"$f":"+$L263*Photonic!BC269","v":1.3721851619332875E-3},{"$f":"+$L263*Photonic!BD269","v":7.2372635123063694E-7},88.97,-8.18,4.5200000000000005,null,null,0.44880000000000003,0.34100000000000003,0.24459999999999998,0.16240000000000002,0.18740000000000001,0.22120000000000001,0.36799999999999999,0.50039999999999996,0.45279999999999998,0.70739999999999992,8.6199999999999999E-2,1.6E-2,0.74739999999999995,8.9599999999999999E-2,8.9599999999999999E-2]
[{"$f":"Photonic!B270","v":618},{"$f":"CM!D271","v":7.16720352835173E-3},null,null,null,null,null,null,12354925860811.861,114.23906901583214,114.23906901583214,3.2951505974534202E-3,{"$f":"+$L264*Photonic!BB270","v":2.9262914395744846E-3},{"$f":"+$L264*Photonic!BC270","v":1.3347996040164315E-3},{"$f":"+$L264*Photonic!BD270","v":6.9198162546521829E-7},88.78,-8.32,4.58,null,null,0.44919999999999999,0.34100000000000003,0.24340000000000001,0.16159999999999999,0.18659999999999999,0.2218,0.371,0.50960000000000005,0.47020000000000001,0.70760000000000001,8.5800000000000001E-2,1.6E-2,0.74760000000000004,8.9399999999999993E-2,8.9399999999999993E-2]
[{"$f":"Photonic!B271","v":619},{"$f":"CM!D272","v":7.5534612080230259E-3},null,null,null,null,null,null,12371570160092.309,114.42924027662455,114.42924027662455,3.3006359620403091E-3,{"$f":"+$L265*Photonic!BB271","v":2.8757781010064808E-3},{"$f":"+$L265*Photonic!BC271","v":1.2972819585203232E-3},{"$f":"+$L265*Photonic!BD271","v":6.6012719240806183E-7},88.59,-8.4599999999999991,4.6400000000000006,null,null,0.4496,0.34100000000000003,0.2422,0.1608,0.18579999999999999,0.22240000000000001,0.374,0.51880000000000004,0.48759999999999998,0.70779999999999998,8.5400000000000004E-2,1.6E-2,0.74780000000000002,8.9200000000000002E-2,8.9200000000000002E-2]
[{"$f":"Photonic!B272","v":620},{"$f":"CM!D273","v":8.3678979043571439E-3},null,null,null,null,null,null,12388024971018.375,114.61941153741697,114.61941153741697,3.3061213266271979E-3,{"$f":"+$L266*Photonic!BB272","v":2.8250806736029406E-3},{"$f":"+$L266*Photonic!BC272","v":1.2596322254449625E-3},{"$f":"+$L266*Photonic!BD272","v":6.2816305205916767E-7},88.4,-8.6,4.7,null,null,0.45,0.34100000000000003,0.24099999999999999,0.16,0.185,0.223,0.377,0.52800000000000002,0.505,0.70799999999999996,8.5000000000000006E-2,1.6E-2,0.748,8.8999999999999996E-2,8.8999999999999996E-2]
[{"$f":"Photonic!B273","v":621},{"$f":"CM!D274","v":8.7720226037434866E-3},null,null,null,null,null,null,12404290778629.664,114.42784401565699,114.42784401565699,3.3005956878136272E-3,{"$f":"+$L267*Photonic!BB273","v":2.7523007321540276E-3},{"$f":"+$L267*Photonic!BC273","v":1.2179198088032284E-3},{"$f":"+$L267*Photonic!BD273","v":5.6770245830394391E-7},87.960000000000008,-8.69,4.74,null,null,0.45019999999999999,0.34060000000000001,0.23979999999999999,0.15920000000000001,0.18459999999999999,0.2238,0.37940000000000002,0.53600000000000003,0.5202,0.70799999999999996,8.4400000000000003E-2,1.6E-2,0.748,8.8599999999999998E-2,8.8599999999999998E-2]
[{"$f":"Photonic!B274","v":622},{"$f":"CM!D275","v":9.1759048730418735E-3},null,null,null,null,null,null,12420368074186.697,114.23627649389701,114.23627649389701,3.2950700490000564E-3,{"$f":"+$L268*Photonic!BB274","v":2.6797486680497857E-3},{"$f":"+$L268*Photonic!BC274","v":1.17634000749302E-3},{"$f":"+$L268*Photonic!BD274","v":5.0744078754600871E-7},87.52000000000001,-8.7799999999999994,4.78,null,null,0.45040000000000002,0.3402,0.23859999999999998,0.15840000000000001,0.1842,0.22459999999999999,0.38180000000000003,0.54400000000000004,0.53539999999999999,0.70799999999999996,8.3799999999999999E-2,1.6E-2,0.748,8.8200000000000001E-2,8.8200000000000001E-2]
[{"$f":"Photonic!B275","v":623},{"$f":"CM!D276","v":9.5196474044525938E-3},null,null,null,null,null,null,12436257355057.248,114.04470897213703,114.04470897213703,3.2895444101864856E-3,{"$f":"+$L269*Photonic!BB275","v":2.6074244812902161E-3},{"$f":"+$L269*Photonic!BC275","v":1.1348928215143377E-3},{"$f":"+$L269*Photonic!BD275","v":4.4737803978536202E-7},87.08,-8.870000000000001,4.82,null,null,0.4506,0.33980000000000005,0.2374,0.15759999999999999,0.18379999999999999,0.22540000000000002,0.38419999999999999,0.55199999999999994,0.55059999999999998,0.70799999999999996,8.320000000000001E-2,1.6E-2,0.748,8.7799999999999989E-2,8.7799999999999989E-2]
[{"$f":"Photonic!B276","v":624},{"$f":"CM!D277","v":9.8633821737123331E-3},null,null,null,null,null,null,12451959124603.701,113.85314145037705,113.85314145037705,3.2840187713729149E-3,{"$f":"+$L270*Photonic!BB276","v":2.5353281718753177E-3},{"$f":"+$L270*Photonic!BC276","v":1.0935782508671808E-3},{"$f":"+$L270*Photonic!BD276","v":3.8751421502200401E-7},86.64,-8.9600000000000009,4.8600000000000003,null,null,0.45080000000000003,0.33940000000000003,0.23619999999999999,0.15679999999999999,0.18340000000000001,0.22620000000000001,0.3866,0.55999999999999994,0.56579999999999997,0.70799999999999996,8.2600000000000007E-2,1.6E-2,0.748,8.7399999999999992E-2,8.7399999999999992E-2]
[{"$f":"Photonic!B277","v":625},{"$f":"CM!D278","v":1.0274118362728638E-2},null,null,null,null,null,null,12467473892071.434,113.66157392861709,113.66157392861709,3.2784931325593445E-3,{"$f":"+$L271*Photonic!BB277","v":2.4634597398050912E-3},{"$f":"+$L271*Photonic!BC277","v":1.0523962955515495E-3},{"$f":"+$L271*Photonic!BD277","v":3.2784931325593446E-7},86.2,-9.0500000000000007,4.9000000000000004,null,null,0.45100000000000001,0.33900000000000002,0.23499999999999999,0.156,0.183,0.22700000000000001,0.38900000000000001,0.56799999999999995,0.58099999999999996,0.70799999999999996,8.2000000000000003E-2,1.6E-2,0.748,8.6999999999999994E-2,8.6999999999999994E-2]
[{"$f":"Photonic!B278","v":626},{"$f":"CM!D279","v":1.0322073038431263E-2},null,null,null,null,null,null,12482802172478.029,113.47000640685711,113.47000640685711,3.2729674937457738E-3,{"$f":"+$L272*Photonic!BB278","v":2.3879570834369162E-3},{"$f":"+$L272*Photonic!BC278","v":1.0139653295624408E-3},{"$f":"+$L272*Photonic!BD278","v":5.8913414887423932E-7},85.76,-9.14,4.9400000000000004,null,null,0.45100000000000001,0.33900000000000002,0.23379999999999998,0.15559999999999999,0.18240000000000001,0.22820000000000001,0.39119999999999999,0.57519999999999993,0.59299999999999997,0.70839999999999992,8.1600000000000006E-2,1.6400000000000001E-2,0.748,8.6799999999999988E-2,8.6799999999999988E-2]
[{"$f":"Photonic!B279","v":627},{"$f":"CM!D280","v":1.0370015183736215E-2},null,null,null,null,null,null,12497944486503.57,113.27843888509713,113.27843888509713,3.2674418549322034E-3,{"$f":"+$L273*Photonic!BB279","v":2.3126953449210137E-3},{"$f":"+$L273*Photonic!BC279","v":9.7565813788275601E-4},{"$f":"+$L273*Photonic!BD279","v":8.4953488228237303E-7},85.320000000000007,-9.23,4.9800000000000004,null,null,0.45100000000000001,0.33900000000000002,0.2326,0.1552,0.18179999999999999,0.22940000000000002,0.39340000000000003,0.58239999999999992,0.60499999999999998,0.70879999999999999,8.1200000000000008E-2,1.6799999999999999E-2,0.748,8.6599999999999996E-2,8.6599999999999996E-2]
[{"$f":"Photonic!B280","v":628},{"$f":"CM!D281","v":1.0236731200079315E-2},null,null,null,null,null,null,12512901360381.865,113.08687136333714,113.08687136333714,3.2619162161186322E-3,{"$f":"+$L274*Photonic!BB280","v":2.2376745242573817E-3},{"$f":"+$L274*Photonic!BC280","v":9.3747472051249482E-4},{"$f":"+$L274*Photonic!BD280","v":1.1090515134803351E-6},84.88,-9.32,5.0199999999999996,null,null,0.45100000000000001,0.33900000000000002,0.23139999999999999,0.15479999999999999,0.1812,0.2306,0.39560000000000001,0.58960000000000001,0.61699999999999999,0.70919999999999994,8.0799999999999997E-2,1.72E-2,0.748,8.6399999999999991E-2,8.6399999999999991E-2]
[{"$f":"Photonic!B281","v":629},{"$f":"CM!D282","v":1.0103449030687654E-2},null,null,null,null,null,null,12527673325792.688,112.89530384157717,112.89530384157717,3.2563905773050619E-3,{"$f":"+$L275*Photonic!BB281","v":2.1628946214460221E-3},{"$f":"+$L275*Photonic!BC281","v":8.9941507745165813E-4},{"$f":"+$L275*Photonic!BD281","v":1.3676840424681261E-6},84.44,-9.41,5.0599999999999996,null,null,0.45100000000000001,0.33900000000000002,0.23020000000000002,0.15440000000000001,0.18059999999999998,0.23180000000000001,0.39780000000000004,0.5968,0.629,0.70960000000000001,8.0399999999999999E-2,1.7599999999999998E-2,0.748,8.6199999999999999E-2,8.6199999999999999E-2]
[{"$f":"Photonic!B282","v":630},{"$f":"CM!D283","v":9.4849608977832529E-3},null,null,null,null,null,null,12542260919754.867,112.7037363198172,112.7037363198172,3.2508649384914911E-3,{"$f":"+$L276*Photonic!BB282","v":2.088355636486934E-3},{"$f":"+$L276*Photonic!BC282","v":8.6147920870024519E-4},{"$f":"+$L276*Photonic!BD282","v":1.6254324692457455E-6},84,-9.5,5.0999999999999996,null,null,0.45100000000000001,0.33900000000000002,0.22900000000000001,0.154,0.18,0.23300000000000001,0.4,0.60399999999999998,0.64100000000000001,0.71,0.08,1.7999999999999999E-2,0.748,8.5999999999999993E-2,8.5999999999999993E-2]
[{"$f":"Photonic!B283","v":631},{"$f":"CM!D284","v":9.0439291145444477E-3},null,null,null,null,null,null,12556664684520.43,113.47647432175305,113.47647432175305,3.2731540564849247E-3,{"$f":"+$L277*Photonic!BB283","v":2.0368837693505687E-3},{"$f":"+$L277*Photonic!BC283","v":8.3596354602624983E-4},{"$f":"+$L277*Photonic!BD283","v":1.5056508659830654E-6},84.11,-9.64,5.26,null,null,0.45100000000000001,0.33880000000000005,0.22800000000000001,0.15359999999999999,0.1794,0.23420000000000002,0.40200000000000002,0.60899999999999999,0.6492,0.71019999999999994,7.9799999999999996E-2,1.7999999999999999E-2,0.748,8.5800000000000001E-2,8.5800000000000001E-2]
[{"$f":"Photonic!B284","v":632},{"$f":"CM!D285","v":8.6002811520439291E-3},null,null,null,null,null,null,12570885167469.791,114.24921232368888,114.24921232368888,3.2954431744783579E-3,{"$f":"+$L278*Photonic!BB284","v":1.984515879670867E-3},{"$f":"+$L278*Photonic!BC284","v":8.1001993228678047E-4},{"$f":"+$L278*Photonic!BD284","v":1.3840861332809104E-6},84.22,-9.7799999999999994,5.42,null,null,0.45100000000000001,0.33860000000000001,0.22700000000000001,0.1532,0.17879999999999999,0.2354,0.40400000000000003,0.61399999999999999,0.65739999999999998,0.71039999999999992,7.9600000000000004E-2,1.7999999999999999E-2,0.748,8.5599999999999996E-2,8.5599999999999996E-2]
[{"$f":"Photonic!B285","v":633},{"$f":"CM!D286","v":8.0771135421717662E-3},null,null,null,null,null,null,12584922921007.68,115.02195032562472,115.02195032562472,3.317732292471791E-3,{"$f":"+$L279*Photonic!BB285","v":1.9312519674478297E-3},{"$f":"+$L279*Photonic!BC285","v":7.8364836748183702E-4},{"$f":"+$L279*Photonic!BD285","v":1.2607382711392805E-6},84.33,-9.92,5.58,null,null,0.45100000000000001,0.33840000000000003,0.22600000000000001,0.15279999999999999,0.1782,0.2366,0.40599999999999997,0.61899999999999999,0.66560000000000008,0.71060000000000001,7.9399999999999998E-2,1.7999999999999999E-2,0.748,8.5400000000000004E-2,8.5400000000000004E-2]
[{"$f":"Photonic!B286","v":634},{"$f":"CM!D287","v":7.5539470611064802E-3},null,null,null,null,null,null,12598778502460.242,115.79468832756055,115.79468832756055,3.3400214104652238E-3,{"$f":"+$L280*Photonic!BB286","v":1.877092032681456E-3},{"$f":"+$L280*Photonic!BC286","v":7.5684885161141969E-4},{"$f":"+$L280*Photonic!BD286","v":1.1356072795581759E-6},84.44,-10.059999999999999,5.74,null,null,0.45100000000000001,0.3382,0.22500000000000001,0.15240000000000001,0.17759999999999998,0.23779999999999998,0.40799999999999997,0.624,0.67380000000000007,0.71079999999999999,7.9200000000000007E-2,1.7999999999999999E-2,0.748,8.5199999999999998E-2,8.5199999999999998E-2]
[{"$f":"Photonic!B287","v":635},{"$f":"CM!D288","v":6.4349234086847288E-3},null,null,null,null,null,null,12612452473973.014,116.56742632949639,116.56742632949639,3.3623105284586569E-3,{"$f":"+$L281*Photonic!BB287","v":1.8220360753717464E-3},{"$f":"+$L281*Photonic!BC287","v":7.2962138467552859E-4},{"$f":"+$L281*Photonic!BD287","v":1.0086931585375969E-6},84.55,-10.199999999999999,5.9,null,null,0.45100000000000001,0.33800000000000002,0.224,0.152,0.17699999999999999,0.23899999999999999,0.41,0.629,0.68200000000000005,0.71099999999999997,7.9000000000000001E-2,1.7999999999999999E-2,0.748,8.5000000000000006E-2,8.5000000000000006E-2]
[{"$f":"Photonic!B288","v":636},{"$f":"CM!D289","v":5.9199567924115518E-3},null,null,null,null,null,null,12625945402409.844,117.34016433143223,117.34016433143223,3.3845996464520905E-3,{"$f":"+$L282*Photonic!BB288","v":1.7704840750590886E-3},{"$f":"+$L282*Photonic!BC288","v":7.0602748624990614E-4},{"$f":"+$L282*Photonic!BD288","v":9.4768790100658525E-7},84.66,-10.34,6.0600000000000005,null,null,0.45100000000000001,0.33800000000000002,0.22320000000000001,0.15179999999999999,0.17679999999999998,0.24,0.41199999999999998,0.63280000000000003,0.68900000000000006,0.71119999999999994,7.8799999999999995E-2,1.7999999999999999E-2,0.748,8.48E-2,8.48E-2]
[{"$f":"Photonic!B289","v":637},{"$f":"CM!D290","v":5.404980843102607E-3},null,null,null,null,null,null,12639257859252.771,118.11290233336808,118.11290233336808,3.4068887644455241E-3,{"$f":"+$L283*Photonic!BB289","v":1.7180940039098782E-3},{"$f":"+$L283*Photonic!BC289","v":6.8205913064199391E-4},{"$f":"+$L283*Photonic!BD289","v":8.8579107875583618E-7},84.77,-10.48,6.2200000000000006,null,null,0.45100000000000001,0.33800000000000002,0.22240000000000001,0.15159999999999998,0.17659999999999998,0.24099999999999999,0.41399999999999998,0.63660000000000005,0.69600000000000006,0.71139999999999992,7.8600000000000003E-2,1.7999999999999999E-2,0.748,8.4600000000000009E-2,8.4600000000000009E-2]
[{"$f":"Photonic!B290","v":638},{"$f":"CM!D291","v":4.9534541943172224E-3},null,null,null,null,null,null,12652390420502.936,118.88564033530392,118.88564033530392,3.4291778824389572E-3,{"$f":"+$L284*Photonic!BB290","v":1.6648658619241139E-3},{"$f":"+$L284*Photonic!BC290","v":6.5771631785179201E-4},{"$f":"+$L284*Photonic!BD290","v":8.230026917853498E-7},84.88,-10.62,6.38,null,null,0.45100000000000001,0.33800000000000002,0.22159999999999999,0.15140000000000001,0.1764,0.24199999999999999,0.41599999999999998,0.64039999999999997,0.70299999999999996,0.71160000000000001,7.8399999999999997E-2,1.7999999999999999E-2,0.748,8.4400000000000003E-2,8.4400000000000003E-2]
[{"$f":"Photonic!B291","v":639},{"$f":"CM!D292","v":4.501942295738093E-3},null,null,null,null,null,null,12665343666582.328,119.65837833723975,119.65837833723975,3.45146700043239E-3,{"$f":"+$L285*Photonic!BB291","v":1.6107996491017964E-3},{"$f":"+$L285*Photonic!BC291","v":6.3299904787930022E-4},{"$f":"+$L285*Photonic!BD291","v":7.5932274009512581E-7},84.99,-10.76,6.54,null,null,0.45100000000000001,0.33800000000000002,0.2208,0.1512,0.1762,0.24299999999999999,0.41799999999999998,0.64419999999999999,0.71,0.71179999999999999,7.8200000000000006E-2,1.7999999999999999E-2,0.748,8.4200000000000011E-2,8.4200000000000011E-2]
[{"$f":"Photonic!B292","v":640},{"$f":"CM!D293","v":3.769274817133609E-3},null,null,null,null,null,null,12678118182236.582,120.4311163391756,120.4311163391756,3.4737561184258236E-3,{"$f":"+$L286*Photonic!BB292","v":1.5558953654429264E-3},{"$f":"+$L286*Photonic!BC292","v":6.0790732072451908E-4},{"$f":"+$L286*Photonic!BD292","v":6.9475122368516473E-7},85.1,-10.9,6.7,null,null,0.45100000000000001,0.33800000000000002,0.22,0.151,0.17599999999999999,0.24399999999999999,0.42,0.64800000000000002,0.71699999999999997,0.71199999999999997,7.8E-2,1.7999999999999999E-2,0.748,8.4000000000000005E-2,8.4000000000000005E-2]
[{"$f":"Photonic!B293","v":641},{"$f":"CM!D294","v":3.481331095074341E-3},null,null,null,null,null,null,12690714556438.648,120.25056621013218,120.25056621013218,3.4685482690384544E-3,{"$f":"+$L287*Photonic!BB293","v":1.493140658855674E-3},{"$f":"+$L287*Photonic!BC293","v":5.8132868989084496E-4},{"$f":"+$L287*Photonic!BD293","v":6.2433868842692181E-7},84.78,-10.88,6.76,null,null,0.45100000000000001,0.33780000000000004,0.21940000000000001,0.15059999999999998,0.17579999999999998,0.24540000000000001,0.42180000000000001,0.65100000000000002,0.72160000000000002,0.71239999999999992,7.8E-2,1.7999999999999999E-2,0.748,8.4000000000000005E-2,8.4000000000000005E-2]
[{"$f":"Photonic!B294","v":642},{"$f":"CM!D295","v":3.1933906577437114E-3},null,null,null,null,null,null,12703133382293.447,120.07001608108875,120.07001608108875,3.4633404196510852E-3,{"$f":"+$L288*Photonic!BB294","v":1.4305673937410775E-3},{"$f":"+$L288*Photonic!BC294","v":5.5482713522810392E-4},{"$f":"+$L288*Photonic!BD294","v":5.5413446714417369E-7},84.46,-10.860000000000001,6.82,null,null,0.45100000000000001,0.33760000000000001,0.21879999999999999,0.1502,0.17559999999999998,0.24679999999999999,0.42359999999999998,0.65400000000000003,0.72619999999999996,0.71279999999999999,7.8E-2,1.7999999999999999E-2,0.748,8.4000000000000005E-2,8.4000000000000005E-2]
[{"$f":"Photonic!B295","v":643},{"$f":"CM!D296","v":2.9675067984127322E-3},null,null,null,null,null,null,12715375256943.488,119.88946595204534,119.88946595204534,3.4581325702637165E-3,{"$f":"+$L289*Photonic!BB295","v":1.3681755700991369E-3},{"$f":"+$L289*Photonic!BC295","v":5.2840265673629585E-4},{"$f":"+$L289*Photonic!BD295","v":4.8413855983692039E-7},84.14,-10.84,6.88,null,null,0.45100000000000001,0.33740000000000003,0.21820000000000001,0.14979999999999999,0.1754,0.2482,0.4254,0.65700000000000003,0.73080000000000001,0.71319999999999995,7.8E-2,1.7999999999999999E-2,0.748,8.4000000000000005E-2,8.4000000000000005E-2]
[{"$f":"Photonic!B296","v":644},{"$f":"CM!D297","v":2.7412995947436497E-3},null,null,null,null,null,null,12727440781475.346,119.70891582300192,119.70891582300192,3.4529247208763469E-3,{"$f":"+$L290*Photonic!BB296","v":1.3059651879298519E-3},{"$f":"+$L290*Photonic!BC296","v":5.0205525441542086E-4},{"$f":"+$L290*Photonic!BD296","v":4.1435096650516162E-7},83.82,-10.82,6.94,null,null,0.45100000000000001,0.3372,0.21759999999999999,0.14940000000000001,0.17519999999999999,0.24959999999999999,0.42719999999999997,0.66,0.73539999999999994,0.71360000000000001,7.8E-2,1.7999999999999999E-2,0.748,8.4000000000000005E-2,8.4000000000000005E-2]
[{"$f":"Photonic!B297","v":645},{"$f":"CM!D298","v":2.3934803664379428E-3},null,null,null,null,null,null,12739330560827.182,119.52836569395851,119.52836569395851,3.4477168714889782E-3,{"$f":"+$L291*Photonic!BB297","v":1.2439362472332234E-3},{"$f":"+$L291*Photonic!BC297","v":4.7578492826547901E-4},{"$f":"+$L291*Photonic!BD297","v":3.4477168714889782E-7},83.5,-10.8,7,null,null,0.45100000000000001,0.33700000000000002,0.217,0.14899999999999999,0.17499999999999999,0.251,0.42899999999999999,0.66300000000000003,0.74,0.71399999999999997,7.8E-2,1.7999999999999999E-2,0.748,8.4000000000000005E-2,8.4000000000000005E-2]
[{"$f":"Photonic!B298","v":646},{"$f":"CM!D299","v":2.2590087422213819E-3},null,null,null,null,null,null,12751045203697.121,119.34781556491509,119.34781556491509,3.4425090221016095E-3,{"$f":"+$L292*Photonic!BB298","v":1.1888360656925698E-3},{"$f":"+$L292*Photonic!BC298","v":4.5372268911299214E-4},{"$f":"+$L292*Photonic!BD298","v":2.7540072176812877E-7},83.18,-10.780000000000001,7.06,null,null,0.45080000000000003,0.33680000000000004,0.21679999999999999,0.14879999999999999,0.17499999999999999,0.25240000000000001,0.43080000000000002,0.66560000000000008,0.74360000000000004,0.71439999999999992,7.8E-2,1.8199999999999997E-2,0.748,8.4000000000000005E-2,8.4000000000000005E-2]
[{"$f":"Photonic!B299","v":647},{"$f":"CM!D300","v":2.1245471095728504E-3},null,null,null,null,null,null,12762585322452.568,119.16726543587167,119.16726543587167,3.4373011727142403E-3,{"$f":"+$L293*Photonic!BB299","v":1.1338969108549736E-3},{"$f":"+$L293*Photonic!BC299","v":4.3172502729290865E-4},{"$f":"+$L293*Photonic!BD299","v":2.0623807036285442E-7},82.86,-10.76,7.12,null,null,0.4506,0.33660000000000001,0.21659999999999999,0.14859999999999998,0.17499999999999999,0.25380000000000003,0.43259999999999998,0.66820000000000002,0.74719999999999998,0.71479999999999999,7.8E-2,1.84E-2,0.748,8.4000000000000005E-2,8.4000000000000005E-2]
[{"$f":"Photonic!B300","v":648},{"$f":"CM!D301","v":2.0180291599453722E-3},null,null,null,null,null,null,12773951533040.486,118.98671530682826,118.98671530682826,3.4320933233268716E-3,{"$f":"+$L294*Photonic!BB300","v":1.0791187827204349E-3},{"$f":"+$L294*Photonic!BC300","v":4.0979194280522848E-4},{"$f":"+$L294*Photonic!BD300","v":1.3728373293307488E-7},82.54,-10.74,7.18,null,null,0.45040000000000002,0.33640000000000003,0.21640000000000001,0.1484,0.17499999999999999,0.25519999999999998,0.43440000000000001,0.67080000000000006,0.75080000000000002,0.71519999999999995,7.8E-2,1.8599999999999998E-2,0.748,8.4000000000000005E-2,8.4000000000000005E-2]
[{"$f":"Photonic!B301","v":649},{"$f":"CM!D302","v":1.9113105210584983E-3},null,null,null,null,null,null,12785144454898.568,118.80616517778482,118.80616517778482,3.4268854739395015E-3,{"$f":"+$L295*Photonic!BB301","v":1.0245016812889533E-3},{"$f":"+$L295*Photonic!BC301","v":3.8792343564995153E-4},{"$f":"+$L295*Photonic!BD301","v":6.8537709478790037E-8},82.22,-10.719999999999999,7.24,null,null,0.45019999999999999,0.3362,0.2162,0.1482,0.17499999999999999,0.25659999999999999,0.43619999999999998,0.6734,0.75439999999999996,0.71560000000000001,7.8E-2,1.8800000000000001E-2,0.748,8.4000000000000005E-2,8.4000000000000005E-2]
[{"$f":"Photonic!B302","v":650},{"$f":"CM!D303","v":1.7459671906601259E-3},null,null,null,null,null,null,12796164710867.348,118.62561504874141,118.62561504874141,3.4216776245521328E-3,{"$f":"+$L296*Photonic!BB302","v":9.7004560656052956E-4},{"$f":"+$L296*Photonic!BC302","v":3.6611950582707818E-4},{"$f":"+$L296*Photonic!BD302","v":0},81.900000000000006,-10.7,7.3,null,null,0.45,0.33600000000000002,0.216,0.14799999999999999,0.17499999999999999,0.25800000000000001,0.438,0.67600000000000005,0.75800000000000001,0.71599999999999997,7.8E-2,1.9E-2,0.748,8.4000000000000005E-2,8.4000000000000005E-2]
[{"$f":"Photonic!B303","v":651},{"$f":"CM!D304","v":1.6836563864018389E-3},null,null,null,null,null,null,12807012927103.217,119.25853794146948,119.25853794146948,3.4399338679378857E-3,{"$f":"+$L297*Photonic!BB303","v":9.3063970863191555E-4},{"$f":"+$L297*Photonic!BC303","v":3.5059805982022932E-4},{"$f":"+$L297*Photonic!BD303","v":0},81.97,-10.83,7.43,null,null,0.45,0.33580000000000004,0.216,0.14799999999999999,0.17499999999999999,0.25900000000000001,0.43940000000000001,0.67780000000000007,0.76039999999999996,0.71639999999999993,7.8E-2,1.9199999999999998E-2,0.748,8.4000000000000005E-2,8.4000000000000005E-2]
[{"$f":"Photonic!B304","v":652},{"$f":"CM!D305","v":1.6213485780852772E-3},null,null,null,null,null,null,12817689732992.287,119.89146083419756,119.89146083419756,3.458190111323639E-3,{"$f":"+$L298*Photonic!BB304","v":8.9076060887474282E-4},{"$f":"+$L298*Photonic!BC304","v":3.348911303805812E-4},{"$f":"+$L298*Photonic!BD304","v":0},82.04,-10.959999999999999,7.56,null,null,0.45,0.33560000000000001,0.216,0.14799999999999999,0.17499999999999999,0.26,0.44080000000000003,0.67960000000000009,0.76280000000000003,0.71679999999999999,7.8E-2,1.9400000000000001E-2,0.748,8.4000000000000005E-2,8.4000000000000005E-2]
[{"$f":"Photonic!B305","v":653},{"$f":"CM!D306","v":1.5700514832931859E-3},null,null,null,null,null,null,12828195761065.379,120.52438372692562,120.52438372692562,3.4764463547093914E-3,{"$f":"+$L299*Photonic!BB305","v":8.5040830728901138E-4},{"$f":"+$L299*Photonic!BC305","v":3.1899871750813377E-4},{"$f":"+$L299*Photonic!BD305","v":0},82.11,-11.09,7.69,null,null,0.45,0.33540000000000003,0.216,0.14799999999999999,0.17499999999999999,0.26100000000000001,0.44219999999999998,0.68140000000000001,0.76519999999999999,0.71719999999999995,7.8E-2,1.9599999999999999E-2,0.748,8.4000000000000005E-2,8.4000000000000005E-2]
[{"$f":"Photonic!B306","v":654},{"$f":"CM!D307","v":1.5183464381160437E-3},null,null,null,null,null,null,12838531646913.633,121.1573066196537,121.1573066196537,3.4947025980951443E-3,{"$f":"+$L300*Photonic!BB306","v":8.0958280387472112E-4},{"$f":"+$L300*Photonic!BC306","v":3.0292082120288714E-4},{"$f":"+$L300*Photonic!BD306","v":0},82.18,-11.219999999999999,7.82,null,null,0.45,0.3352,0.216,0.14799999999999999,0.17499999999999999,0.26200000000000001,0.44359999999999999,0.68320000000000003,0.76760000000000006,0.71760000000000002,7.8E-2,1.9800000000000002E-2,0.748,8.4000000000000005E-2,8.4000000000000005E-2]
[{"$f":"Photonic!B307","v":655},{"$f":"CM!D308","v":1.4239961337760871E-3},null,null,null,null,null,null,12848698029105.211,121.79022951238176,121.79022951238176,3.5129588414808972E-3,{"$f":"+$L301*Photonic!BB307","v":7.6828409863187225E-4},{"$f":"+$L301*Photonic!BC307","v":2.8665744146484125E-4},{"$f":"+$L301*Photonic!BD307","v":0},82.25,-11.35,7.95,null,null,0.45,0.33500000000000002,0.216,0.14799999999999999,0.17499999999999999,0.26300000000000001,0.44500000000000001,0.68500000000000005,0.77,0.71799999999999997,7.8E-2,0.02,0.748,8.4000000000000005E-2,8.4000000000000005E-2]
[{"$f":"Photonic!B308","v":656},{"$f":"CM!D309","v":1.3884935275086053E-3},null,null,null,null,null,null,12858695549102.855,122.42315240510982,122.42315240510982,3.5312150848666496E-3,{"$f":"+$L302*Photonic!BB308","v":7.3428086474717114E-4},{"$f":"+$L302*Photonic!BC308","v":2.7359854477546801E-4},{"$f":"+$L302*Photonic!BD308","v":0},82.32,-11.48,8.08,null,null,0.45019999999999999,0.33480000000000004,0.21659999999999999,0.14799999999999999,0.17499999999999999,0.26400000000000001,0.44640000000000002,0.68659999999999999,0.7722,0.71839999999999993,7.8600000000000003E-2,2.06E-2,0.74780000000000002,8.4200000000000011E-2,8.4200000000000011E-2]
[{"$f":"Photonic!B309","v":657},{"$f":"CM!D310","v":1.3530042181634728E-3},null,null,null,null,null,null,12868524851182.293,123.05607529783791,123.05607529783791,3.5494713282524029E-3,{"$f":"+$L303*Photonic!BB309","v":6.9988475650480878E-4},{"$f":"+$L303*Photonic!BC309","v":2.6038921664059633E-4},{"$f":"+$L303*Photonic!BD309","v":0},82.39,-11.61,8.2100000000000009,null,null,0.45040000000000002,0.33460000000000001,0.2172,0.14799999999999999,0.17499999999999999,0.26500000000000001,0.44780000000000003,0.68820000000000003,0.77439999999999998,0.71879999999999999,7.9200000000000007E-2,2.12E-2,0.74760000000000004,8.4400000000000003E-2,8.4400000000000003E-2]
[{"$f":"Photonic!B310","v":658},{"$f":"CM!D311","v":1.2883759530466134E-3},null,null,null,null,null,null,12878186582351.545,123.68899819056597,123.68899819056597,3.5677275716381554E-3,{"$f":"+$L304*Photonic!BB310","v":6.6509577390478497E-4},{"$f":"+$L304*Photonic!BC310","v":2.4702945706022589E-4},{"$f":"+$L304*Photonic!BD310","v":0},82.46,-11.74,8.34,null,null,0.4506,0.33440000000000003,0.21779999999999999,0.14799999999999999,0.17499999999999999,0.26600000000000001,0.44919999999999999,0.68979999999999997,0.77660000000000007,0.71919999999999995,7.9799999999999996E-2,2.18E-2,0.74739999999999995,8.4600000000000009E-2,8.4600000000000009E-2]
[{"$f":"Photonic!B311","v":659},{"$f":"CM!D312","v":1.2656247355316288E-3},null,null,null,null,null,null,12887681392271.207,124.32192108329404,124.32192108329404,3.5859838150239087E-3,{"$f":"+$L305*Photonic!BB311","v":6.299139169470997E-4},{"$f":"+$L305*Photonic!BC311","v":2.3351926603435691E-4},{"$f":"+$L305*Photonic!BD311","v":0},82.53,-11.87,8.4699999999999989,null,null,0.45080000000000003,0.3342,0.21840000000000001,0.14799999999999999,0.17499999999999999,0.26700000000000002,0.4506,0.69140000000000001,0.77880000000000005,0.71960000000000002,8.0399999999999999E-2,2.24E-2,0.74719999999999998,8.48E-2,8.48E-2]
[{"$f":"Photonic!B312","v":660},{"$f":"CM!D313","v":1.2415568951623941E-3},null,null,null,null,null,null,12897009933175.506,124.9548439760221,124.9548439760221,3.6042400584096611E-3,{"$f":"+$L306*Photonic!BB312","v":5.9433918563175307E-4},{"$f":"+$L306*Photonic!BC312","v":2.1985864356298933E-4},{"$f":"+$L306*Photonic!BD312","v":0},82.6,-12,8.6,null,null,0.45100000000000001,0.33400000000000002,0.219,0.14799999999999999,0.17499999999999999,0.26800000000000002,0.45200000000000001,0.69299999999999995,0.78100000000000003,0.72,8.1000000000000003E-2,2.3E-2,0.747,8.5000000000000006E-2,8.5000000000000006E-2]
[{"$f":"Photonic!B313","v":661},{"$f":"CM!D314","v":1.2144999132161082E-3},null,null,null,null,null,null,12906172859794.236,125.82482580268901,125.82482580268901,3.6293341103886541E-3,{"$f":"+$L307*Photonic!BB313","v":5.6675681467829224E-4},{"$f":"+$L307*Photonic!BC313","v":2.0947064751519154E-4},{"$f":"+$L307*Photonic!BD313","v":0},82.83,-12.2,8.7199999999999989,null,null,0.45100000000000001,0.33360000000000001,0.22,0.1482,0.1754,0.26900000000000002,0.45300000000000001,0.69439999999999991,0.78280000000000005,0.72039999999999993,8.14E-2,2.3199999999999998E-2,0.747,8.5400000000000004E-2,8.5400000000000004E-2]
[{"$f":"Photonic!B314","v":662},{"$f":"CM!D315","v":1.1874340024765298E-3},null,null,null,null,null,null,12915170829275.613,126.69480762935592,126.69480762935592,3.6544281623676475E-3,{"$f":"+$L308*Photonic!BB314","v":5.3873579969623852E-4},{"$f":"+$L308*Photonic!BC314","v":1.989178337339958E-4},{"$f":"+$L308*Photonic!BD314","v":0},83.06,-12.4,8.84,null,null,0.45100000000000001,0.3332,0.221,0.1484,0.17579999999999998,0.27,0.45400000000000001,0.69579999999999997,0.78460000000000008,0.7208,8.1799999999999998E-2,2.3400000000000001E-2,0.747,8.5800000000000001E-2,8.5800000000000001E-2]
[{"$f":"Photonic!B315","v":663},{"$f":"CM!D316","v":1.1364478954897568E-3},null,null,null,null,null,null,12924004501110.039,127.56478945602279,127.56478945602279,3.6795222143466396E-3,{"$f":"+$L309*Photonic!BB315","v":5.1027614068559202E-4},{"$f":"+$L309*Photonic!BC315","v":1.8820020221940192E-4},{"$f":"+$L309*Photonic!BD315","v":0},83.289999999999992,-12.6,8.9599999999999991,null,null,0.45100000000000001,0.33280000000000004,0.222,0.14859999999999998,0.1762,0.27100000000000002,0.45500000000000002,0.69719999999999993,0.78639999999999999,0.72119999999999995,8.2200000000000009E-2,2.3599999999999999E-2,0.747,8.6199999999999999E-2,8.6199999999999999E-2]
[{"$f":"Photonic!B316","v":664},{"$f":"CM!D317","v":1.1133232032175542E-3},null,null,null,null,null,null,12932674537054.609,128.43477128268972,128.43477128268972,3.7046162663256334E-3,{"$f":"+$L310*Photonic!BB316","v":4.8137783764635279E-4},{"$f":"+$L310*Photonic!BC316","v":1.7731775297141013E-4},{"$f":"+$L310*Photonic!BD316","v":0},83.52,-12.8,9.08,null,null,0.45100000000000001,0.33240000000000003,0.223,0.14879999999999999,0.17659999999999998,0.27200000000000002,0.45600000000000002,0.6986,0.78820000000000001,0.72160000000000002,8.2600000000000007E-2,2.3800000000000002E-2,0.747,8.6599999999999996E-2,8.6599999999999996E-2]
[{"$f":"Photonic!B317","v":665},{"$f":"CM!D318","v":1.0901892859019983E-3},null,null,null,null,null,null,12941181601058.52,129.30475310935662,129.30475310935662,3.7297103183046264E-3,{"$f":"+$L311*Photonic!BB317","v":4.5204089057852072E-4},{"$f":"+$L311*Photonic!BC317","v":1.6627048599002025E-4},{"$f":"+$L311*Photonic!BD317","v":0},83.75,-13,9.1999999999999993,null,null,0.45100000000000001,0.33200000000000002,0.224,0.14899999999999999,0.17699999999999999,0.27300000000000002,0.45700000000000002,0.7,0.79,0.72199999999999998,8.3000000000000004E-2,2.4E-2,0.747,8.6999999999999994E-2,8.6999999999999994E-2]
[{"$f":"Photonic!B318","v":666},{"$f":"CM!D319","v":1.0506003961861768E-3},null,null,null,null,null,null,12949526359189.451,130.17473493602353,130.17473493602353,3.7548043702836193E-3,{"$f":"+$L312*Photonic!BB318","v":4.2969981213525739E-4},{"$f":"+$L312*Photonic!BC318","v":1.5794209103161017E-4},{"$f":"+$L312*Photonic!BD318","v":0},83.98,-13.2,9.32,null,null,0.45140000000000002,0.33200000000000002,0.22520000000000001,0.14940000000000001,0.17759999999999998,0.27400000000000002,0.45800000000000002,0.70099999999999996,0.79139999999999999,0.72260000000000002,8.4000000000000005E-2,2.4400000000000002E-2,0.747,8.7999999999999995E-2,8.7999999999999995E-2]
[{"$f":"Photonic!B319","v":667},{"$f":"CM!D320","v":1.0338291213692495E-3},null,null,null,null,null,null,12957709479560.568,131.04471676269043,131.04471676269043,3.7798984222626123E-3,{"$f":"+$L313*Photonic!BB319","v":4.0701946210923808E-4},{"$f":"+$L313*Photonic!BC319","v":1.494874228036418E-4},{"$f":"+$L313*Photonic!BD319","v":0},84.210000000000008,-13.4,9.44,null,null,0.45180000000000003,0.33200000000000002,0.22640000000000002,0.14979999999999999,0.1782,0.27500000000000002,0.45900000000000002,0.70199999999999996,0.79280000000000006,0.72319999999999995,8.5000000000000006E-2,2.4799999999999999E-2,0.747,8.8999999999999996E-2,8.8999999999999996E-2]
[{"$f":"Photonic!B320","v":668},{"$f":"CM!D321","v":1.0166244640914647E-3},null,null,null,null,null,null,12965731632258.594,131.9146985893573,131.9146985893573,3.8049924742416044E-3,{"$f":"+$L314*Photonic!BB320","v":3.8399984050046273E-4},{"$f":"+$L314*Photonic!BC320","v":1.409064813061151E-4},{"$f":"+$L314*Photonic!BD320","v":0},84.44,-13.6,9.56,null,null,0.45219999999999999,0.33200000000000002,0.2276,0.1502,0.17879999999999999,0.27600000000000002,0.46,0.70299999999999996,0.79420000000000002,0.7238,8.5999999999999993E-2,2.52E-2,0.747,0.09,0.09]
[{"$f":"Photonic!B321","v":669},{"$f":"CM!D322","v":9.9761326085793882E-4},null,null,null,null,null,null,12973593489272.539,132.78468041602423,132.78468041602423,3.8300865262205983E-3,{"$f":"+$L315*Photonic!BB321","v":3.6064094730893156E-4},{"$f":"+$L315*Photonic!BC321","v":1.3219926653903016E-4},{"$f":"+$L315*Photonic!BD321","v":0},84.67,-13.8,9.68,null,null,0.4526,0.33200000000000002,0.2288,0.15059999999999998,0.1794,0.27700000000000002,0.46100000000000002,0.70399999999999996,0.79560000000000008,0.72439999999999993,8.6999999999999994E-2,2.5599999999999998E-2,0.747,9.0999999999999998E-2,9.0999999999999998E-2]
[{"$f":"Photonic!B322","v":670},{"$f":"CM!D323","v":9.7860311293600341E-4},null,null,null,null,null,null,12981295724423.426,133.65466224269113,133.65466224269113,3.8551805781995912E-3,{"$f":"+$L316*Photonic!BB322","v":3.369427825346443E-4},{"$f":"+$L316*Photonic!BC322","v":1.2336577850238691E-4},{"$f":"+$L316*Photonic!BD322","v":0},84.9,-14,9.8000000000000007,null,null,0.45300000000000001,0.33200000000000002,0.23,0.151,0.18,0.27800000000000002,0.46200000000000002,0.70499999999999996,0.79700000000000004,0.72499999999999998,8.7999999999999995E-2,2.5999999999999999E-2,0.747,9.1999999999999998E-2,9.1999999999999998E-2]
[{"$f":"Photonic!B323","v":671},{"$f":"CM!D324","v":9.5278957434884865E-4},null,null,null,null,null,null,12988839013294.715,133.34750859168955,133.34750859168955,3.8463209337248308E-3,{"$f":"+$L317*Photonic!BB323","v":3.1785996196302002E-4},{"$f":"+$L317*Photonic!BC323","v":1.1631274503583888E-4},{"$f":"+$L317*Photonic!BD323","v":0},84.54,-13.96,9.84,null,null,0.45319999999999999,0.33180000000000004,0.2316,0.15159999999999998,0.18059999999999998,0.27860000000000001,0.46280000000000004,0.70579999999999998,0.79820000000000002,0.7258,8.8999999999999996E-2,2.6799999999999997E-2,0.747,9.2799999999999994E-2,9.2799999999999994E-2]
[{"$f":"Photonic!B324","v":672},{"$f":"CM!D325","v":9.3804684590007503E-4},null,null,null,null,null,null,12996224033163.559,133.04035494068796,133.04035494068796,3.8374612892500709E-3,{"$f":"+$L318*Photonic!BB324","v":2.9886148520679552E-4},{"$f":"+$L318*Photonic!BC324","v":1.0929089751784201E-4},{"$f":"+$L318*Photonic!BD324","v":0},84.18,-13.92,9.8800000000000008,null,null,0.45340000000000003,0.33160000000000001,0.23319999999999999,0.1522,0.1812,0.2792,0.46360000000000001,0.70660000000000001,0.7994,0.72660000000000002,0.09,2.76E-2,0.747,9.3600000000000003E-2,9.3600000000000003E-2]
[{"$f":"Photonic!B325","v":673},{"$f":"CM!D326","v":9.1688849219025864E-4},null,null,null,null,null,null,13003451462933.039,132.73320128968635,132.73320128968635,3.8286016447753096E-3,{"$f":"+$L319*Photonic!BB325","v":2.7994735226597063E-4},{"$f":"+$L319*Photonic!BC325","v":1.0230023594839627E-4},{"$f":"+$L319*Photonic!BD325","v":0},83.82,-13.88,9.92,null,null,0.4536,0.33140000000000003,0.23480000000000001,0.15279999999999999,0.18179999999999999,0.27980000000000005,0.46440000000000003,0.70739999999999992,0.80060000000000009,0.72739999999999994,9.0999999999999998E-2,2.8399999999999998E-2,0.747,9.4399999999999998E-2,9.4399999999999998E-2]
[{"$f":"Photonic!B326","v":674},{"$f":"CM!D327","v":8.9893859515512002E-4},null,null,null,null,null,null,13010521983064.996,132.42604763868479,132.42604763868479,3.8197420003005501E-3,{"$f":"+$L320*Photonic!BB326","v":2.6111756314054564E-4},{"$f":"+$L320*Photonic!BC326","v":9.5340760327501729E-5},{"$f":"+$L320*Photonic!BD326","v":0},83.46,-13.84,9.9600000000000009,null,null,0.45380000000000004,0.33119999999999999,0.2364,0.15340000000000001,0.18240000000000001,0.28040000000000004,0.4652,0.70819999999999994,0.80180000000000007,0.72819999999999996,9.1999999999999998E-2,2.92E-2,0.747,9.5200000000000007E-2,9.5200000000000007E-2]
[{"$f":"Photonic!B327","v":675},{"$f":"CM!D328","v":8.810005039532493E-4},null,null,null,null,null,null,13017436275513.783,132.11889398768321,132.11889398768321,3.8108823558257901E-3,{"$f":"+$L321*Photonic!BB327","v":2.4237211783052027E-4},{"$f":"+$L321*Photonic!BC327","v":8.8412470655158327E-5},{"$f":"+$L321*Photonic!BD327","v":0},83.1,-13.8,10,null,null,0.45400000000000001,0.33100000000000002,0.23799999999999999,0.154,0.183,0.28100000000000003,0.46600000000000003,0.70899999999999996,0.80300000000000005,0.72899999999999998,9.2999999999999999E-2,0.03,0.747,9.6000000000000002E-2,9.6000000000000002E-2]
[{"$f":"Photonic!B328","v":676},{"$f":"CM!D329","v":8.5077765347295494E-4},null,null,null,null,null,null,13024195023660.828,131.81174033668162,131.81174033668162,3.8020227113510297E-3,{"$f":"+$L322*Photonic!BB328","v":2.2901103599551792E-4},{"$f":"+$L322*Photonic!BC328","v":8.3492418741268608E-5},{"$f":"+$L322*Photonic!BD328","v":0},82.74,-13.76,10.039999999999999,null,null,0.45419999999999999,0.33100000000000002,0.24059999999999998,0.15479999999999999,0.18359999999999999,0.28140000000000004,0.46640000000000004,0.70960000000000001,0.80420000000000003,0.72939999999999994,9.4799999999999995E-2,3.1E-2,0.747,9.7199999999999995E-2,9.7199999999999995E-2]
[{"$f":"Photonic!B329","v":677},{"$f":"CM!D330","v":8.3967208022181657E-4},null,null,null,null,null,null,13030798912249.967,131.50458668568004,131.50458668568004,3.7931630668762697E-3,{"$f":"+$L323*Photonic!BB329","v":2.1570959728711971E-4},{"$f":"+$L323*Photonic!BC329","v":7.8594338745676298E-5},{"$f":"+$L323*Photonic!BD329","v":0},82.38,-13.72,10.08,null,null,0.45440000000000003,0.33100000000000002,0.2432,0.15559999999999999,0.1842,0.28179999999999999,0.46680000000000005,0.71019999999999994,0.8054,0.7298,9.6599999999999991E-2,3.2000000000000001E-2,0.747,9.8400000000000001E-2,9.8400000000000001E-2]
[{"$f":"Photonic!B330","v":678},{"$f":"CM!D331","v":8.2213436189026209E-4},null,null,null,null,null,null,13037248627323.604,131.19743303467845,131.19743303467845,3.7843034224015093E-3,{"$f":"+$L324*Photonic!BB330","v":2.0246780170532556E-4},{"$f":"+$L324*Photonic!BC330","v":7.371823066838141E-5},{"$f":"+$L324*Photonic!BD330","v":0},82.02,-13.68,10.119999999999999,null,null,0.4546,0.33100000000000002,0.24579999999999999,0.15640000000000001,0.18479999999999999,0.28220000000000001,0.4672,0.71079999999999999,0.80660000000000009,0.73019999999999996,9.8400000000000001E-2,3.3000000000000002E-2,0.747,9.9599999999999994E-2,9.9599999999999994E-2]
[{"$f":"Photonic!B331","v":679},{"$f":"CM!D332","v":7.8801292967821119E-4},null,null,null,null,null,null,13043544856159.537,130.89027938367687,130.89027938367687,3.7754437779267489E-3,{"$f":"+$L325*Photonic!BB331","v":1.8928564925013548E-4},{"$f":"+$L325*Photonic!BC331","v":6.8864094509383904E-5},{"$f":"+$L325*Photonic!BD331","v":0},81.66,-13.64,10.16,null,null,0.45480000000000004,0.33100000000000002,0.24840000000000001,0.15720000000000001,0.18540000000000001,0.28259999999999996,0.46760000000000002,0.71139999999999992,0.80780000000000007,0.73060000000000003,0.1002,3.4000000000000002E-2,0.747,0.1008,0.1008]
[{"$f":"Photonic!B332","v":680},{"$f":"CM!D333","v":7.7959530720573135E-4},null,null,null,null,null,null,{"$f":"$G$5*((A326*0.000000001)^(-5)) / (EXP($G$6/(($E$6*0.000000001*A326)))-1)","v":13049688287208.813},130.58312573267528,130.58312573267528,3.7665841334519889E-3,{"$f":"+$L326*Photonic!BB332","v":1.7616313992154951E-4},{"$f":"+$L326*Photonic!BC332","v":6.4031930268683819E-5},{"$f":"+$L326*Photonic!BD332","v":0},81.3,-13.6,10.199999999999999,null,null,0.45500000000000002,0.33100000000000002,0.251,0.158,0.186,0.28299999999999997,0.46800000000000003,0.71199999999999997,0.80900000000000005,0.73099999999999998,0.10199999999999999,3.5000000000000003E-2,0.747,0.10199999999999999,0.10199999999999999]
[{"$f":"Photonic!B333","v":681},{"$f":"CM!D334","v":7.7116475009310467E-4},null,null,null,null,null,null,13055679610034.063,{"$f":"+P327+$H$11*Q327+$H$12*R327","v":128.86552753466694},{"$f":"IF($E$6<=$K$4,I327,J327)","v":128.86552753466694},{"$f":"+K327/$L$4","v":3.7170411463013516E-3},{"$f":"+$L327*Photonic!BB333","v":1.6353494227267426E-4},{"$f":"+$L327*Photonic!BC333","v":5.9413185682480813E-5},{"$f":"+$L327*Photonic!BD333","v":0},80.36,-13.44,10.01,null,null,0.45540000000000003,0.33080000000000004,0.25459999999999999,0.1588,0.18659999999999999,0.28359999999999996,0.46840000000000004,0.71260000000000001,0.81,0.73180000000000001,0.104,3.6600000000000001E-2,0.747,0.1036,0.1036]
[{"$f":"Photonic!B334","v":682},{"$f":"CM!D335","v":7.6213081168404276E-4},null,null,null,null,null,null,13061519515248.813,127.14792933665861,127.14792933665861,3.6674981591507151E-3,{"$f":"+$L328*Photonic!BB334","v":1.5118160911651077E-4},{"$f":"+$L328*Photonic!BC334","v":5.4895112446167905E-5},{"$f":"+$L328*Photonic!BD334","v":0},79.42,-13.28,9.82,null,null,0.45580000000000004,0.3306,0.25819999999999999,0.15959999999999999,0.18720000000000001,0.28419999999999995,0.46879999999999999,0.71319999999999995,0.81100000000000005,0.73260000000000003,0.106,3.8199999999999998E-2,0.747,0.1052,0.1052]
[{"$f":"Photonic!B335","v":683},{"$f":"CM!D336","v":7.5309798490236701E-4},null,null,null,null,null,null,13067208694457.547,125.43033113865025,125.43033113865025,3.6179551720000773E-3,{"$f":"+$L329*Photonic!BB335","v":1.3910314045305895E-4},{"$f":"+$L329*Photonic!BC335","v":5.0477710559745081E-5},{"$f":"+$L329*Photonic!BD335","v":0},78.47999999999999,-13.120000000000001,9.629999999999999,null,null,0.45619999999999999,0.33040000000000003,0.26180000000000003,0.16040000000000001,0.18779999999999999,0.2848,0.46920000000000001,0.71379999999999999,0.81199999999999994,0.73339999999999994,0.108,3.9800000000000002E-2,0.747,0.10679999999999999,0.10679999999999999]
[{"$f":"Photonic!B336","v":684},{"$f":"CM!D337","v":7.247611751171676E-4},null,null,null,null,null,null,13072747840196.438,123.7127329406419,123.7127329406419,3.5684121848494404E-3,{"$f":"+$L330*Photonic!BB336","v":1.2729953628231892E-4},{"$f":"+$L330*Photonic!BC336","v":4.6160980023212361E-5},{"$f":"+$L330*Photonic!BD336","v":0},77.539999999999992,-12.96,9.44,null,null,0.45660000000000001,0.33019999999999999,0.26540000000000002,0.16120000000000001,0.18840000000000001,0.28539999999999999,0.46959999999999996,0.71439999999999992,0.81299999999999994,0.73419999999999996,0.11,4.1399999999999999E-2,0.747,0.1084,0.1084]
[{"$f":"Photonic!B337","v":685},{"$f":"CM!D338","v":7.1067856935545174E-4},null,null,null,null,null,null,13078137645874.859,121.99513474263355,121.99513474263355,3.5188691976988031E-3,{"$f":"+$L331*Photonic!BB337","v":1.1577079660429061E-4},{"$f":"+$L331*Photonic!BC337","v":4.1944920836569732E-5},{"$f":"+$L331*Photonic!BD337","v":0},76.599999999999994,-12.8,9.25,null,null,0.45700000000000002,0.33,0.26900000000000002,0.16200000000000001,0.189,0.28599999999999998,0.47,0.71499999999999997,0.81399999999999995,0.73499999999999999,0.112,4.2999999999999997E-2,0.747,0.11,0.11]
[{"$f":"Photonic!B338","v":686},{"$f":"CM!D339","v":6.9659747946359759E-4},null,null,null,null,null,null,13083378805717.725,120.27753654462521,120.27753654462521,3.4693262105481661E-3,{"$f":"+$L332*Photonic!BB338","v":1.070634068575164E-4},{"$f":"+$L332*Photonic!BC338","v":3.8780128381507402E-5},{"$f":"+$L332*Photonic!BD338","v":0},75.66,-12.64,9.06,null,null,0.4572,0.32980000000000004,0.27279999999999999,0.16259999999999999,0.18959999999999999,0.28699999999999998,0.47059999999999996,0.71539999999999992,0.81499999999999995,0.73580000000000001,0.11460000000000001,4.5599999999999995E-2,0.747,0.11260000000000001,0.11260000000000001]
[{"$f":"Photonic!B339","v":687},{"$f":"CM!D340","v":6.7341950858347229E-4},null,null,null,null,null,null,13088472014708.525,118.55993834661686,118.55993834661686,3.4197832233975288E-3,{"$f":"+$L333*Photonic!BB339","v":9.8558152498316777E-5},{"$f":"+$L333*Photonic!BC339","v":3.5688857719376611E-5},{"$f":"+$L333*Photonic!BD339","v":0},74.72,-12.48,8.870000000000001,null,null,0.45740000000000003,0.3296,0.27660000000000001,0.16320000000000001,0.19020000000000001,0.28799999999999998,0.47119999999999995,0.71579999999999999,0.81599999999999995,0.73660000000000003,0.1172,4.82E-2,0.747,0.1152,0.1152]
[{"$f":"Photonic!B340","v":688},{"$f":"CM!D341","v":6.6384843503818969E-4},null,null,null,null,null,null,13093417968533.025,116.84234014860851,116.84234014860851,3.3702402362468919E-3,{"$f":"+$L334*Photonic!BB340","v":9.0255033526691767E-5},{"$f":"+$L334*Photonic!BC340","v":3.2671108850177365E-5},{"$f":"+$L334*Photonic!BD340","v":0},73.78,-12.32,8.68,null,null,0.45760000000000001,0.32940000000000003,0.28039999999999998,0.1638,0.1908,0.28899999999999998,0.4718,0.71619999999999995,0.81699999999999995,0.73739999999999994,0.1198,5.0799999999999998E-2,0.747,0.1178,0.1178]
[{"$f":"Photonic!B341","v":689},{"$f":"CM!D342","v":6.5362520723011752E-4},null,null,null,null,null,null,13098217363523.861,115.12474195060017,115.12474195060017,3.3206972490962545E-3,{"$f":"+$L335*Photonic!BB341","v":8.2154049942641344E-5},{"$f":"+$L335*Photonic!BC341","v":2.972688177390967E-5},{"$f":"+$L335*Photonic!BD341","v":0},72.84,-12.16,8.49,null,null,0.45780000000000004,0.32919999999999999,0.28420000000000001,0.16440000000000002,0.19140000000000001,0.28999999999999998,0.47239999999999999,0.71660000000000001,0.81799999999999995,0.73819999999999997,0.12239999999999999,5.3400000000000003E-2,0.747,0.12039999999999999,0.12039999999999999]
[{"$f":"Photonic!B342","v":690},{"$f":"CM!D343","v":6.3988350801991503E-4},null,null,null,null,null,null,13102870896605.727,113.40714375259182,113.40714375259182,3.2711542619456176E-3,{"$f":"+$L336*Photonic!BB342","v":7.4255201746165522E-5},{"$f":"+$L336*Photonic!BC342","v":2.6856176490573521E-5},{"$f":"+$L336*Photonic!BD342","v":0},71.900000000000006,-12,8.3000000000000007,null,null,0.45800000000000002,0.32900000000000001,0.28799999999999998,0.16500000000000001,0.192,0.29099999999999998,0.47299999999999998,0.71699999999999997,0.81899999999999995,0.73899999999999999,0.125,5.6000000000000001E-2,0.747,0.123,0.123]
[{"$f":"Photonic!B343","v":691},{"$f":"CM!D344","v":6.2755717162178671E-4},null,null,null,null,null,null,13107379265241.32,114.21006664531988,114.21006664531988,3.2943140432049977E-3,{"$f":"+$L337*Photonic!BB343","v":7.0261129913476187E-5},{"$f":"+$L337*Photonic!BC343","v":2.5407726489622867E-5},{"$f":"+$L337*Photonic!BD343","v":0},72.14,-12.13,8.43,null,null,0.45840000000000003,0.32880000000000004,0.2928,0.1656,0.19259999999999999,0.29199999999999998,0.4738,0.71739999999999993,0.82,0.73960000000000004,0.12820000000000001,5.96E-2,0.74680000000000002,0.1258,0.1258]
[{"$f":"Photonic!B344","v":692},{"$f":"CM!D345","v":6.1522970641677936E-4},null,null,null,null,null,null,13111743167378.053,115.01298953804796,115.01298953804796,3.3174738244643783E-3,{"$f":"+$L338*Photonic!BB344","v":6.6203507641011139E-5},{"$f":"+$L338*Photonic!BC344","v":2.3936237138275382E-5},{"$f":"+$L338*Photonic!BD344","v":0},72.38,-12.26,8.56,null,null,0.45880000000000004,0.3286,0.29759999999999998,0.16620000000000001,0.19320000000000001,0.29299999999999998,0.47459999999999997,0.71779999999999999,0.82099999999999995,0.74019999999999997,0.13139999999999999,6.3200000000000006E-2,0.74660000000000004,0.12859999999999999,0.12859999999999999]
[{"$f":"Photonic!B345","v":693},{"$f":"CM!D346","v":6.0264774915319585E-4},null,null,null,null,null,null,13115963301395.4,115.81591243077602,115.81591243077602,3.3406336057237584E-3,{"$f":"+$L339*Photonic!BB345","v":6.2082334928770325E-5},{"$f":"+$L339*Photonic!BC345","v":2.2441708436531065E-5},{"$f":"+$L339*Photonic!BD345","v":0},72.62,-12.39,8.69,null,null,0.4592,0.32840000000000003,0.3024,0.1668,0.1938,0.29399999999999998,0.47539999999999999,0.71819999999999995,0.82199999999999995,0.74080000000000001,0.1346,6.6799999999999998E-2,0.74639999999999995,0.13140000000000002,0.13140000000000002]
[{"$f":"Photonic!B346","v":694},{"$f":"CM!D347","v":5.8982852123617025E-4},null,null,null,null,null,null,13120040366053.049,116.6188353235041,116.6188353235041,3.363793386983139E-3,{"$f":"+$L340*Photonic!BB346","v":5.7897611776753793E-5},{"$f":"+$L340*Photonic!BC346","v":2.0924140384389919E-5},{"$f":"+$L340*Photonic!BD346","v":0},72.86,-12.52,8.82,null,null,0.45960000000000001,0.32819999999999999,0.30719999999999997,0.16740000000000002,0.19440000000000002,0.29499999999999998,0.47619999999999996,0.71860000000000002,0.82299999999999995,0.74139999999999995,0.13779999999999998,7.039999999999999E-2,0.74619999999999997,0.13420000000000001,0.13420000000000001]
[{"$f":"Photonic!B347","v":695},{"$f":"CM!D348","v":5.7153166409515627E-4},null,null,null,null,null,null,13123975060439.641,117.42175821623215,117.42175821623215,3.3869531682425187E-3,{"$f":"+$L341*Photonic!BB347","v":5.3649338184961494E-5},{"$f":"+$L341*Photonic!BC347","v":1.9383532981851935E-5},{"$f":"+$L341*Photonic!BD347","v":0},73.099999999999994,-12.65,8.9499999999999993,null,null,0.46,0.32800000000000001,0.312,0.16800000000000001,0.19500000000000001,0.29599999999999999,0.47699999999999998,0.71899999999999997,0.82399999999999995,0.74199999999999999,0.14099999999999999,7.3999999999999996E-2,0.746,0.13700000000000001,0.13700000000000001]
[{"$f":"Photonic!B348","v":696},{"$f":"CM!D349","v":5.6281047908160464E-4},null,null,null,null,null,null,13127768083922.281,118.22468110896023,118.22468110896023,3.4101129495018993E-3,{"$f":"+$L342*Photonic!BB348","v":5.0960045894766482E-5},{"$f":"+$L342*Photonic!BC348","v":1.8410517791770853E-5},{"$f":"+$L342*Photonic!BD348","v":0},73.339999999999989,-12.780000000000001,9.08,null,null,0.46040000000000003,0.32800000000000001,0.31759999999999999,0.16840000000000002,0.1958,0.29719999999999996,0.47819999999999996,0.71939999999999993,0.82479999999999998,0.74280000000000002,0.14499999999999999,7.8600000000000003E-2,0.746,0.14000000000000001,0.14000000000000001]
[{"$f":"Photonic!B349","v":697},{"$f":"CM!D350","v":5.5409217455421576E-4},null,null,null,null,null,null,13131420136096.766,119.0276040016883,119.0276040016883,3.4332727307612798E-3,{"$f":"+$L343*Photonic!BB349","v":4.8229242012642154E-5},{"$f":"+$L343*Photonic!BC349","v":1.7422485799521189E-5},{"$f":"+$L343*Photonic!BD349","v":0},73.58,-12.91,9.2099999999999991,null,null,0.46080000000000004,0.32800000000000001,0.32319999999999999,0.16880000000000001,0.1966,0.2984,0.47939999999999999,0.7198,0.8256,0.74360000000000004,0.14899999999999999,8.3199999999999996E-2,0.746,0.14300000000000002,0.14300000000000002]
[{"$f":"Photonic!B350","v":698},{"$f":"CM!D351","v":5.373154850289775E-4},null,null,null,null,null,null,13134931916738.348,119.83052689441637,119.83052689441637,3.45643251202066E-3,{"$f":"+$L344*Photonic!BB350","v":4.5456926538588501E-5},{"$f":"+$L344*Photonic!BC350","v":1.6419437005102945E-5},{"$f":"+$L344*Photonic!BD350","v":0},73.819999999999993,-13.040000000000001,9.34,null,null,0.4612,0.32800000000000001,0.32880000000000004,0.16920000000000002,0.19740000000000002,0.29959999999999998,0.48059999999999997,0.72019999999999995,0.82639999999999991,0.74439999999999995,0.153,8.7800000000000003E-2,0.746,0.14599999999999999,0.14599999999999999]
[{"$f":"Photonic!B351","v":699},{"$f":"CM!D352","v":5.3375507797512095E-4},null,null,null,null,null,null,13138304125753.391,120.63344978714446,120.63344978714446,3.479592293280041E-3,{"$f":"+$L345*Photonic!BB351","v":4.2643099472605552E-5},{"$f":"+$L345*Photonic!BC351","v":1.5401371408516118E-5},{"$f":"+$L345*Photonic!BD351","v":0},74.06,-13.17,9.4699999999999989,null,null,0.46160000000000001,0.32800000000000001,0.33440000000000003,0.1696,0.19820000000000002,0.30080000000000001,0.48180000000000001,0.72060000000000002,0.82719999999999994,0.74519999999999997,0.157,9.2399999999999996E-2,0.746,0.14899999999999999,0.14899999999999999]
[{"$f":"Photonic!B352","v":700},{"$f":"CM!D353","v":5.3020031153973106E-4},null,null,null,null,null,null,13141537463131.504,121.43637267987252,121.43637267987252,3.5027520745394211E-3,{"$f":"+$L346*Photonic!BB352","v":3.978776081469328E-5},{"$f":"+$L346*Photonic!BC352","v":1.4368289009760704E-5},{"$f":"+$L346*Photonic!BD352","v":0},74.3,-13.3,9.6,null,null,0.46200000000000002,0.32800000000000001,0.34,0.17,0.19900000000000001,0.30199999999999999,0.48299999999999998,0.72099999999999997,0.82799999999999996,0.746,0.161,9.7000000000000003E-2,0.746,0.152,0.152]
[{"$f":"Photonic!B353","v":701},{"$f":"CM!D354","v":5.0840382863614022E-4},null,null,null,null,null,null,13144632628898.516,121.27536891715579,121.27536891715579,3.4981080271966089E-3,{"$f":"+$L347*Photonic!BB353","v":3.7462638106459363E-5},{"$f":"+$L347*Photonic!BC353","v":1.3528582984380165E-5},{"$f":"+$L347*Photonic!BD353","v":0},74.509999999999991,-13.26,9.49,null,null,0.4622,0.32780000000000004,0.34520000000000001,0.17020000000000002,0.19920000000000002,0.30419999999999997,0.48419999999999996,0.7208,0.82839999999999991,0.74639999999999995,0.16520000000000001,0.1032,0.746,0.15540000000000001,0.15540000000000001]
[{"$f":"Photonic!B354","v":702},{"$f":"CM!D355","v":5.0080374239444916E-4},null,null,null,null,null,null,13147590323069.961,121.11436515443906,121.11436515443906,3.4934639798537971E-3,{"$f":"+$L348*Photonic!BB354","v":3.5143548944533227E-5},{"$f":"+$L348*Photonic!BC354","v":1.2691055946012874E-5},{"$f":"+$L348*Photonic!BD354","v":0},74.72,-13.22,9.3800000000000008,null,null,0.46240000000000003,0.3276,0.35039999999999999,0.17040000000000002,0.19940000000000002,0.30640000000000001,0.4854,0.72060000000000002,0.82879999999999998,0.74680000000000002,0.1694,0.1094,0.746,0.1588,0.1588]
[{"$f":"Photonic!B355","v":703},{"$f":"CM!D356","v":4.9320478495963735E-4},null,null,null,null,null,null,13150411245605.248,120.95336139172231,120.95336139172231,3.4888199325109849E-3,{"$f":"+$L349*Photonic!BB355","v":3.2830493328914872E-5},{"$f":"+$L349*Photonic!BC355","v":1.185570789465883E-5},{"$f":"+$L349*Photonic!BD355","v":0},74.929999999999993,-13.18,9.27,null,null,0.46260000000000001,0.32740000000000002,0.35560000000000003,0.1706,0.1996,0.30859999999999999,0.48659999999999998,0.72039999999999993,0.82919999999999994,0.74719999999999998,0.1736,0.11560000000000001,0.746,0.16220000000000001,0.16220000000000001]
[{"$f":"Photonic!B356","v":704},{"$f":"CM!D357","v":4.8702023674596068E-4},null,null,null,null,null,null,13153096096362.686,120.79235762900559,120.79235762900559,3.4841758851681731E-3,{"$f":"+$L350*Photonic!BB356","v":3.0523471259604296E-5},{"$f":"+$L350*Photonic!BC356","v":1.1022538830318032E-5},{"$f":"+$L350*Photonic!BD356","v":0},75.14,-13.14,9.16,null,null,0.46280000000000004,0.32719999999999999,0.36080000000000001,0.17080000000000001,0.19980000000000001,0.31080000000000002,0.48780000000000001,0.72019999999999995,0.8296,0.74760000000000004,0.17779999999999999,0.12180000000000001,0.746,0.1656,0.1656]
[{"$f":"Photonic!B357","v":705},{"$f":"CM!D358","v":4.8063561782694502E-4},null,null,null,null,null,null,13155645575054.791,120.63135386628885,120.63135386628885,3.4795318378253609E-3,{"$f":"+$L351*Photonic!BB357","v":2.8222482736601501E-5},{"$f":"+$L351*Photonic!BC357","v":1.0191548752990483E-5},{"$f":"+$L351*Photonic!BD357","v":0},75.349999999999994,-13.1,9.0500000000000007,null,null,0.46300000000000002,0.32700000000000001,0.36599999999999999,0.17100000000000001,0.2,0.313,0.48899999999999999,0.72,0.83,0.748,0.182,0.128,0.746,0.16900000000000001,0.16900000000000001]
[{"$f":"Photonic!B358","v":706},{"$f":"CM!D359","v":4.611660824066736E-4},null,null,null,null,null,null,13158060381204.582,120.47035010357213,120.47035010357213,3.4748877904825491E-3,{"$f":"+$L352*Photonic!BB358","v":2.6571771956261958E-5},{"$f":"+$L352*Photonic!BC358","v":9.5955551446385112E-6},{"$f":"+$L352*Photonic!BD358","v":0},75.56,-13.06,8.9400000000000013,null,null,0.4632,0.32680000000000003,0.37080000000000002,0.17080000000000001,0.19980000000000001,0.31540000000000001,0.4904,0.7198,0.83019999999999994,0.74819999999999998,0.1862,0.1356,0.74580000000000002,0.17280000000000001,0.17280000000000001]
[{"$f":"Photonic!B359","v":707},{"$f":"CM!D360","v":4.5452608621585668E-4},null,null,null,null,null,null,13160341214102.266,120.3093463408554,120.3093463408554,3.4702437431397373E-3,{"$f":"+$L353*Photonic!BB359","v":2.4925372709475478E-5},{"$f":"+$L353*Photonic!BC359","v":9.001118220955851E-6},{"$f":"+$L353*Photonic!BD359","v":0},75.77,-13.02,8.83,null,null,0.46340000000000003,0.3266,0.37559999999999999,0.1706,0.1996,0.31780000000000003,0.49180000000000001,0.71960000000000002,0.83039999999999992,0.74839999999999995,0.19040000000000001,0.14319999999999999,0.74560000000000004,0.17660000000000001,0.17660000000000001]
[{"$f":"Photonic!B360","v":708},{"$f":"CM!D361","v":4.4575041558236601E-4},null,null,null,null,null,null,13162488772762.758,120.14834257813867,120.14834257813867,3.4655996957969255E-3,{"$f":"+$L354*Photonic!BB360","v":2.3283284996242064E-5},{"$f":"+$L354*Photonic!BC360","v":8.4082379819425002E-6},{"$f":"+$L354*Photonic!BD360","v":0},75.98,-12.98,8.7200000000000006,null,null,0.46360000000000001,0.32640000000000002,0.38040000000000002,0.17040000000000002,0.19940000000000002,0.32019999999999998,0.49319999999999997,0.71939999999999993,0.8306,0.74860000000000004,0.1946,0.15080000000000002,0.74539999999999995,0.1804,0.1804]
[{"$f":"Photonic!B361","v":709},{"$f":"CM!D362","v":4.4241027044464347E-4},null,null,null,null,null,null,13164503755883.582,119.98733881542194,119.98733881542194,3.4609556484541133E-3,{"$f":"+$L355*Photonic!BB361","v":2.1645508816561713E-5},{"$f":"+$L355*Photonic!BC361","v":7.8169144275984605E-6},{"$f":"+$L355*Photonic!BD361","v":0},76.19,-12.94,8.61,null,null,0.46380000000000005,0.32619999999999999,0.38519999999999999,0.17020000000000002,0.19920000000000002,0.3226,0.49459999999999998,0.71919999999999995,0.83079999999999998,0.74880000000000002,0.1988,0.15840000000000001,0.74519999999999997,0.1842,0.1842]
[{"$f":"Photonic!B362","v":710},{"$f":"CM!D363","v":4.3424064739690704E-4},null,null,null,null,null,null,13166386861803.637,119.82633505270522,119.82633505270522,3.4563116011113019E-3,{"$f":"+$L356*Photonic!BB362","v":2.0012044170434438E-5},{"$f":"+$L356*Photonic!BC362","v":7.227147557923732E-6},{"$f":"+$L356*Photonic!BD362","v":0},76.400000000000006,-12.9,8.5,null,null,0.46400000000000002,0.32600000000000001,0.39,0.17,0.19900000000000001,0.32500000000000001,0.496,0.71899999999999997,0.83099999999999996,0.749,0.20300000000000001,0.16600000000000001,0.745,0.188,0.188]
[{"$f":"Photonic!B363","v":711},{"$f":"CM!D364","v":4.2572729605019438E-4},null,null,null,null,null,null,13168138788462.457,117.74644794310106,117.74644794310106,3.3963186292594568E-3,{"$f":"+$L357*Photonic!BB363","v":1.8522842540255225E-5},{"$f":"+$L357*Photonic!BC363","v":6.689389172189427E-6},{"$f":"+$L357*Photonic!BD363","v":0},75.09,-12.67,8.35,null,null,0.4642,0.32580000000000003,0.39440000000000003,0.1696,0.1988,0.3276,0.49740000000000001,0.71960000000000002,0.83139999999999992,0.74939999999999996,0.20700000000000002,0.17480000000000001,0.74480000000000002,0.1918,0.1918]
[{"$f":"Photonic!B364","v":712},{"$f":"CM!D365","v":4.1101080443442159E-4},null,null,null,null,null,null,13169760233360.012,115.6665608334969,115.6665608334969,3.3363256574076116E-3,{"$f":"+$L358*Photonic!BB364","v":1.7073980184349194E-5},{"$f":"+$L358*Photonic!BC364","v":6.166197080020748E-6},{"$f":"+$L358*Photonic!BD364","v":0},73.78,-12.44,8.1999999999999993,null,null,0.46440000000000003,0.3256,0.39879999999999999,0.16920000000000002,0.1986,0.33019999999999999,0.49880000000000002,0.72019999999999995,0.83179999999999998,0.74980000000000002,0.21100000000000002,0.18360000000000001,0.74460000000000004,0.1956,0.1956]
[{"$f":"Photonic!B365","v":713},{"$f":"CM!D366","v":4.0564320985306886E-4},null,null,null,null,null,null,13171251893517.275,113.58667372389276,113.58667372389276,3.276332685555767E-3,{"$f":"+$L359*Photonic!BB365","v":1.5665457102716345E-5},{"$f":"+$L359*Photonic!BC365","v":5.6575712814176984E-6},{"$f":"+$L359*Photonic!BD365","v":0},72.47,-12.21,8.0500000000000007,null,null,0.46460000000000001,0.32540000000000002,0.4032,0.16880000000000001,0.19840000000000002,0.33280000000000004,0.50019999999999998,0.7208,0.83219999999999994,0.75019999999999998,0.215,0.19239999999999999,0.74439999999999995,0.19939999999999999,0.19939999999999999]
[{"$f":"Photonic!B366","v":714},{"$f":"CM!D367","v":4.002889121940647E-4},null,null,null,null,null,null,13172614465437.232,111.50678661428861,111.50678661428861,3.2163397137039223E-3,{"$f":"+$L360*Photonic!BB366","v":1.4297273295356674E-5},{"$f":"+$L360*Photonic!BC366","v":5.1635117763802773E-6},{"$f":"+$L360*Photonic!BD366","v":0},71.16,-11.98,7.9,null,null,0.46480000000000005,0.32519999999999999,0.40759999999999996,0.16840000000000002,0.19820000000000002,0.33540000000000003,0.50160000000000005,0.72139999999999993,0.83260000000000001,0.75060000000000004,0.219,0.20119999999999999,0.74419999999999997,0.20319999999999999,0.20319999999999999]
[{"$f":"Photonic!B367","v":715},{"$f":"CM!D368","v":3.8607945671954944E-4},null,null,null,null,null,null,13173848645066.629,109.42689950468446,109.42689950468446,3.1563467418520771E-3,{"$f":"+$L361*Photonic!BB367","v":1.2969428762270184E-5},{"$f":"+$L361*Photonic!BC367","v":4.684018564908483E-6},{"$f":"+$L361*Photonic!BD367","v":0},69.849999999999994,-11.75,7.75,null,null,0.46500000000000002,0.32500000000000001,0.41199999999999998,0.16800000000000001,0.19800000000000001,0.33800000000000002,0.503,0.72199999999999998,0.83299999999999996,0.751,0.223,0.21,0.74399999999999999,0.20699999999999999,0.20699999999999999]
[{"$f":"Photonic!B368","v":716},{"$f":"CM!D369","v":3.7729492828613668E-4},null,null,null,null,null,null,13174955127758.178,107.3470123950803,107.3470123950803,3.096353770000232E-3,{"$f":"+$L362*Photonic!BB368","v":1.1973600028590896E-5},{"$f":"+$L362*Photonic!BC368","v":4.3243676751823241E-6},{"$f":"+$L362*Photonic!BD368","v":0},68.539999999999992,-11.52,7.6,null,null,0.4652,0.32480000000000003,0.4158,0.1676,0.1976,0.34060000000000001,0.50460000000000005,0.72260000000000002,0.83339999999999992,0.75139999999999996,0.2268,0.21939999999999998,0.74380000000000002,0.21079999999999999,0.21079999999999999]
[{"$f":"Photonic!B369","v":717},{"$f":"CM!D370","v":3.685191677839922E-4},null,null,null,null,null,null,13175934608233.395,105.26712528547614,105.26712528547614,3.0363607981483869E-3,{"$f":"+$L363*Photonic!BB369","v":1.1006807893287902E-5},{"$f":"+$L363*Photonic!BC369","v":3.9752035569358683E-6},{"$f":"+$L363*Photonic!BD369","v":0},67.22999999999999,-11.29,7.45,null,null,0.46540000000000004,0.3246,0.41959999999999997,0.16720000000000002,0.19720000000000001,0.34320000000000001,0.50619999999999998,0.72319999999999995,0.83379999999999999,0.75180000000000002,0.2306,0.2288,0.74360000000000004,0.21459999999999999,0.21459999999999999]
[{"$f":"Photonic!B370","v":718},{"$f":"CM!D371","v":3.6611591823564266E-4},null,null,null,null,null,null,13176787780546.018,103.18723817587203,103.18723817587203,2.9763678262965431E-3,{"$f":"+$L364*Photonic!BB370","v":1.0069052356361206E-5},{"$f":"+$L364*Photonic!BC370","v":3.6365262101691167E-6},{"$f":"+$L364*Photonic!BD370","v":0},65.92,-11.06,7.3,null,null,0.46560000000000001,0.32440000000000002,0.4234,0.1668,0.1968,0.3458,0.50780000000000003,0.7238,0.83419999999999994,0.75219999999999998,0.2344,0.2382,0.74339999999999995,0.21840000000000001,0.21840000000000001]
[{"$f":"Photonic!B371","v":719},{"$f":"CM!D372","v":3.5528232553274237E-4},null,null,null,null,null,null,13177515338046.031,101.10735106626788,101.10735106626788,2.9163748544446984E-3,{"$f":"+$L365*Photonic!BB371","v":9.1603334178107983E-6},{"$f":"+$L365*Photonic!BC371","v":3.3083356348820658E-6},{"$f":"+$L365*Photonic!BD371","v":0},64.61,-10.83,7.15,null,null,0.46580000000000005,0.32419999999999999,0.42719999999999997,0.16640000000000002,0.19640000000000002,0.34839999999999999,0.50939999999999996,0.72439999999999993,0.83460000000000001,0.75260000000000005,0.2382,0.24760000000000001,0.74319999999999997,0.22220000000000001,0.22220000000000001]
[{"$f":"Photonic!B372","v":720},{"$f":"CM!D373","v":3.4436527854421239E-4},null,null,null,null,null,null,13178117973344.148,99.027463956663723,99.027463956663723,2.8563818825928533E-3,{"$f":"+$L366*Photonic!BB372","v":8.2806510776366813E-6},{"$f":"+$L366*Photonic!BC372","v":2.9906318310747174E-6},{"$f":"+$L366*Photonic!BD372","v":0},63.3,-10.6,7,null,null,0.46600000000000003,0.32400000000000001,0.43099999999999999,0.16600000000000001,0.19600000000000001,0.35099999999999998,0.51100000000000001,0.72499999999999998,0.83499999999999996,0.753,0.24199999999999999,0.25700000000000001,0.74299999999999999,0.22600000000000001,0.22600000000000001]
[{"$f":"Photonic!B373","v":721},{"$f":"CM!D374","v":3.4944568982667607E-4},null,null,null,null,null,null,13178596378276.99,100.18745486999717,100.18745486999717,2.8898410553963492E-3,{"$f":"+$L367*Photonic!BB373","v":7.8863762401766366E-6},{"$f":"+$L367*Photonic!BC373","v":2.8482273441986413E-6},{"$f":"+$L367*Photonic!BD373","v":0},64.14,-10.7,7.06,null,null,0.46600000000000003,0.32400000000000001,0.43419999999999997,0.1656,0.1958,0.35359999999999997,0.51239999999999997,0.72539999999999993,0.83519999999999994,0.75319999999999998,0.245,0.2666,0.74319999999999997,0.22939999999999999,0.22939999999999999]
[{"$f":"Photonic!B374","v":722},{"$f":"CM!D375","v":3.5373642013667562E-4},null,null,null,null,null,null,13178951243872.717,101.34744578333063,101.34744578333063,2.9233002281998459E-3,{"$f":"+$L368*Photonic!BB374","v":7.4807252839634057E-6},{"$f":"+$L368*Photonic!BC374","v":2.7017140709022975E-6},{"$f":"+$L368*Photonic!BD374","v":0},64.98,-10.799999999999999,7.12,null,null,0.46600000000000003,0.32400000000000001,0.43740000000000001,0.16520000000000001,0.1956,0.35619999999999996,0.51380000000000003,0.7258,0.83539999999999992,0.75339999999999996,0.248,0.2762,0.74339999999999995,0.23280000000000001,0.23280000000000001]
[{"$f":"Photonic!B375","v":723},{"$f":"CM!D376","v":3.409954817276502E-4},null,null,null,null,null,null,13179183260317.217,102.50743669666407,102.50743669666407,2.9567594010033419E-3,{"$f":"+$L369*Photonic!BB375","v":7.0636982089969841E-6},{"$f":"+$L369*Photonic!BC375","v":2.5510920111856831E-6},{"$f":"+$L369*Photonic!BD375","v":0},65.819999999999993,-10.9,7.18,null,null,0.46600000000000003,0.32400000000000001,0.44059999999999999,0.1648,0.19540000000000002,0.35880000000000001,0.51519999999999999,0.72619999999999996,0.83560000000000001,0.75360000000000005,0.251,0.2858,0.74360000000000004,0.23619999999999999,0.23619999999999999]
[{"$f":"Photonic!B376","v":724},{"$f":"CM!D377","v":3.3211841781875204E-4},null,null,null,null,null,null,13179293116920.914,103.66742760999752,103.66742760999752,2.9902185738068378E-3,{"$f":"+$L370*Photonic!BB376","v":6.6352950152773728E-6},{"$f":"+$L370*Photonic!BC376","v":2.3963611650487998E-6},{"$f":"+$L370*Photonic!BD376","v":0},66.66,-11,7.24,null,null,0.46600000000000003,0.32400000000000001,0.44380000000000003,0.16440000000000002,0.19520000000000001,0.3614,0.51660000000000006,0.72660000000000002,0.83579999999999999,0.75380000000000003,0.254,0.2954,0.74380000000000002,0.23960000000000001,0.23960000000000001]
[{"$f":"Photonic!B377","v":725},{"$f":"CM!D378","v":3.2320777678377022E-4},null,null,null,null,null,null,13179281502086.072,104.82741852333098,104.82741852333098,3.0236777466103345E-3,{"$f":"+$L371*Photonic!BB377","v":6.1955157028045752E-6},{"$f":"+$L371*Photonic!BC377","v":2.2375215324916475E-6},{"$f":"+$L371*Photonic!BD377","v":0},67.5,-11.1,7.3,null,null,0.46600000000000003,0.32400000000000001,0.44700000000000001,0.16400000000000001,0.19500000000000001,0.36399999999999999,0.51800000000000002,0.72699999999999998,0.83599999999999997,0.754,0.25700000000000001,0.30499999999999999,0.74399999999999999,0.24299999999999999,0.24299999999999999]
[{"$f":"Photonic!B378","v":726},{"$f":"CM!D379","v":3.1829953653556519E-4},null,null,null,null,null,null,13179149103274.574,105.98740943666442,105.98740943666442,3.0571369194138305E-3,{"$f":"+$L372*Photonic!BB378","v":5.8917142710943337E-6},{"$f":"+$L372*Photonic!BC378","v":2.127767295912026E-6},{"$f":"+$L372*Photonic!BD378","v":0},68.34,-11.2,7.3599999999999994,null,null,0.46600000000000003,0.32400000000000001,0.4496,0.16400000000000001,0.19500000000000001,0.3664,0.51939999999999997,0.72739999999999994,0.83599999999999997,0.75419999999999998,0.2596,0.31479999999999997,0.74419999999999997,0.24640000000000001,0.24640000000000001]
[{"$f":"Photonic!B379","v":727},{"$f":"CM!D380","v":3.1832106401914512E-4},null,null,null,null,null,null,13178896606976.316,107.14740034999788,107.14740034999788,3.0905960922173268E-3,{"$f":"+$L373*Photonic!BB379","v":5.5797621848891614E-6},{"$f":"+$L373*Photonic!BC379","v":2.0150686521256969E-6},{"$f":"+$L373*Photonic!BD379","v":0},69.180000000000007,-11.299999999999999,7.42,null,null,0.46600000000000003,0.32400000000000001,0.45219999999999999,0.16400000000000001,0.19500000000000001,0.36880000000000002,0.52080000000000004,0.7278,0.83599999999999997,0.75439999999999996,0.26219999999999999,0.3246,0.74439999999999995,0.24979999999999999,0.24979999999999999]
[{"$f":"Photonic!B380","v":728},{"$f":"CM!D381","v":3.1871178344821429E-4},null,null,null,null,null,null,13178524698678.107,108.30739126333131,108.30739126333131,3.1240552650208227E-3,{"$f":"+$L374*Photonic!BB380","v":5.2596594441890574E-6},{"$f":"+$L374*Photonic!BC380","v":1.89942560113266E-6},{"$f":"+$L374*Photonic!BD380","v":0},70.02,-11.4,7.4799999999999995,null,null,0.46600000000000003,0.32400000000000001,0.45480000000000004,0.16400000000000001,0.19500000000000001,0.37119999999999997,0.5222,0.72819999999999996,0.83599999999999997,0.75460000000000005,0.26480000000000004,0.33439999999999998,0.74460000000000004,0.25319999999999998,0.25319999999999998]
[{"$f":"Photonic!B381","v":729},{"$f":"CM!D382","v":3.0820048768591927E-4},null,null,null,null,null,null,13178034062833.045,109.46738217666477,109.46738217666477,3.1575144378243191E-3,{"$f":"+$L375*Photonic!BB381","v":4.9314060489940218E-6},{"$f":"+$L375*Photonic!BC381","v":1.7808381429329158E-6},{"$f":"+$L375*Photonic!BD381","v":0},70.86,-11.5,7.54,null,null,0.46600000000000003,0.32400000000000001,0.45740000000000003,0.16400000000000001,0.19500000000000001,0.37359999999999999,0.52360000000000007,0.72860000000000003,0.83599999999999997,0.75480000000000003,0.26740000000000003,0.34420000000000001,0.74480000000000002,0.25659999999999999,0.25659999999999999]
[{"$f":"Photonic!B382","v":730},{"$f":"CM!D383","v":3.071641429606506E-4},null,null,null,null,null,null,13177425382830.443,110.62737308999823,110.62737308999823,3.1909736106278154E-3,{"$f":"+$L376*Photonic!BB382","v":4.5950019993040545E-6},{"$f":"+$L376*Photonic!BC382","v":1.659306277526464E-6},{"$f":"+$L376*Photonic!BD382","v":0},71.7,-11.6,7.6,null,null,0.46600000000000003,0.32400000000000001,0.46,0.16400000000000001,0.19500000000000001,0.376,0.52500000000000002,0.72899999999999998,0.83599999999999997,0.755,0.27,0.35399999999999998,0.745,0.26,0.26]
[{"$f":"Photonic!B383","v":731},{"$f":"CM!D384","v":3.054146105969698E-4},null,null,null,null,null,null,13176699340966.248,111.36067030764403,111.36067030764403,3.212125085212238E-3,{"$f":"+$L377*Photonic!BB383","v":4.3427931152069461E-6},{"$f":"+$L377*Photonic!BC383","v":1.5681594666006143E-6},{"$f":"+$L377*Photonic!BD383","v":0},72.23,-11.66,7.64,null,null,0.46600000000000003,0.32380000000000003,0.46240000000000003,0.16420000000000001,0.19520000000000001,0.37859999999999999,0.52639999999999998,0.72919999999999996,0.83619999999999994,0.755,0.27240000000000003,0.3634,0.74560000000000004,0.26340000000000002,0.26340000000000002]
[{"$f":"Photonic!B384","v":732},{"$f":"CM!D385","v":2.9244638504613834E-4},null,null,null,null,null,null,13175856618413.996,112.09396752528984,112.09396752528984,3.2332765597966611E-3,{"$f":"+$L378*Photonic!BB384","v":4.08686157158298E-6},{"$f":"+$L378*Photonic!BC384","v":1.475667421891196E-6},{"$f":"+$L378*Photonic!BD384","v":0},72.760000000000005,-11.72,7.68,null,null,0.46600000000000003,0.3236,0.46479999999999999,0.16440000000000002,0.19540000000000002,0.38119999999999998,0.52780000000000005,0.72939999999999994,0.83639999999999992,0.755,0.27479999999999999,0.37280000000000002,0.74619999999999997,0.26680000000000004,0.26680000000000004]
[{"$f":"Photonic!B385","v":733},{"$f":"CM!D386","v":2.8911167166516407E-4},null,null,null,null,null,null,13174897895196.225,112.82726474293564,112.82726474293564,3.2544280343810841E-3,{"$f":"+$L379*Photonic!BB385","v":3.8272073684321545E-6},{"$f":"+$L379*Photonic!BC385","v":1.3818301433982082E-6},{"$f":"+$L379*Photonic!BD385","v":0},73.289999999999992,-11.78,7.72,null,null,0.46600000000000003,0.32340000000000002,0.4672,0.1646,0.1956,0.38380000000000003,0.5292,0.72960000000000003,0.83660000000000001,0.755,0.2772,0.38219999999999998,0.74680000000000002,0.2702,0.2702]
[{"$f":"Photonic!B386","v":734},{"$f":"CM!D387","v":2.857858870774815E-4},null,null,null,null,null,null,13173823850156.357,113.56056196058145,113.56056196058145,3.2755795089655071E-3,{"$f":"+$L380*Photonic!BB386","v":3.5638305057544718E-6},{"$f":"+$L380*Photonic!BC386","v":1.2866476311216513E-6},{"$f":"+$L380*Photonic!BD386","v":0},73.819999999999993,-11.84,7.76,null,null,0.46600000000000003,0.32319999999999999,0.46959999999999996,0.1648,0.1958,0.38640000000000002,0.53060000000000007,0.7298,0.83679999999999999,0.755,0.27959999999999996,0.3916,0.74739999999999995,0.27360000000000001,0.27360000000000001]
[{"$f":"Photonic!B387","v":735},{"$f":"CM!D388","v":2.8495899393463797E-4},null,null,null,null,null,null,13172635160931.166,114.29385917822727,114.29385917822727,3.2967309835499302E-3,{"$f":"+$L381*Photonic!BB387","v":3.2967309835499302E-6},{"$f":"+$L381*Photonic!BC387","v":1.1901198850615247E-6},{"$f":"+$L381*Photonic!BD387","v":0},74.349999999999994,-11.9,7.8,null,null,0.46600000000000003,0.32300000000000001,0.47199999999999998,0.16500000000000001,0.19600000000000001,0.38900000000000001,0.53200000000000003,0.73,0.83699999999999997,0.755,0.28199999999999997,0.40100000000000002,0.748,0.27700000000000002,0.27700000000000002]
[{"$f":"Photonic!B388","v":736},{"$f":"CM!D389","v":2.7466887424869253E-4},null,null,null,null,null,null,13171332503923.645,115.02715639587306,115.02715639587306,3.3178824581343528E-3,{"$f":"+$L382*Photonic!BB388","v":3.1121737457300229E-6},{"$f":"+$L382*Photonic!BC388","v":1.1234350003242919E-6},{"$f":"+$L382*Photonic!BD388","v":0},74.88,-11.96,7.84,null,null,0.4662,0.32280000000000003,0.4738,0.1656,0.19620000000000001,0.39140000000000003,0.53339999999999999,0.73,0.83719999999999994,0.755,0.28399999999999997,0.41000000000000003,0.74839999999999995,0.28040000000000004,0.28040000000000004]
[{"$f":"Photonic!B389","v":737},{"$f":"CM!D390","v":2.6476005898394382E-4},null,null,null,null,null,null,13169916554276.389,115.76045361351888,115.76045361351888,3.3390339327187758E-3,{"$f":"+$L383*Photonic!BB389","v":2.9249937250616479E-6},{"$f":"+$L383*Photonic!BC389","v":1.0558025295256768E-6},{"$f":"+$L383*Photonic!BD389","v":0},75.41,-12.02,7.88,null,null,0.46640000000000004,0.3226,0.47559999999999997,0.16620000000000001,0.19640000000000002,0.39380000000000004,0.53480000000000005,0.73,0.83739999999999992,0.755,0.28599999999999998,0.41900000000000004,0.74880000000000002,0.2838,0.2838]
[{"$f":"Photonic!B390","v":738},{"$f":"CM!D391","v":2.6516485476833659E-4},null,null,null,null,null,null,13168387985845.383,116.49375083116469,116.49375083116469,3.3601854073031989E-3,{"$f":"+$L384*Photonic!BB390","v":2.7351909215448036E-6},{"$f":"+$L384*Photonic!BC390","v":9.8722247266567985E-7},{"$f":"+$L384*Photonic!BD390","v":0},75.94,-12.08,7.92,null,null,0.46660000000000001,0.32240000000000002,0.47739999999999999,0.1668,0.1966,0.3962,0.53620000000000001,0.73,0.83760000000000001,0.755,0.28799999999999998,0.42799999999999999,0.74919999999999998,0.28720000000000001,0.28720000000000001]
[{"$f":"Photonic!B391","v":739},{"$f":"CM!D392","v":2.6575094825008764E-4},null,null,null,null,null,null,13166747471174.404,117.2270480488105,117.2270480488105,3.3813368818876224E-3,{"$f":"+$L385*Photonic!BB391","v":2.542765335179492E-6},{"$f":"+$L385*Photonic!BC391","v":9.1769482974430066E-7},{"$f":"+$L385*Photonic!BD391","v":0},76.47,-12.139999999999999,7.96,null,null,0.46680000000000005,0.32219999999999999,0.47919999999999996,0.16740000000000002,0.1968,0.39860000000000001,0.53760000000000008,0.73,0.83779999999999999,0.755,0.28999999999999998,0.437,0.74960000000000004,0.29059999999999997,0.29059999999999997]
[{"$f":"Photonic!B392","v":740},{"$f":"CM!D393","v":2.6634332240220199E-4},null,null,null,null,null,null,13164995681469.74,117.9603452664563,117.9603452664563,3.402488356472045E-3,{"$f":"+$L386*Photonic!BB392","v":2.3477169659657107E-6},{"$f":"+$L386*Photonic!BC392","v":8.4721960076153912E-7},{"$f":"+$L386*Photonic!BD392","v":0},77,-12.2,8,null,null,0.46700000000000003,0.32200000000000001,0.48099999999999998,0.16800000000000001,0.19700000000000001,0.40100000000000002,0.53900000000000003,0.73,0.83799999999999997,0.755,0.29199999999999998,0.44600000000000001,0.75,0.29399999999999998,0.29399999999999998]
[{"$f":"Photonic!B393","v":741},{"$f":"CM!D394","v":2.7415595536598261E-4},null,null,null,null,null,null,13163133286575.422,116.11210676567505,116.11210676567505,3.3491771359539426E-3,{"$f":"+$L387*Photonic!BB393","v":2.1675874423893918E-6},{"$f":"+$L387*Photonic!BC393","v":7.8230079541612191E-7},{"$f":"+$L387*Photonic!BD393","v":0},75.819999999999993,-12,7.87,null,null,0.46700000000000003,0.32180000000000003,0.4824,0.16880000000000001,0.1976,0.40340000000000004,0.54039999999999999,0.73,0.83819999999999995,0.755,0.29399999999999998,0.45379999999999998,0.75,0.29719999999999996,0.29719999999999996]
[{"$f":"Photonic!B394","v":742},{"$f":"CM!D395","v":2.7085627442071178E-4},null,null,null,null,null,null,13161160954948.924,114.26386826489382,114.26386826489382,3.2958659154358402E-3,{"$f":"+$L388*Photonic!BB394","v":1.9920213592894217E-6},{"$f":"+$L388*Photonic!BC394","v":7.1902610811148284E-7},{"$f":"+$L388*Photonic!BD394","v":0},74.64,-11.799999999999999,7.74,null,null,0.46700000000000003,0.3216,0.48380000000000001,0.1696,0.19820000000000002,0.40579999999999999,0.54180000000000006,0.73,0.83839999999999992,0.755,0.29599999999999999,0.46160000000000001,0.75,0.3004,0.3004]
[{"$f":"Photonic!B395","v":743},{"$f":"CM!D396","v":2.6144711755300411E-4},null,null,null,null,null,null,13159079353637.359,112.41562976411257,112.41562976411257,3.2425546949177379E-3,{"$f":"+$L389*Photonic!BB395","v":1.8210187166658015E-6},{"$f":"+$L389*Photonic!BC395","v":6.5739553884762212E-7},{"$f":"+$L389*Photonic!BD395","v":0},73.459999999999994,-11.6,7.6099999999999994,null,null,0.46700000000000003,0.32140000000000002,0.48519999999999996,0.1704,0.1988,0.40820000000000001,0.54320000000000002,0.73,0.83860000000000001,0.755,0.29799999999999999,0.46939999999999998,0.75,0.30359999999999998,0.30359999999999998]
[{"$f":"Photonic!B396","v":744},{"$f":"CM!D397","v":2.5752217769836242E-4},null,null,null,null,null,null,{"$f":"$G$5*((A390*0.000000001)^(-5)) / (EXP($G$6/(($E$6*0.000000001*A390)))-1)","v":13156889148253.924},110.56739126333132,110.56739126333132,3.1892434743996355E-3,{"$f":"+$L390*Photonic!BB396","v":1.6545795145185309E-6},{"$f":"+$L390*Photonic!BC396","v":5.9740908762453965E-7},{"$f":"+$L390*Photonic!BD396","v":0},72.28,-11.399999999999999,7.4799999999999995,null,null,0.46700000000000003,0.32119999999999999,0.48659999999999998,0.17119999999999999,0.19940000000000002,0.41059999999999997,0.54460000000000008,0.73,0.83879999999999999,0.755,0.3,0.47720000000000001,0.75,0.30680000000000002,0.30680000000000002]
[{"$f":"Photonic!B397","v":745},{"$f":"CM!D398","v":2.5216290430570877E-4},null,null,null,null,null,null,13154591002955.082,{"$f":"+P391+$H$11*Q391+$H$12*R391","v":108.71915276255007},{"$f":"IF($E$6<=$K$4,I391,J391)","v":108.71915276255007},{"$f":"+K391/$L$4","v":3.1359322538815331E-3},{"$f":"+$L391*Photonic!BB397","v":1.4927037528476097E-6},{"$f":"+$L391*Photonic!BC397","v":5.3906675444223553E-7},{"$f":"+$L391*Photonic!BD397","v":0},71.099999999999994,-11.2,7.35,null,null,0.46700000000000003,0.32100000000000001,0.48799999999999999,0.17199999999999999,0.2,0.41299999999999998,0.54600000000000004,0.73,0.83899999999999997,0.755,0.30199999999999999,0.48499999999999999,0.75,0.31,0.31]
[{"$f":"Photonic!B398","v":746},{"$f":"CM!D399","v":2.4317650853043142E-4},null,null,null,null,null,null,13152185580417.902,106.87091426176883,106.87091426176883,3.0826210333634312E-3,{"$f":"+$L392*Photonic!BB398","v":1.3785481261201265E-6},{"$f":"+$L392*Photonic!BC398","v":4.9790494930886144E-7},{"$f":"+$L392*Photonic!BD398","v":0},69.92,-11,7.22,null,null,0.46700000000000003,0.32080000000000003,0.48899999999999999,0.17299999999999999,0.2006,0.41539999999999999,0.5474,0.73,0.83899999999999997,0.75519999999999998,0.30359999999999998,0.49199999999999999,0.74980000000000002,0.313,0.313]
[{"$f":"Photonic!B399","v":747},{"$f":"CM!D400","v":2.4840822532711416E-4},null,null,null,null,null,null,13149673541818.051,105.02267576098758,105.02267576098758,3.0293098128453288E-3,{"$f":"+$L393*Photonic!BB399","v":1.2674632256944857E-6},{"$f":"+$L393*Photonic!BC399","v":4.5784988511344296E-7},{"$f":"+$L393*Photonic!BD399","v":0},68.739999999999995,-10.799999999999999,7.09,null,null,0.46700000000000003,0.3206,0.49,0.17399999999999999,0.20120000000000002,0.4178,0.54880000000000007,0.73,0.83899999999999997,0.75539999999999996,0.30519999999999997,0.499,0.74960000000000004,0.316,0.316]
[{"$f":"Photonic!B400","v":748},{"$f":"CM!D401","v":2.5610704600224855E-4},null,null,null,null,null,null,13147055546807.992,103.17443726020636,103.17443726020636,2.9759985923272273E-3,{"$f":"+$L394*Photonic!BB400","v":1.1594490515706876E-6},{"$f":"+$L394*Photonic!BC400","v":4.189015618559805E-7},{"$f":"+$L394*Photonic!BD400","v":0},67.56,-10.6,6.96,null,null,0.46700000000000003,0.32040000000000002,0.49099999999999999,0.17499999999999999,0.20180000000000001,0.42019999999999996,0.55020000000000002,0.73,0.83899999999999997,0.75560000000000005,0.30680000000000002,0.50600000000000001,0.74939999999999996,0.31900000000000001,0.31900000000000001]
[{"$f":"Photonic!B401","v":749},{"$f":"CM!D402","v":2.5877486642400792E-4},null,null,null,null,null,null,13144332253495.809,101.3261987594251,101.3261987594251,2.9226873718091245E-3,{"$f":"+$L395*Photonic!BB401","v":1.0545056037487321E-6},{"$f":"+$L395*Photonic!BC401","v":3.8105997953647369E-7},{"$f":"+$L395*Photonic!BD401","v":0},66.38,-10.399999999999999,6.83,null,null,0.46700000000000003,0.32019999999999998,0.49199999999999999,0.17599999999999999,0.20240000000000002,0.42259999999999998,0.55160000000000009,0.73,0.83899999999999997,0.75580000000000003,0.30840000000000001,0.51300000000000001,0.74919999999999998,0.32200000000000001,0.32200000000000001]
[{"$f":"Photonic!B402","v":750},{"$f":"CM!D403","v":2.5523637775243089E-4},null,null,null,null,null,null,13141504318424.359,99.477960258643861,99.477960258643861,2.8693761512910225E-3,{"$f":"+$L396*Photonic!BB402","v":9.5263288222861943E-7},{"$f":"+$L396*Photonic!BC402","v":3.443251381549227E-7},{"$f":"+$L396*Photonic!BD402","v":0},65.2,-10.199999999999999,6.7,null,null,0.46700000000000003,0.32,0.49299999999999999,0.17699999999999999,0.20300000000000001,0.42499999999999999,0.55300000000000005,0.73,0.83899999999999997,0.75600000000000001,0.31,0.52,0.749,0.32500000000000001,0.32500000000000001]
[{"$f":"Photonic!B403","v":751},{"$f":"CM!D404","v":2.5310064230459723E-4},null,null,null,null,null,null,13138572396550.758,96.943028062174974,96.943028062174974,2.7962577040412401E-3,{"$f":"+$L397*Photonic!BB403","v":8.7411015828329168E-7},{"$f":"+$L397*Photonic!BC403","v":3.1586527024849848E-7},{"$f":"+$L397*Photonic!BD403","v":0},63.45,-9.9599999999999991,6.55,null,null,0.46700000000000003,0.3196,0.49380000000000002,0.17779999999999999,0.2034,0.42719999999999997,0.55420000000000003,0.73,0.83899999999999997,0.75619999999999998,0.31080000000000002,0.5262,0.74880000000000002,0.32780000000000004,0.32780000000000004]
[{"$f":"Photonic!B404","v":752},{"$f":"CM!D405","v":2.4920258108820394E-4},null,null,null,null,null,null,13135537141226.459,94.408095865706088,94.408095865706088,2.7231392567914577E-3,{"$f":"+$L398*Photonic!BB404","v":7.9842443009125536E-7},{"$f":"+$L398*Photonic!BC404","v":2.8843491007935123E-7},{"$f":"+$L398*Photonic!BD404","v":0},61.7,-9.7199999999999989,6.4,null,null,0.46700000000000003,0.31919999999999998,0.49459999999999998,0.17859999999999998,0.20380000000000001,0.4294,0.5554,0.73,0.83899999999999997,0.75639999999999996,0.31159999999999999,0.53239999999999998,0.74860000000000004,0.3306,0.3306]
[{"$f":"Photonic!B405","v":753},{"$f":"CM!D406","v":2.3767354576508722E-4},null,null,null,null,null,null,13132399204177.559,91.873163669237201,91.873163669237201,2.6500208095416753E-3,{"$f":"+$L399*Photonic!BB405","v":7.2557569765251069E-7},{"$f":"+$L399*Photonic!BC405","v":2.6203405764748085E-7},{"$f":"+$L399*Photonic!BD405","v":0},59.95,-9.48,6.25,null,null,0.46700000000000003,0.31880000000000003,0.49540000000000001,0.1794,0.20419999999999999,0.43159999999999998,0.55660000000000009,0.73,0.83899999999999997,0.75660000000000005,0.31240000000000001,0.53860000000000008,0.74839999999999995,0.33340000000000003,0.33340000000000003]
[{"$f":"Photonic!B406","v":754},{"$f":"CM!D407","v":2.3252797458743317E-4},null,null,null,null,null,null,13129159235485.576,89.338231472768314,89.338231472768314,2.5769023622918929E-3,{"$f":"+$L400*Photonic!BB406","v":6.5556396096705756E-7},{"$f":"+$L400*Photonic!BC406","v":2.3666271295288744E-7},{"$f":"+$L400*Photonic!BD406","v":0},58.2,-9.24,6.1000000000000005,null,null,0.46700000000000003,0.31840000000000002,0.49619999999999997,0.1802,0.2046,0.43380000000000002,0.55780000000000007,0.73,0.83899999999999997,0.75680000000000003,0.31319999999999998,0.54480000000000006,0.74819999999999998,0.3362,0.3362]
[{"$f":"Photonic!B407","v":755},{"$f":"CM!D408","v":2.2737728593553801E-4},null,null,null,null,null,null,13125817883568.678,86.803299276299427,86.803299276299427,2.503783915042111E-3,{"$f":"+$L401*Photonic!BB407","v":5.8838922003489608E-7},{"$f":"+$L401*Photonic!BC407","v":2.1232087599557101E-7},{"$f":"+$L401*Photonic!BD407","v":0},56.45,-9,5.95,null,null,0.46700000000000003,0.318,0.497,0.18099999999999999,0.20499999999999999,0.436,0.55900000000000005,0.73,0.83899999999999997,0.75700000000000001,0.314,0.55100000000000005,0.748,0.33900000000000002,0.33900000000000002]
[{"$f":"Photonic!B408","v":756},{"$f":"CM!D409","v":2.2427734431724962E-4},null,null,null,null,null,null,13122375795163.18,84.26836707983054,84.26836707983054,2.4306654677923286E-3,{"$f":"+$L402*Photonic!BB408","v":5.3766320147566308E-7},{"$f":"+$L402*Photonic!BC408","v":1.9406433094853951E-7},{"$f":"+$L402*Photonic!BD408","v":0},54.7,-8.76,5.8,null,null,0.46700000000000003,0.31759999999999999,0.49759999999999999,0.18179999999999999,0.20559999999999998,0.43819999999999998,0.56020000000000003,0.73,0.83899999999999997,0.75719999999999998,0.31459999999999999,0.55620000000000003,0.748,0.34179999999999999,0.34179999999999999]
[{"$f":"Photonic!B409","v":757},{"$f":"CM!D410","v":2.2984716922845469E-4},null,null,null,null,null,null,13118833615305.506,81.733434883361639,81.733434883361639,2.3575470205425457E-3,{"$f":"+$L403*Photonic!BB409","v":4.8895525206052399E-7},{"$f":"+$L403*Photonic!BC409","v":1.7653312089822584E-7},{"$f":"+$L403*Photonic!BD409","v":0},52.95,-8.52,5.65,null,null,0.46700000000000003,0.31719999999999998,0.49819999999999998,0.18259999999999998,0.20619999999999999,0.44040000000000001,0.56140000000000001,0.73,0.83899999999999997,0.75739999999999996,0.31519999999999998,0.56140000000000001,0.748,0.34460000000000002,0.34460000000000002]
[{"$f":"Photonic!B410","v":758},{"$f":"CM!D411","v":2.3540222675391017E-4},null,null,null,null,null,null,13115191987314.535,79.198502686892766,79.198502686892766,2.2844285732927638E-3,{"$f":"+$L404*Photonic!BB410","v":4.4226537178947906E-7},{"$f":"+$L404*Photonic!BC410","v":1.5972724584463007E-7},{"$f":"+$L404*Photonic!BD410","v":0},51.2,-8.2799999999999994,5.5,null,null,0.46700000000000003,0.31680000000000003,0.49880000000000002,0.18340000000000001,0.20679999999999998,0.44259999999999999,0.56259999999999999,0.73,0.83899999999999997,0.75760000000000005,0.31580000000000003,0.56659999999999999,0.748,0.34739999999999999,0.34739999999999999]
[{"$f":"Photonic!B411","v":759},{"$f":"CM!D412","v":2.2965161718482824E-4},null,null,null,null,null,null,13111451552774.299,76.663570490423879,76.663570490423879,2.2113101260429814E-3,{"$f":"+$L405*Photonic!BB411","v":3.9759356066252805E-7},{"$f":"+$L405*Photonic!BC411","v":1.4364670578775208E-7},{"$f":"+$L405*Photonic!BD411","v":0},49.45,-8.0399999999999991,5.3500000000000005,null,null,0.46700000000000003,0.31640000000000001,0.49940000000000001,0.1842,0.2074,0.44480000000000003,0.56379999999999997,0.73,0.83899999999999997,0.75780000000000003,0.31640000000000001,0.57179999999999997,0.748,0.35020000000000001,0.35020000000000001]
[{"$f":"Photonic!B412","v":760},{"$f":"CM!D413","v":0},null,null,null,null,null,null,13107612951517.047,74.128638293954992,74.128638293954992,2.1381916787931994E-3,{"$f":"+$L406*Photonic!BB412","v":3.549398186796711E-7},{"$f":"+$L406*Photonic!BC412","v":1.2829150072759197E-7},{"$f":"+$L406*Photonic!BD412","v":0},47.7,-7.8,5.2,null,null,0.46700000000000003,0.316,0.5,0.185,0.20799999999999999,0.44700000000000001,0.56499999999999995,0.73,0.83899999999999997,0.75800000000000001,0.317,0.57699999999999996,0.748,0.35299999999999998,0.35299999999999998]

{"sheet":"References","index":11,"n_rows":7,"n_cols":3,"rows_kept":7,"cut":false,"hidden":true,"merged":[]}
["references"]
[]
[null,"definition","http://home.tir.com/~ms/lightingdefinitions/lightingdefinitions.html"]
[]
[null,"color data","http://www.cis.rit.edu/research/mcsl2/online/cie.php"]
[]
[null,"color data","http://www.cvrl.org/cmfs.htm"]